{"text_format":"3","workbook":"xlsx","n_sheets":14,"sheets":["Ecarts D&G","Ecart facial","Fermeture TJ","Détente","Sautillers","Course 20 m","Pont","pointe de pieds","Epaules","Accueil","CF4 TestsPhys","CR CF4","CF4 Eval","CF4 Résultats"],"not_rendered":{"macros":1,"external_links":7,"defined_names":41,"comments":2},"read":"whole","date_system":"1900"}

{"sheet":"Ecarts D&G","index":0,"n_rows":147,"n_cols":73,"rows_kept":147,"hidden":true}
[null,73,74,75,76,77,78,79,80,81,82,83,84,85,86,87,88,89,90,91,92,93,94,95,96,97,98,99,100,101,102,103,104,105,106,107,108,109,110,111,112,113,114,115,116,117,118,119,120,121,122,123,124,125,126,127,128,129,130,131,132,133,134,135,136,137,138,139,140,141,142,143,144]
[-25,0,0,0,0,0,0,0,0,0,0,0,0,0,0,0,0,0,0,0,0,0,0,0,0,0,0,0,0,0,0,0,0,0,0,0,0,0,0,0,0,0,0,0,0,0,0,0,0,0,0,0,0,0,0,0,0,0,0,0,0,0,0,0,0,0,0,0,0,0,0,0,0]
[-24.5,0,0,0,0,0,0,0,0,0,0,0,0,0,0,0,0,0,0,0,0,0,0,0,0,0,0,0,0,0,0,0,0,0,0,0,0,0,0,0,0,0,0,0,0,0,0,0,0,0,0,0,0,0,0,0,0,0,0,0,0,0,0,0,0,0,0,0,0,0,0,0,0]
[-24,0,0,0,0,0,0,0,0,0,0,0,0,0,0,0,0,0,0,0,0,0,0,0,0,0,0,0,0,0,0,0,0,0,0,0,0,0,0,0,0,0,0,0,0,0,0,0,0,0,0,0,0,0,0,0,0,0,0,0,0,0,0,0,0,0,0,0,0,0,0,0,0]
[-23.5,0,0,0,0,0,0,0,0,0,0,0,0,0,0,0,0,0,0,0,0,0,0,0,0,0,0,0,0,0,0,0,0,0,0,0,0,0,0,0,0,0,0,0,0,0,0,0,0,0,0,0,0,0,0,0,0,0,0,0,0,0,0,0,0,0,0,0,0,0,0,0,0]
[-23,0,0,0,0,0,0,0,0,0,0,0,0,0,0,0,0,0,0,0,0,0,0,0,0,0,0,0,0,0,0,0,0,0,0,0,0,0,0,0,0,0,0,0,0,0,0,0,0,0,0,0,0,0,0,0,0,0,0,0,0,0,0,0,0,0,0,0,0,0,0,0,0]
[-22.5,0,0,0,0,0,0,0,0,0,0,0,0,0,0,0,0,0,0,0,0,0,0,0,0,0,0,0,0,0,0,0,0,0,0,0,0,0,0,0,0,0,0,0,0,0,0,0,0,0,0,0,0,0,0,0,0,0,0,0,0,0,0,0,0,0,0,0,0,0,0,0,0]
[-22,0,0,0,0,0,0,0,0,0,0,0,0,0,0,0,0,0,0,0,0,0,0,0,0,0,0,0,0,0,0,0,0,0,0,0,0,0,0,0,0,0,0,0,0,0,0,0,0,0,0,0,0,0,0,0,0,0,0,0,0,0,0,0,0,0,0,0,0,0,0,0,0]
[-21.5,0,0,0,0,0,0,0,0,0,0,0,0,0,0,0,0,0,0,0,0,0,0,0,0,0,0,0,0,0,0,0,0,0,0,0,0,0,0,0,0,0,0,0,0,0,0,0,0,0,0,0,0,0,0,0,0,0,0,0,0,0,0,0,0,0,0,0,0,0,0,0,0]
[-21,0,0,0,0,0,0,0,0,0,0,0,0,0,0,0,0,0,0,0,0,0,0,0,0,0,0,0,0,0,0,0,0,0,0,0,0,0,0,0,0,0,0,0,0,0,0,0,0,0,0,0,0,0,0,0,0,0,0,0,0,0,0,0,0,0,0,0,0,0,0,0,0]
[-20.5,0,0,0,0,0,0,0,0,0,0,0,0,0,0,0,0,0,0,0,0,0,0,0,0,0,0,0,0,0,0,0,0,0,0,0,0,0,0,0,0,0,0,0,0,0,0,0,0,0,0,0,0,0,0,0,0,0,0,0,0,0,0,0,0,0,0,0,0,0,0,0,0]
[-20,0,0,0,0,0,0,0,0,0,0,0,0,0,0,0,0,0,0,0,0,0,0,0,0,0,0,0,0,0,0,0,0,0,0,0,0,0,0,0,0,0,0,0,0,0,0,0,0,0,0,0,0,0,0,0,0,0,0,0,0,0,0,0,0,0,0,0,0,0,0,0,0]
[-19.5,0,0,0,0,0,0,0,0,0,0,0,0,0,0,0,0,0,0,0,0,0,0,0,0,0,0,0,0,0,0,0,0,0,0,0,0,0,0,0,0,0,0,0,0,0,0,0,0,0,0,0,0,0,0,0,0,0,0,0,0,0,0,0,0,0,0,0,0,0,0,0,0]
[-19,0,0,0,0,0,0,0,0,0,0,0,0,0,0,0,0,0,0,0,0,0,0,0,0,0,0,0,0,0,0,0,0,0,0,0,0,0,0,0,0,0,0,0,0,0,0,0,0,0,0,0,0,0,0,0,0,0,0,0,0,0,0,0,0,0,0,0,0,0,0,0,0]
[-18.5,0,0,0,0,0,0,0,0,0,0,0,0,0,0,0,0,0,0,0,0,0,0,0,0,0,0,0,0,0,0,0,0,0,0,0,0,0,0,0,0,0,0,0,0,0,0,0,0,0,0,0,0,0,0,0,0,0,0,0,0,0,0,0,0,0,0,0,0,0,0,0,0]
[-18,0,0,0,0,0,0,0,0,0,0,0,0,0,0,0,0,0,0,0,0,0,0,0,0,0,0,0,0,0,0,0,0,0,0,0,0,0,0,0,0,0,0,0,0,0,0,0,0,0,0,0,0,0,0,0,0,0,0,0,0,0,0,0,0,0,0,0,0,0,0,0,0]
[-17.5,0,0,0,0,0,0,0,0,0,0,0,0,0,0,0,0,0,0,0,0,0,0,0,0,0,0,0,0,0,0,0,0,0,0,0,0,0,0,0,0,0,0,0,0,0,0,0,0,0,0,0,0,0,0,0,0,0,0,0,0,0,0,0,0,0,0,0,0,0,0,0,0]
[-17,0,0,0,0,0,0,0,0,0,0,0,0,0,0,0,0,0,0,0,0,0,0,0,0,0,0,0,0,0,0,0,0,0,0,0,0,0,0,0,0,0,0,0,0,0,0,0,0,0,0,0,0,0,0,0,0,0,0,0,0,0,0,0,0,0,0,0,0,0,0,0,0]
[-16.5,0,0,0,0,0,0,0,0,0,0,0,0,0,0,0,0,0,0,0,0,0,0,0,0,0,0,0,0,0,0,0,0,0,0,0,0,0,0,0,0,0,0,0,0,0,0,0,0,0,0,0,0,0,0,0,0,0,0,0,0,0,0,0,0,0,0,0,0,0,0,0,0]
[-16,0,0,0,0,0,0,0,0,0,0,0,0,0,0,0,0,0,0,0,0,0,0,0,0,0,0,0,0,0,0,0,0,0,0,0,0,0,0,0,0,0,0,0,0,0,0,0,0,0,0,0,0,0,0,0,0,0,0,0,0,0,0,0,0,0,0,0,0,0,0,0,0]
[-15.5,1,1,1,1,1,1,0,0,0,0,0,0,0,0,0,0,0,0,0,0,0,0,0,0,0,0,0,0,0,0,0,0,0,0,0,0,0,0,0,0,0,0,0,0,0,0,0,0,0,0,0,0,0,0,0,0,0,0,0,0,0,0,0,0,0,0,0,0,0,0,0,0]
[-15,1,1,1,1,1,1,0,0,0,0,0,0,0,0,0,0,0,0,0,0,0,0,0,0,0,0,0,0,0,0,0,0,0,0,0,0,0,0,0,0,0,0,0,0,0,0,0,0,0,0,0,0,0,0,0,0,0,0,0,0,0,0,0,0,0,0,0,0,0,0,0,0]
[-14.5,1,1,1,1,1,1,1,1,1,1,1,1,0,0,0,0,0,0,0,0,0,0,0,0,0,0,0,0,0,0,0,0,0,0,0,0,0,0,0,0,0,0,0,0,0,0,0,0,0,0,0,0,0,0,0,0,0,0,0,0,0,0,0,0,0,0,0,0,0,0,0,0]
[-14,1,1,1,1,1,1,1,1,1,1,1,1,0,0,0,0,0,0,0,0,0,0,0,0,0,0,0,0,0,0,0,0,0,0,0,0,0,0,0,0,0,0,0,0,0,0,0,0,0,0,0,0,0,0,0,0,0,0,0,0,0,0,0,0,0,0,0,0,0,0,0,0]
[-13.5,1,1,1,1,1,1,1,1,1,1,1,1,0,0,0,0,0,0,0,0,0,0,0,0,0,0,0,0,0,0,0,0,0,0,0,0,0,0,0,0,0,0,0,0,0,0,0,0,0,0,0,0,0,0,0,0,0,0,0,0,0,0,0,0,0,0,0,0,0,0,0,0]
[-13,2,2,2,2,2,2,1,1,1,1,1,1,1,1,1,1,1,1,0,0,0,0,0,0,0,0,0,0,0,0,0,0,0,0,0,0,0,0,0,0,0,0,0,0,0,0,0,0,0,0,0,0,0,0,0,0,0,0,0,0,0,0,0,0,0,0,0,0,0,0,0,0]
[-12.5,2,2,2,2,2,2,1,1,1,1,1,1,1,1,1,1,1,1,0,0,0,0,0,0,0,0,0,0,0,0,0,0,0,0,0,0,0,0,0,0,0,0,0,0,0,0,0,0,0,0,0,0,0,0,0,0,0,0,0,0,0,0,0,0,0,0,0,0,0,0,0,0]
[-12,2,2,2,2,2,2,2,2,2,2,2,2,1,1,1,1,1,1,1,1,1,1,1,1,0,0,0,0,0,0,0,0,0,0,0,0,0,0,0,0,0,0,0,0,0,0,0,0,0,0,0,0,0,0,0,0,0,0,0,0,0,0,0,0,0,0,0,0,0,0,0,0]
[-11.5,2,2,2,2,2,2,2,2,2,2,2,2,1,1,1,1,1,1,1,1,1,1,1,1,0,0,0,0,0,0,0,0,0,0,0,0,0,0,0,0,0,0,0,0,0,0,0,0,0,0,0,0,0,0,0,0,0,0,0,0,0,0,0,0,0,0,0,0,0,0,0,0]
[-11,2,2,2,2,2,2,2,2,2,2,2,2,1,1,1,1,1,1,1,1,1,1,1,1,0,0,0,0,0,0,0,0,0,0,0,0,0,0,0,0,0,0,0,0,0,0,0,0,0,0,0,0,0,0,0,0,0,0,0,0,0,0,0,0,0,0,0,0,0,0,0,0]
[-10.5,3,3,3,3,3,3,2,2,2,2,2,2,2,2,2,2,2,2,1,1,1,1,1,1,1,1,1,1,1,1,0,0,0,0,0,0,0,0,0,0,0,0,0,0,0,0,0,0,0,0,0,0,0,0,0,0,0,0,0,0,0,0,0,0,0,0,0,0,0,0,0,0]
[-10,3,3,3,3,3,3,2,2,2,2,2,2,2,2,2,2,2,2,1,1,1,1,1,1,1,1,1,1,1,1,0,0,0,0,0,0,0,0,0,0,0,0,0,0,0,0,0,0,0,0,0,0,0,0,0,0,0,0,0,0,0,0,0,0,0,0,0,0,0,0,0,0]
[-9.5,3,3,3,3,3,3,3,3,3,3,3,3,2,2,2,2,2,2,2,2,2,2,2,2,1,1,1,1,1,1,1,1,1,1,1,1,0,0,0,0,0,0,0,0,0,0,0,0,0,0,0,0,0,0,0,0,0,0,0,0,0,0,0,0,0,0,0,0,0,0,0,0]
[-9,3,3,3,3,3,3,3,3,3,3,3,3,2,2,2,2,2,2,2,2,2,2,2,2,1,1,1,1,1,1,1,1,1,1,1,1,0,0,0,0,0,0,0,0,0,0,0,0,0,0,0,0,0,0,0,0,0,0,0,0,0,0,0,0,0,0,0,0,0,0,0,0]
[-8.5,3,3,3,3,3,3,3,3,3,3,3,3,2,2,2,2,2,2,2,2,2,2,2,2,1,1,1,1,1,1,1,1,1,1,1,1,0,0,0,0,0,0,0,0,0,0,0,0,0,0,0,0,0,0,0,0,0,0,0,0,0,0,0,0,0,0,0,0,0,0,0,0]
[-8,4,4,4,4,4,4,3,3,3,3,3,3,3,3,3,3,3,3,2,2,2,2,2,2,2,2,2,2,2,2,1,1,1,1,1,1,1,1,1,1,1,1,0,0,0,0,0,0,0,0,0,0,0,0,0,0,0,0,0,0,0,0,0,0,0,0,0,0,0,0,0,0]
[-7.5,4,4,4,4,4,4,3,3,3,3,3,3,3,3,3,3,3,3,2,2,2,2,2,2,2,2,2,2,2,2,1,1,1,1,1,1,1,1,1,1,1,1,0,0,0,0,0,0,0,0,0,0,0,0,0,0,0,0,0,0,0,0,0,0,0,0,0,0,0,0,0,0]
[-7,4,4,4,4,4,4,4,4,4,4,4,4,3,3,3,3,3,3,3,3,3,3,3,3,2,2,2,2,2,2,2,2,2,2,2,2,1,1,1,1,1,1,1,1,1,1,1,1,0,0,0,0,0,0,0,0,0,0,0,0,0,0,0,0,0,0,0,0,0,0,0,0]
[-6.5,4,4,4,4,4,4,4,4,4,4,4,4,3,3,3,3,3,3,3,3,3,3,3,3,2,2,2,2,2,2,2,2,2,2,2,2,1,1,1,1,1,1,1,1,1,1,1,1,0,0,0,0,0,0,0,0,0,0,0,0,0,0,0,0,0,0,0,0,0,0,0,0]
[-6,4,4,4,4,4,4,4,4,4,4,4,4,3,3,3,3,3,3,3,3,3,3,3,3,2,2,2,2,2,2,2,2,2,2,2,2,1,1,1,1,1,1,1,1,1,1,1,1,0,0,0,0,0,0,0,0,0,0,0,0,0,0,0,0,0,0,0,0,0,0,0,0]
[-5.5,5,5,5,5,5,5,4,4,4,4,4,4,4,4,4,4,4,4,3,3,3,3,3,3,3,3,3,3,3,3,2,2,2,2,2,2,2,2,2,2,2,2,1,1,1,1,1,1,1,1,1,1,1,1,0,0,0,0,0,0,0,0,0,0,0,0,0,0,0,0,0,0]
[-5,5,5,5,5,5,5,4,4,4,4,4,4,4,4,4,4,4,4,3,3,3,3,3,3,3,3,3,3,3,3,2,2,2,2,2,2,2,2,2,2,2,2,1,1,1,1,1,1,1,1,1,1,1,1,0,0,0,0,0,0,0,0,0,0,0,0,0,0,0,0,0,0]
[-4.5,5,5,5,5,5,5,5,5,5,5,5,5,4,4,4,4,4,4,4,4,4,4,4,4,3,3,3,3,3,3,3,3,3,3,3,3,2,2,2,2,2,2,2,2,2,2,2,2,1,1,1,1,1,1,1,1,1,1,1,1,0,0,0,0,0,0,0,0,0,0,0,0]
[-4,5,5,5,5,5,5,5,5,5,5,5,5,4,4,4,4,4,4,4,4,4,4,4,4,3,3,3,3,3,3,3,3,3,3,3,3,2,2,2,2,2,2,2,2,2,2,2,2,1,1,1,1,1,1,1,1,1,1,1,1,0,0,0,0,0,0,0,0,0,0,0,0]
[-3.5,5,5,5,5,5,5,5,5,5,5,5,5,4,4,4,4,4,4,4,4,4,4,4,4,3,3,3,3,3,3,3,3,3,3,3,3,2,2,2,2,2,2,2,2,2,2,2,2,1,1,1,1,1,1,1,1,1,1,1,1,0,0,0,0,0,0,0,0,0,0,0,0]
[-3,6,6,6,6,6,6,5,5,5,5,5,5,5,5,5,5,5,5,4,4,4,4,4,4,4,4,4,4,4,4,3,3,3,3,3,3,3,3,3,3,3,3,2,2,2,2,2,2,2,2,2,2,2,2,1,1,1,1,1,1,0,0,0,0,0,0,0,0,0,0,0,0]
[-2.5,6,6,6,6,6,6,5,5,5,5,5,5,5,5,5,5,5,5,4,4,4,4,4,4,4,4,4,4,4,4,3,3,3,3,3,3,3,3,3,3,3,3,2,2,2,2,2,2,2,2,2,2,2,2,1,1,1,1,1,1,0,0,0,0,0,0,0,0,0,0,0,0]
[-2,6,6,6,6,6,6,6,6,6,6,6,6,5,5,5,5,5,5,5,5,5,5,5,5,4,4,4,4,4,4,4,4,4,4,4,4,3,3,3,3,3,3,3,3,3,3,3,3,2,2,2,2,2,2,2,2,2,2,2,2,1,1,1,1,1,1,0,0,0,0,0,0]
[-1.5,6,6,6,6,6,6,6,6,6,6,6,6,5,5,5,5,5,5,5,5,5,5,5,5,4,4,4,4,4,4,4,4,4,4,4,4,3,3,3,3,3,3,3,3,3,3,3,3,2,2,2,2,2,2,2,2,2,2,2,2,1,1,1,1,1,1,0,0,0,0,0,0]
[-1,6,6,6,6,6,6,6,6,6,6,6,6,5,5,5,5,5,5,5,5,5,5,5,5,4,4,4,4,4,4,4,4,4,4,4,4,3,3,3,3,3,3,3,3,3,3,3,3,2,2,2,2,2,2,2,2,2,2,2,2,1,1,1,1,1,1,0,0,0,0,0,0]
[-0.5,7,7,7,7,7,7,6,6,6,6,6,6,6,6,6,6,6,6,5,5,5,5,5,5,5,5,5,5,5,5,4,4,4,4,4,4,4,4,4,4,4,4,3,3,3,3,3,3,3,3,3,3,3,3,2,2,2,2,2,2,1,1,1,1,1,1,0,0,0,0,0,0]
[0,7,7,7,7,7,7,6,6,6,6,6,6,6,6,6,6,6,6,5,5,5,5,5,5,5,5,5,5,5,5,4,4,4,4,4,4,4,4,4,4,4,4,3,3,3,3,3,3,3,3,3,3,3,3,2,2,2,2,2,2,1,1,1,1,1,1,1,1,1,1,1,1]
[0.5,7,7,7,7,7,7,7,7,7,7,7,7,6,6,6,6,6,6,6,6,6,6,6,6,5,5,5,5,5,5,5,5,5,5,5,5,4,4,4,4,4,4,4,4,4,4,4,4,3,3,3,3,3,3,3,3,3,3,3,3,2,2,2,2,2,2,1,1,1,1,1,1]
[1,7,7,7,7,7,7,7,7,7,7,7,7,6,6,6,6,6,6,6,6,6,6,6,6,5,5,5,5,5,5,5,5,5,5,5,5,4,4,4,4,4,4,4,4,4,4,4,4,3,3,3,3,3,3,3,3,3,3,3,3,2,2,2,2,2,2,1,1,1,1,1,1]
[1.5,7,7,7,7,7,7,7,7,7,7,7,7,6,6,6,6,6,6,6,6,6,6,6,6,5,5,5,5,5,5,5,5,5,5,5,5,4,4,4,4,4,4,4,4,4,4,4,4,3,3,3,3,3,3,3,3,3,3,3,3,2,2,2,2,2,2,1,1,1,1,1,1]
[2,8,8,8,8,8,8,7,7,7,7,7,7,7,7,7,7,7,7,6,6,6,6,6,6,6,6,6,6,6,6,5,5,5,5,5,5,5,5,5,5,5,5,4,4,4,4,4,4,4,4,4,4,4,4,3,3,3,3,3,3,2,2,2,2,2,2,1,1,1,1,1,1]
[2.5,8,8,8,8,8,8,7,7,7,7,7,7,7,7,7,7,7,7,6,6,6,6,6,6,6,6,6,6,6,6,5,5,5,5,5,5,5,5,5,5,5,5,4,4,4,4,4,4,4,4,4,4,4,4,3,3,3,3,3,3,2,2,2,2,2,2,2,2,2,2,2,2]
[3,8,8,8,8,8,8,8,8,8,8,8,8,7,7,7,7,7,7,7,7,7,7,7,7,6,6,6,6,6,6,6,6,6,6,6,6,5,5,5,5,5,5,5,5,5,5,5,5,4,4,4,4,4,4,4,4,4,4,4,4,3,3,3,3,3,3,2,2,2,2,2,2]
[3.5,8,8,8,8,8,8,8,8,8,8,8,8,7,7,7,7,7,7,7,7,7,7,7,7,6,6,6,6,6,6,6,6,6,6,6,6,5,5,5,5,5,5,5,5,5,5,5,5,4,4,4,4,4,4,4,4,4,4,4,4,3,3,3,3,3,3,2,2,2,2,2,2]
[4,8,8,8,8,8,8,8,8,8,8,8,8,7,7,7,7,7,7,7,7,7,7,7,7,6,6,6,6,6,6,6,6,6,6,6,6,5,5,5,5,5,5,5,5,5,5,5,5,4,4,4,4,4,4,4,4,4,4,4,4,3,3,3,3,3,3,2,2,2,2,2,2]
[4.5,9,9,9,9,9,9,8,8,8,8,8,8,8,8,8,8,8,8,7,7,7,7,7,7,7,7,7,7,7,7,6,6,6,6,6,6,6,6,6,6,6,6,5,5,5,5,5,5,5,5,5,5,5,5,4,4,4,4,4,4,3,3,3,3,3,3,2,2,2,2,2,2]
[5,9,9,9,9,9,9,8,8,8,8,8,8,8,8,8,8,8,8,7,7,7,7,7,7,7,7,7,7,7,7,6,6,6,6,6,6,6,6,6,6,6,6,5,5,5,5,5,5,5,5,5,5,5,5,4,4,4,4,4,4,3,3,3,3,3,3,3,3,3,3,3,3]
[5.5,9,9,9,9,9,9,9,9,9,9,9,9,8,8,8,8,8,8,8,8,8,8,8,8,7,7,7,7,7,7,7,7,7,7,7,7,6,6,6,6,6,6,6,6,6,6,6,6,5,5,5,5,5,5,5,5,5,5,5,5,4,4,4,4,4,4,3,3,3,3,3,3]
[6,9,9,9,9,9,9,9,9,9,9,9,9,8,8,8,8,8,8,8,8,8,8,8,8,7,7,7,7,7,7,7,7,7,7,7,7,6,6,6,6,6,6,6,6,6,6,6,6,5,5,5,5,5,5,5,5,5,5,5,5,4,4,4,4,4,4,3,3,3,3,3,3]
[6.5,9,9,9,9,9,9,9,9,9,9,9,9,8,8,8,8,8,8,8,8,8,8,8,8,7,7,7,7,7,7,7,7,7,7,7,7,6,6,6,6,6,6,6,6,6,6,6,6,5,5,5,5,5,5,5,5,5,5,5,5,4,4,4,4,4,4,3,3,3,3,3,3]
[7,10,10,10,10,10,10,9,9,9,9,9,9,9,9,9,9,9,9,8,8,8,8,8,8,8,8,8,8,8,8,7,7,7,7,7,7,7,7,7,7,7,7,6,6,6,6,6,6,6,6,6,6,6,6,5,5,5,5,5,5,4,4,4,4,4,4,3,3,3,3,3,3]
[7.5,10,10,10,10,10,10,9,9,9,9,9,9,9,9,9,9,9,9,8,8,8,8,8,8,8,8,8,8,8,8,7,7,7,7,7,7,7,7,7,7,7,7,6,6,6,6,6,6,6,6,6,6,6,6,5,5,5,5,5,5,4,4,4,4,4,4,4,4,4,4,4,4]
[8,10,10,10,10,10,10,10,10,10,10,10,10,9,9,9,9,9,9,9,9,9,9,9,9,8,8,8,8,8,8,8,8,8,8,8,8,7,7,7,7,7,7,7,7,7,7,7,7,6,6,6,6,6,6,6,6,6,6,6,6,5,5,5,5,5,5,4,4,4,4,4,4]
[8.5,10,10,10,10,10,10,10,10,10,10,10,10,9,9,9,9,9,9,9,9,9,9,9,9,8,8,8,8,8,8,8,8,8,8,8,8,7,7,7,7,7,7,7,7,7,7,7,7,6,6,6,6,6,6,6,6,6,6,6,6,5,5,5,5,5,5,4,4,4,4,4,4]
[9,10,10,10,10,10,10,10,10,10,10,10,10,9,9,9,9,9,9,9,9,9,9,9,9,8,8,8,8,8,8,8,8,8,8,8,8,7,7,7,7,7,7,7,7,7,7,7,7,6,6,6,6,6,6,6,6,6,6,6,6,5,5,5,5,5,5,4,4,4,4,4,4]
[9.5,11,11,11,11,11,11,10,10,10,10,10,10,10,10,10,10,10,10,9,9,9,9,9,9,9,9,9,9,9,9,8,8,8,8,8,8,8,8,8,8,8,8,7,7,7,7,7,7,7,7,7,7,7,7,6,6,6,6,6,6,5,5,5,5,5,5,4,4,4,4,4,4]
[10,11,11,11,11,11,11,10,10,10,10,10,10,10,10,10,10,10,10,9,9,9,9,9,9,9,9,9,9,9,9,8,8,8,8,8,8,8,8,8,8,8,8,7,7,7,7,7,7,7,7,7,7,7,7,6,6,6,6,6,6,5,5,5,5,5,5,5,5,5,5,5,5]
[10.5,11,11,11,11,11,11,11,11,11,11,11,11,10,10,10,10,10,10,10,10,10,10,10,10,9,9,9,9,9,9,9,9,9,9,9,9,8,8,8,8,8,8,8,8,8,8,8,8,7,7,7,7,7,7,7,7,7,7,7,7,6,6,6,6,6,6,5,5,5,5,5,5]
[11,11,11,11,11,11,11,11,11,11,11,11,11,10,10,10,10,10,10,10,10,10,10,10,10,9,9,9,9,9,9,9,9,9,9,9,9,8,8,8,8,8,8,8,8,8,8,8,8,7,7,7,7,7,7,7,7,7,7,7,7,6,6,6,6,6,6,5,5,5,5,5,5]
[11.5,11,11,11,11,11,11,11,11,11,11,11,11,10,10,10,10,10,10,10,10,10,10,10,10,9,9,9,9,9,9,9,9,9,9,9,9,8,8,8,8,8,8,8,8,8,8,8,8,7,7,7,7,7,7,7,7,7,7,7,7,6,6,6,6,6,6,5,5,5,5,5,5]
[12,12,12,12,12,12,12,11,11,11,11,11,11,11,11,11,11,11,11,10,10,10,10,10,10,10,10,10,10,10,10,9,9,9,9,9,9,9,9,9,9,9,9,8,8,8,8,8,8,8,8,8,8,8,8,7,7,7,7,7,7,6,6,6,6,6,6,5,5,5,5,5,5]
[12.5,12,12,12,12,12,12,11,11,11,11,11,11,11,11,11,11,11,11,10,10,10,10,10,10,10,10,10,10,10,10,9,9,9,9,9,9,9,9,9,9,9,9,8,8,8,8,8,8,8,8,8,8,8,8,7,7,7,7,7,7,6,6,6,6,6,6,6,6,6,6,6,6]
[13,12,12,12,12,12,12,12,12,12,12,12,12,11,11,11,11,11,11,11,11,11,11,11,11,10,10,10,10,10,10,10,10,10,10,10,10,9,9,9,9,9,9,9,9,9,9,9,9,8,8,8,8,8,8,8,8,8,8,8,8,7,7,7,7,7,7,6,6,6,6,6,6]
[13.5,12,12,12,12,12,12,12,12,12,12,12,12,11,11,11,11,11,11,11,11,11,11,11,11,10,10,10,10,10,10,10,10,10,10,10,10,9,9,9,9,9,9,9,9,9,9,9,9,8,8,8,8,8,8,8,8,8,8,8,8,7,7,7,7,7,7,6,6,6,6,6,6]
[14,12,12,12,12,12,12,12,12,12,12,12,12,11,11,11,11,11,11,11,11,11,11,11,11,10,10,10,10,10,10,10,10,10,10,10,10,9,9,9,9,9,9,9,9,9,9,9,9,8,8,8,8,8,8,8,8,8,8,8,8,7,7,7,7,7,7,6,6,6,6,6,6]
[14.5,13,13,13,13,13,13,12,12,12,12,12,12,12,12,12,12,12,12,11,11,11,11,11,11,11,11,11,11,11,11,10,10,10,10,10,10,10,10,10,10,10,10,9,9,9,9,9,9,9,9,9,9,9,9,8,8,8,8,8,8,7,7,7,7,7,7,6,6,6,6,6,6]
[15,13,13,13,13,13,13,12,12,12,12,12,12,12,12,12,12,12,12,11,11,11,11,11,11,11,11,11,11,11,11,10,10,10,10,10,10,10,10,10,10,10,10,9,9,9,9,9,9,9,9,9,9,9,9,8,8,8,8,8,8,7,7,7,7,7,7,7,7,7,7,7,7]
[15.5,13,13,13,13,13,13,13,13,13,13,13,13,12,12,12,12,12,12,12,12,12,12,12,12,11,11,11,11,11,11,11,11,11,11,11,11,10,10,10,10,10,10,10,10,10,10,10,10,9,9,9,9,9,9,9,9,9,9,9,9,8,8,8,8,8,8,7,7,7,7,7,7]
[16,13,13,13,13,13,13,13,13,13,13,13,13,12,12,12,12,12,12,12,12,12,12,12,12,11,11,11,11,11,11,11,11,11,11,11,11,10,10,10,10,10,10,10,10,10,10,10,10,9,9,9,9,9,9,9,9,9,9,9,9,8,8,8,8,8,8,7,7,7,7,7,7]
[16.5,13,13,13,13,13,13,13,13,13,13,13,13,12,12,12,12,12,12,12,12,12,12,12,12,11,11,11,11,11,11,11,11,11,11,11,11,10,10,10,10,10,10,10,10,10,10,10,10,9,9,9,9,9,9,9,9,9,9,9,9,8,8,8,8,8,8,7,7,7,7,7,7]
[17,14,14,14,14,14,14,13,13,13,13,13,13,13,13,13,13,13,13,12,12,12,12,12,12,12,12,12,12,12,12,11,11,11,11,11,11,11,11,11,11,11,11,10,10,10,10,10,10,10,10,10,10,10,10,9,9,9,9,9,9,8,8,8,8,8,8,7,7,7,7,7,7]
[17.5,14,14,14,14,14,14,13,13,13,13,13,13,13,13,13,13,13,13,12,12,12,12,12,12,12,12,12,12,12,12,11,11,11,11,11,11,11,11,11,11,11,11,10,10,10,10,10,10,10,10,10,10,10,10,9,9,9,9,9,9,8,8,8,8,8,8,8,8,8,8,8,8]
[18,14,14,14,14,14,14,14,14,14,14,14,14,13,13,13,13,13,13,13,13,13,13,13,13,12,12,12,12,12,12,12,12,12,12,12,12,11,11,11,11,11,11,11,11,11,11,11,11,10,10,10,10,10,10,10,10,10,10,10,10,9,9,9,9,9,9,8,8,8,8,8,8]
[18.5,14,14,14,14,14,14,14,14,14,14,14,14,13,13,13,13,13,13,13,13,13,13,13,13,12,12,12,12,12,12,12,12,12,12,12,12,11,11,11,11,11,11,11,11,11,11,11,11,10,10,10,10,10,10,10,10,10,10,10,10,9,9,9,9,9,9,8,8,8,8,8,8]
[19,14,14,14,14,14,14,14,14,14,14,14,14,13,13,13,13,13,13,13,13,13,13,13,13,12,12,12,12,12,12,12,12,12,12,12,12,11,11,11,11,11,11,11,11,11,11,11,11,10,10,10,10,10,10,10,10,10,10,10,10,9,9,9,9,9,9,8,8,8,8,8,8]
[19.5,15,15,15,15,15,15,14,14,14,14,14,14,14,14,14,14,14,14,13,13,13,13,13,13,13,13,13,13,13,13,12,12,12,12,12,12,12,12,12,12,12,12,11,11,11,11,11,11,11,11,11,11,11,11,10,10,10,10,10,10,9,9,9,9,9,9,8,8,8,8,8,8]
[20,15,15,15,15,15,15,14,14,14,14,14,14,14,14,14,14,14,14,13,13,13,13,13,13,13,13,13,13,13,13,12,12,12,12,12,12,12,12,12,12,12,12,11,11,11,11,11,11,11,11,11,11,11,11,10,10,10,10,10,10,9,9,9,9,9,9,9,9,9,9,9,9]
[20.5,15,15,15,15,15,15,15,15,15,15,15,15,14,14,14,14,14,14,14,14,14,14,14,14,13,13,13,13,13,13,13,13,13,13,13,13,12,12,12,12,12,12,12,12,12,12,12,12,11,11,11,11,11,11,11,11,11,11,11,11,10,10,10,10,10,10,9,9,9,9,9,9]
[21,15,15,15,15,15,15,15,15,15,15,15,15,14,14,14,14,14,14,14,14,14,14,14,14,13,13,13,13,13,13,13,13,13,13,13,13,12,12,12,12,12,12,12,12,12,12,12,12,11,11,11,11,11,11,11,11,11,11,11,11,10,10,10,10,10,10,9,9,9,9,9,9]
[21.5,15,15,15,15,15,15,15,15,15,15,15,15,14,14,14,14,14,14,14,14,14,14,14,14,13,13,13,13,13,13,13,13,13,13,13,13,12,12,12,12,12,12,12,12,12,12,12,12,11,11,11,11,11,11,11,11,11,11,11,11,10,10,10,10,10,10,9,9,9,9,9,9]
[22,16,16,16,16,16,16,15,15,15,15,15,15,15,15,15,15,15,15,14,14,14,14,14,14,14,14,14,14,14,14,13,13,13,13,13,13,13,13,13,13,13,13,12,12,12,12,12,12,12,12,12,12,12,12,11,11,11,11,11,11,10,10,10,10,10,10,9,9,9,9,9,9]
[22.5,16,16,16,16,16,16,15,15,15,15,15,15,15,15,15,15,15,15,14,14,14,14,14,14,14,14,14,14,14,14,13,13,13,13,13,13,13,13,13,13,13,13,12,12,12,12,12,12,12,12,12,12,12,12,11,11,11,11,11,11,10,10,10,10,10,10,10,10,10,10,10,10]
[23,16,16,16,16,16,16,16,16,16,16,16,16,15,15,15,15,15,15,15,15,15,15,15,15,14,14,14,14,14,14,14,14,14,14,14,14,13,13,13,13,13,13,13,13,13,13,13,13,12,12,12,12,12,12,12,12,12,12,12,12,11,11,11,11,11,11,10,10,10,10,10,10]
[23.5,16,16,16,16,16,16,16,16,16,16,16,16,15,15,15,15,15,15,15,15,15,15,15,15,14,14,14,14,14,14,14,14,14,14,14,14,13,13,13,13,13,13,13,13,13,13,13,13,12,12,12,12,12,12,12,12,12,12,12,12,11,11,11,11,11,11,10,10,10,10,10,10]
[24,16,16,16,16,16,16,16,16,16,16,16,16,15,15,15,15,15,15,15,15,15,15,15,15,14,14,14,14,14,14,14,14,14,14,14,14,13,13,13,13,13,13,13,13,13,13,13,13,12,12,12,12,12,12,12,12,12,12,12,12,11,11,11,11,11,11,10,10,10,10,10,10]
[24.5,17,17,17,17,17,17,16,16,16,16,16,16,16,16,16,16,16,16,15,15,15,15,15,15,15,15,15,15,15,15,14,14,14,14,14,14,14,14,14,14,14,14,13,13,13,13,13,13,13,13,13,13,13,13,12,12,12,12,12,12,11,11,11,11,11,11,10,10,10,10,10,10]
[25,17,17,17,17,17,17,16,16,16,16,16,16,16,16,16,16,16,16,15,15,15,15,15,15,15,15,15,15,15,15,14,14,14,14,14,14,14,14,14,14,14,14,13,13,13,13,13,13,13,13,13,13,13,13,12,12,12,12,12,12,11,11,11,11,11,11,11,11,11,11,11,11]
[25.5,17,17,17,17,17,17,17,17,17,17,17,17,16,16,16,16,16,16,16,16,16,16,16,16,15,15,15,15,15,15,15,15,15,15,15,15,14,14,14,14,14,14,14,14,14,14,14,14,13,13,13,13,13,13,13,13,13,13,13,13,12,12,12,12,12,12,11,11,11,11,11,11]
[26,17,17,17,17,17,17,17,17,17,17,17,17,16,16,16,16,16,16,16,16,16,16,16,16,15,15,15,15,15,15,15,15,15,15,15,15,14,14,14,14,14,14,14,14,14,14,14,14,13,13,13,13,13,13,13,13,13,13,13,13,12,12,12,12,12,12,11,11,11,11,11,11]
[26.5,17,17,17,17,17,17,17,17,17,17,17,17,16,16,16,16,16,16,16,16,16,16,16,16,15,15,15,15,15,15,15,15,15,15,15,15,14,14,14,14,14,14,14,14,14,14,14,14,13,13,13,13,13,13,13,13,13,13,13,13,12,12,12,12,12,12,11,11,11,11,11,11]
[27,18,18,18,18,18,18,17,17,17,17,17,17,17,17,17,17,17,17,16,16,16,16,16,16,16,16,16,16,16,16,15,15,15,15,15,15,15,15,15,15,15,15,14,14,14,14,14,14,14,14,14,14,14,14,13,13,13,13,13,13,12,12,12,12,12,12,11,11,11,11,11,11]
[27.5,18,18,18,18,18,18,17,17,17,17,17,17,17,17,17,17,17,17,16,16,16,16,16,16,16,16,16,16,16,16,15,15,15,15,15,15,15,15,15,15,15,15,14,14,14,14,14,14,14,14,14,14,14,14,13,13,13,13,13,13,12,12,12,12,12,12,12,12,12,12,12,12]
[28,18,18,18,18,18,18,18,18,18,18,18,18,17,17,17,17,17,17,17,17,17,17,17,17,16,16,16,16,16,16,16,16,16,16,16,16,15,15,15,15,15,15,15,15,15,15,15,15,14,14,14,14,14,14,14,14,14,14,14,14,13,13,13,13,13,13,12,12,12,12,12,12]
[28.5,18,18,18,18,18,18,18,18,18,18,18,18,17,17,17,17,17,17,17,17,17,17,17,17,16,16,16,16,16,16,16,16,16,16,16,16,15,15,15,15,15,15,15,15,15,15,15,15,14,14,14,14,14,14,14,14,14,14,14,14,13,13,13,13,13,13,12,12,12,12,12,12]
[29,18,18,18,18,18,18,18,18,18,18,18,18,17,17,17,17,17,17,17,17,17,17,17,17,16,16,16,16,16,16,16,16,16,16,16,16,15,15,15,15,15,15,15,15,15,15,15,15,14,14,14,14,14,14,14,14,14,14,14,14,13,13,13,13,13,13,12,12,12,12,12,12]
[29.5,19,19,19,19,19,19,18,18,18,18,18,18,18,18,18,18,18,18,17,17,17,17,17,17,17,17,17,17,17,17,16,16,16,16,16,16,16,16,16,16,16,16,15,15,15,15,15,15,15,15,15,15,15,15,14,14,14,14,14,14,13,13,13,13,13,13,12,12,12,12,12,12]
[30,19,19,19,19,19,19,18,18,18,18,18,18,18,18,18,18,18,18,17,17,17,17,17,17,17,17,17,17,17,17,16,16,16,16,16,16,16,16,16,16,16,16,15,15,15,15,15,15,15,15,15,15,15,15,14,14,14,14,14,14,13,13,13,13,13,13,13,13,13,13,13,13]
[30.5,19,19,19,19,19,19,19,19,19,19,19,19,18,18,18,18,18,18,18,18,18,18,18,18,17,17,17,17,17,17,17,17,17,17,17,17,16,16,16,16,16,16,16,16,16,16,16,16,15,15,15,15,15,15,15,15,15,15,15,15,14,14,14,14,14,14,13,13,13,13,13,13]
[31,19,19,19,19,19,19,19,19,19,19,19,19,18,18,18,18,18,18,18,18,18,18,18,18,17,17,17,17,17,17,17,17,17,17,17,17,16,16,16,16,16,16,16,16,16,16,16,16,15,15,15,15,15,15,15,15,15,15,15,15,14,14,14,14,14,14,13,13,13,13,13,13]
[31.5,19,19,19,19,19,19,19,19,19,19,19,19,18,18,18,18,18,18,18,18,18,18,18,18,17,17,17,17,17,17,17,17,17,17,17,17,16,16,16,16,16,16,16,16,16,16,16,16,15,15,15,15,15,15,15,15,15,15,15,15,14,14,14,14,14,14,13,13,13,13,13,13]
[32,20,20,20,20,20,20,19,19,19,19,19,19,19,19,19,19,19,19,18,18,18,18,18,18,18,18,18,18,18,18,17,17,17,17,17,17,17,17,17,17,17,17,16,16,16,16,16,16,16,16,16,16,16,16,15,15,15,15,15,15,14,14,14,14,14,14,13,13,13,13,13,13]
[32.5,20,20,20,20,20,20,19,19,19,19,19,19,19,19,19,19,19,19,18,18,18,18,18,18,18,18,18,18,18,18,17,17,17,17,17,17,17,17,17,17,17,17,16,16,16,16,16,16,16,16,16,16,16,16,15,15,15,15,15,15,14,14,14,14,14,14,14,14,14,14,14,14]
[33,20,20,20,20,20,20,20,20,20,20,20,20,19,19,19,19,19,19,19,19,19,19,19,19,18,18,18,18,18,18,18,18,18,18,18,18,17,17,17,17,17,17,17,17,17,17,17,17,16,16,16,16,16,16,16,16,16,16,16,16,15,15,15,15,15,15,14,14,14,14,14,14]
[33.5,20,20,20,20,20,20,20,20,20,20,20,20,19,19,19,19,19,19,19,19,19,19,19,19,18,18,18,18,18,18,18,18,18,18,18,18,17,17,17,17,17,17,17,17,17,17,17,17,16,16,16,16,16,16,16,16,16,16,16,16,15,15,15,15,15,15,14,14,14,14,14,14]
[34,20,20,20,20,20,20,20,20,20,20,20,20,19,19,19,19,19,19,19,19,19,19,19,19,18,18,18,18,18,18,18,18,18,18,18,18,17,17,17,17,17,17,17,17,17,17,17,17,16,16,16,16,16,16,16,16,16,16,16,16,15,15,15,15,15,15,14,14,14,14,14,14]
[34.5,20,20,20,20,20,20,20,20,20,20,20,20,20,20,20,20,20,20,19,19,19,19,19,19,19,19,19,19,19,19,18,18,18,18,18,18,18,18,18,18,18,18,17,17,17,17,17,17,17,17,17,17,17,17,16,16,16,16,16,16,15,15,15,15,15,15,14,14,14,14,14,14]
[35,20,20,20,20,20,20,20,20,20,20,20,20,20,20,20,20,20,20,19,19,19,19,19,19,19,19,19,19,19,19,18,18,18,18,18,18,18,18,18,18,18,18,17,17,17,17,17,17,17,17,17,17,17,17,16,16,16,16,16,16,15,15,15,15,15,15,15,15,15,15,15,15]
[35.5,20,20,20,20,20,20,20,20,20,20,20,20,20,20,20,20,20,20,20,20,20,20,20,20,19,19,19,19,19,19,19,19,19,19,19,19,18,18,18,18,18,18,18,18,18,18,18,18,17,17,17,17,17,17,17,17,17,17,17,17,16,16,16,16,16,16,15,15,15,15,15,15]
[36,20,20,20,20,20,20,20,20,20,20,20,20,20,20,20,20,20,20,20,20,20,20,20,20,19,19,19,19,19,19,19,19,19,19,19,19,18,18,18,18,18,18,18,18,18,18,18,18,17,17,17,17,17,17,17,17,17,17,17,17,16,16,16,16,16,16,15,15,15,15,15,15]
[36.5,20,20,20,20,20,20,20,20,20,20,20,20,20,20,20,20,20,20,20,20,20,20,20,20,19,19,19,19,19,19,19,19,19,19,19,19,18,18,18,18,18,18,18,18,18,18,18,18,17,17,17,17,17,17,17,17,17,17,17,17,16,16,16,16,16,16,15,15,15,15,15,15]
[37,20,20,20,20,20,20,20,20,20,20,20,20,20,20,20,20,20,20,20,20,20,20,20,20,20,20,20,20,20,20,19,19,19,19,19,19,19,19,19,19,19,19,18,18,18,18,18,18,18,18,18,18,18,18,17,17,17,17,17,17,16,16,16,16,16,16,15,15,15,15,15,15]
[37.5,20,20,20,20,20,20,20,20,20,20,20,20,20,20,20,20,20,20,20,20,20,20,20,20,20,20,20,20,20,20,19,19,19,19,19,19,19,19,19,19,19,19,18,18,18,18,18,18,18,18,18,18,18,18,17,17,17,17,17,17,16,16,16,16,16,16,16,16,16,16,16,16]
[38,20,20,20,20,20,20,20,20,20,20,20,20,20,20,20,20,20,20,20,20,20,20,20,20,20,20,20,20,20,20,20,20,20,20,20,20,19,19,19,19,19,19,19,19,19,19,19,19,18,18,18,18,18,18,18,18,18,18,18,18,17,17,17,17,17,17,16,16,16,16,16,16]
[38.5,20,20,20,20,20,20,20,20,20,20,20,20,20,20,20,20,20,20,20,20,20,20,20,20,20,20,20,20,20,20,20,20,20,20,20,20,19,19,19,19,19,19,19,19,19,19,19,19,18,18,18,18,18,18,18,18,18,18,18,18,17,17,17,17,17,17,16,16,16,16,16,16]
[39,20,20,20,20,20,20,20,20,20,20,20,20,20,20,20,20,20,20,20,20,20,20,20,20,20,20,20,20,20,20,20,20,20,20,20,20,19,19,19,19,19,19,19,19,19,19,19,19,18,18,18,18,18,18,18,18,18,18,18,18,17,17,17,17,17,17,16,16,16,16,16,16]
[39.5,20,20,20,20,20,20,20,20,20,20,20,20,20,20,20,20,20,20,20,20,20,20,20,20,20,20,20,20,20,20,20,20,20,20,20,20,20,20,20,20,20,20,19,19,19,19,19,19,19,19,19,19,19,19,18,18,18,18,18,18,17,17,17,17,17,17,16,16,16,16,16,16]
[40,20,20,20,20,20,20,20,20,20,20,20,20,20,20,20,20,20,20,20,20,20,20,20,20,20,20,20,20,20,20,20,20,20,20,20,20,20,20,20,20,20,20,19,19,19,19,19,19,19,19,19,19,19,19,18,18,18,18,18,18,17,17,17,17,17,17,17,17,17,17,17,17]
[40.5,20,20,20,20,20,20,20,20,20,20,20,20,20,20,20,20,20,20,20,20,20,20,20,20,20,20,20,20,20,20,20,20,20,20,20,20,20,20,20,20,20,20,20,20,20,20,20,20,19,19,19,19,19,19,19,19,19,19,19,19,18,18,18,18,18,18,17,17,17,17,17,17]
[41,20,20,20,20,20,20,20,20,20,20,20,20,20,20,20,20,20,20,20,20,20,20,20,20,20,20,20,20,20,20,20,20,20,20,20,20,20,20,20,20,20,20,20,20,20,20,20,20,19,19,19,19,19,19,19,19,19,19,19,19,18,18,18,18,18,18,17,17,17,17,17,17]
[41.5,20,20,20,20,20,20,20,20,20,20,20,20,20,20,20,20,20,20,20,20,20,20,20,20,20,20,20,20,20,20,20,20,20,20,20,20,20,20,20,20,20,20,20,20,20,20,20,20,19,19,19,19,19,19,19,19,19,19,19,19,18,18,18,18,18,18,17,17,17,17,17,17]
[42,20,20,20,20,20,20,20,20,20,20,20,20,20,20,20,20,20,20,20,20,20,20,20,20,20,20,20,20,20,20,20,20,20,20,20,20,20,20,20,20,20,20,20,20,20,20,20,20,20,20,20,20,20,20,19,19,19,19,19,19,18,18,18,18,18,18,17,17,17,17,17,17]
[42.5,20,20,20,20,20,20,20,20,20,20,20,20,20,20,20,20,20,20,20,20,20,20,20,20,20,20,20,20,20,20,20,20,20,20,20,20,20,20,20,20,20,20,20,20,20,20,20,20,20,20,20,20,20,20,19,19,19,19,19,19,18,18,18,18,18,18,18,18,18,18,18,18]
[43,20,20,20,20,20,20,20,20,20,20,20,20,20,20,20,20,20,20,20,20,20,20,20,20,20,20,20,20,20,20,20,20,20,20,20,20,20,20,20,20,20,20,20,20,20,20,20,20,20,20,20,20,20,20,20,20,20,20,20,20,19,19,19,19,19,19,18,18,18,18,18,18]
[43.5,20,20,20,20,20,20,20,20,20,20,20,20,20,20,20,20,20,20,20,20,20,20,20,20,20,20,20,20,20,20,20,20,20,20,20,20,20,20,20,20,20,20,20,20,20,20,20,20,20,20,20,20,20,20,20,20,20,20,20,20,19,19,19,19,19,19,18,18,18,18,18,18]
[44,20,20,20,20,20,20,20,20,20,20,20,20,20,20,20,20,20,20,20,20,20,20,20,20,20,20,20,20,20,20,20,20,20,20,20,20,20,20,20,20,20,20,20,20,20,20,20,20,20,20,20,20,20,20,20,20,20,20,20,20,19,19,19,19,19,19,18,18,18,18,18,18]
[44.5,20,20,20,20,20,20,20,20,20,20,20,20,20,20,20,20,20,20,20,20,20,20,20,20,20,20,20,20,20,20,20,20,20,20,20,20,20,20,20,20,20,20,20,20,20,20,20,20,20,20,20,20,20,20,20,20,20,20,20,20,19,19,19,19,19,19,18,18,18,18,18,18]
[45,20,20,20,20,20,20,20,20,20,20,20,20,20,20,20,20,20,20,20,20,20,20,20,20,20,20,20,20,20,20,20,20,20,20,20,20,20,20,20,20,20,20,20,20,20,20,20,20,20,20,20,20,20,20,20,20,20,20,20,20,19,19,19,19,19,19,19,19,19,19,19,19]
[45.5,20,20,20,20,20,20,20,20,20,20,20,20,20,20,20,20,20,20,20,20,20,20,20,20,20,20,20,20,20,20,20,20,20,20,20,20,20,20,20,20,20,20,20,20,20,20,20,20,20,20,20,20,20,20,20,20,20,20,20,20,20,20,20,20,20,20,19,19,19,19,19,19]
[46,20,20,20,20,20,20,20,20,20,20,20,20,20,20,20,20,20,20,20,20,20,20,20,20,20,20,20,20,20,20,20,20,20,20,20,20,20,20,20,20,20,20,20,20,20,20,20,20,20,20,20,20,20,20,20,20,20,20,20,20,20,20,20,20,20,20,19,19,19,19,19,19]
[46.5,20,20,20,20,20,20,20,20,20,20,20,20,20,20,20,20,20,20,20,20,20,20,20,20,20,20,20,20,20,20,20,20,20,20,20,20,20,20,20,20,20,20,20,20,20,20,20,20,20,20,20,20,20,20,20,20,20,20,20,20,20,20,20,20,20,20,19,19,19,19,19,19]
[47,20,20,20,20,20,20,20,20,20,20,20,20,20,20,20,20,20,20,20,20,20,20,20,20,20,20,20,20,20,20,20,20,20,20,20,20,20,20,20,20,20,20,20,20,20,20,20,20,20,20,20,20,20,20,20,20,20,20,20,20,20,20,20,20,20,20,19,19,19,19,19,19]
[47.5,20,20,20,20,20,20,20,20,20,20,20,20,20,20,20,20,20,20,20,20,20,20,20,20,20,20,20,20,20,20,20,20,20,20,20,20,20,20,20,20,20,20,20,20,20,20,20,20,20,20,20,20,20,20,20,20,20,20,20,20,20,20,20,20,20,20,20,20,20,20,20,20]

{"sheet":"Ecart facial","index":1,"n_rows":143,"n_cols":73,"rows_kept":143,"hidden":true}
[null,73,74,75,76,77,78,79,80,81,82,83,84,85,86,87,88,89,90,91,92,93,94,95,96,97,98,99,100,101,102,103,104,105,106,107,108,109,110,111,112,113,114,115,116,117,118,119,120,121,122,123,124,125,126,127,128,129,130,131,132,133,134,135,136,137,138,139,140,141,142,143,144]
[{"$f":"A3-0.5","v":-40},0,0,0,0,0,0,0,0,0,0,0,0,0,0,0,0,0,0,0,0,0,0,0,0,0,0,0,0,0,0,0,0,0,0,0,0,0,0,0,0,0,0,0,0,0,0,0,0,0,0,0,0,0,0,0,0,0,0,0,0,0,0,0,0,0,0,0,0,0,0,0,0]
[-39.5,0,0,0,0,0,0,0,0,0,0,0,0,0,0,0,0,0,0,0,0,0,0,0,0,0,0,0,0,0,0,0,0,0,0,0,0,0,0,0,0,0,0,0,0,0,0,0,0,0,0,0,0,0,0,0,0,0,0,0,0,0,0,0,0,0,0,0,0,0,0,0,0]
[-39,0,0,0,0,0,0,0,0,0,0,0,0,0,0,0,0,0,0,0,0,0,0,0,0,0,0,0,0,0,0,0,0,0,0,0,0,0,0,0,0,0,0,0,0,0,0,0,0,0,0,0,0,0,0,0,0,0,0,0,0,0,0,0,0,0,0,0,0,0,0,0,0]
[-38.5,0,0,0,0,0,0,0,0,0,0,0,0,0,0,0,0,0,0,0,0,0,0,0,0,0,0,0,0,0,0,0,0,0,0,0,0,0,0,0,0,0,0,0,0,0,0,0,0,0,0,0,0,0,0,0,0,0,0,0,0,0,0,0,0,0,0,0,0,0,0,0,0]
[-38,0,0,0,0,0,0,0,0,0,0,0,0,0,0,0,0,0,0,0,0,0,0,0,0,0,0,0,0,0,0,0,0,0,0,0,0,0,0,0,0,0,0,0,0,0,0,0,0,0,0,0,0,0,0,0,0,0,0,0,0,0,0,0,0,0,0,0,0,0,0,0,0]
[-37.5,0,0,0,0,0,0,0,0,0,0,0,0,0,0,0,0,0,0,0,0,0,0,0,0,0,0,0,0,0,0,0,0,0,0,0,0,0,0,0,0,0,0,0,0,0,0,0,0,0,0,0,0,0,0,0,0,0,0,0,0,0,0,0,0,0,0,0,0,0,0,0,0]
[-37,0,0,0,0,0,0,0,0,0,0,0,0,0,0,0,0,0,0,0,0,0,0,0,0,0,0,0,0,0,0,0,0,0,0,0,0,0,0,0,0,0,0,0,0,0,0,0,0,0,0,0,0,0,0,0,0,0,0,0,0,0,0,0,0,0,0,0,0,0,0,0,0]
[-36.5,0,0,0,0,0,0,0,0,0,0,0,0,0,0,0,0,0,0,0,0,0,0,0,0,0,0,0,0,0,0,0,0,0,0,0,0,0,0,0,0,0,0,0,0,0,0,0,0,0,0,0,0,0,0,0,0,0,0,0,0,0,0,0,0,0,0,0,0,0,0,0,0]
[-36,0,0,0,0,0,0,0,0,0,0,0,0,0,0,0,0,0,0,0,0,0,0,0,0,0,0,0,0,0,0,0,0,0,0,0,0,0,0,0,0,0,0,0,0,0,0,0,0,0,0,0,0,0,0,0,0,0,0,0,0,0,0,0,0,0,0,0,0,0,0,0,0]
[-35.5,0,0,0,0,0,0,0,0,0,0,0,0,0,0,0,0,0,0,0,0,0,0,0,0,0,0,0,0,0,0,0,0,0,0,0,0,0,0,0,0,0,0,0,0,0,0,0,0,0,0,0,0,0,0,0,0,0,0,0,0,0,0,0,0,0,0,0,0,0,0,0,0]
[-35,0,0,0,0,0,0,0,0,0,0,0,0,0,0,0,0,0,0,0,0,0,0,0,0,0,0,0,0,0,0,0,0,0,0,0,0,0,0,0,0,0,0,0,0,0,0,0,0,0,0,0,0,0,0,0,0,0,0,0,0,0,0,0,0,0,0,0,0,0,0,0,0]
[-34.5,0,0,0,0,0,0,0,0,0,0,0,0,0,0,0,0,0,0,0,0,0,0,0,0,0,0,0,0,0,0,0,0,0,0,0,0,0,0,0,0,0,0,0,0,0,0,0,0,0,0,0,0,0,0,0,0,0,0,0,0,0,0,0,0,0,0,0,0,0,0,0,0]
[-34,0,0,0,0,0,0,0,0,0,0,0,0,0,0,0,0,0,0,0,0,0,0,0,0,0,0,0,0,0,0,0,0,0,0,0,0,0,0,0,0,0,0,0,0,0,0,0,0,0,0,0,0,0,0,0,0,0,0,0,0,0,0,0,0,0,0,0,0,0,0,0,0]
[-33.5,0,0,0,0,0,0,0,0,0,0,0,0,0,0,0,0,0,0,0,0,0,0,0,0,0,0,0,0,0,0,0,0,0,0,0,0,0,0,0,0,0,0,0,0,0,0,0,0,0,0,0,0,0,0,0,0,0,0,0,0,0,0,0,0,0,0,0,0,0,0,0,0]
[-33,0,0,0,0,0,0,0,0,0,0,0,0,0,0,0,0,0,0,0,0,0,0,0,0,0,0,0,0,0,0,0,0,0,0,0,0,0,0,0,0,0,0,0,0,0,0,0,0,0,0,0,0,0,0,0,0,0,0,0,0,0,0,0,0,0,0,0,0,0,0,0,0]
[-32.5,0,0,0,0,0,0,0,0,0,0,0,0,0,0,0,0,0,0,0,0,0,0,0,0,0,0,0,0,0,0,0,0,0,0,0,0,0,0,0,0,0,0,0,0,0,0,0,0,0,0,0,0,0,0,0,0,0,0,0,0,0,0,0,0,0,0,0,0,0,0,0,0]
[-32,0,0,0,0,0,0,0,0,0,0,0,0,0,0,0,0,0,0,0,0,0,0,0,0,0,0,0,0,0,0,0,0,0,0,0,0,0,0,0,0,0,0,0,0,0,0,0,0,0,0,0,0,0,0,0,0,0,0,0,0,0,0,0,0,0,0,0,0,0,0,0,0]
[{"$f":"A20-0.5","v":-31.5},0,0,0,0,0,0,0,0,0,0,0,0,0,0,0,0,0,0,0,0,0,0,0,0,0,0,0,0,0,0,0,0,0,0,0,0,0,0,0,0,0,0,0,0,0,0,0,0,0,0,0,0,0,0,0,0,0,0,0,0,0,0,0,0,0,0,0,0,0,0,0,0]
[-31,0,0,0,0,0,0,0,0,0,0,0,0,0,0,0,0,0,0,0,0,0,0,0,0,0,0,0,0,0,0,0,0,0,0,0,0,0,0,0,0,0,0,0,0,0,0,0,0,0,0,0,0,0,0,0,0,0,0,0,0,0,0,0,0,0,0,0,0,0,0,0,0]
[-30.5,1,1,1,1,1,1,0,0,0,0,0,0,0,0,0,0,0,0,0,0,0,0,0,0,0,0,0,0,0,0,0,0,0,0,0,0,0,0,0,0,0,0,0,0,0,0,0,0,0,0,0,0,0,0,0,0,0,0,0,0,0,0,0,0,0,0,0,0,0,0,0,0]
[-30,1,1,1,1,1,1,0,0,0,0,0,0,0,0,0,0,0,0,0,0,0,0,0,0,0,0,0,0,0,0,0,0,0,0,0,0,0,0,0,0,0,0,0,0,0,0,0,0,0,0,0,0,0,0,0,0,0,0,0,0,0,0,0,0,0,0,0,0,0,0,0,0]
[-29.5,1,1,1,1,1,1,1,1,1,1,1,1,0,0,0,0,0,0,0,0,0,0,0,0,0,0,0,0,0,0,0,0,0,0,0,0,0,0,0,0,0,0,0,0,0,0,0,0,0,0,0,0,0,0,0,0,0,0,0,0,0,0,0,0,0,0,0,0,0,0,0,0]
[-29,1,1,1,1,1,1,1,1,1,1,1,1,0,0,0,0,0,0,0,0,0,0,0,0,0,0,0,0,0,0,0,0,0,0,0,0,0,0,0,0,0,0,0,0,0,0,0,0,0,0,0,0,0,0,0,0,0,0,0,0,0,0,0,0,0,0,0,0,0,0,0,0]
[-28.5,1,1,1,1,1,1,1,1,1,1,1,1,0,0,0,0,0,0,0,0,0,0,0,0,0,0,0,0,0,0,0,0,0,0,0,0,0,0,0,0,0,0,0,0,0,0,0,0,0,0,0,0,0,0,0,0,0,0,0,0,0,0,0,0,0,0,0,0,0,0,0,0]
[-28,2,2,2,2,2,2,1,1,1,1,1,1,1,1,1,1,1,1,0,0,0,0,0,0,0,0,0,0,0,0,0,0,0,0,0,0,0,0,0,0,0,0,0,0,0,0,0,0,0,0,0,0,0,0,0,0,0,0,0,0,0,0,0,0,0,0,0,0,0,0,0,0]
[-27.5,2,2,2,2,2,2,1,1,1,1,1,1,1,1,1,1,1,1,0,0,0,0,0,0,0,0,0,0,0,0,0,0,0,0,0,0,0,0,0,0,0,0,0,0,0,0,0,0,0,0,0,0,0,0,0,0,0,0,0,0,0,0,0,0,0,0,0,0,0,0,0,0]
[-27,2,2,2,2,2,2,2,2,2,2,2,2,1,1,1,1,1,1,0,0,0,0,0,0,0,0,0,0,0,0,0,0,0,0,0,0,0,0,0,0,0,0,0,0,0,0,0,0,0,0,0,0,0,0,0,0,0,0,0,0,0,0,0,0,0,0,0,0,0,0,0,0]
[-26.5,2,2,2,2,2,2,2,2,2,2,2,2,1,1,1,1,1,1,1,1,1,1,1,1,0,0,0,0,0,0,0,0,0,0,0,0,0,0,0,0,0,0,0,0,0,0,0,0,0,0,0,0,0,0,0,0,0,0,0,0,0,0,0,0,0,0,0,0,0,0,0,0]
[-26,2,2,2,2,2,2,2,2,2,2,2,2,1,1,1,1,1,1,1,1,1,1,1,1,0,0,0,0,0,0,0,0,0,0,0,0,0,0,0,0,0,0,0,0,0,0,0,0,0,0,0,0,0,0,0,0,0,0,0,0,0,0,0,0,0,0,0,0,0,0,0,0]
[-25.5,3,3,3,3,3,3,2,2,2,2,2,2,2,2,2,2,2,2,1,1,1,1,1,1,1,1,1,1,1,1,0,0,0,0,0,0,0,0,0,0,0,0,0,0,0,0,0,0,0,0,0,0,0,0,0,0,0,0,0,0,0,0,0,0,0,0,0,0,0,0,0,0]
[-25,3,3,3,3,3,3,2,2,2,2,2,2,2,2,2,2,2,2,1,1,1,1,1,1,1,1,1,1,1,1,0,0,0,0,0,0,0,0,0,0,0,0,0,0,0,0,0,0,0,0,0,0,0,0,0,0,0,0,0,0,0,0,0,0,0,0,0,0,0,0,0,0]
[-24.5,3,3,3,3,3,3,3,3,3,3,3,3,2,2,2,2,2,2,1,1,1,1,1,1,1,1,1,1,1,1,1,1,1,1,1,1,0,0,0,0,0,0,0,0,0,0,0,0,0,0,0,0,0,0,0,0,0,0,0,0,0,0,0,0,0,0,0,0,0,0,0,0]
[-24,3,3,3,3,3,3,3,3,3,3,3,3,2,2,2,2,2,2,2,2,2,2,2,2,1,1,1,1,1,1,1,1,1,1,1,1,0,0,0,0,0,0,0,0,0,0,0,0,0,0,0,0,0,0,0,0,0,0,0,0,0,0,0,0,0,0,0,0,0,0,0,0]
[-23.5,3,3,3,3,3,3,3,3,3,3,3,3,2,2,2,2,2,2,2,2,2,2,2,2,1,1,1,1,1,1,1,1,1,1,1,1,0,0,0,0,0,0,0,0,0,0,0,0,0,0,0,0,0,0,0,0,0,0,0,0,0,0,0,0,0,0,0,0,0,0,0,0]
[-23,4,4,4,4,4,4,3,3,3,3,3,3,3,3,3,3,3,3,2,2,2,2,2,2,2,2,2,2,2,2,1,1,1,1,1,1,1,1,1,1,1,1,0,0,0,0,0,0,0,0,0,0,0,0,0,0,0,0,0,0,0,0,0,0,0,0,0,0,0,0,0,0]
[-22.5,4,4,4,4,4,4,3,3,3,3,3,3,3,3,3,3,3,3,2,2,2,2,2,2,2,2,2,2,2,2,1,1,1,1,1,1,1,1,1,1,1,1,0,0,0,0,0,0,0,0,0,0,0,0,0,0,0,0,0,0,0,0,0,0,0,0,0,0,0,0,0,0]
[-22,4,4,4,4,4,4,4,4,4,4,4,4,3,3,3,3,3,3,2,2,2,2,2,2,2,2,2,2,2,2,2,2,2,2,2,2,1,1,1,1,1,1,1,1,1,1,1,1,0,0,0,0,0,0,0,0,0,0,0,0,0,0,0,0,0,0,0,0,0,0,0,0]
[-21.5,4,4,4,4,4,4,4,4,4,4,4,4,3,3,3,3,3,3,3,3,3,3,3,3,2,2,2,2,2,2,2,2,2,2,2,2,1,1,1,1,1,1,1,1,1,1,1,1,0,0,0,0,0,0,0,0,0,0,0,0,0,0,0,0,0,0,0,0,0,0,0,0]
[-21,4,4,4,4,4,4,4,4,4,4,4,4,3,3,3,3,3,3,3,3,3,3,3,3,2,2,2,2,2,2,2,2,2,2,2,2,1,1,1,1,1,1,1,1,1,1,1,1,0,0,0,0,0,0,0,0,0,0,0,0,0,0,0,0,0,0,0,0,0,0,0,0]
[-20.5,5,5,5,5,5,5,4,4,4,4,4,4,4,4,4,4,4,4,3,3,3,3,3,3,3,3,3,3,3,3,2,2,2,2,2,2,2,2,2,2,2,2,1,1,1,1,1,1,1,1,1,1,1,1,0,0,0,0,0,0,0,0,0,0,0,0,0,0,0,0,0,0]
[-20,5,5,5,5,5,5,4,4,4,4,4,4,4,4,4,4,4,4,3,3,3,3,3,3,3,3,3,3,3,3,2,2,2,2,2,2,2,2,2,2,2,2,1,1,1,1,1,1,1,1,1,1,1,1,0,0,0,0,0,0,0,0,0,0,0,0,0,0,0,0,0,0]
[-19.5,5,5,5,5,5,5,5,5,5,5,5,5,4,4,4,4,4,4,3,3,3,3,3,3,3,3,3,3,3,3,3,3,3,3,3,3,2,2,2,2,2,2,2,2,2,2,2,2,1,1,1,1,1,1,1,1,1,1,1,1,0,0,0,0,0,0,0,0,0,0,0,0]
[-19,5,5,5,5,5,5,5,5,5,5,5,5,4,4,4,4,4,4,4,4,4,4,4,4,3,3,3,3,3,3,3,3,3,3,3,3,2,2,2,2,2,2,2,2,2,2,2,2,1,1,1,1,1,1,1,1,1,1,1,1,0,0,0,0,0,0,0,0,0,0,0,0]
[-18.5,5,5,5,5,5,5,5,5,5,5,5,5,4,4,4,4,4,4,4,4,4,4,4,4,3,3,3,3,3,3,3,3,3,3,3,3,2,2,2,2,2,2,2,2,2,2,2,2,1,1,1,1,1,1,1,1,1,1,1,1,0,0,0,0,0,0,0,0,0,0,0,0]
[-18,6,6,6,6,6,6,5,5,5,5,5,5,5,5,5,5,5,5,4,4,4,4,4,4,4,4,4,4,4,4,3,3,3,3,3,3,3,3,3,3,3,3,2,2,2,2,2,2,2,2,2,2,2,2,1,1,1,1,1,1,1,1,1,1,1,1,0,0,0,0,0,0]
[-17.5,6,6,6,6,6,6,5,5,5,5,5,5,5,5,5,5,5,5,4,4,4,4,4,4,4,4,4,4,4,4,3,3,3,3,3,3,3,3,3,3,3,3,2,2,2,2,2,2,2,2,2,2,2,2,1,1,1,1,1,1,1,1,1,1,1,1,0,0,0,0,0,0]
[-17,6,6,6,6,6,6,6,6,6,6,6,6,5,5,5,5,5,5,4,4,4,4,4,4,4,4,4,4,4,4,4,4,4,4,4,4,3,3,3,3,3,3,3,3,3,3,3,3,2,2,2,2,2,2,2,2,2,2,2,2,1,1,1,1,1,1,1,1,1,1,1,1]
[-16.5,6,6,6,6,6,6,6,6,6,6,6,6,5,5,5,5,5,5,5,5,5,5,5,5,4,4,4,4,4,4,4,4,4,4,4,4,3,3,3,3,3,3,3,3,3,3,3,3,2,2,2,2,2,2,2,2,2,2,2,2,1,1,1,1,1,1,1,1,1,1,1,1]
[-16,6,6,6,6,6,6,6,6,6,6,6,6,5,5,5,5,5,5,5,5,5,5,5,5,4,4,4,4,4,4,4,4,4,4,4,4,3,3,3,3,3,3,3,3,3,3,3,3,2,2,2,2,2,2,2,2,2,2,2,2,1,1,1,1,1,1,1,1,1,1,1,1]
[-15.5,7,7,7,7,7,7,6,6,6,6,6,6,6,6,6,6,6,6,5,5,5,5,5,5,5,5,5,5,5,5,4,4,4,4,4,4,4,4,4,4,4,4,3,3,3,3,3,3,3,3,3,3,3,3,2,2,2,2,2,2,2,2,2,2,2,2,1,1,1,1,1,1]
[-15,7,7,7,7,7,7,6,6,6,6,6,6,6,6,6,6,6,6,5,5,5,5,5,5,5,5,5,5,5,5,4,4,4,4,4,4,4,4,4,4,4,4,3,3,3,3,3,3,3,3,3,3,3,3,2,2,2,2,2,2,2,2,2,2,2,2,1,1,1,1,1,1]
[-14.5,7,7,7,7,7,7,7,7,7,7,7,7,6,6,6,6,6,6,5,5,5,5,5,5,5,5,5,5,5,5,5,5,5,5,5,5,4,4,4,4,4,4,4,4,4,4,4,4,3,3,3,3,3,3,3,3,3,3,3,3,2,2,2,2,2,2,2,2,2,2,2,2]
[-14,7,7,7,7,7,7,7,7,7,7,7,7,6,6,6,6,6,6,6,6,6,6,6,6,5,5,5,5,5,5,5,5,5,5,5,5,4,4,4,4,4,4,4,4,4,4,4,4,3,3,3,3,3,3,3,3,3,3,3,3,2,2,2,2,2,2,2,2,2,2,2,2]
[-13.5,7,7,7,7,7,7,7,7,7,7,7,7,6,6,6,6,6,6,6,6,6,6,6,6,5,5,5,5,5,5,5,5,5,5,5,5,4,4,4,4,4,4,4,4,4,4,4,4,3,3,3,3,3,3,3,3,3,3,3,3,2,2,2,2,2,2,2,2,2,2,2,2]
[-13,8,8,8,8,8,8,7,7,7,7,7,7,7,7,7,7,7,7,6,6,6,6,6,6,6,6,6,6,6,6,5,5,5,5,5,5,5,5,5,5,5,5,4,4,4,4,4,4,4,4,4,4,4,4,3,3,3,3,3,3,3,3,3,3,3,3,2,2,2,2,2,2]
[-12.5,8,8,8,8,8,8,7,7,7,7,7,7,7,7,7,7,7,7,6,6,6,6,6,6,6,6,6,6,6,6,5,5,5,5,5,5,5,5,5,5,5,5,4,4,4,4,4,4,4,4,4,4,4,4,3,3,3,3,3,3,3,3,3,3,3,3,2,2,2,2,2,2]
[-12,8,8,8,8,8,8,8,8,8,8,8,8,7,7,7,7,7,7,6,6,6,6,6,6,6,6,6,6,6,6,6,6,6,6,6,6,5,5,5,5,5,5,5,5,5,5,5,5,4,4,4,4,4,4,4,4,4,4,4,4,3,3,3,3,3,3,3,3,3,3,3,3]
[-11.5,8,8,8,8,8,8,8,8,8,8,8,8,7,7,7,7,7,7,7,7,7,7,7,7,6,6,6,6,6,6,6,6,6,6,6,6,5,5,5,5,5,5,5,5,5,5,5,5,4,4,4,4,4,4,4,4,4,4,4,4,3,3,3,3,3,3,3,3,3,3,3,3]
[-11,8,8,8,8,8,8,8,8,8,8,8,8,7,7,7,7,7,7,7,7,7,7,7,7,6,6,6,6,6,6,6,6,6,6,6,6,5,5,5,5,5,5,5,5,5,5,5,5,4,4,4,4,4,4,4,4,4,4,4,4,3,3,3,3,3,3,3,3,3,3,3,3]
[-10.5,9,9,9,9,9,9,8,8,8,8,8,8,8,8,8,8,8,8,7,7,7,7,7,7,7,7,7,7,7,7,6,6,6,6,6,6,6,6,6,6,6,6,5,5,5,5,5,5,5,5,5,5,5,5,4,4,4,4,4,4,4,4,4,4,4,4,3,3,3,3,3,3]
[-10,9,9,9,9,9,9,8,8,8,8,8,8,8,8,8,8,8,8,7,7,7,7,7,7,7,7,7,7,7,7,6,6,6,6,6,6,6,6,6,6,6,6,5,5,5,5,5,5,5,5,5,5,5,5,4,4,4,4,4,4,4,4,4,4,4,4,3,3,3,3,3,3]
[-9.5,9,9,9,9,9,9,9,9,9,9,9,9,8,8,8,8,8,8,7,7,7,7,7,7,7,7,7,7,7,7,7,7,7,7,7,7,6,6,6,6,6,6,6,6,6,6,6,6,5,5,5,5,5,5,5,5,5,5,5,5,4,4,4,4,4,4,4,4,4,4,4,4]
[-9,9,9,9,9,9,9,9,9,9,9,9,9,8,8,8,8,8,8,8,8,8,8,8,8,7,7,7,7,7,7,7,7,7,7,7,7,6,6,6,6,6,6,6,6,6,6,6,6,5,5,5,5,5,5,5,5,5,5,5,5,4,4,4,4,4,4,4,4,4,4,4,4]
[-8.5,9,9,9,9,9,9,9,9,9,9,9,9,8,8,8,8,8,8,8,8,8,8,8,8,7,7,7,7,7,7,7,7,7,7,7,7,6,6,6,6,6,6,6,6,6,6,6,6,5,5,5,5,5,5,5,5,5,5,5,5,4,4,4,4,4,4,4,4,4,4,4,4]
[-8,10,10,10,10,10,10,9,9,9,9,9,9,9,9,9,9,9,9,8,8,8,8,8,8,8,8,8,8,8,8,7,7,7,7,7,7,7,7,7,7,7,7,6,6,6,6,6,6,6,6,6,6,6,6,5,5,5,5,5,5,5,5,5,5,5,5,4,4,4,4,4,4]
[-7.5,10,10,10,10,10,10,9,9,9,9,9,9,9,9,9,9,9,9,8,8,8,8,8,8,8,8,8,8,8,8,7,7,7,7,7,7,7,7,7,7,7,7,6,6,6,6,6,6,6,6,6,6,6,6,5,5,5,5,5,5,5,5,5,5,5,5,4,4,4,4,4,4]
[-7,10,10,10,10,10,10,10,10,10,10,10,10,9,9,9,9,9,9,8,8,8,8,8,8,8,8,8,8,8,8,8,8,8,8,8,8,7,7,7,7,7,7,7,7,7,7,7,7,6,6,6,6,6,6,6,6,6,6,6,6,5,5,5,5,5,5,5,5,5,5,5,5]
[-6.5,10,10,10,10,10,10,10,10,10,10,10,10,9,9,9,9,9,9,9,9,9,9,9,9,8,8,8,8,8,8,8,8,8,8,8,8,7,7,7,7,7,7,7,7,7,7,7,7,6,6,6,6,6,6,6,6,6,6,6,6,5,5,5,5,5,5,5,5,5,5,5,5]
[-6,10,10,10,10,10,10,10,10,10,10,10,10,9,9,9,9,9,9,9,9,9,9,9,9,8,8,8,8,8,8,8,8,8,8,8,8,7,7,7,7,7,7,7,7,7,7,7,7,6,6,6,6,6,6,6,6,6,6,6,6,5,5,5,5,5,5,5,5,5,5,5,5]
[-5.5,11,11,11,11,11,11,10,10,10,10,10,10,10,10,10,10,10,10,9,9,9,9,9,9,9,9,9,9,9,9,8,8,8,8,8,8,8,8,8,8,8,8,7,7,7,7,7,7,7,7,7,7,7,7,6,6,6,6,6,6,6,6,6,6,6,6,5,5,5,5,5,5]
[-5,11,11,11,11,11,11,10,10,10,10,10,10,10,10,10,10,10,10,9,9,9,9,9,9,9,9,9,9,9,9,8,8,8,8,8,8,8,8,8,8,8,8,7,7,7,7,7,7,7,7,7,7,7,7,6,6,6,6,6,6,6,6,6,6,6,6,5,5,5,5,5,5]
[-4.5,11,11,11,11,11,11,11,11,11,11,11,11,10,10,10,10,10,10,9,9,9,9,9,9,9,9,9,9,9,9,9,9,9,9,9,9,8,8,8,8,8,8,8,8,8,8,8,8,7,7,7,7,7,7,7,7,7,7,7,7,6,6,6,6,6,6,6,6,6,6,6,6]
[-4,11,11,11,11,11,11,11,11,11,11,11,11,10,10,10,10,10,10,10,10,10,10,10,10,9,9,9,9,9,9,9,9,9,9,9,9,8,8,8,8,8,8,8,8,8,8,8,8,7,7,7,7,7,7,7,7,7,7,7,7,6,6,6,6,6,6,6,6,6,6,6,6]
[-3.5,11,11,11,11,11,11,11,11,11,11,11,11,10,10,10,10,10,10,10,10,10,10,10,10,9,9,9,9,9,9,9,9,9,9,9,9,8,8,8,8,8,8,8,8,8,8,8,8,7,7,7,7,7,7,7,7,7,7,7,7,6,6,6,6,6,6,6,6,6,6,6,6]
[-3,12,12,12,12,12,12,11,11,11,11,11,11,11,11,11,11,11,11,10,10,10,10,10,10,10,10,10,10,10,10,9,9,9,9,9,9,9,9,9,9,9,9,8,8,8,8,8,8,8,8,8,8,8,8,7,7,7,7,7,7,7,7,7,7,7,7,6,6,6,6,6,6]
[-2.5,12,12,12,12,12,12,11,11,11,11,11,11,11,11,11,11,11,11,10,10,10,10,10,10,10,10,10,10,10,10,9,9,9,9,9,9,9,9,9,9,9,9,8,8,8,8,8,8,8,8,8,8,8,8,7,7,7,7,7,7,7,7,7,7,7,7,6,6,6,6,6,6]
[-2,12,12,12,12,12,12,12,12,12,12,12,12,11,11,11,11,11,11,10,10,10,10,10,10,10,10,10,10,10,10,10,10,10,10,10,10,9,9,9,9,9,9,9,9,9,9,9,9,8,8,8,8,8,8,8,8,8,8,8,8,7,7,7,7,7,7,7,7,7,7,7,7]
[-1.5,12,12,12,12,12,12,12,12,12,12,12,12,11,11,11,11,11,11,11,11,11,11,11,11,10,10,10,10,10,10,10,10,10,10,10,10,9,9,9,9,9,9,9,9,9,9,9,9,8,8,8,8,8,8,8,8,8,8,8,8,7,7,7,7,7,7,7,7,7,7,7,7]
[-1,12,12,12,12,12,12,12,12,12,12,12,12,11,11,11,11,11,11,11,11,11,11,11,11,10,10,10,10,10,10,10,10,10,10,10,10,9,9,9,9,9,9,9,9,9,9,9,9,8,8,8,8,8,8,8,8,8,8,8,8,7,7,7,7,7,7,7,7,7,7,7,7]
[-0.5,13,13,13,13,13,13,12,12,12,12,12,12,12,12,12,12,12,12,11,11,11,11,11,11,11,11,11,11,11,11,10,10,10,10,10,10,10,10,10,10,10,10,9,9,9,9,9,9,9,9,9,9,9,9,8,8,8,8,8,8,8,8,8,8,8,8,7,7,7,7,7,7]
[0,13,13,13,13,13,13,12,12,12,12,12,12,12,12,12,12,12,12,11,11,11,11,11,11,11,11,11,11,11,11,10,10,10,10,10,10,10,10,10,10,10,10,9,9,9,9,9,9,9,9,9,9,9,9,8,8,8,8,8,8,8,8,8,8,8,8,7,7,7,7,7,7]
[0.5,13,13,13,13,13,13,13,13,13,13,13,13,12,12,12,12,12,12,11,11,11,11,11,11,11,11,11,11,11,11,11,11,11,11,11,11,10,10,10,10,10,10,10,10,10,10,10,10,9,9,9,9,9,9,9,9,9,9,9,9,8,8,8,8,8,8,8,8,8,8,8,8]
[1,13,13,13,13,13,13,13,13,13,13,13,13,12,12,12,12,12,12,12,12,12,12,12,12,11,11,11,11,11,11,11,11,11,11,11,11,10,10,10,10,10,10,10,10,10,10,10,10,9,9,9,9,9,9,9,9,9,9,9,9,8,8,8,8,8,8,8,8,8,8,8,8]
[1.5,13,13,13,13,13,13,13,13,13,13,13,13,12,12,12,12,12,12,12,12,12,12,12,12,11,11,11,11,11,11,11,11,11,11,11,11,10,10,10,10,10,10,10,10,10,10,10,10,9,9,9,9,9,9,9,9,9,9,9,9,8,8,8,8,8,8,8,8,8,8,8,8]
[2,14,14,14,14,14,14,13,13,13,13,13,13,13,13,13,13,13,13,12,12,12,12,12,12,12,12,12,12,12,12,11,11,11,11,11,11,11,11,11,11,11,11,10,10,10,10,10,10,10,10,10,10,10,10,9,9,9,9,9,9,9,9,9,9,9,9,8,8,8,8,8,8]
[2.5,14,14,14,14,14,14,13,13,13,13,13,13,13,13,13,13,13,13,12,12,12,12,12,12,12,12,12,12,12,12,11,11,11,11,11,11,11,11,11,11,11,11,10,10,10,10,10,10,10,10,10,10,10,10,9,9,9,9,9,9,9,9,9,9,9,9,8,8,8,8,8,8]
[3,14,14,14,14,14,14,14,14,14,14,14,14,13,13,13,13,13,13,12,12,12,12,12,12,12,12,12,12,12,12,12,12,12,12,12,12,11,11,11,11,11,11,11,11,11,11,11,11,10,10,10,10,10,10,10,10,10,10,10,10,9,9,9,9,9,9,9,9,9,9,9,9]
[3.5,14,14,14,14,14,14,14,14,14,14,14,14,13,13,13,13,13,13,13,13,13,13,13,13,12,12,12,12,12,12,12,12,12,12,12,12,11,11,11,11,11,11,11,11,11,11,11,11,10,10,10,10,10,10,10,10,10,10,10,10,9,9,9,9,9,9,9,9,9,9,9,9]
[4,14,14,14,14,14,14,14,14,14,14,14,14,13,13,13,13,13,13,13,13,13,13,13,13,12,12,12,12,12,12,12,12,12,12,12,12,11,11,11,11,11,11,11,11,11,11,11,11,10,10,10,10,10,10,10,10,10,10,10,10,9,9,9,9,9,9,9,9,9,9,9,9]
[4.5,15,15,15,15,15,15,14,14,14,14,14,14,14,14,14,14,14,14,13,13,13,13,13,13,13,13,13,13,13,13,12,12,12,12,12,12,12,12,12,12,12,12,11,11,11,11,11,11,11,11,11,11,11,11,10,10,10,10,10,10,10,10,10,10,10,10,9,9,9,9,9,9]
[5,15,15,15,15,15,15,14,14,14,14,14,14,14,14,14,14,14,14,13,13,13,13,13,13,13,13,13,13,13,13,12,12,12,12,12,12,12,12,12,12,12,12,11,11,11,11,11,11,11,11,11,11,11,11,10,10,10,10,10,10,10,10,10,10,10,10,9,9,9,9,9,9]
[5.5,15,15,15,15,15,15,15,15,15,15,15,15,14,14,14,14,14,14,13,13,13,13,13,13,13,13,13,13,13,13,13,13,13,13,13,13,12,12,12,12,12,12,12,12,12,12,12,12,11,11,11,11,11,11,11,11,11,11,11,11,10,10,10,10,10,10,10,10,10,10,10,10]
[6,15,15,15,15,15,15,15,15,15,15,15,15,14,14,14,14,14,14,14,14,14,14,14,14,13,13,13,13,13,13,13,13,13,13,13,13,12,12,12,12,12,12,12,12,12,12,12,12,11,11,11,11,11,11,11,11,11,11,11,11,10,10,10,10,10,10,10,10,10,10,10,10]
[6.5,15,15,15,15,15,15,15,15,15,15,15,15,14,14,14,14,14,14,14,14,14,14,14,14,13,13,13,13,13,13,13,13,13,13,13,13,12,12,12,12,12,12,12,12,12,12,12,12,11,11,11,11,11,11,11,11,11,11,11,11,10,10,10,10,10,10,10,10,10,10,10,10]
[7,16,16,16,16,16,16,15,15,15,15,15,15,15,15,15,15,15,15,14,14,14,14,14,14,14,14,14,14,14,14,13,13,13,13,13,13,13,13,13,13,13,13,12,12,12,12,12,12,12,12,12,12,12,12,11,11,11,11,11,11,11,11,11,11,11,11,10,10,10,10,10,10]
[7.5,16,16,16,16,16,16,15,15,15,15,15,15,15,15,15,15,15,15,14,14,14,14,14,14,14,14,14,14,14,14,13,13,13,13,13,13,13,13,13,13,13,13,12,12,12,12,12,12,12,12,12,12,12,12,11,11,11,11,11,11,11,11,11,11,11,11,10,10,10,10,10,10]
[8,16,16,16,16,16,16,16,16,16,16,16,16,15,15,15,15,15,15,14,14,14,14,14,14,14,14,14,14,14,14,14,14,14,14,14,14,13,13,13,13,13,13,13,13,13,13,13,13,12,12,12,12,12,12,12,12,12,12,12,12,11,11,11,11,11,11,11,11,11,11,11,11]
[8.5,16,16,16,16,16,16,16,16,16,16,16,16,15,15,15,15,15,15,15,15,15,15,15,15,14,14,14,14,14,14,14,14,14,14,14,14,13,13,13,13,13,13,13,13,13,13,13,13,12,12,12,12,12,12,12,12,12,12,12,12,11,11,11,11,11,11,11,11,11,11,11,11]
[9,16,16,16,16,16,16,16,16,16,16,16,16,15,15,15,15,15,15,15,15,15,15,15,15,14,14,14,14,14,14,14,14,14,14,14,14,13,13,13,13,13,13,13,13,13,13,13,13,12,12,12,12,12,12,12,12,12,12,12,12,11,11,11,11,11,11,11,11,11,11,11,11]
[9.5,17,17,17,17,17,17,16,16,16,16,16,16,16,16,16,16,16,16,15,15,15,15,15,15,15,15,15,15,15,15,14,14,14,14,14,14,14,14,14,14,14,14,13,13,13,13,13,13,13,13,13,13,13,13,12,12,12,12,12,12,12,12,12,12,12,12,11,11,11,11,11,11]
[10,17,17,17,17,17,17,16,16,16,16,16,16,16,16,16,16,16,16,15,15,15,15,15,15,15,15,15,15,15,15,14,14,14,14,14,14,14,14,14,14,14,14,13,13,13,13,13,13,13,13,13,13,13,13,12,12,12,12,12,12,12,12,12,12,12,12,11,11,11,11,11,11]
[10.5,17,17,17,17,17,17,17,17,17,17,17,17,16,16,16,16,16,16,15,15,15,15,15,15,15,15,15,15,15,15,15,15,15,15,15,15,14,14,14,14,14,14,14,14,14,14,14,14,13,13,13,13,13,13,13,13,13,13,13,13,12,12,12,12,12,12,12,12,12,12,12,12]
[11,17,17,17,17,17,17,17,17,17,17,17,17,16,16,16,16,16,16,16,16,16,16,16,16,15,15,15,15,15,15,15,15,15,15,15,15,14,14,14,14,14,14,14,14,14,14,14,14,13,13,13,13,13,13,13,13,13,13,13,13,12,12,12,12,12,12,12,12,12,12,12,12]
[11.5,17,17,17,17,17,17,17,17,17,17,17,17,16,16,16,16,16,16,16,16,16,16,16,16,15,15,15,15,15,15,15,15,15,15,15,15,14,14,14,14,14,14,14,14,14,14,14,14,13,13,13,13,13,13,13,13,13,13,13,13,12,12,12,12,12,12,12,12,12,12,12,12]
[12,18,18,18,18,18,18,17,17,17,17,17,17,17,17,17,17,17,17,16,16,16,16,16,16,16,16,16,16,16,16,15,15,15,15,15,15,15,15,15,15,15,15,14,14,14,14,14,14,14,14,14,14,14,14,13,13,13,13,13,13,13,13,13,13,13,13,12,12,12,12,12,12]
[12.5,18,18,18,18,18,18,17,17,17,17,17,17,17,17,17,17,17,17,16,16,16,16,16,16,16,16,16,16,16,16,15,15,15,15,15,15,15,15,15,15,15,15,14,14,14,14,14,14,14,14,14,14,14,14,13,13,13,13,13,13,13,13,13,13,13,13,12,12,12,12,12,12]
[13,18,18,18,18,18,18,18,18,18,18,18,18,17,17,17,17,17,17,16,16,16,16,16,16,16,16,16,16,16,16,16,16,16,16,16,16,15,15,15,15,15,15,15,15,15,15,15,15,14,14,14,14,14,14,14,14,14,14,14,14,13,13,13,13,13,13,13,13,13,13,13,13]
[13.5,18,18,18,18,18,18,18,18,18,18,18,18,17,17,17,17,17,17,17,17,17,17,17,17,16,16,16,16,16,16,16,16,16,16,16,16,15,15,15,15,15,15,15,15,15,15,15,15,14,14,14,14,14,14,14,14,14,14,14,14,13,13,13,13,13,13,13,13,13,13,13,13]
[14,18,18,18,18,18,18,18,18,18,18,18,18,17,17,17,17,17,17,17,17,17,17,17,17,16,16,16,16,16,16,16,16,16,16,16,16,15,15,15,15,15,15,15,15,15,15,15,15,14,14,14,14,14,14,14,14,14,14,14,14,13,13,13,13,13,13,13,13,13,13,13,13]
[14.5,19,19,19,19,19,19,18,18,18,18,18,18,18,18,18,18,18,18,17,17,17,17,17,17,17,17,17,17,17,17,16,16,16,16,16,16,16,16,16,16,16,16,15,15,15,15,15,15,15,15,15,15,15,15,14,14,14,14,14,14,14,14,14,14,14,14,13,13,13,13,13,13]
[15,19,19,19,19,19,19,18,18,18,18,18,18,18,18,18,18,18,18,17,17,17,17,17,17,17,17,17,17,17,17,16,16,16,16,16,16,16,16,16,16,16,16,15,15,15,15,15,15,15,15,15,15,15,15,14,14,14,14,14,14,14,14,14,14,14,14,13,13,13,13,13,13]
[15.5,19,19,19,19,19,19,19,19,19,19,19,19,18,18,18,18,18,18,17,17,17,17,17,17,17,17,17,17,17,17,17,17,17,17,17,17,16,16,16,16,16,16,16,16,16,16,16,16,15,15,15,15,15,15,15,15,15,15,15,15,14,14,14,14,14,14,14,14,14,14,14,14]
[16,19,19,19,19,19,19,19,19,19,19,19,19,18,18,18,18,18,18,18,18,18,18,18,18,17,17,17,17,17,17,17,17,17,17,17,17,16,16,16,16,16,16,16,16,16,16,16,16,15,15,15,15,15,15,15,15,15,15,15,15,14,14,14,14,14,14,14,14,14,14,14,14]
[16.5,19,19,19,19,19,19,19,19,19,19,19,19,18,18,18,18,18,18,18,18,18,18,18,18,17,17,17,17,17,17,17,17,17,17,17,17,16,16,16,16,16,16,16,16,16,16,16,16,15,15,15,15,15,15,15,15,15,15,15,15,14,14,14,14,14,14,14,14,14,14,14,14]
[17,20,20,20,20,20,20,19,19,19,19,19,19,19,19,19,19,19,19,18,18,18,18,18,18,18,18,18,18,18,18,17,17,17,17,17,17,17,17,17,17,17,17,16,16,16,16,16,16,16,16,16,16,16,16,15,15,15,15,15,15,15,15,15,15,15,15,14,14,14,14,14,14]
[17.5,20,20,20,20,20,20,19,19,19,19,19,19,19,19,19,19,19,19,18,18,18,18,18,18,18,18,18,18,18,18,17,17,17,17,17,17,17,17,17,17,17,17,16,16,16,16,16,16,16,16,16,16,16,16,15,15,15,15,15,15,15,15,15,15,15,15,14,14,14,14,14,14]
[18,20,20,20,20,20,20,20,20,20,20,20,20,19,19,19,19,19,19,18,18,18,18,18,18,18,18,18,18,18,18,18,18,18,18,18,18,17,17,17,17,17,17,17,17,17,17,17,17,16,16,16,16,16,16,16,16,16,16,16,16,15,15,15,15,15,15,15,15,15,15,15,15]
[18.5,20,20,20,20,20,20,20,20,20,20,20,20,19,19,19,19,19,19,19,19,19,19,19,19,18,18,18,18,18,18,18,18,18,18,18,18,17,17,17,17,17,17,17,17,17,17,17,17,16,16,16,16,16,16,16,16,16,16,16,16,15,15,15,15,15,15,15,15,15,15,15,15]
[19,20,20,20,20,20,20,20,20,20,20,20,20,19,19,19,19,19,19,19,19,19,19,19,19,18,18,18,18,18,18,18,18,18,18,18,18,17,17,17,17,17,17,17,17,17,17,17,17,16,16,16,16,16,16,16,16,16,16,16,16,15,15,15,15,15,15,15,15,15,15,15,15]
[19.5,20,20,20,20,20,20,20,20,20,20,20,20,20,20,20,20,20,20,19,19,19,19,19,19,19,19,19,19,19,19,18,18,18,18,18,18,18,18,18,18,18,18,17,17,17,17,17,17,17,17,17,17,17,17,16,16,16,16,16,16,16,16,16,16,16,16,15,15,15,15,15,15]
[20,20,20,20,20,20,20,20,20,20,20,20,20,20,20,20,20,20,20,19,19,19,19,19,19,19,19,19,19,19,19,18,18,18,18,18,18,18,18,18,18,18,18,17,17,17,17,17,17,17,17,17,17,17,17,16,16,16,16,16,16,16,16,16,16,16,16,15,15,15,15,15,15]
[20.5,20,20,20,20,20,20,20,20,20,20,20,20,20,20,20,20,20,20,19,19,19,19,19,19,19,19,19,19,19,19,19,19,19,19,19,19,18,18,18,18,18,18,18,18,18,18,18,18,17,17,17,17,17,17,17,17,17,17,17,17,16,16,16,16,16,16,16,16,16,16,16,16]
[21,20,20,20,20,20,20,20,20,20,20,20,20,20,20,20,20,20,20,20,20,20,20,20,20,19,19,19,19,19,19,19,19,19,19,19,19,18,18,18,18,18,18,18,18,18,18,18,18,17,17,17,17,17,17,17,17,17,17,17,17,16,16,16,16,16,16,16,16,16,16,16,16]
[21.5,20,20,20,20,20,20,20,20,20,20,20,20,20,20,20,20,20,20,20,20,20,20,20,20,19,19,19,19,19,19,19,19,19,19,19,19,18,18,18,18,18,18,18,18,18,18,18,18,17,17,17,17,17,17,17,17,17,17,17,17,16,16,16,16,16,16,16,16,16,16,16,16]
[22,20,20,20,20,20,20,20,20,20,20,20,20,20,20,20,20,20,20,20,20,20,20,20,20,20,20,20,20,20,20,19,19,19,19,19,19,19,19,19,19,19,19,18,18,18,18,18,18,18,18,18,18,18,18,17,17,17,17,17,17,17,17,17,17,17,17,16,16,16,16,16,16]
[22.5,20,20,20,20,20,20,20,20,20,20,20,20,20,20,20,20,20,20,20,20,20,20,20,20,20,20,20,20,20,20,19,19,19,19,19,19,19,19,19,19,19,19,18,18,18,18,18,18,18,18,18,18,18,18,17,17,17,17,17,17,17,17,17,17,17,17,16,16,16,16,16,16]
[23,20,20,20,20,20,20,20,20,20,20,20,20,20,20,20,20,20,20,20,20,20,20,20,20,20,20,20,20,20,20,20,20,20,20,20,20,19,19,19,19,19,19,19,19,19,19,19,19,18,18,18,18,18,18,18,18,18,18,18,18,17,17,17,17,17,17,17,17,17,17,17,17]
[23.5,20,20,20,20,20,20,20,20,20,20,20,20,20,20,20,20,20,20,20,20,20,20,20,20,20,20,20,20,20,20,20,20,20,20,20,20,19,19,19,19,19,19,19,19,19,19,19,19,18,18,18,18,18,18,18,18,18,18,18,18,17,17,17,17,17,17,17,17,17,17,17,17]
[24,20,20,20,20,20,20,20,20,20,20,20,20,20,20,20,20,20,20,20,20,20,20,20,20,20,20,20,20,20,20,20,20,20,20,20,20,19,19,19,19,19,19,19,19,19,19,19,19,18,18,18,18,18,18,18,18,18,18,18,18,17,17,17,17,17,17,17,17,17,17,17,17]
[24.5,20,20,20,20,20,20,20,20,20,20,20,20,20,20,20,20,20,20,20,20,20,20,20,20,20,20,20,20,20,20,20,20,20,20,20,20,20,20,20,20,20,20,19,19,19,19,19,19,19,19,19,19,19,19,18,18,18,18,18,18,18,18,18,18,18,18,17,17,17,17,17,17]
[25,20,20,20,20,20,20,20,20,20,20,20,20,20,20,20,20,20,20,20,20,20,20,20,20,20,20,20,20,20,20,20,20,20,20,20,20,20,20,20,20,20,20,19,19,19,19,19,19,19,19,19,19,19,19,18,18,18,18,18,18,18,18,18,18,18,18,17,17,17,17,17,17]
[25.5,20,20,20,20,20,20,20,20,20,20,20,20,20,20,20,20,20,20,20,20,20,20,20,20,20,20,20,20,20,20,20,20,20,20,20,20,20,20,20,20,20,20,20,20,20,20,20,20,19,19,19,19,19,19,19,19,19,19,19,19,18,18,18,18,18,18,18,18,18,18,18,18]
[26,20,20,20,20,20,20,20,20,20,20,20,20,20,20,20,20,20,20,20,20,20,20,20,20,20,20,20,20,20,20,20,20,20,20,20,20,20,20,20,20,20,20,20,20,20,20,20,20,19,19,19,19,19,19,19,19,19,19,19,19,18,18,18,18,18,18,18,18,18,18,18,18]
[26.5,20,20,20,20,20,20,20,20,20,20,20,20,20,20,20,20,20,20,20,20,20,20,20,20,20,20,20,20,20,20,20,20,20,20,20,20,20,20,20,20,20,20,20,20,20,20,20,20,19,19,19,19,19,19,19,19,19,19,19,19,18,18,18,18,18,18,18,18,18,18,18,18]
[27,20,20,20,20,20,20,20,20,20,20,20,20,20,20,20,20,20,20,20,20,20,20,20,20,20,20,20,20,20,20,20,20,20,20,20,20,20,20,20,20,20,20,20,20,20,20,20,20,20,20,20,20,20,20,19,19,19,19,19,19,19,19,19,19,19,19,18,18,18,18,18,18]
[27.5,20,20,20,20,20,20,20,20,20,20,20,20,20,20,20,20,20,20,20,20,20,20,20,20,20,20,20,20,20,20,20,20,20,20,20,20,20,20,20,20,20,20,20,20,20,20,20,20,20,20,20,20,20,20,19,19,19,19,19,19,19,19,19,19,19,19,18,18,18,18,18,18]
[28,20,20,20,20,20,20,20,20,20,20,20,20,20,20,20,20,20,20,20,20,20,20,20,20,20,20,20,20,20,20,20,20,20,20,20,20,20,20,20,20,20,20,20,20,20,20,20,20,20,20,20,20,20,20,20,20,20,20,20,20,19,19,19,19,19,19,19,19,19,19,19,19]
[28.5,20,20,20,20,20,20,20,20,20,20,20,20,20,20,20,20,20,20,20,20,20,20,20,20,20,20,20,20,20,20,20,20,20,20,20,20,20,20,20,20,20,20,20,20,20,20,20,20,20,20,20,20,20,20,20,20,20,20,20,20,19,19,19,19,19,19,19,19,19,19,19,19]
[29,20,20,20,20,20,20,20,20,20,20,20,20,20,20,20,20,20,20,20,20,20,20,20,20,20,20,20,20,20,20,20,20,20,20,20,20,20,20,20,20,20,20,20,20,20,20,20,20,20,20,20,20,20,20,20,20,20,20,20,20,19,19,19,19,19,19,19,19,19,19,19,19]
[29.5,20,20,20,20,20,20,20,20,20,20,20,20,20,20,20,20,20,20,20,20,20,20,20,20,20,20,20,20,20,20,20,20,20,20,20,20,20,20,20,20,20,20,20,20,20,20,20,20,20,20,20,20,20,20,20,20,20,20,20,20,20,20,20,20,20,20,19,19,19,19,19,19]
[30,20,20,20,20,20,20,20,20,20,20,20,20,20,20,20,20,20,20,20,20,20,20,20,20,20,20,20,20,20,20,20,20,20,20,20,20,20,20,20,20,20,20,20,20,20,20,20,20,20,20,20,20,20,20,20,20,20,20,20,20,20,20,20,20,20,20,19,19,19,19,19,19]
[30.5,20,20,20,20,20,20,20,20,20,20,20,20,20,20,20,20,20,20,20,20,20,20,20,20,20,20,20,20,20,20,20,20,20,20,20,20,20,20,20,20,20,20,20,20,20,20,20,20,20,20,20,20,20,20,20,20,20,20,20,20,20,20,20,20,20,20,20,20,20,20,20,20]

{"sheet":"Fermeture TJ","index":2,"n_rows":126,"n_cols":73,"rows_kept":126,"hidden":true}
[null,73,74,75,76,77,78,79,80,81,82,83,84,85,86,87,88,89,90,91,92,93,94,95,96,97,98,99,100,101,102,103,104,105,106,107,108,109,110,111,112,113,114,115,116,117,118,119,120,121,122,123,124,125,126,127,128,129,130,131,132,133,134,135,136,137,138,139,140,141,142,143,144]
[-30,0,0,0,0,0,0,0,0,0,0,0,0,0,0,0,0,0,0,0,0,0,0,0,0,0,0,0,0,0,0,0,0,0,0,0,0,0,0,0,0,0,0,0,0,0,0,0,0,0,0,0,0,0,0,0,0,0,0,0,0,0,0,0,0,0,0,0,0,0,0,0,0]
[-29.5,0,0,0,0,0,0,0,0,0,0,0,0,0,0,0,0,0,0,0,0,0,0,0,0,0,0,0,0,0,0,0,0,0,0,0,0,0,0,0,0,0,0,0,0,0,0,0,0,0,0,0,0,0,0,0,0,0,0,0,0,0,0,0,0,0,0,0,0,0,0,0,0]
[-29,0,0,0,0,0,0,0,0,0,0,0,0,0,0,0,0,0,0,0,0,0,0,0,0,0,0,0,0,0,0,0,0,0,0,0,0,0,0,0,0,0,0,0,0,0,0,0,0,0,0,0,0,0,0,0,0,0,0,0,0,0,0,0,0,0,0,0,0,0,0,0,0]
[-28.5,0,0,0,0,0,0,0,0,0,0,0,0,0,0,0,0,0,0,0,0,0,0,0,0,0,0,0,0,0,0,0,0,0,0,0,0,0,0,0,0,0,0,0,0,0,0,0,0,0,0,0,0,0,0,0,0,0,0,0,0,0,0,0,0,0,0,0,0,0,0,0,0]
[-28,0,0,0,0,0,0,0,0,0,0,0,0,0,0,0,0,0,0,0,0,0,0,0,0,0,0,0,0,0,0,0,0,0,0,0,0,0,0,0,0,0,0,0,0,0,0,0,0,0,0,0,0,0,0,0,0,0,0,0,0,0,0,0,0,0,0,0,0,0,0,0,0]
[-27.5,0,0,0,0,0,0,0,0,0,0,0,0,0,0,0,0,0,0,0,0,0,0,0,0,0,0,0,0,0,0,0,0,0,0,0,0,0,0,0,0,0,0,0,0,0,0,0,0,0,0,0,0,0,0,0,0,0,0,0,0,0,0,0,0,0,0,0,0,0,0,0,0]
[-27,0,0,0,0,0,0,0,0,0,0,0,0,0,0,0,0,0,0,0,0,0,0,0,0,0,0,0,0,0,0,0,0,0,0,0,0,0,0,0,0,0,0,0,0,0,0,0,0,0,0,0,0,0,0,0,0,0,0,0,0,0,0,0,0,0,0,0,0,0,0,0,0]
[-26.5,0,0,0,0,0,0,0,0,0,0,0,0,0,0,0,0,0,0,0,0,0,0,0,0,0,0,0,0,0,0,0,0,0,0,0,0,0,0,0,0,0,0,0,0,0,0,0,0,0,0,0,0,0,0,0,0,0,0,0,0,0,0,0,0,0,0,0,0,0,0,0,0]
[-26,0,0,0,0,0,0,0,0,0,0,0,0,0,0,0,0,0,0,0,0,0,0,0,0,0,0,0,0,0,0,0,0,0,0,0,0,0,0,0,0,0,0,0,0,0,0,0,0,0,0,0,0,0,0,0,0,0,0,0,0,0,0,0,0,0,0,0,0,0,0,0,0]
[-25.5,0,0,0,0,0,0,0,0,0,0,0,0,0,0,0,0,0,0,0,0,0,0,0,0,0,0,0,0,0,0,0,0,0,0,0,0,0,0,0,0,0,0,0,0,0,0,0,0,0,0,0,0,0,0,0,0,0,0,0,0,0,0,0,0,0,0,0,0,0,0,0,0]
[-25,0,0,0,0,0,0,0,0,0,0,0,0,0,0,0,0,0,0,0,0,0,0,0,0,0,0,0,0,0,0,0,0,0,0,0,0,0,0,0,0,0,0,0,0,0,0,0,0,0,0,0,0,0,0,0,0,0,0,0,0,0,0,0,0,0,0,0,0,0,0,0,0]
[-24.5,0,0,0,0,0,0,0,0,0,0,0,0,0,0,0,0,0,0,0,0,0,0,0,0,0,0,0,0,0,0,0,0,0,0,0,0,0,0,0,0,0,0,0,0,0,0,0,0,0,0,0,0,0,0,0,0,0,0,0,0,0,0,0,0,0,0,0,0,0,0,0,0]
[-24,0,0,0,0,0,0,0,0,0,0,0,0,0,0,0,0,0,0,0,0,0,0,0,0,0,0,0,0,0,0,0,0,0,0,0,0,0,0,0,0,0,0,0,0,0,0,0,0,0,0,0,0,0,0,0,0,0,0,0,0,0,0,0,0,0,0,0,0,0,0,0,0]
[-23.5,0,0,0,0,0,0,0,0,0,0,0,0,0,0,0,0,0,0,0,0,0,0,0,0,0,0,0,0,0,0,0,0,0,0,0,0,0,0,0,0,0,0,0,0,0,0,0,0,0,0,0,0,0,0,0,0,0,0,0,0,0,0,0,0,0,0,0,0,0,0,0,0]
[-23,0,0,0,0,0,0,0,0,0,0,0,0,0,0,0,0,0,0,0,0,0,0,0,0,0,0,0,0,0,0,0,0,0,0,0,0,0,0,0,0,0,0,0,0,0,0,0,0,0,0,0,0,0,0,0,0,0,0,0,0,0,0,0,0,0,0,0,0,0,0,0,0]
[-22.5,0,0,0,0,0,0,0,0,0,0,0,0,0,0,0,0,0,0,0,0,0,0,0,0,0,0,0,0,0,0,0,0,0,0,0,0,0,0,0,0,0,0,0,0,0,0,0,0,0,0,0,0,0,0,0,0,0,0,0,0,0,0,0,0,0,0,0,0,0,0,0,0]
[-22,0,0,0,0,0,0,0,0,0,0,0,0,0,0,0,0,0,0,0,0,0,0,0,0,0,0,0,0,0,0,0,0,0,0,0,0,0,0,0,0,0,0,0,0,0,0,0,0,0,0,0,0,0,0,0,0,0,0,0,0,0,0,0,0,0,0,0,0,0,0,0,0]
[-21.5,0,0,0,0,0,0,0,0,0,0,0,0,0,0,0,0,0,0,0,0,0,0,0,0,0,0,0,0,0,0,0,0,0,0,0,0,0,0,0,0,0,0,0,0,0,0,0,0,0,0,0,0,0,0,0,0,0,0,0,0,0,0,0,0,0,0,0,0,0,0,0,0]
[-21,0,0,0,0,0,0,0,0,0,0,0,0,0,0,0,0,0,0,0,0,0,0,0,0,0,0,0,0,0,0,0,0,0,0,0,0,0,0,0,0,0,0,0,0,0,0,0,0,0,0,0,0,0,0,0,0,0,0,0,0,0,0,0,0,0,0,0,0,0,0,0,0]
[-20.5,0,0,0,0,0,0,0,0,0,0,0,0,0,0,0,0,0,0,0,0,0,0,0,0,0,0,0,0,0,0,0,0,0,0,0,0,0,0,0,0,0,0,0,0,0,0,0,0,0,0,0,0,0,0,0,0,0,0,0,0,0,0,0,0,0,0,0,0,0,0,0,0]
[-20,0,0,0,0,0,0,0,0,0,0,0,0,0,0,0,0,0,0,0,0,0,0,0,0,0,0,0,0,0,0,0,0,0,0,0,0,0,0,0,0,0,0,0,0,0,0,0,0,0,0,0,0,0,0,0,0,0,0,0,0,0,0,0,0,0,0,0,0,0,0,0,0]
[-19.5,0,0,0,0,0,0,0,0,0,0,0,0,0,0,0,0,0,0,0,0,0,0,0,0,0,0,0,0,0,0,0,0,0,0,0,0,0,0,0,0,0,0,0,0,0,0,0,0,0,0,0,0,0,0,0,0,0,0,0,0,0,0,0,0,0,0,0,0,0,0,0,0]
[-19,0,0,0,0,0,0,0,0,0,0,0,0,0,0,0,0,0,0,0,0,0,0,0,0,0,0,0,0,0,0,0,0,0,0,0,0,0,0,0,0,0,0,0,0,0,0,0,0,0,0,0,0,0,0,0,0,0,0,0,0,0,0,0,0,0,0,0,0,0,0,0,0]
[-18.5,0,0,0,0,0,0,0,0,0,0,0,0,0,0,0,0,0,0,0,0,0,0,0,0,0,0,0,0,0,0,0,0,0,0,0,0,0,0,0,0,0,0,0,0,0,0,0,0,0,0,0,0,0,0,0,0,0,0,0,0,0,0,0,0,0,0,0,0,0,0,0,0]
[-18,0,0,0,0,0,0,0,0,0,0,0,0,0,0,0,0,0,0,0,0,0,0,0,0,0,0,0,0,0,0,0,0,0,0,0,0,0,0,0,0,0,0,0,0,0,0,0,0,0,0,0,0,0,0,0,0,0,0,0,0,0,0,0,0,0,0,0,0,0,0,0,0]
[-17.5,0,0,0,0,0,0,0,0,0,0,0,0,0,0,0,0,0,0,0,0,0,0,0,0,0,0,0,0,0,0,0,0,0,0,0,0,0,0,0,0,0,0,0,0,0,0,0,0,0,0,0,0,0,0,0,0,0,0,0,0,0,0,0,0,0,0,0,0,0,0,0,0]
[-17,0,0,0,0,0,0,0,0,0,0,0,0,0,0,0,0,0,0,0,0,0,0,0,0,0,0,0,0,0,0,0,0,0,0,0,0,0,0,0,0,0,0,0,0,0,0,0,0,0,0,0,0,0,0,0,0,0,0,0,0,0,0,0,0,0,0,0,0,0,0,0,0]
[-16.5,0,0,0,0,0,0,0,0,0,0,0,0,0,0,0,0,0,0,0,0,0,0,0,0,0,0,0,0,0,0,0,0,0,0,0,0,0,0,0,0,0,0,0,0,0,0,0,0,0,0,0,0,0,0,0,0,0,0,0,0,0,0,0,0,0,0,0,0,0,0,0,0]
[-16,0,0,0,0,0,0,0,0,0,0,0,0,0,0,0,0,0,0,0,0,0,0,0,0,0,0,0,0,0,0,0,0,0,0,0,0,0,0,0,0,0,0,0,0,0,0,0,0,0,0,0,0,0,0,0,0,0,0,0,0,0,0,0,0,0,0,0,0,0,0,0,0]
[-15.5,0,0,0,0,0,0,0,0,0,0,0,0,0,0,0,0,0,0,0,0,0,0,0,0,0,0,0,0,0,0,0,0,0,0,0,0,0,0,0,0,0,0,0,0,0,0,0,0,0,0,0,0,0,0,0,0,0,0,0,0,0,0,0,0,0,0,0,0,0,0,0,0]
[-15,0,0,0,0,0,0,0,0,0,0,0,0,0,0,0,0,0,0,0,0,0,0,0,0,0,0,0,0,0,0,0,0,0,0,0,0,0,0,0,0,0,0,0,0,0,0,0,0,0,0,0,0,0,0,0,0,0,0,0,0,0,0,0,0,0,0,0,0,0,0,0,0]
[-14.5,0,0,0,0,0,0,0,0,0,0,0,0,0,0,0,0,0,0,0,0,0,0,0,0,0,0,0,0,0,0,0,0,0,0,0,0,0,0,0,0,0,0,0,0,0,0,0,0,0,0,0,0,0,0,0,0,0,0,0,0,0,0,0,0,0,0,0,0,0,0,0,0]
[-14,0,0,0,0,0,0,0,0,0,0,0,0,0,0,0,0,0,0,0,0,0,0,0,0,0,0,0,0,0,0,0,0,0,0,0,0,0,0,0,0,0,0,0,0,0,0,0,0,0,0,0,0,0,0,0,0,0,0,0,0,0,0,0,0,0,0,0,0,0,0,0,0]
[-13.5,0,0,0,0,0,0,0,0,0,0,0,0,0,0,0,0,0,0,0,0,0,0,0,0,0,0,0,0,0,0,0,0,0,0,0,0,0,0,0,0,0,0,0,0,0,0,0,0,0,0,0,0,0,0,0,0,0,0,0,0,0,0,0,0,0,0,0,0,0,0,0,0]
[-13,0,0,0,0,0,0,0,0,0,0,0,0,0,0,0,0,0,0,0,0,0,0,0,0,0,0,0,0,0,0,0,0,0,0,0,0,0,0,0,0,0,0,0,0,0,0,0,0,0,0,0,0,0,0,0,0,0,0,0,0,0,0,0,0,0,0,0,0,0,0,0,0]
[-12.5,0,0,0,0,0,0,0,0,0,0,0,0,0,0,0,0,0,0,0,0,0,0,0,0,0,0,0,0,0,0,0,0,0,0,0,0,0,0,0,0,0,0,0,0,0,0,0,0,0,0,0,0,0,0,0,0,0,0,0,0,0,0,0,0,0,0,0,0,0,0,0,0]
[-12,0,0,0,0,0,0,0,0,0,0,0,0,0,0,0,0,0,0,0,0,0,0,0,0,0,0,0,0,0,0,0,0,0,0,0,0,0,0,0,0,0,0,0,0,0,0,0,0,0,0,0,0,0,0,0,0,0,0,0,0,0,0,0,0,0,0,0,0,0,0,0,0]
[-11.5,0,0,0,0,0,0,0,0,0,0,0,0,0,0,0,0,0,0,0,0,0,0,0,0,0,0,0,0,0,0,0,0,0,0,0,0,0,0,0,0,0,0,0,0,0,0,0,0,0,0,0,0,0,0,0,0,0,0,0,0,0,0,0,0,0,0,0,0,0,0,0,0]
[-11,0,0,0,0,0,0,0,0,0,0,0,0,0,0,0,0,0,0,0,0,0,0,0,0,0,0,0,0,0,0,0,0,0,0,0,0,0,0,0,0,0,0,0,0,0,0,0,0,0,0,0,0,0,0,0,0,0,0,0,0,0,0,0,0,0,0,0,0,0,0,0,0]
[-10.5,0,0,0,0,0,0,0,0,0,0,0,0,0,0,0,0,0,0,0,0,0,0,0,0,0,0,0,0,0,0,0,0,0,0,0,0,0,0,0,0,0,0,0,0,0,0,0,0,0,0,0,0,0,0,0,0,0,0,0,0,0,0,0,0,0,0,0,0,0,0,0,0]
[-10,0,0,0,0,0,0,0,0,0,0,0,0,0,0,0,0,0,0,0,0,0,0,0,0,0,0,0,0,0,0,0,0,0,0,0,0,0,0,0,0,0,0,0,0,0,0,0,0,0,0,0,0,0,0,0,0,0,0,0,0,0,0,0,0,0,0,0,0,0,0,0,0]
[-9.5,0,0,0,0,0,0,0,0,0,0,0,0,0,0,0,0,0,0,0,0,0,0,0,0,0,0,0,0,0,0,0,0,0,0,0,0,0,0,0,0,0,0,0,0,0,0,0,0,0,0,0,0,0,0,0,0,0,0,0,0,0,0,0,0,0,0,0,0,0,0,0,0]
[-9,0,0,0,0,0,0,0,0,0,0,0,0,0,0,0,0,0,0,0,0,0,0,0,0,0,0,0,0,0,0,0,0,0,0,0,0,0,0,0,0,0,0,0,0,0,0,0,0,0,0,0,0,0,0,0,0,0,0,0,0,0,0,0,0,0,0,0,0,0,0,0,0]
[-8.5,0,0,0,0,0,0,0,0,0,0,0,0,0,0,0,0,0,0,0,0,0,0,0,0,0,0,0,0,0,0,0,0,0,0,0,0,0,0,0,0,0,0,0,0,0,0,0,0,0,0,0,0,0,0,0,0,0,0,0,0,0,0,0,0,0,0,0,0,0,0,0,0]
[-8,0,0,0,0,0,0,0,0,0,0,0,0,0,0,0,0,0,0,0,0,0,0,0,0,0,0,0,0,0,0,0,0,0,0,0,0,0,0,0,0,0,0,0,0,0,0,0,0,0,0,0,0,0,0,0,0,0,0,0,0,0,0,0,0,0,0,0,0,0,0,0,0]
[-7.5,0,0,0,0,0,0,0,0,0,0,0,0,0,0,0,0,0,0,0,0,0,0,0,0,0,0,0,0,0,0,0,0,0,0,0,0,0,0,0,0,0,0,0,0,0,0,0,0,0,0,0,0,0,0,0,0,0,0,0,0,0,0,0,0,0,0,0,0,0,0,0,0]
[-7,0,0,0,0,0,0,0,0,0,0,0,0,0,0,0,0,0,0,0,0,0,0,0,0,0,0,0,0,0,0,0,0,0,0,0,0,0,0,0,0,0,0,0,0,0,0,0,0,0,0,0,0,0,0,0,0,0,0,0,0,0,0,0,0,0,0,0,0,0,0,0,0]
[-6.5,0,0,0,0,0,0,0,0,0,0,0,0,0,0,0,0,0,0,0,0,0,0,0,0,0,0,0,0,0,0,0,0,0,0,0,0,0,0,0,0,0,0,0,0,0,0,0,0,0,0,0,0,0,0,0,0,0,0,0,0,0,0,0,0,0,0,0,0,0,0,0,0]
[-6,1,1,1,1,1,1,0,0,0,0,0,0,0,0,0,0,0,0,0,0,0,0,0,0,0,0,0,0,0,0,0,0,0,0,0,0,0,0,0,0,0,0,0,0,0,0,0,0,0,0,0,0,0,0,0,0,0,0,0,0,0,0,0,0,0,0,0,0,0,0,0,0]
[-5.5,1,1,1,1,1,1,1,1,1,1,1,1,0,0,0,0,0,0,0,0,0,0,0,0,0,0,0,0,0,0,0,0,0,0,0,0,0,0,0,0,0,0,0,0,0,0,0,0,0,0,0,0,0,0,0,0,0,0,0,0,0,0,0,0,0,0,0,0,0,0,0,0]
[-5,1,1,1,1,1,1,1,1,1,1,1,1,1,1,1,1,1,1,0,0,0,0,0,0,0,0,0,0,0,0,0,0,0,0,0,0,0,0,0,0,0,0,0,0,0,0,0,0,0,0,0,0,0,0,0,0,0,0,0,0,0,0,0,0,0,0,0,0,0,0,0,0]
[-4.5,2,2,2,2,2,2,1,1,1,1,1,1,1,1,1,1,1,1,1,1,1,1,1,1,0,0,0,0,0,0,0,0,0,0,0,0,0,0,0,0,0,0,0,0,0,0,0,0,0,0,0,0,0,0,0,0,0,0,0,0,0,0,0,0,0,0,0,0,0,0,0,0]
[-4,2,2,2,2,2,2,2,2,2,2,2,2,1,1,1,1,1,1,1,1,1,1,1,1,0,0,0,0,0,0,0,0,0,0,0,0,0,0,0,0,0,0,0,0,0,0,0,0,0,0,0,0,0,0,0,0,0,0,0,0,0,0,0,0,0,0,0,0,0,0,0,0]
[-3.5,2,2,2,2,2,2,2,2,2,2,2,2,2,2,2,2,2,2,1,1,1,1,1,1,0,0,0,0,0,0,0,0,0,0,0,0,0,0,0,0,0,0,0,0,0,0,0,0,0,0,0,0,0,0,0,0,0,0,0,0,0,0,0,0,0,0,0,0,0,0,0,0]
[-3,3,3,3,3,3,3,2,2,2,2,2,2,2,2,2,2,2,2,2,2,2,2,2,2,1,1,1,1,1,1,0,0,0,0,0,0,0,0,0,0,0,0,0,0,0,0,0,0,0,0,0,0,0,0,0,0,0,0,0,0,0,0,0,0,0,0,0,0,0,0,0,0]
[-2.5,3,3,3,3,3,3,3,3,3,3,3,3,2,2,2,2,2,2,2,2,2,2,2,2,1,1,1,1,1,1,0,0,0,0,0,0,0,0,0,0,0,0,0,0,0,0,0,0,0,0,0,0,0,0,0,0,0,0,0,0,0,0,0,0,0,0,0,0,0,0,0,0]
[-2,3,3,3,3,3,3,3,3,3,3,3,3,3,3,3,3,3,3,2,2,2,2,2,2,1,1,1,1,1,1,0,0,0,0,0,0,0,0,0,0,0,0,0,0,0,0,0,0,0,0,0,0,0,0,0,0,0,0,0,0,0,0,0,0,0,0,0,0,0,0,0,0]
[-1.5,4,4,4,4,4,4,3,3,3,3,3,3,3,3,3,3,3,3,3,3,3,3,3,3,2,2,2,2,2,2,1,1,1,1,1,1,0,0,0,0,0,0,0,0,0,0,0,0,0,0,0,0,0,0,0,0,0,0,0,0,0,0,0,0,0,0,0,0,0,0,0,0]
[-1,4,4,4,4,4,4,4,4,4,4,4,4,3,3,3,3,3,3,3,3,3,3,3,3,2,2,2,2,2,2,1,1,1,1,1,1,0,0,0,0,0,0,0,0,0,0,0,0,0,0,0,0,0,0,0,0,0,0,0,0,0,0,0,0,0,0,0,0,0,0,0,0]
[-0.5,4,4,4,4,4,4,4,4,4,4,4,4,4,4,4,4,4,4,3,3,3,3,3,3,2,2,2,2,2,2,1,1,1,1,1,1,1,1,1,1,1,1,0,0,0,0,0,0,0,0,0,0,0,0,0,0,0,0,0,0,0,0,0,0,0,0,0,0,0,0,0,0]
[0,5,5,5,5,5,5,4,4,4,4,4,4,4,4,4,4,4,4,4,4,4,4,4,4,3,3,3,3,3,3,2,2,2,2,2,2,1,1,1,1,1,1,0,0,0,0,0,0,0,0,0,0,0,0,0,0,0,0,0,0,0,0,0,0,0,0,0,0,0,0,0,0]
[0.5,5,5,5,5,5,5,5,5,5,5,5,5,4,4,4,4,4,4,4,4,4,4,4,4,3,3,3,3,3,3,2,2,2,2,2,2,1,1,1,1,1,1,1,1,1,1,1,1,0,0,0,0,0,0,0,0,0,0,0,0,0,0,0,0,0,0,0,0,0,0,0,0]
[1,5,5,5,5,5,5,5,5,5,5,5,5,5,5,5,5,5,5,4,4,4,4,4,4,3,3,3,3,3,3,2,2,2,2,2,2,2,2,2,2,2,2,1,1,1,1,1,1,0,0,0,0,0,0,0,0,0,0,0,0,0,0,0,0,0,0,0,0,0,0,0,0]
[1.5,6,6,6,6,6,6,5,5,5,5,5,5,5,5,5,5,5,5,5,5,5,5,5,5,4,4,4,4,4,4,3,3,3,3,3,3,2,2,2,2,2,2,1,1,1,1,1,1,1,1,1,1,1,1,0,0,0,0,0,0,0,0,0,0,0,0,0,0,0,0,0,0]
[2,6,6,6,6,6,6,6,6,6,6,6,6,5,5,5,5,5,5,5,5,5,5,5,5,4,4,4,4,4,4,3,3,3,3,3,3,2,2,2,2,2,2,2,2,2,2,2,2,1,1,1,1,1,1,0,0,0,0,0,0,0,0,0,0,0,0,0,0,0,0,0,0]
[2.5,6,6,6,6,6,6,6,6,6,6,6,6,6,6,6,6,6,6,5,5,5,5,5,5,4,4,4,4,4,4,3,3,3,3,3,3,3,3,3,3,3,3,2,2,2,2,2,2,1,1,1,1,1,1,1,1,1,1,1,1,0,0,0,0,0,0,0,0,0,0,0,0]
[3,7,7,7,7,7,7,6,6,6,6,6,6,6,6,6,6,6,6,6,6,6,6,6,6,5,5,5,5,5,5,4,4,4,4,4,4,3,3,3,3,3,3,2,2,2,2,2,2,2,2,2,2,2,2,1,1,1,1,1,1,1,1,1,1,1,1,0,0,0,0,0,0]
[3.5,7,7,7,7,7,7,7,7,7,7,7,7,6,6,6,6,6,6,6,6,6,6,6,6,5,5,5,5,5,5,4,4,4,4,4,4,3,3,3,3,3,3,3,3,3,3,3,3,2,2,2,2,2,2,1,1,1,1,1,1,1,1,1,1,1,1,1,1,1,1,1,1]
[4,7,7,7,7,7,7,7,7,7,7,7,7,7,7,7,7,7,7,6,6,6,6,6,6,5,5,5,5,5,5,4,4,4,4,4,4,4,4,4,4,4,4,3,3,3,3,3,3,2,2,2,2,2,2,2,2,2,2,2,2,1,1,1,1,1,1,1,1,1,1,1,1]
[4.5,8,8,8,8,8,8,7,7,7,7,7,7,7,7,7,7,7,7,7,7,7,7,7,7,6,6,6,6,6,6,5,5,5,5,5,5,4,4,4,4,4,4,3,3,3,3,3,3,3,3,3,3,3,3,2,2,2,2,2,2,2,2,2,2,2,2,1,1,1,1,1,1]
[5,8,8,8,8,8,8,8,8,8,8,8,8,7,7,7,7,7,7,7,7,7,7,7,7,6,6,6,6,6,6,5,5,5,5,5,5,4,4,4,4,4,4,4,4,4,4,4,4,3,3,3,3,3,3,2,2,2,2,2,2,2,2,2,2,2,2,2,2,2,2,2,2]
[5.5,8,8,8,8,8,8,8,8,8,8,8,8,8,8,8,8,8,8,7,7,7,7,7,7,6,6,6,6,6,6,5,5,5,5,5,5,5,5,5,5,5,5,4,4,4,4,4,4,3,3,3,3,3,3,3,3,3,3,3,3,2,2,2,2,2,2,2,2,2,2,2,2]
[6,9,9,9,9,9,9,8,8,8,8,8,8,8,8,8,8,8,8,8,8,8,8,8,8,7,7,7,7,7,7,6,6,6,6,6,6,5,5,5,5,5,5,4,4,4,4,4,4,4,4,4,4,4,4,3,3,3,3,3,3,3,3,3,3,3,3,2,2,2,2,2,2]
[6.5,9,9,9,9,9,9,9,9,9,9,9,9,8,8,8,8,8,8,8,8,8,8,8,8,7,7,7,7,7,7,6,6,6,6,6,6,5,5,5,5,5,5,5,5,5,5,5,5,4,4,4,4,4,4,3,3,3,3,3,3,3,3,3,3,3,3,3,3,3,3,3,3]
[7,9,9,9,9,9,9,9,9,9,9,9,9,9,9,9,9,9,9,8,8,8,8,8,8,7,7,7,7,7,7,6,6,6,6,6,6,6,6,6,6,6,6,5,5,5,5,5,5,4,4,4,4,4,4,4,4,4,4,4,4,3,3,3,3,3,3,3,3,3,3,3,3]
[7.5,10,10,10,10,10,10,9,9,9,9,9,9,9,9,9,9,9,9,9,9,9,9,9,9,8,8,8,8,8,8,7,7,7,7,7,7,6,6,6,6,6,6,5,5,5,5,5,5,5,5,5,5,5,5,4,4,4,4,4,4,4,4,4,4,4,4,3,3,3,3,3,3]
[8,10,10,10,10,10,10,10,10,10,10,10,10,9,9,9,9,9,9,9,9,9,9,9,9,8,8,8,8,8,8,7,7,7,7,7,7,6,6,6,6,6,6,6,6,6,6,6,6,5,5,5,5,5,5,4,4,4,4,4,4,4,4,4,4,4,4,4,4,4,4,4,4]
[8.5,10,10,10,10,10,10,10,10,10,10,10,10,10,10,10,10,10,10,9,9,9,9,9,9,8,8,8,8,8,8,7,7,7,7,7,7,7,7,7,7,7,7,6,6,6,6,6,6,5,5,5,5,5,5,5,5,5,5,5,5,4,4,4,4,4,4,4,4,4,4,4,4]
[9,11,11,11,11,11,11,10,10,10,10,10,10,10,10,10,10,10,10,10,10,10,10,10,10,9,9,9,9,9,9,8,8,8,8,8,8,7,7,7,7,7,7,6,6,6,6,6,6,6,6,6,6,6,6,5,5,5,5,5,5,5,5,5,5,5,5,4,4,4,4,4,4]
[9.5,11,11,11,11,11,11,11,11,11,11,11,11,10,10,10,10,10,10,10,10,10,10,10,10,9,9,9,9,9,9,8,8,8,8,8,8,7,7,7,7,7,7,7,7,7,7,7,7,6,6,6,6,6,6,5,5,5,5,5,5,5,5,5,5,5,5,5,5,5,5,5,5]
[10,11,11,11,11,11,11,11,11,11,11,11,11,11,11,11,11,11,11,10,10,10,10,10,10,9,9,9,9,9,9,8,8,8,8,8,8,8,8,8,8,8,8,7,7,7,7,7,7,6,6,6,6,6,6,6,6,6,6,6,6,5,5,5,5,5,5,5,5,5,5,5,5]
[10.5,12,12,12,12,12,12,11,11,11,11,11,11,11,11,11,11,11,11,11,11,11,11,11,11,10,10,10,10,10,10,9,9,9,9,9,9,8,8,8,8,8,8,7,7,7,7,7,7,7,7,7,7,7,7,6,6,6,6,6,6,6,6,6,6,6,6,5,5,5,5,5,5]
[11,12,12,12,12,12,12,12,12,12,12,12,12,11,11,11,11,11,11,11,11,11,11,11,11,10,10,10,10,10,10,9,9,9,9,9,9,8,8,8,8,8,8,8,8,8,8,8,8,7,7,7,7,7,7,6,6,6,6,6,6,6,6,6,6,6,6,6,6,6,6,6,6]
[11.5,12,12,12,12,12,12,12,12,12,12,12,12,12,12,12,12,12,12,11,11,11,11,11,11,10,10,10,10,10,10,9,9,9,9,9,9,9,9,9,9,9,9,8,8,8,8,8,8,7,7,7,7,7,7,7,7,7,7,7,7,6,6,6,6,6,6,6,6,6,6,6,6]
[12,13,13,13,13,13,13,12,12,12,12,12,12,12,12,12,12,12,12,12,12,12,12,12,12,11,11,11,11,11,11,10,10,10,10,10,10,9,9,9,9,9,9,8,8,8,8,8,8,8,8,8,8,8,8,7,7,7,7,7,7,7,7,7,7,7,7,6,6,6,6,6,6]
[12.5,13,13,13,13,13,13,13,13,13,13,13,13,12,12,12,12,12,12,12,12,12,12,12,12,11,11,11,11,11,11,10,10,10,10,10,10,9,9,9,9,9,9,9,9,9,9,9,9,8,8,8,8,8,8,7,7,7,7,7,7,7,7,7,7,7,7,7,7,7,7,7,7]
[13,13,13,13,13,13,13,13,13,13,13,13,13,13,13,13,13,13,13,12,12,12,12,12,12,11,11,11,11,11,11,10,10,10,10,10,10,10,10,10,10,10,10,9,9,9,9,9,9,8,8,8,8,8,8,8,8,8,8,8,8,7,7,7,7,7,7,7,7,7,7,7,7]
[13.5,14,14,14,14,14,14,13,13,13,13,13,13,13,13,13,13,13,13,13,13,13,13,13,13,12,12,12,12,12,12,11,11,11,11,11,11,10,10,10,10,10,10,9,9,9,9,9,9,9,9,9,9,9,9,8,8,8,8,8,8,8,8,8,8,8,8,7,7,7,7,7,7]
[14,14,14,14,14,14,14,14,14,14,14,14,14,13,13,13,13,13,13,13,13,13,13,13,13,12,12,12,12,12,12,11,11,11,11,11,11,10,10,10,10,10,10,10,10,10,10,10,10,9,9,9,9,9,9,8,8,8,8,8,8,8,8,8,8,8,8,8,8,8,8,8,8]
[14.5,14,14,14,14,14,14,14,14,14,14,14,14,14,14,14,14,14,14,13,13,13,13,13,13,12,12,12,12,12,12,11,11,11,11,11,11,11,11,11,11,11,11,10,10,10,10,10,10,9,9,9,9,9,9,9,9,9,9,9,9,8,8,8,8,8,8,8,8,8,8,8,8]
[15,15,15,15,15,15,15,14,14,14,14,14,14,14,14,14,14,14,14,14,14,14,14,14,14,13,13,13,13,13,13,12,12,12,12,12,12,11,11,11,11,11,11,10,10,10,10,10,10,10,10,10,10,10,10,9,9,9,9,9,9,9,9,9,9,9,9,8,8,8,8,8,8]
[15.5,15,15,15,15,15,15,15,15,15,15,15,15,14,14,14,14,14,14,14,14,14,14,14,14,13,13,13,13,13,13,12,12,12,12,12,12,11,11,11,11,11,11,11,11,11,11,11,11,10,10,10,10,10,10,9,9,9,9,9,9,9,9,9,9,9,9,9,9,9,9,9,9]
[16,15,15,15,15,15,15,15,15,15,15,15,15,15,15,15,15,15,15,14,14,14,14,14,14,13,13,13,13,13,13,12,12,12,12,12,12,12,12,12,12,12,12,11,11,11,11,11,11,10,10,10,10,10,10,10,10,10,10,10,10,9,9,9,9,9,9,9,9,9,9,9,9]
[16.5,16,16,16,16,16,16,15,15,15,15,15,15,15,15,15,15,15,15,15,15,15,15,15,15,14,14,14,14,14,14,13,13,13,13,13,13,12,12,12,12,12,12,11,11,11,11,11,11,11,11,11,11,11,11,10,10,10,10,10,10,10,10,10,10,10,10,9,9,9,9,9,9]
[17,16,16,16,16,16,16,16,16,16,16,16,16,15,15,15,15,15,15,15,15,15,15,15,15,14,14,14,14,14,14,13,13,13,13,13,13,12,12,12,12,12,12,12,12,12,12,12,12,11,11,11,11,11,11,10,10,10,10,10,10,10,10,10,10,10,10,10,10,10,10,10,10]
[17.5,16,16,16,16,16,16,16,16,16,16,16,16,16,16,16,16,16,16,15,15,15,15,15,15,14,14,14,14,14,14,13,13,13,13,13,13,13,13,13,13,13,13,12,12,12,12,12,12,11,11,11,11,11,11,11,11,11,11,11,11,10,10,10,10,10,10,10,10,10,10,10,10]
[18,17,17,17,17,17,17,16,16,16,16,16,16,16,16,16,16,16,16,16,16,16,16,16,16,15,15,15,15,15,15,14,14,14,14,14,14,13,13,13,13,13,13,12,12,12,12,12,12,12,12,12,12,12,12,11,11,11,11,11,11,11,11,11,11,11,11,10,10,10,10,10,10]
[18.5,17,17,17,17,17,17,17,17,17,17,17,17,16,16,16,16,16,16,16,16,16,16,16,16,15,15,15,15,15,15,14,14,14,14,14,14,13,13,13,13,13,13,13,13,13,13,13,13,12,12,12,12,12,12,11,11,11,11,11,11,11,11,11,11,11,11,11,11,11,11,11,11]
[19,17,17,17,17,17,17,17,17,17,17,17,17,17,17,17,17,17,17,16,16,16,16,16,16,15,15,15,15,15,15,14,14,14,14,14,14,14,14,14,14,14,14,13,13,13,13,13,13,12,12,12,12,12,12,12,12,12,12,12,12,11,11,11,11,11,11,11,11,11,11,11,11]
[19.5,18,18,18,18,18,18,17,17,17,17,17,17,17,17,17,17,17,17,17,17,17,17,17,17,16,16,16,16,16,16,15,15,15,15,15,15,14,14,14,14,14,14,13,13,13,13,13,13,13,13,13,13,13,13,12,12,12,12,12,12,12,12,12,12,12,12,11,11,11,11,11,11]
[20,18,18,18,18,18,18,18,18,18,18,18,18,17,17,17,17,17,17,17,17,17,17,17,17,16,16,16,16,16,16,15,15,15,15,15,15,14,14,14,14,14,14,14,14,14,14,14,14,13,13,13,13,13,13,12,12,12,12,12,12,12,12,12,12,12,12,12,12,12,12,12,12]
[20.5,18,18,18,18,18,18,18,18,18,18,18,18,18,18,18,18,18,18,17,17,17,17,17,17,16,16,16,16,16,16,15,15,15,15,15,15,15,15,15,15,15,15,14,14,14,14,14,14,13,13,13,13,13,13,13,13,13,13,13,13,12,12,12,12,12,12,12,12,12,12,12,12]
[21,19,19,19,19,19,19,18,18,18,18,18,18,18,18,18,18,18,18,18,18,18,18,18,18,17,17,17,17,17,17,16,16,16,16,16,16,15,15,15,15,15,15,14,14,14,14,14,14,14,14,14,14,14,14,13,13,13,13,13,13,13,13,13,13,13,13,12,12,12,12,12,12]
[21.5,19,19,19,19,19,19,19,19,19,19,19,19,18,18,18,18,18,18,18,18,18,18,18,18,17,17,17,17,17,17,16,16,16,16,16,16,15,15,15,15,15,15,15,15,15,15,15,15,14,14,14,14,14,14,13,13,13,13,13,13,13,13,13,13,13,13,13,13,13,13,13,13]
[22,19,19,19,19,19,19,19,19,19,19,19,19,19,19,19,19,19,19,18,18,18,18,18,18,17,17,17,17,17,17,16,16,16,16,16,16,16,16,16,16,16,16,15,15,15,15,15,15,14,14,14,14,14,14,14,14,14,14,14,14,13,13,13,13,13,13,13,13,13,13,13,13]
[22.5,20,20,20,20,20,20,19,19,19,19,19,19,19,19,19,19,19,19,19,19,19,19,19,19,18,18,18,18,18,18,17,17,17,17,17,17,16,16,16,16,16,16,15,15,15,15,15,15,15,15,15,15,15,15,14,14,14,14,14,14,14,14,14,14,14,14,13,13,13,13,13,13]
[23,20,20,20,20,20,20,20,20,20,20,20,20,19,19,19,19,19,19,19,19,19,19,19,19,18,18,18,18,18,18,17,17,17,17,17,17,16,16,16,16,16,16,16,16,16,16,16,16,15,15,15,15,15,15,14,14,14,14,14,14,14,14,14,14,14,14,14,14,14,14,14,14]
[23.5,20,20,20,20,20,20,20,20,20,20,20,20,20,20,20,20,20,20,19,19,19,19,19,19,18,18,18,18,18,18,17,17,17,17,17,17,17,17,17,17,17,17,16,16,16,16,16,16,15,15,15,15,15,15,15,15,15,15,15,15,14,14,14,14,14,14,14,14,14,14,14,14]
[24,20,20,20,20,20,20,20,20,20,20,20,20,20,20,20,20,20,20,20,20,20,20,20,20,19,19,19,19,19,19,18,18,18,18,18,18,17,17,17,17,17,17,16,16,16,16,16,16,16,16,16,16,16,16,15,15,15,15,15,15,15,15,15,15,15,15,14,14,14,14,14,14]
[24.5,20,20,20,20,20,20,20,20,20,20,20,20,20,20,20,20,20,20,20,20,20,20,20,20,19,19,19,19,19,19,18,18,18,18,18,18,17,17,17,17,17,17,17,17,17,17,17,17,16,16,16,16,16,16,15,15,15,15,15,15,15,15,15,15,15,15,15,15,15,15,15,15]
[25,20,20,20,20,20,20,20,20,20,20,20,20,20,20,20,20,20,20,20,20,20,20,20,20,19,19,19,19,19,19,18,18,18,18,18,18,18,18,18,18,18,18,17,17,17,17,17,17,16,16,16,16,16,16,16,16,16,16,16,16,15,15,15,15,15,15,15,15,15,15,15,15]
[25.5,20,20,20,20,20,20,20,20,20,20,20,20,20,20,20,20,20,20,20,20,20,20,20,20,20,20,20,20,20,20,19,19,19,19,19,19,18,18,18,18,18,18,17,17,17,17,17,17,17,17,17,17,17,17,16,16,16,16,16,16,16,16,16,16,16,16,15,15,15,15,15,15]
[26,20,20,20,20,20,20,20,20,20,20,20,20,20,20,20,20,20,20,20,20,20,20,20,20,20,20,20,20,20,20,19,19,19,19,19,19,18,18,18,18,18,18,18,18,18,18,18,18,17,17,17,17,17,17,16,16,16,16,16,16,16,16,16,16,16,16,16,16,16,16,16,16]
[26.5,20,20,20,20,20,20,20,20,20,20,20,20,20,20,20,20,20,20,20,20,20,20,20,20,20,20,20,20,20,20,19,19,19,19,19,19,19,19,19,19,19,19,18,18,18,18,18,18,17,17,17,17,17,17,17,17,17,17,17,17,16,16,16,16,16,16,16,16,16,16,16,16]
[27,20,20,20,20,20,20,20,20,20,20,20,20,20,20,20,20,20,20,20,20,20,20,20,20,20,20,20,20,20,20,20,20,20,20,20,20,19,19,19,19,19,19,18,18,18,18,18,18,18,18,18,18,18,18,17,17,17,17,17,17,17,17,17,17,17,17,16,16,16,16,16,16]
[27.5,20,20,20,20,20,20,20,20,20,20,20,20,20,20,20,20,20,20,20,20,20,20,20,20,20,20,20,20,20,20,20,20,20,20,20,20,19,19,19,19,19,19,19,19,19,19,19,19,18,18,18,18,18,18,17,17,17,17,17,17,17,17,17,17,17,17,17,17,17,17,17,17]
[28,20,20,20,20,20,20,20,20,20,20,20,20,20,20,20,20,20,20,20,20,20,20,20,20,20,20,20,20,20,20,20,20,20,20,20,20,20,20,20,20,20,20,19,19,19,19,19,19,18,18,18,18,18,18,18,18,18,18,18,18,17,17,17,17,17,17,17,17,17,17,17,17]
[28.5,20,20,20,20,20,20,20,20,20,20,20,20,20,20,20,20,20,20,20,20,20,20,20,20,20,20,20,20,20,20,20,20,20,20,20,20,20,20,20,20,20,20,19,19,19,19,19,19,19,19,19,19,19,19,18,18,18,18,18,18,18,18,18,18,18,18,17,17,17,17,17,17]
[29,20,20,20,20,20,20,20,20,20,20,20,20,20,20,20,20,20,20,20,20,20,20,20,20,20,20,20,20,20,20,20,20,20,20,20,20,20,20,20,20,20,20,20,20,20,20,20,20,19,19,19,19,19,19,18,18,18,18,18,18,18,18,18,18,18,18,18,18,18,18,18,18]
[29.5,20,20,20,20,20,20,20,20,20,20,20,20,20,20,20,20,20,20,20,20,20,20,20,20,20,20,20,20,20,20,20,20,20,20,20,20,20,20,20,20,20,20,20,20,20,20,20,20,19,19,19,19,19,19,19,19,19,19,19,19,18,18,18,18,18,18,18,18,18,18,18,18]
[30,20,20,20,20,20,20,20,20,20,20,20,20,20,20,20,20,20,20,20,20,20,20,20,20,20,20,20,20,20,20,20,20,20,20,20,20,20,20,20,20,20,20,20,20,20,20,20,20,20,20,20,20,20,20,19,19,19,19,19,19,19,19,19,19,19,19,18,18,18,18,18,18]
[30.5,20,20,20,20,20,20,20,20,20,20,20,20,20,20,20,20,20,20,20,20,20,20,20,20,20,20,20,20,20,20,20,20,20,20,20,20,20,20,20,20,20,20,20,20,20,20,20,20,20,20,20,20,20,20,19,19,19,19,19,19,19,19,19,19,19,19,19,19,19,19,19,19]
[31,20,20,20,20,20,20,20,20,20,20,20,20,20,20,20,20,20,20,20,20,20,20,20,20,20,20,20,20,20,20,20,20,20,20,20,20,20,20,20,20,20,20,20,20,20,20,20,20,20,20,20,20,20,20,20,20,20,20,20,20,19,19,19,19,19,19,19,19,19,19,19,19]
[31.5,20,20,20,20,20,20,20,20,20,20,20,20,20,20,20,20,20,20,20,20,20,20,20,20,20,20,20,20,20,20,20,20,20,20,20,20,20,20,20,20,20,20,20,20,20,20,20,20,20,20,20,20,20,20,20,20,20,20,20,20,20,20,20,20,20,20,19,19,19,19,19,19]
[32,20,20,20,20,20,20,20,20,20,20,20,20,20,20,20,20,20,20,20,20,20,20,20,20,20,20,20,20,20,20,20,20,20,20,20,20,20,20,20,20,20,20,20,20,20,20,20,20,20,20,20,20,20,20,20,20,20,20,20,20,20,20,20,20,20,20,20,20,20,20,20,20]

{"sheet":"Détente","index":3,"n_rows":157,"n_cols":73,"rows_kept":157,"hidden":true}
[null,73,74,75,76,77,78,79,80,81,82,83,84,85,86,87,88,89,90,91,92,93,94,95,96,97,98,99,100,101,102,103,104,105,106,107,108,109,110,111,112,113,114,115,116,117,118,119,120,121,122,123,124,125,126,127,128,129,130,131,132,133,134,135,136,137,138,139,140,141,142,143,144]
[50,0,0,0,0,0,0,0,0,0,0,0,0,0,0,0,0,0,0,0,0,0,0,0,0,0,0,0,0,0,0,0,0,0,0,0,0,0,0,0,0,0,0,0,0,0,0,0,0,0,0,0,0,0,0,0,0,0,0,0,0,0,0,0,0,0,0,0,0,0,0,0,0]
[51,0,0,0,0,0,0,0,0,0,0,0,0,0,0,0,0,0,0,0,0,0,0,0,0,0,0,0,0,0,0,0,0,0,0,0,0,0,0,0,0,0,0,0,0,0,0,0,0,0,0,0,0,0,0,0,0,0,0,0,0,0,0,0,0,0,0,0,0,0,0,0,0]
[52,0,0,0,0,0,0,0,0,0,0,0,0,0,0,0,0,0,0,0,0,0,0,0,0,0,0,0,0,0,0,0,0,0,0,0,0,0,0,0,0,0,0,0,0,0,0,0,0,0,0,0,0,0,0,0,0,0,0,0,0,0,0,0,0,0,0,0,0,0,0,0,0]
[53,0,0,0,0,0,0,0,0,0,0,0,0,0,0,0,0,0,0,0,0,0,0,0,0,0,0,0,0,0,0,0,0,0,0,0,0,0,0,0,0,0,0,0,0,0,0,0,0,0,0,0,0,0,0,0,0,0,0,0,0,0,0,0,0,0,0,0,0,0,0,0,0]
[54,0,0,0,0,0,0,0,0,0,0,0,0,0,0,0,0,0,0,0,0,0,0,0,0,0,0,0,0,0,0,0,0,0,0,0,0,0,0,0,0,0,0,0,0,0,0,0,0,0,0,0,0,0,0,0,0,0,0,0,0,0,0,0,0,0,0,0,0,0,0,0,0]
[55,0,0,0,0,0,0,0,0,0,0,0,0,0,0,0,0,0,0,0,0,0,0,0,0,0,0,0,0,0,0,0,0,0,0,0,0,0,0,0,0,0,0,0,0,0,0,0,0,0,0,0,0,0,0,0,0,0,0,0,0,0,0,0,0,0,0,0,0,0,0,0,0]
[56,0,0,0,0,0,0,0,0,0,0,0,0,0,0,0,0,0,0,0,0,0,0,0,0,0,0,0,0,0,0,0,0,0,0,0,0,0,0,0,0,0,0,0,0,0,0,0,0,0,0,0,0,0,0,0,0,0,0,0,0,0,0,0,0,0,0,0,0,0,0,0,0]
[57,0,0,0,0,0,0,0,0,0,0,0,0,0,0,0,0,0,0,0,0,0,0,0,0,0,0,0,0,0,0,0,0,0,0,0,0,0,0,0,0,0,0,0,0,0,0,0,0,0,0,0,0,0,0,0,0,0,0,0,0,0,0,0,0,0,0,0,0,0,0,0,0]
[58,0,0,0,0,0,0,0,0,0,0,0,0,0,0,0,0,0,0,0,0,0,0,0,0,0,0,0,0,0,0,0,0,0,0,0,0,0,0,0,0,0,0,0,0,0,0,0,0,0,0,0,0,0,0,0,0,0,0,0,0,0,0,0,0,0,0,0,0,0,0,0,0]
[59,0,0,0,0,0,0,0,0,0,0,0,0,0,0,0,0,0,0,0,0,0,0,0,0,0,0,0,0,0,0,0,0,0,0,0,0,0,0,0,0,0,0,0,0,0,0,0,0,0,0,0,0,0,0,0,0,0,0,0,0,0,0,0,0,0,0,0,0,0,0,0,0]
[60,0,0,0,0,0,0,0,0,0,0,0,0,0,0,0,0,0,0,0,0,0,0,0,0,0,0,0,0,0,0,0,0,0,0,0,0,0,0,0,0,0,0,0,0,0,0,0,0,0,0,0,0,0,0,0,0,0,0,0,0,0,0,0,0,0,0,0,0,0,0,0,0]
[61,0,0,0,0,0,0,0,0,0,0,0,0,0,0,0,0,0,0,0,0,0,0,0,0,0,0,0,0,0,0,0,0,0,0,0,0,0,0,0,0,0,0,0,0,0,0,0,0,0,0,0,0,0,0,0,0,0,0,0,0,0,0,0,0,0,0,0,0,0,0,0,0]
[62,0,0,0,0,0,0,0,0,0,0,0,0,0,0,0,0,0,0,0,0,0,0,0,0,0,0,0,0,0,0,0,0,0,0,0,0,0,0,0,0,0,0,0,0,0,0,0,0,0,0,0,0,0,0,0,0,0,0,0,0,0,0,0,0,0,0,0,0,0,0,0,0]
[63,1,1,1,1,1,1,0,0,0,0,0,0,0,0,0,0,0,0,0,0,0,0,0,0,0,0,0,0,0,0,0,0,0,0,0,0,0,0,0,0,0,0,0,0,0,0,0,0,0,0,0,0,0,0,0,0,0,0,0,0,0,0,0,0,0,0,0,0,0,0,0,0]
[64,1,1,1,1,1,1,0,0,0,0,0,0,0,0,0,0,0,0,0,0,0,0,0,0,0,0,0,0,0,0,0,0,0,0,0,0,0,0,0,0,0,0,0,0,0,0,0,0,0,0,0,0,0,0,0,0,0,0,0,0,0,0,0,0,0,0,0,0,0,0,0,0]
[65,1,1,1,1,1,1,1,1,1,1,1,1,0,0,0,0,0,0,0,0,0,0,0,0,0,0,0,0,0,0,0,0,0,0,0,0,0,0,0,0,0,0,0,0,0,0,0,0,0,0,0,0,0,0,0,0,0,0,0,0,0,0,0,0,0,0,0,0,0,0,0,0]
[66,1,1,1,1,1,1,1,1,1,1,1,1,0,0,0,0,0,0,0,0,0,0,0,0,0,0,0,0,0,0,0,0,0,0,0,0,0,0,0,0,0,0,0,0,0,0,0,0,0,0,0,0,0,0,0,0,0,0,0,0,0,0,0,0,0,0,0,0,0,0,0,0]
[67,1,1,1,1,1,1,1,1,1,1,1,1,0,0,0,0,0,0,0,0,0,0,0,0,0,0,0,0,0,0,0,0,0,0,0,0,0,0,0,0,0,0,0,0,0,0,0,0,0,0,0,0,0,0,0,0,0,0,0,0,0,0,0,0,0,0,0,0,0,0,0,0]
[68,2,2,2,2,2,2,1,1,1,1,1,1,0,0,0,0,0,0,0,0,0,0,0,0,0,0,0,0,0,0,0,0,0,0,0,0,0,0,0,0,0,0,0,0,0,0,0,0,0,0,0,0,0,0,0,0,0,0,0,0,0,0,0,0,0,0,0,0,0,0,0,0]
[69,2,2,2,2,2,2,1,1,1,1,1,1,1,1,1,1,1,1,0,0,0,0,0,0,0,0,0,0,0,0,0,0,0,0,0,0,0,0,0,0,0,0,0,0,0,0,0,0,0,0,0,0,0,0,0,0,0,0,0,0,0,0,0,0,0,0,0,0,0,0,0,0]
[70,2,2,2,2,2,2,2,2,2,2,2,2,1,1,1,1,1,1,0,0,0,0,0,0,0,0,0,0,0,0,0,0,0,0,0,0,0,0,0,0,0,0,0,0,0,0,0,0,0,0,0,0,0,0,0,0,0,0,0,0,0,0,0,0,0,0,0,0,0,0,0,0]
[71,2,2,2,2,2,2,2,2,2,2,2,2,1,1,1,1,1,1,0,0,0,0,0,0,0,0,0,0,0,0,0,0,0,0,0,0,0,0,0,0,0,0,0,0,0,0,0,0,0,0,0,0,0,0,0,0,0,0,0,0,0,0,0,0,0,0,0,0,0,0,0,0]
[72,2,2,2,2,2,2,2,2,2,2,2,2,1,1,1,1,1,1,1,1,1,1,1,1,0,0,0,0,0,0,0,0,0,0,0,0,0,0,0,0,0,0,0,0,0,0,0,0,0,0,0,0,0,0,0,0,0,0,0,0,0,0,0,0,0,0,0,0,0,0,0,0]
[73,3,3,3,3,3,3,2,2,2,2,2,2,1,1,1,1,1,1,1,1,1,1,1,1,0,0,0,0,0,0,0,0,0,0,0,0,0,0,0,0,0,0,0,0,0,0,0,0,0,0,0,0,0,0,0,0,0,0,0,0,0,0,0,0,0,0,0,0,0,0,0,0]
[74,3,3,3,3,3,3,2,2,2,2,2,2,2,2,2,2,2,2,1,1,1,1,1,1,0,0,0,0,0,0,0,0,0,0,0,0,0,0,0,0,0,0,0,0,0,0,0,0,0,0,0,0,0,0,0,0,0,0,0,0,0,0,0,0,0,0,0,0,0,0,0,0]
[75,3,3,3,3,3,3,3,3,3,3,3,3,2,2,2,2,2,2,1,1,1,1,1,1,0,0,0,0,0,0,0,0,0,0,0,0,0,0,0,0,0,0,0,0,0,0,0,0,0,0,0,0,0,0,0,0,0,0,0,0,0,0,0,0,0,0,0,0,0,0,0,0]
[76,3,3,3,3,3,3,3,3,3,3,3,3,2,2,2,2,2,2,1,1,1,1,1,1,1,1,1,1,1,1,0,0,0,0,0,0,0,0,0,0,0,0,0,0,0,0,0,0,0,0,0,0,0,0,0,0,0,0,0,0,0,0,0,0,0,0,0,0,0,0,0,0]
[77,3,3,3,3,3,3,3,3,3,3,3,3,2,2,2,2,2,2,2,2,2,2,2,2,1,1,1,1,1,1,0,0,0,0,0,0,0,0,0,0,0,0,0,0,0,0,0,0,0,0,0,0,0,0,0,0,0,0,0,0,0,0,0,0,0,0,0,0,0,0,0,0]
[78,4,4,4,4,4,4,3,3,3,3,3,3,2,2,2,2,2,2,2,2,2,2,2,2,1,1,1,1,1,1,0,0,0,0,0,0,0,0,0,0,0,0,0,0,0,0,0,0,0,0,0,0,0,0,0,0,0,0,0,0,0,0,0,0,0,0,0,0,0,0,0,0]
[79,4,4,4,4,4,4,3,3,3,3,3,3,3,3,3,3,3,3,2,2,2,2,2,2,1,1,1,1,1,1,0,0,0,0,0,0,0,0,0,0,0,0,0,0,0,0,0,0,0,0,0,0,0,0,0,0,0,0,0,0,0,0,0,0,0,0,0,0,0,0,0,0]
[80,4,4,4,4,4,4,4,4,4,4,4,4,3,3,3,3,3,3,2,2,2,2,2,2,1,1,1,1,1,1,0,0,0,0,0,0,0,0,0,0,0,0,0,0,0,0,0,0,0,0,0,0,0,0,0,0,0,0,0,0,0,0,0,0,0,0,0,0,0,0,0,0]
[81,4,4,4,4,4,4,4,4,4,4,4,4,3,3,3,3,3,3,2,2,2,2,2,2,2,2,2,2,2,2,1,1,1,1,1,1,0,0,0,0,0,0,0,0,0,0,0,0,0,0,0,0,0,0,0,0,0,0,0,0,0,0,0,0,0,0,0,0,0,0,0,0]
[82,4,4,4,4,4,4,4,4,4,4,4,4,3,3,3,3,3,3,3,3,3,3,3,3,2,2,2,2,2,2,1,1,1,1,1,1,0,0,0,0,0,0,0,0,0,0,0,0,0,0,0,0,0,0,0,0,0,0,0,0,0,0,0,0,0,0,0,0,0,0,0,0]
[83,5,5,5,5,5,5,4,4,4,4,4,4,3,3,3,3,3,3,3,3,3,3,3,3,2,2,2,2,2,2,1,1,1,1,1,1,0,0,0,0,0,0,0,0,0,0,0,0,0,0,0,0,0,0,0,0,0,0,0,0,0,0,0,0,0,0,0,0,0,0,0,0]
[84,5,5,5,5,5,5,4,4,4,4,4,4,4,4,4,4,4,4,3,3,3,3,3,3,2,2,2,2,2,2,1,1,1,1,1,1,0,0,0,0,0,0,0,0,0,0,0,0,0,0,0,0,0,0,0,0,0,0,0,0,0,0,0,0,0,0,0,0,0,0,0,0]
[85,5,5,5,5,5,5,5,5,5,5,5,5,4,4,4,4,4,4,3,3,3,3,3,3,2,2,2,2,2,2,1,1,1,1,1,1,0,0,0,0,0,0,0,0,0,0,0,0,0,0,0,0,0,0,0,0,0,0,0,0,0,0,0,0,0,0,0,0,0,0,0,0]
[86,5,5,5,5,5,5,5,5,5,5,5,5,4,4,4,4,4,4,3,3,3,3,3,3,3,3,3,3,3,3,2,2,2,2,2,2,1,1,1,1,1,1,0,0,0,0,0,0,0,0,0,0,0,0,0,0,0,0,0,0,0,0,0,0,0,0,0,0,0,0,0,0]
[87,5,5,5,5,5,5,5,5,5,5,5,5,4,4,4,4,4,4,4,4,4,4,4,4,3,3,3,3,3,3,2,2,2,2,2,2,1,1,1,1,1,1,0,0,0,0,0,0,0,0,0,0,0,0,0,0,0,0,0,0,0,0,0,0,0,0,0,0,0,0,0,0]
[88,6,6,6,6,6,6,5,5,5,5,5,5,4,4,4,4,4,4,4,4,4,4,4,4,3,3,3,3,3,3,2,2,2,2,2,2,1,1,1,1,1,1,0,0,0,0,0,0,0,0,0,0,0,0,0,0,0,0,0,0,0,0,0,0,0,0,0,0,0,0,0,0]
[89,6,6,6,6,6,6,5,5,5,5,5,5,5,5,5,5,5,5,4,4,4,4,4,4,3,3,3,3,3,3,2,2,2,2,2,2,1,1,1,1,1,1,0,0,0,0,0,0,0,0,0,0,0,0,0,0,0,0,0,0,0,0,0,0,0,0,0,0,0,0,0,0]
[90,6,6,6,6,6,6,6,6,6,6,6,6,5,5,5,5,5,5,4,4,4,4,4,4,3,3,3,3,3,3,2,2,2,2,2,2,1,1,1,1,1,1,0,0,0,0,0,0,0,0,0,0,0,0,0,0,0,0,0,0,0,0,0,0,0,0,0,0,0,0,0,0]
[91,6,6,6,6,6,6,6,6,6,6,6,6,5,5,5,5,5,5,4,4,4,4,4,4,4,4,4,4,4,4,3,3,3,3,3,3,2,2,2,2,2,2,1,1,1,1,1,1,0,0,0,0,0,0,0,0,0,0,0,0,0,0,0,0,0,0,0,0,0,0,0,0]
[92,6,6,6,6,6,6,6,6,6,6,6,6,5,5,5,5,5,5,5,5,5,5,5,5,4,4,4,4,4,4,3,3,3,3,3,3,2,2,2,2,2,2,1,1,1,1,1,1,0,0,0,0,0,0,0,0,0,0,0,0,0,0,0,0,0,0,0,0,0,0,0,0]
[93,7,7,7,7,7,7,6,6,6,6,6,6,5,5,5,5,5,5,5,5,5,5,5,5,4,4,4,4,4,4,3,3,3,3,3,3,2,2,2,2,2,2,1,1,1,1,1,1,0,0,0,0,0,0,0,0,0,0,0,0,0,0,0,0,0,0,0,0,0,0,0,0]
[94,7,7,7,7,7,7,6,6,6,6,6,6,6,6,6,6,6,6,5,5,5,5,5,5,4,4,4,4,4,4,3,3,3,3,3,3,2,2,2,2,2,2,1,1,1,1,1,1,0,0,0,0,0,0,0,0,0,0,0,0,0,0,0,0,0,0,0,0,0,0,0,0]
[95,7,7,7,7,7,7,7,7,7,7,7,7,6,6,6,6,6,6,5,5,5,5,5,5,4,4,4,4,4,4,3,3,3,3,3,3,2,2,2,2,2,2,1,1,1,1,1,1,0,0,0,0,0,0,0,0,0,0,0,0,0,0,0,0,0,0,0,0,0,0,0,0]
[96,7,7,7,7,7,7,7,7,7,7,7,7,6,6,6,6,6,6,5,5,5,5,5,5,5,5,5,5,5,5,4,4,4,4,4,4,3,3,3,3,3,3,2,2,2,2,2,2,1,1,1,1,1,1,0,0,0,0,0,0,0,0,0,0,0,0,0,0,0,0,0,0]
[97,7,7,7,7,7,7,7,7,7,7,7,7,6,6,6,6,6,6,6,6,6,6,6,6,5,5,5,5,5,5,4,4,4,4,4,4,3,3,3,3,3,3,2,2,2,2,2,2,1,1,1,1,1,1,0,0,0,0,0,0,0,0,0,0,0,0,0,0,0,0,0,0]
[98,8,8,8,8,8,8,7,7,7,7,7,7,6,6,6,6,6,6,6,6,6,6,6,6,5,5,5,5,5,5,4,4,4,4,4,4,3,3,3,3,3,3,2,2,2,2,2,2,1,1,1,1,1,1,0,0,0,0,0,0,0,0,0,0,0,0,0,0,0,0,0,0]
[99,8,8,8,8,8,8,7,7,7,7,7,7,7,7,7,7,7,7,6,6,6,6,6,6,5,5,5,5,5,5,4,4,4,4,4,4,3,3,3,3,3,3,2,2,2,2,2,2,1,1,1,1,1,1,0,0,0,0,0,0,0,0,0,0,0,0,0,0,0,0,0,0]
[100,8,8,8,8,8,8,8,8,8,8,8,8,7,7,7,7,7,7,6,6,6,6,6,6,5,5,5,5,5,5,4,4,4,4,4,4,3,3,3,3,3,3,2,2,2,2,2,2,1,1,1,1,1,1,1,1,1,1,1,1,0,0,0,0,0,0,0,0,0,0,0,0]
[101,8,8,8,8,8,8,8,8,8,8,8,8,7,7,7,7,7,7,6,6,6,6,6,6,6,6,6,6,6,6,5,5,5,5,5,5,4,4,4,4,4,4,3,3,3,3,3,3,2,2,2,2,2,2,1,1,1,1,1,1,0,0,0,0,0,0,0,0,0,0,0,0]
[102,8,8,8,8,8,8,8,8,8,8,8,8,7,7,7,7,7,7,7,7,7,7,7,7,6,6,6,6,6,6,5,5,5,5,5,5,4,4,4,4,4,4,3,3,3,3,3,3,2,2,2,2,2,2,1,1,1,1,1,1,0,0,0,0,0,0,0,0,0,0,0,0]
[103,9,9,9,9,9,9,8,8,8,8,8,8,7,7,7,7,7,7,7,7,7,7,7,7,6,6,6,6,6,6,5,5,5,5,5,5,4,4,4,4,4,4,3,3,3,3,3,3,2,2,2,2,2,2,1,1,1,1,1,1,0,0,0,0,0,0,0,0,0,0,0,0]
[104,9,9,9,9,9,9,8,8,8,8,8,8,8,8,8,8,8,8,7,7,7,7,7,7,6,6,6,6,6,6,5,5,5,5,5,5,4,4,4,4,4,4,3,3,3,3,3,3,2,2,2,2,2,2,1,1,1,1,1,1,0,0,0,0,0,0,0,0,0,0,0,0]
[105,9,9,9,9,9,9,9,9,9,9,9,9,8,8,8,8,8,8,7,7,7,7,7,7,6,6,6,6,6,6,5,5,5,5,5,5,4,4,4,4,4,4,3,3,3,3,3,3,2,2,2,2,2,2,2,2,2,2,2,2,1,1,1,1,1,1,0,0,0,0,0,0]
[106,9,9,9,9,9,9,9,9,9,9,9,9,8,8,8,8,8,8,7,7,7,7,7,7,7,7,7,7,7,7,6,6,6,6,6,6,5,5,5,5,5,5,4,4,4,4,4,4,3,3,3,3,3,3,2,2,2,2,2,2,1,1,1,1,1,1,0,0,0,0,0,0]
[107,9,9,9,9,9,9,9,9,9,9,9,9,8,8,8,8,8,8,8,8,8,8,8,8,7,7,7,7,7,7,6,6,6,6,6,6,5,5,5,5,5,5,4,4,4,4,4,4,3,3,3,3,3,3,2,2,2,2,2,2,1,1,1,1,1,1,0,0,0,0,0,0]
[108,10,10,10,10,10,10,9,9,9,9,9,9,8,8,8,8,8,8,8,8,8,8,8,8,7,7,7,7,7,7,6,6,6,6,6,6,5,5,5,5,5,5,4,4,4,4,4,4,3,3,3,3,3,3,2,2,2,2,2,2,1,1,1,1,1,1,0,0,0,0,0,0]
[109,10,10,10,10,10,10,9,9,9,9,9,9,9,9,9,9,9,9,8,8,8,8,8,8,7,7,7,7,7,7,6,6,6,6,6,6,5,5,5,5,5,5,4,4,4,4,4,4,3,3,3,3,3,3,2,2,2,2,2,2,1,1,1,1,1,1,0,0,0,0,0,0]
[110,10,10,10,10,10,10,10,10,10,10,10,10,9,9,9,9,9,9,8,8,8,8,8,8,7,7,7,7,7,7,6,6,6,6,6,6,5,5,5,5,5,5,4,4,4,4,4,4,3,3,3,3,3,3,3,3,3,3,3,3,2,2,2,2,2,2,1,1,1,1,1,1]
[111,10,10,10,10,10,10,10,10,10,10,10,10,9,9,9,9,9,9,8,8,8,8,8,8,8,8,8,8,8,8,7,7,7,7,7,7,6,6,6,6,6,6,5,5,5,5,5,5,4,4,4,4,4,4,3,3,3,3,3,3,2,2,2,2,2,2,1,1,1,1,1,1]
[112,10,10,10,10,10,10,10,10,10,10,10,10,9,9,9,9,9,9,9,9,9,9,9,9,8,8,8,8,8,8,7,7,7,7,7,7,6,6,6,6,6,6,5,5,5,5,5,5,4,4,4,4,4,4,3,3,3,3,3,3,2,2,2,2,2,2,1,1,1,1,1,1]
[113,11,11,11,11,11,11,10,10,10,10,10,10,9,9,9,9,9,9,9,9,9,9,9,9,8,8,8,8,8,8,7,7,7,7,7,7,6,6,6,6,6,6,5,5,5,5,5,5,4,4,4,4,4,4,3,3,3,3,3,3,2,2,2,2,2,2,1,1,1,1,1,1]
[114,11,11,11,11,11,11,10,10,10,10,10,10,10,10,10,10,10,10,9,9,9,9,9,9,8,8,8,8,8,8,7,7,7,7,7,7,6,6,6,6,6,6,5,5,5,5,5,5,4,4,4,4,4,4,3,3,3,3,3,3,2,2,2,2,2,2,1,1,1,1,1,1]
[115,11,11,11,11,11,11,11,11,11,11,11,11,10,10,10,10,10,10,9,9,9,9,9,9,8,8,8,8,8,8,7,7,7,7,7,7,6,6,6,6,6,6,5,5,5,5,5,5,4,4,4,4,4,4,4,4,4,4,4,4,3,3,3,3,3,3,2,2,2,2,2,2]
[116,11,11,11,11,11,11,11,11,11,11,11,11,10,10,10,10,10,10,9,9,9,9,9,9,9,9,9,9,9,9,8,8,8,8,8,8,7,7,7,7,7,7,6,6,6,6,6,6,5,5,5,5,5,5,4,4,4,4,4,4,3,3,3,3,3,3,2,2,2,2,2,2]
[117,11,11,11,11,11,11,11,11,11,11,11,11,10,10,10,10,10,10,10,10,10,10,10,10,9,9,9,9,9,9,8,8,8,8,8,8,7,7,7,7,7,7,6,6,6,6,6,6,5,5,5,5,5,5,4,4,4,4,4,4,3,3,3,3,3,3,2,2,2,2,2,2]
[118,12,12,12,12,12,12,11,11,11,11,11,11,10,10,10,10,10,10,10,10,10,10,10,10,9,9,9,9,9,9,8,8,8,8,8,8,7,7,7,7,7,7,6,6,6,6,6,6,5,5,5,5,5,5,4,4,4,4,4,4,3,3,3,3,3,3,2,2,2,2,2,2]
[119,12,12,12,12,12,12,11,11,11,11,11,11,11,11,11,11,11,11,10,10,10,10,10,10,9,9,9,9,9,9,8,8,8,8,8,8,7,7,7,7,7,7,6,6,6,6,6,6,5,5,5,5,5,5,4,4,4,4,4,4,3,3,3,3,3,3,2,2,2,2,2,2]
[120,12,12,12,12,12,12,12,12,12,12,12,12,11,11,11,11,11,11,10,10,10,10,10,10,9,9,9,9,9,9,8,8,8,8,8,8,7,7,7,7,7,7,6,6,6,6,6,6,5,5,5,5,5,5,5,5,5,5,5,5,4,4,4,4,4,4,3,3,3,3,3,3]
[121,12,12,12,12,12,12,12,12,12,12,12,12,11,11,11,11,11,11,10,10,10,10,10,10,10,10,10,10,10,10,9,9,9,9,9,9,8,8,8,8,8,8,7,7,7,7,7,7,6,6,6,6,6,6,5,5,5,5,5,5,4,4,4,4,4,4,3,3,3,3,3,3]
[122,12,12,12,12,12,12,12,12,12,12,12,12,11,11,11,11,11,11,11,11,11,11,11,11,10,10,10,10,10,10,9,9,9,9,9,9,8,8,8,8,8,8,7,7,7,7,7,7,6,6,6,6,6,6,5,5,5,5,5,5,4,4,4,4,4,4,3,3,3,3,3,3]
[123,13,13,13,13,13,13,12,12,12,12,12,12,11,11,11,11,11,11,11,11,11,11,11,11,10,10,10,10,10,10,9,9,9,9,9,9,8,8,8,8,8,8,7,7,7,7,7,7,6,6,6,6,6,6,5,5,5,5,5,5,4,4,4,4,4,4,3,3,3,3,3,3]
[124,13,13,13,13,13,13,12,12,12,12,12,12,12,12,12,12,12,12,11,11,11,11,11,11,10,10,10,10,10,10,9,9,9,9,9,9,8,8,8,8,8,8,7,7,7,7,7,7,6,6,6,6,6,6,5,5,5,5,5,5,4,4,4,4,4,4,3,3,3,3,3,3]
[125,13,13,13,13,13,13,13,13,13,13,13,13,12,12,12,12,12,12,11,11,11,11,11,11,10,10,10,10,10,10,9,9,9,9,9,9,8,8,8,8,8,8,7,7,7,7,7,7,6,6,6,6,6,6,6,6,6,6,6,6,5,5,5,5,5,5,4,4,4,4,4,4]
[126,13,13,13,13,13,13,13,13,13,13,13,13,12,12,12,12,12,12,11,11,11,11,11,11,11,11,11,11,11,11,10,10,10,10,10,10,9,9,9,9,9,9,8,8,8,8,8,8,7,7,7,7,7,7,6,6,6,6,6,6,5,5,5,5,5,5,4,4,4,4,4,4]
[127,13,13,13,13,13,13,13,13,13,13,13,13,12,12,12,12,12,12,12,12,12,12,12,12,11,11,11,11,11,11,10,10,10,10,10,10,9,9,9,9,9,9,8,8,8,8,8,8,7,7,7,7,7,7,6,6,6,6,6,6,5,5,5,5,5,5,4,4,4,4,4,4]
[128,14,14,14,14,14,14,13,13,13,13,13,13,12,12,12,12,12,12,12,12,12,12,12,12,11,11,11,11,11,11,10,10,10,10,10,10,9,9,9,9,9,9,8,8,8,8,8,8,7,7,7,7,7,7,6,6,6,6,6,6,5,5,5,5,5,5,4,4,4,4,4,4]
[129,14,14,14,14,14,14,13,13,13,13,13,13,13,13,13,13,13,13,12,12,12,12,12,12,11,11,11,11,11,11,10,10,10,10,10,10,9,9,9,9,9,9,8,8,8,8,8,8,7,7,7,7,7,7,6,6,6,6,6,6,5,5,5,5,5,5,4,4,4,4,4,4]
[130,14,14,14,14,14,14,14,14,14,14,14,14,13,13,13,13,13,13,12,12,12,12,12,12,11,11,11,11,11,11,10,10,10,10,10,10,9,9,9,9,9,9,8,8,8,8,8,8,7,7,7,7,7,7,7,7,7,7,7,7,6,6,6,6,6,6,5,5,5,5,5,5]
[131,14,14,14,14,14,14,14,14,14,14,14,14,13,13,13,13,13,13,12,12,12,12,12,12,12,12,12,12,12,12,11,11,11,11,11,11,10,10,10,10,10,10,9,9,9,9,9,9,8,8,8,8,8,8,7,7,7,7,7,7,6,6,6,6,6,6,5,5,5,5,5,5]
[132,14,14,14,14,14,14,14,14,14,14,14,14,13,13,13,13,13,13,13,13,13,13,13,13,12,12,12,12,12,12,11,11,11,11,11,11,10,10,10,10,10,10,9,9,9,9,9,9,8,8,8,8,8,8,7,7,7,7,7,7,6,6,6,6,6,6,5,5,5,5,5,5]
[133,15,15,15,15,15,15,14,14,14,14,14,14,13,13,13,13,13,13,13,13,13,13,13,13,12,12,12,12,12,12,11,11,11,11,11,11,10,10,10,10,10,10,9,9,9,9,9,9,8,8,8,8,8,8,7,7,7,7,7,7,6,6,6,6,6,6,5,5,5,5,5,5]
[134,15,15,15,15,15,15,14,14,14,14,14,14,14,14,14,14,14,14,13,13,13,13,13,13,12,12,12,12,12,12,11,11,11,11,11,11,10,10,10,10,10,10,9,9,9,9,9,9,8,8,8,8,8,8,7,7,7,7,7,7,6,6,6,6,6,6,5,5,5,5,5,5]
[135,15,15,15,15,15,15,15,15,15,15,15,15,14,14,14,14,14,14,13,13,13,13,13,13,12,12,12,12,12,12,11,11,11,11,11,11,10,10,10,10,10,10,9,9,9,9,9,9,8,8,8,8,8,8,8,8,8,8,8,8,7,7,7,7,7,7,6,6,6,6,6,6]
[136,15,15,15,15,15,15,15,15,15,15,15,15,14,14,14,14,14,14,13,13,13,13,13,13,13,13,13,13,13,13,12,12,12,12,12,12,11,11,11,11,11,11,10,10,10,10,10,10,9,9,9,9,9,9,8,8,8,8,8,8,7,7,7,7,7,7,6,6,6,6,6,6]
[137,15,15,15,15,15,15,15,15,15,15,15,15,14,14,14,14,14,14,14,14,14,14,14,14,13,13,13,13,13,13,12,12,12,12,12,12,11,11,11,11,11,11,10,10,10,10,10,10,9,9,9,9,9,9,8,8,8,8,8,8,7,7,7,7,7,7,6,6,6,6,6,6]
[138,16,16,16,16,16,16,15,15,15,15,15,15,14,14,14,14,14,14,14,14,14,14,14,14,13,13,13,13,13,13,12,12,12,12,12,12,11,11,11,11,11,11,10,10,10,10,10,10,9,9,9,9,9,9,8,8,8,8,8,8,7,7,7,7,7,7,6,6,6,6,6,6]
[139,16,16,16,16,16,16,15,15,15,15,15,15,15,15,15,15,15,15,14,14,14,14,14,14,13,13,13,13,13,13,12,12,12,12,12,12,11,11,11,11,11,11,10,10,10,10,10,10,9,9,9,9,9,9,8,8,8,8,8,8,7,7,7,7,7,7,6,6,6,6,6,6]
[140,16,16,16,16,16,16,16,16,16,16,16,16,15,15,15,15,15,15,14,14,14,14,14,14,13,13,13,13,13,13,12,12,12,12,12,12,11,11,11,11,11,11,10,10,10,10,10,10,9,9,9,9,9,9,9,9,9,9,9,9,8,8,8,8,8,8,7,7,7,7,7,7]
[141,16,16,16,16,16,16,16,16,16,16,16,16,15,15,15,15,15,15,14,14,14,14,14,14,14,14,14,14,14,14,13,13,13,13,13,13,12,12,12,12,12,12,11,11,11,11,11,11,10,10,10,10,10,10,9,9,9,9,9,9,8,8,8,8,8,8,7,7,7,7,7,7]
[142,16,16,16,16,16,16,16,16,16,16,16,16,15,15,15,15,15,15,15,15,15,15,15,15,14,14,14,14,14,14,13,13,13,13,13,13,12,12,12,12,12,12,11,11,11,11,11,11,10,10,10,10,10,10,9,9,9,9,9,9,8,8,8,8,8,8,7,7,7,7,7,7]
[143,17,17,17,17,17,17,16,16,16,16,16,16,15,15,15,15,15,15,15,15,15,15,15,15,14,14,14,14,14,14,13,13,13,13,13,13,12,12,12,12,12,12,11,11,11,11,11,11,10,10,10,10,10,10,9,9,9,9,9,9,8,8,8,8,8,8,7,7,7,7,7,7]
[144,17,17,17,17,17,17,16,16,16,16,16,16,16,16,16,16,16,16,15,15,15,15,15,15,14,14,14,14,14,14,13,13,13,13,13,13,12,12,12,12,12,12,11,11,11,11,11,11,10,10,10,10,10,10,9,9,9,9,9,9,8,8,8,8,8,8,7,7,7,7,7,7]
[145,17,17,17,17,17,17,17,17,17,17,17,17,16,16,16,16,16,16,15,15,15,15,15,15,14,14,14,14,14,14,13,13,13,13,13,13,12,12,12,12,12,12,11,11,11,11,11,11,10,10,10,10,10,10,10,10,10,10,10,10,9,9,9,9,9,9,8,8,8,8,8,8]
[146,17,17,17,17,17,17,17,17,17,17,17,17,16,16,16,16,16,16,15,15,15,15,15,15,15,15,15,15,15,15,14,14,14,14,14,14,13,13,13,13,13,13,12,12,12,12,12,12,11,11,11,11,11,11,10,10,10,10,10,10,9,9,9,9,9,9,8,8,8,8,8,8]
[147,17,17,17,17,17,17,17,17,17,17,17,17,16,16,16,16,16,16,16,16,16,16,16,16,15,15,15,15,15,15,14,14,14,14,14,14,13,13,13,13,13,13,12,12,12,12,12,12,11,11,11,11,11,11,10,10,10,10,10,10,9,9,9,9,9,9,8,8,8,8,8,8]
[148,18,18,18,18,18,18,17,17,17,17,17,17,16,16,16,16,16,16,16,16,16,16,16,16,15,15,15,15,15,15,14,14,14,14,14,14,13,13,13,13,13,13,12,12,12,12,12,12,11,11,11,11,11,11,10,10,10,10,10,10,9,9,9,9,9,9,8,8,8,8,8,8]
[149,18,18,18,18,18,18,17,17,17,17,17,17,17,17,17,17,17,17,16,16,16,16,16,16,15,15,15,15,15,15,14,14,14,14,14,14,13,13,13,13,13,13,12,12,12,12,12,12,11,11,11,11,11,11,10,10,10,10,10,10,9,9,9,9,9,9,8,8,8,8,8,8]
[150,18,18,18,18,18,18,18,18,18,18,18,18,17,17,17,17,17,17,16,16,16,16,16,16,15,15,15,15,15,15,14,14,14,14,14,14,13,13,13,13,13,13,12,12,12,12,12,12,11,11,11,11,11,11,11,11,11,11,11,11,10,10,10,10,10,10,9,9,9,9,9,9]
[151,18,18,18,18,18,18,18,18,18,18,18,18,17,17,17,17,17,17,16,16,16,16,16,16,16,16,16,16,16,16,15,15,15,15,15,15,14,14,14,14,14,14,13,13,13,13,13,13,12,12,12,12,12,12,11,11,11,11,11,11,10,10,10,10,10,10,9,9,9,9,9,9]
[152,18,18,18,18,18,18,18,18,18,18,18,18,17,17,17,17,17,17,17,17,17,17,17,17,16,16,16,16,16,16,15,15,15,15,15,15,14,14,14,14,14,14,13,13,13,13,13,13,12,12,12,12,12,12,11,11,11,11,11,11,10,10,10,10,10,10,9,9,9,9,9,9]
[153,19,19,19,19,19,19,18,18,18,18,18,18,17,17,17,17,17,17,17,17,17,17,17,17,16,16,16,16,16,16,15,15,15,15,15,15,14,14,14,14,14,14,13,13,13,13,13,13,12,12,12,12,12,12,11,11,11,11,11,11,10,10,10,10,10,10,9,9,9,9,9,9]
[154,19,19,19,19,19,19,18,18,18,18,18,18,18,18,18,18,18,18,17,17,17,17,17,17,16,16,16,16,16,16,15,15,15,15,15,15,14,14,14,14,14,14,13,13,13,13,13,13,12,12,12,12,12,12,11,11,11,11,11,11,10,10,10,10,10,10,9,9,9,9,9,9]
[155,19,19,19,19,19,19,19,19,19,19,19,19,18,18,18,18,18,18,17,17,17,17,17,17,16,16,16,16,16,16,15,15,15,15,15,15,14,14,14,14,14,14,13,13,13,13,13,13,12,12,12,12,12,12,12,12,12,12,12,12,11,11,11,11,11,11,10,10,10,10,10,10]
[156,19,19,19,19,19,19,19,19,19,19,19,19,18,18,18,18,18,18,17,17,17,17,17,17,17,17,17,17,17,17,16,16,16,16,16,16,15,15,15,15,15,15,14,14,14,14,14,14,13,13,13,13,13,13,12,12,12,12,12,12,11,11,11,11,11,11,10,10,10,10,10,10]
[157,19,19,19,19,19,19,19,19,19,19,19,19,18,18,18,18,18,18,18,18,18,18,18,18,17,17,17,17,17,17,16,16,16,16,16,16,15,15,15,15,15,15,14,14,14,14,14,14,13,13,13,13,13,13,12,12,12,12,12,12,11,11,11,11,11,11,10,10,10,10,10,10]
[158,20,20,20,20,20,20,19,19,19,19,19,19,18,18,18,18,18,18,18,18,18,18,18,18,17,17,17,17,17,17,16,16,16,16,16,16,15,15,15,15,15,15,14,14,14,14,14,14,13,13,13,13,13,13,12,12,12,12,12,12,11,11,11,11,11,11,10,10,10,10,10,10]
[159,20,20,20,20,20,20,19,19,19,19,19,19,19,19,19,19,19,19,18,18,18,18,18,18,17,17,17,17,17,17,16,16,16,16,16,16,15,15,15,15,15,15,14,14,14,14,14,14,13,13,13,13,13,13,12,12,12,12,12,12,11,11,11,11,11,11,10,10,10,10,10,10]
[160,20,20,20,20,20,20,20,20,20,20,20,20,19,19,19,19,19,19,18,18,18,18,18,18,17,17,17,17,17,17,16,16,16,16,16,16,15,15,15,15,15,15,14,14,14,14,14,14,13,13,13,13,13,13,13,13,13,13,13,13,12,12,12,12,12,12,11,11,11,11,11,11]
[161,20,20,20,20,20,20,20,20,20,20,20,20,19,19,19,19,19,19,18,18,18,18,18,18,18,18,18,18,18,18,17,17,17,17,17,17,16,16,16,16,16,16,15,15,15,15,15,15,14,14,14,14,14,14,13,13,13,13,13,13,12,12,12,12,12,12,11,11,11,11,11,11]
[162,20,20,20,20,20,20,20,20,20,20,20,20,19,19,19,19,19,19,19,19,19,19,19,19,18,18,18,18,18,18,17,17,17,17,17,17,16,16,16,16,16,16,15,15,15,15,15,15,14,14,14,14,14,14,13,13,13,13,13,13,12,12,12,12,12,12,11,11,11,11,11,11]
[163,20,20,20,20,20,20,20,20,20,20,20,20,19,19,19,19,19,19,19,19,19,19,19,19,18,18,18,18,18,18,17,17,17,17,17,17,16,16,16,16,16,16,15,15,15,15,15,15,14,14,14,14,14,14,13,13,13,13,13,13,12,12,12,12,12,12,11,11,11,11,11,11]
[164,20,20,20,20,20,20,20,20,20,20,20,20,20,20,20,20,20,20,19,19,19,19,19,19,18,18,18,18,18,18,17,17,17,17,17,17,16,16,16,16,16,16,15,15,15,15,15,15,14,14,14,14,14,14,13,13,13,13,13,13,12,12,12,12,12,12,11,11,11,11,11,11]
[165,20,20,20,20,20,20,20,20,20,20,20,20,20,20,20,20,20,20,19,19,19,19,19,19,18,18,18,18,18,18,17,17,17,17,17,17,16,16,16,16,16,16,15,15,15,15,15,15,14,14,14,14,14,14,14,14,14,14,14,14,13,13,13,13,13,13,12,12,12,12,12,12]
[166,20,20,20,20,20,20,20,20,20,20,20,20,20,20,20,20,20,20,19,19,19,19,19,19,19,19,19,19,19,19,18,18,18,18,18,18,17,17,17,17,17,17,16,16,16,16,16,16,15,15,15,15,15,15,14,14,14,14,14,14,13,13,13,13,13,13,12,12,12,12,12,12]
[167,20,20,20,20,20,20,20,20,20,20,20,20,20,20,20,20,20,20,20,20,20,20,20,20,19,19,19,19,19,19,18,18,18,18,18,18,17,17,17,17,17,17,16,16,16,16,16,16,15,15,15,15,15,15,14,14,14,14,14,14,13,13,13,13,13,13,12,12,12,12,12,12]
[168,20,20,20,20,20,20,20,20,20,20,20,20,20,20,20,20,20,20,20,20,20,20,20,20,19,19,19,19,19,19,18,18,18,18,18,18,17,17,17,17,17,17,16,16,16,16,16,16,15,15,15,15,15,15,14,14,14,14,14,14,13,13,13,13,13,13,12,12,12,12,12,12]
[169,20,20,20,20,20,20,20,20,20,20,20,20,20,20,20,20,20,20,20,20,20,20,20,20,19,19,19,19,19,19,18,18,18,18,18,18,17,17,17,17,17,17,16,16,16,16,16,16,15,15,15,15,15,15,14,14,14,14,14,14,13,13,13,13,13,13,12,12,12,12,12,12]
[170,20,20,20,20,20,20,20,20,20,20,20,20,20,20,20,20,20,20,20,20,20,20,20,20,19,19,19,19,19,19,18,18,18,18,18,18,17,17,17,17,17,17,16,16,16,16,16,16,15,15,15,15,15,15,15,15,15,15,15,15,14,14,14,14,14,14,13,13,13,13,13,13]
[171,20,20,20,20,20,20,20,20,20,20,20,20,20,20,20,20,20,20,20,20,20,20,20,20,20,20,20,20,20,20,19,19,19,19,19,19,18,18,18,18,18,18,17,17,17,17,17,17,16,16,16,16,16,16,15,15,15,15,15,15,14,14,14,14,14,14,13,13,13,13,13,13]
[172,20,20,20,20,20,20,20,20,20,20,20,20,20,20,20,20,20,20,20,20,20,20,20,20,20,20,20,20,20,20,19,19,19,19,19,19,18,18,18,18,18,18,17,17,17,17,17,17,16,16,16,16,16,16,15,15,15,15,15,15,14,14,14,14,14,14,13,13,13,13,13,13]
[173,20,20,20,20,20,20,20,20,20,20,20,20,20,20,20,20,20,20,20,20,20,20,20,20,20,20,20,20,20,20,19,19,19,19,19,19,18,18,18,18,18,18,17,17,17,17,17,17,16,16,16,16,16,16,15,15,15,15,15,15,14,14,14,14,14,14,13,13,13,13,13,13]
[174,20,20,20,20,20,20,20,20,20,20,20,20,20,20,20,20,20,20,20,20,20,20,20,20,20,20,20,20,20,20,19,19,19,19,19,19,18,18,18,18,18,18,17,17,17,17,17,17,16,16,16,16,16,16,15,15,15,15,15,15,14,14,14,14,14,14,13,13,13,13,13,13]
[175,20,20,20,20,20,20,20,20,20,20,20,20,20,20,20,20,20,20,20,20,20,20,20,20,20,20,20,20,20,20,19,19,19,19,19,19,18,18,18,18,18,18,17,17,17,17,17,17,16,16,16,16,16,16,16,16,16,16,16,16,15,15,15,15,15,15,14,14,14,14,14,14]
[176,20,20,20,20,20,20,20,20,20,20,20,20,20,20,20,20,20,20,20,20,20,20,20,20,20,20,20,20,20,20,20,20,20,20,20,20,19,19,19,19,19,19,18,18,18,18,18,18,17,17,17,17,17,17,16,16,16,16,16,16,15,15,15,15,15,15,14,14,14,14,14,14]
[177,20,20,20,20,20,20,20,20,20,20,20,20,20,20,20,20,20,20,20,20,20,20,20,20,20,20,20,20,20,20,20,20,20,20,20,20,19,19,19,19,19,19,18,18,18,18,18,18,17,17,17,17,17,17,16,16,16,16,16,16,15,15,15,15,15,15,14,14,14,14,14,14]
[178,20,20,20,20,20,20,20,20,20,20,20,20,20,20,20,20,20,20,20,20,20,20,20,20,20,20,20,20,20,20,20,20,20,20,20,20,19,19,19,19,19,19,18,18,18,18,18,18,17,17,17,17,17,17,16,16,16,16,16,16,15,15,15,15,15,15,14,14,14,14,14,14]
[179,20,20,20,20,20,20,20,20,20,20,20,20,20,20,20,20,20,20,20,20,20,20,20,20,20,20,20,20,20,20,20,20,20,20,20,20,19,19,19,19,19,19,18,18,18,18,18,18,17,17,17,17,17,17,16,16,16,16,16,16,15,15,15,15,15,15,14,14,14,14,14,14]
[180,20,20,20,20,20,20,20,20,20,20,20,20,20,20,20,20,20,20,20,20,20,20,20,20,20,20,20,20,20,20,20,20,20,20,20,20,19,19,19,19,19,19,18,18,18,18,18,18,17,17,17,17,17,17,17,17,17,17,17,17,16,16,16,16,16,16,15,15,15,15,15,15]
[181,20,20,20,20,20,20,20,20,20,20,20,20,20,20,20,20,20,20,20,20,20,20,20,20,20,20,20,20,20,20,20,20,20,20,20,20,20,20,20,20,20,20,19,19,19,19,19,19,18,18,18,18,18,18,17,17,17,17,17,17,16,16,16,16,16,16,15,15,15,15,15,15]
[182,20,20,20,20,20,20,20,20,20,20,20,20,20,20,20,20,20,20,20,20,20,20,20,20,20,20,20,20,20,20,20,20,20,20,20,20,20,20,20,20,20,20,19,19,19,19,19,19,18,18,18,18,18,18,17,17,17,17,17,17,16,16,16,16,16,16,15,15,15,15,15,15]
[183,20,20,20,20,20,20,20,20,20,20,20,20,20,20,20,20,20,20,20,20,20,20,20,20,20,20,20,20,20,20,20,20,20,20,20,20,20,20,20,20,20,20,19,19,19,19,19,19,18,18,18,18,18,18,17,17,17,17,17,17,16,16,16,16,16,16,15,15,15,15,15,15]
[184,20,20,20,20,20,20,20,20,20,20,20,20,20,20,20,20,20,20,20,20,20,20,20,20,20,20,20,20,20,20,20,20,20,20,20,20,20,20,20,20,20,20,19,19,19,19,19,19,18,18,18,18,18,18,17,17,17,17,17,17,16,16,16,16,16,16,15,15,15,15,15,15]
[185,20,20,20,20,20,20,20,20,20,20,20,20,20,20,20,20,20,20,20,20,20,20,20,20,20,20,20,20,20,20,20,20,20,20,20,20,20,20,20,20,20,20,19,19,19,19,19,19,18,18,18,18,18,18,18,18,18,18,18,18,17,17,17,17,17,17,16,16,16,16,16,16]
[186,20,20,20,20,20,20,20,20,20,20,20,20,20,20,20,20,20,20,20,20,20,20,20,20,20,20,20,20,20,20,20,20,20,20,20,20,20,20,20,20,20,20,20,20,20,20,20,20,19,19,19,19,19,19,18,18,18,18,18,18,17,17,17,17,17,17,16,16,16,16,16,16]
[187,20,20,20,20,20,20,20,20,20,20,20,20,20,20,20,20,20,20,20,20,20,20,20,20,20,20,20,20,20,20,20,20,20,20,20,20,20,20,20,20,20,20,20,20,20,20,20,20,19,19,19,19,19,19,18,18,18,18,18,18,17,17,17,17,17,17,16,16,16,16,16,16]
[188,20,20,20,20,20,20,20,20,20,20,20,20,20,20,20,20,20,20,20,20,20,20,20,20,20,20,20,20,20,20,20,20,20,20,20,20,20,20,20,20,20,20,20,20,20,20,20,20,19,19,19,19,19,19,18,18,18,18,18,18,17,17,17,17,17,17,16,16,16,16,16,16]
[189,20,20,20,20,20,20,20,20,20,20,20,20,20,20,20,20,20,20,20,20,20,20,20,20,20,20,20,20,20,20,20,20,20,20,20,20,20,20,20,20,20,20,20,20,20,20,20,20,19,19,19,19,19,19,18,18,18,18,18,18,17,17,17,17,17,17,16,16,16,16,16,16]
[190,20,20,20,20,20,20,20,20,20,20,20,20,20,20,20,20,20,20,20,20,20,20,20,20,20,20,20,20,20,20,20,20,20,20,20,20,20,20,20,20,20,20,20,20,20,20,20,20,19,19,19,19,19,19,19,19,19,19,19,19,18,18,18,18,18,18,17,17,17,17,17,17]
[191,20,20,20,20,20,20,20,20,20,20,20,20,20,20,20,20,20,20,20,20,20,20,20,20,20,20,20,20,20,20,20,20,20,20,20,20,20,20,20,20,20,20,20,20,20,20,20,20,20,20,20,20,20,20,19,19,19,19,19,19,18,18,18,18,18,18,17,17,17,17,17,17]
[192,20,20,20,20,20,20,20,20,20,20,20,20,20,20,20,20,20,20,20,20,20,20,20,20,20,20,20,20,20,20,20,20,20,20,20,20,20,20,20,20,20,20,20,20,20,20,20,20,20,20,20,20,20,20,19,19,19,19,19,19,18,18,18,18,18,18,17,17,17,17,17,17]
[193,20,20,20,20,20,20,20,20,20,20,20,20,20,20,20,20,20,20,20,20,20,20,20,20,20,20,20,20,20,20,20,20,20,20,20,20,20,20,20,20,20,20,20,20,20,20,20,20,20,20,20,20,20,20,19,19,19,19,19,19,18,18,18,18,18,18,17,17,17,17,17,17]
[194,20,20,20,20,20,20,20,20,20,20,20,20,20,20,20,20,20,20,20,20,20,20,20,20,20,20,20,20,20,20,20,20,20,20,20,20,20,20,20,20,20,20,20,20,20,20,20,20,20,20,20,20,20,20,19,19,19,19,19,19,18,18,18,18,18,18,17,17,17,17,17,17]
[195,20,20,20,20,20,20,20,20,20,20,20,20,20,20,20,20,20,20,20,20,20,20,20,20,20,20,20,20,20,20,20,20,20,20,20,20,20,20,20,20,20,20,20,20,20,20,20,20,20,20,20,20,20,20,20,20,20,20,20,20,19,19,19,19,19,19,18,18,18,18,18,18]
[196,20,20,20,20,20,20,20,20,20,20,20,20,20,20,20,20,20,20,20,20,20,20,20,20,20,20,20,20,20,20,20,20,20,20,20,20,20,20,20,20,20,20,20,20,20,20,20,20,20,20,20,20,20,20,20,20,20,20,20,20,19,19,19,19,19,19,18,18,18,18,18,18]
[197,20,20,20,20,20,20,20,20,20,20,20,20,20,20,20,20,20,20,20,20,20,20,20,20,20,20,20,20,20,20,20,20,20,20,20,20,20,20,20,20,20,20,20,20,20,20,20,20,20,20,20,20,20,20,20,20,20,20,20,20,19,19,19,19,19,19,18,18,18,18,18,18]
[198,20,20,20,20,20,20,20,20,20,20,20,20,20,20,20,20,20,20,20,20,20,20,20,20,20,20,20,20,20,20,20,20,20,20,20,20,20,20,20,20,20,20,20,20,20,20,20,20,20,20,20,20,20,20,20,20,20,20,20,20,19,19,19,19,19,19,18,18,18,18,18,18]
[199,20,20,20,20,20,20,20,20,20,20,20,20,20,20,20,20,20,20,20,20,20,20,20,20,20,20,20,20,20,20,20,20,20,20,20,20,20,20,20,20,20,20,20,20,20,20,20,20,20,20,20,20,20,20,20,20,20,20,20,20,19,19,19,19,19,19,18,18,18,18,18,18]
[200,20,20,20,20,20,20,20,20,20,20,20,20,20,20,20,20,20,20,20,20,20,20,20,20,20,20,20,20,20,20,20,20,20,20,20,20,20,20,20,20,20,20,20,20,20,20,20,20,20,20,20,20,20,20,20,20,20,20,20,20,20,20,20,20,20,20,19,19,19,19,19,19]
[201,20,20,20,20,20,20,20,20,20,20,20,20,20,20,20,20,20,20,20,20,20,20,20,20,20,20,20,20,20,20,20,20,20,20,20,20,20,20,20,20,20,20,20,20,20,20,20,20,20,20,20,20,20,20,20,20,20,20,20,20,20,20,20,20,20,20,19,19,19,19,19,19]
[202,20,20,20,20,20,20,20,20,20,20,20,20,20,20,20,20,20,20,20,20,20,20,20,20,20,20,20,20,20,20,20,20,20,20,20,20,20,20,20,20,20,20,20,20,20,20,20,20,20,20,20,20,20,20,20,20,20,20,20,20,20,20,20,20,20,20,19,19,19,19,19,19]
[203,20,20,20,20,20,20,20,20,20,20,20,20,20,20,20,20,20,20,20,20,20,20,20,20,20,20,20,20,20,20,20,20,20,20,20,20,20,20,20,20,20,20,20,20,20,20,20,20,20,20,20,20,20,20,20,20,20,20,20,20,20,20,20,20,20,20,19,19,19,19,19,19]
[204,20,20,20,20,20,20,20,20,20,20,20,20,20,20,20,20,20,20,20,20,20,20,20,20,20,20,20,20,20,20,20,20,20,20,20,20,20,20,20,20,20,20,20,20,20,20,20,20,20,20,20,20,20,20,20,20,20,20,20,20,20,20,20,20,20,20,19,19,19,19,19,19]
[205,20,20,20,20,20,20,20,20,20,20,20,20,20,20,20,20,20,20,20,20,20,20,20,20,20,20,20,20,20,20,20,20,20,20,20,20,20,20,20,20,20,20,20,20,20,20,20,20,20,20,20,20,20,20,20,20,20,20,20,20,20,20,20,20,20,20,20,20,20,20,20,20]

{"sheet":"Sautillers","index":4,"n_rows":99,"n_cols":73,"rows_kept":99,"hidden":true}
[null,73,74,75,76,77,78,79,80,81,82,83,84,85,86,87,88,89,90,91,92,93,94,95,96,97,98,99,100,101,102,103,104,105,106,107,108,109,110,111,112,113,114,115,116,117,118,119,120,121,122,123,124,125,126,127,128,129,130,131,132,133,134,135,136,137,138,139,140,141,142,143,144]
[10,0,0,0,0,0,0,0,0,0,0,0,0,0,0,0,0,0,0,0,0,0,0,0,0,0,0,0,0,0,0,0,0,0,0,0,0,0,0,0,0,0,0,0,0,0,0,0,0,0,0,0,0,0,0,0,0,0,0,0,0,0,0,0,0,0,0,0,0,0,0,0,0]
[11,0,0,0,0,0,0,0,0,0,0,0,0,0,0,0,0,0,0,0,0,0,0,0,0,0,0,0,0,0,0,0,0,0,0,0,0,0,0,0,0,0,0,0,0,0,0,0,0,0,0,0,0,0,0,0,0,0,0,0,0,0,0,0,0,0,0,0,0,0,0,0,0]
[12,0,0,0,0,0,0,0,0,0,0,0,0,0,0,0,0,0,0,0,0,0,0,0,0,0,0,0,0,0,0,0,0,0,0,0,0,0,0,0,0,0,0,0,0,0,0,0,0,0,0,0,0,0,0,0,0,0,0,0,0,0,0,0,0,0,0,0,0,0,0,0,0]
[13,0,0,0,0,0,0,0,0,0,0,0,0,0,0,0,0,0,0,0,0,0,0,0,0,0,0,0,0,0,0,0,0,0,0,0,0,0,0,0,0,0,0,0,0,0,0,0,0,0,0,0,0,0,0,0,0,0,0,0,0,0,0,0,0,0,0,0,0,0,0,0,0]
[14,0,0,0,0,0,0,0,0,0,0,0,0,0,0,0,0,0,0,0,0,0,0,0,0,0,0,0,0,0,0,0,0,0,0,0,0,0,0,0,0,0,0,0,0,0,0,0,0,0,0,0,0,0,0,0,0,0,0,0,0,0,0,0,0,0,0,0,0,0,0,0,0]
[15,0,0,0,0,0,0,0,0,0,0,0,0,0,0,0,0,0,0,0,0,0,0,0,0,0,0,0,0,0,0,0,0,0,0,0,0,0,0,0,0,0,0,0,0,0,0,0,0,0,0,0,0,0,0,0,0,0,0,0,0,0,0,0,0,0,0,0,0,0,0,0,0]
[16,1,1,1,1,1,1,0,0,0,0,0,0,0,0,0,0,0,0,0,0,0,0,0,0,0,0,0,0,0,0,0,0,0,0,0,0,0,0,0,0,0,0,0,0,0,0,0,0,0,0,0,0,0,0,0,0,0,0,0,0,0,0,0,0,0,0,0,0,0,0,0,0]
[17,1,1,1,1,1,1,0,0,0,0,0,0,0,0,0,0,0,0,0,0,0,0,0,0,0,0,0,0,0,0,0,0,0,0,0,0,0,0,0,0,0,0,0,0,0,0,0,0,0,0,0,0,0,0,0,0,0,0,0,0,0,0,0,0,0,0,0,0,0,0,0,0]
[18,2,2,2,2,2,2,1,1,1,1,1,1,0,0,0,0,0,0,0,0,0,0,0,0,0,0,0,0,0,0,0,0,0,0,0,0,0,0,0,0,0,0,0,0,0,0,0,0,0,0,0,0,0,0,0,0,0,0,0,0,0,0,0,0,0,0,0,0,0,0,0,0]
[19,2,2,2,2,2,2,1,1,1,1,1,1,0,0,0,0,0,0,0,0,0,0,0,0,0,0,0,0,0,0,0,0,0,0,0,0,0,0,0,0,0,0,0,0,0,0,0,0,0,0,0,0,0,0,0,0,0,0,0,0,0,0,0,0,0,0,0,0,0,0,0,0]
[20,3,3,3,3,3,3,2,2,2,2,2,2,0,0,0,0,0,0,0,0,0,0,0,0,0,0,0,0,0,0,0,0,0,0,0,0,0,0,0,0,0,0,0,0,0,0,0,0,0,0,0,0,0,0,0,0,0,0,0,0,0,0,0,0,0,0,0,0,0,0,0,0]
[21,3,3,3,3,3,3,2,2,2,2,2,2,1,1,1,1,1,1,0,0,0,0,0,0,0,0,0,0,0,0,0,0,0,0,0,0,0,0,0,0,0,0,0,0,0,0,0,0,0,0,0,0,0,0,0,0,0,0,0,0,0,0,0,0,0,0,0,0,0,0,0,0]
[22,4,4,4,4,4,4,3,3,3,3,3,3,1,1,1,1,1,1,0,0,0,0,0,0,0,0,0,0,0,0,0,0,0,0,0,0,0,0,0,0,0,0,0,0,0,0,0,0,0,0,0,0,0,0,0,0,0,0,0,0,0,0,0,0,0,0,0,0,0,0,0,0]
[23,4,4,4,4,4,4,3,3,3,3,3,3,2,2,2,2,2,2,1,1,1,1,1,1,0,0,0,0,0,0,0,0,0,0,0,0,0,0,0,0,0,0,0,0,0,0,0,0,0,0,0,0,0,0,0,0,0,0,0,0,0,0,0,0,0,0,0,0,0,0,0,0]
[24,5,5,5,5,5,5,4,4,4,4,4,4,2,2,2,2,2,2,1,1,1,1,1,1,0,0,0,0,0,0,0,0,0,0,0,0,0,0,0,0,0,0,0,0,0,0,0,0,0,0,0,0,0,0,0,0,0,0,0,0,0,0,0,0,0,0,0,0,0,0,0,0]
[25,5,5,5,5,5,5,4,4,4,4,4,4,3,3,3,3,3,3,2,2,2,2,2,2,0,0,0,0,0,0,0,0,0,0,0,0,0,0,0,0,0,0,0,0,0,0,0,0,0,0,0,0,0,0,0,0,0,0,0,0,0,0,0,0,0,0,0,0,0,0,0,0]
[26,6,6,6,6,6,6,5,5,5,5,5,5,3,3,3,3,3,3,2,2,2,2,2,2,1,1,1,1,1,1,0,0,0,0,0,0,0,0,0,0,0,0,0,0,0,0,0,0,0,0,0,0,0,0,0,0,0,0,0,0,0,0,0,0,0,0,0,0,0,0,0,0]
[27,6,6,6,6,6,6,5,5,5,5,5,5,4,4,4,4,4,4,3,3,3,3,3,3,1,1,1,1,1,1,0,0,0,0,0,0,0,0,0,0,0,0,0,0,0,0,0,0,0,0,0,0,0,0,0,0,0,0,0,0,0,0,0,0,0,0,0,0,0,0,0,0]
[28,7,7,7,7,7,7,6,6,6,6,6,6,4,4,4,4,4,4,3,3,3,3,3,3,2,2,2,2,2,2,1,1,1,1,1,1,0,0,0,0,0,0,0,0,0,0,0,0,0,0,0,0,0,0,0,0,0,0,0,0,0,0,0,0,0,0,0,0,0,0,0,0]
[29,7,7,7,7,7,7,6,6,6,6,6,6,5,5,5,5,5,5,4,4,4,4,4,4,2,2,2,2,2,2,1,1,1,1,1,1,0,0,0,0,0,0,0,0,0,0,0,0,0,0,0,0,0,0,0,0,0,0,0,0,0,0,0,0,0,0,0,0,0,0,0,0]
[30,8,8,8,8,8,8,7,7,7,7,7,7,5,5,5,5,5,5,4,4,4,4,4,4,3,3,3,3,3,3,2,2,2,2,2,2,1,1,0,0,0,0,0,0,0,0,0,0,0,0,0,0,0,0,0,0,0,0,0,0,0,0,0,0,0,0,0,0,0,0,0,0]
[31,8,8,8,8,8,8,7,7,7,7,7,7,6,6,6,6,6,6,5,5,5,5,5,5,3,3,3,3,3,3,2,2,2,2,2,2,1,1,0,0,0,0,0,0,0,0,0,0,0,0,0,0,0,0,0,0,0,0,0,0,0,0,0,0,0,0,0,0,0,0,0,0]
[32,9,9,9,9,9,9,8,8,8,8,8,8,6,6,6,6,6,6,5,5,5,5,5,5,4,4,4,4,4,4,3,3,3,3,3,3,2,2,1,1,0,0,0,0,0,0,0,0,0,0,0,0,0,0,0,0,0,0,0,0,0,0,0,0,0,0,0,0,0,0,0,0]
[33,9,9,9,9,9,9,8,8,8,8,8,8,7,7,7,7,7,7,6,6,6,6,6,6,4,4,4,4,4,4,3,3,3,3,3,3,2,2,1,1,0,0,0,0,0,0,0,0,0,0,0,0,0,0,0,0,0,0,0,0,0,0,0,0,0,0,0,0,0,0,0,0]
[34,10,10,10,10,10,10,9,9,9,9,9,9,7,7,7,7,7,7,6,6,6,6,6,6,5,5,5,5,5,5,4,4,4,4,4,4,3,3,2,2,1,1,0,0,0,0,0,0,0,0,0,0,0,0,0,0,0,0,0,0,0,0,0,0,0,0,0,0,0,0,0,0]
[35,10,10,10,10,10,10,9,9,9,9,9,9,8,8,8,8,8,8,7,7,7,7,7,7,5,5,5,5,5,5,4,4,4,4,4,4,3,3,2,2,1,1,0,0,0,0,0,0,0,0,0,0,0,0,0,0,0,0,0,0,0,0,0,0,0,0,0,0,0,0,0,0]
[36,10,10,10,10,10,10,10,10,10,10,10,10,8,8,8,8,8,8,7,7,7,7,7,7,6,6,6,6,6,6,5,5,5,5,5,5,4,4,3,3,2,2,1,1,0,0,0,0,0,0,0,0,0,0,0,0,0,0,0,0,0,0,0,0,0,0,0,0,0,0,0,0]
[37,10,10,10,10,10,10,10,10,10,10,10,10,9,9,9,9,9,9,8,8,8,8,8,8,6,6,6,6,6,6,5,5,5,5,5,5,4,4,3,3,2,2,1,1,0,0,0,0,0,0,0,0,0,0,0,0,0,0,0,0,0,0,0,0,0,0,0,0,0,0,0,0]
[38,11,11,11,11,11,11,10,10,10,10,10,10,9,9,9,9,9,9,8,8,8,8,8,8,7,7,7,7,7,7,6,6,6,6,6,6,5,5,4,4,3,3,2,2,1,1,0,0,0,0,0,0,0,0,0,0,0,0,0,0,0,0,0,0,0,0,0,0,0,0,0,0]
[39,11,11,11,11,11,11,10,10,10,10,10,10,10,10,10,10,10,10,9,9,9,9,9,9,7,7,7,7,7,7,6,6,6,6,6,6,5,5,4,4,3,3,2,2,1,1,0,0,0,0,0,0,0,0,0,0,0,0,0,0,0,0,0,0,0,0,0,0,0,0,0,0]
[40,11,11,11,11,11,11,11,11,11,11,11,11,10,10,10,10,10,10,9,9,9,9,9,9,8,8,8,8,8,8,7,7,7,7,7,7,6,6,5,5,4,4,3,3,2,2,1,1,0,0,0,0,0,0,0,0,0,0,0,0,0,0,0,0,0,0,0,0,0,0,0,0]
[41,11,11,11,11,11,11,11,11,11,11,11,11,10,10,10,10,10,10,10,10,10,10,10,10,8,8,8,8,8,8,7,7,7,7,7,7,6,6,5,5,4,4,3,3,2,2,1,1,1,1,1,1,1,1,0,0,0,0,0,0,0,0,0,0,0,0,0,0,0,0,0,0]
[42,12,12,12,12,12,12,11,11,11,11,11,11,10,10,10,10,10,10,10,10,10,10,10,10,9,9,9,9,9,9,8,8,8,8,8,8,7,7,6,6,5,5,4,4,3,3,2,2,1,1,1,1,1,1,0,0,0,0,0,0,0,0,0,0,0,0,0,0,0,0,0,0]
[43,12,12,12,12,12,12,11,11,11,11,11,11,11,11,11,11,11,11,10,10,10,10,10,10,9,9,9,9,9,9,8,8,8,8,8,8,7,7,6,6,5,5,4,4,3,3,2,2,2,2,2,2,2,2,1,1,1,1,1,1,0,0,0,0,0,0,0,0,0,0,0,0]
[44,12,12,12,12,12,12,12,12,12,12,12,12,11,11,11,11,11,11,10,10,10,10,10,10,10,10,10,10,10,10,9,9,9,9,9,9,8,8,7,7,6,6,5,5,4,4,3,3,2,2,2,2,2,2,1,1,1,1,1,1,0,0,0,0,0,0,0,0,0,0,0,0]
[45,12,12,12,12,12,12,12,12,12,12,12,12,11,11,11,11,11,11,11,11,11,11,11,11,10,10,10,10,10,10,9,9,9,9,9,9,8,8,7,7,6,6,5,5,4,4,3,3,3,3,3,3,3,3,2,2,2,2,2,2,0,0,0,0,0,0,0,0,0,0,0,0]
[46,13,13,13,13,13,13,12,12,12,12,12,12,11,11,11,11,11,11,11,11,11,11,11,11,10,10,10,10,10,10,10,10,10,10,10,10,9,9,8,8,7,7,6,6,5,5,4,4,3,3,3,3,3,3,2,2,2,2,2,2,1,1,1,1,1,1,0,0,0,0,0,0]
[47,13,13,13,13,13,13,12,12,12,12,12,12,12,12,12,12,12,12,11,11,11,11,11,11,10,10,10,10,10,10,10,10,10,10,10,10,9,9,8,8,7,7,6,6,5,5,4,4,4,4,4,4,4,4,3,3,3,3,3,3,1,1,1,1,1,1,0,0,0,0,0,0]
[48,13,13,13,13,13,13,13,13,13,13,13,13,12,12,12,12,12,12,11,11,11,11,11,11,11,11,11,11,11,11,10,10,10,10,10,10,10,10,9,9,8,8,7,7,6,6,5,5,4,4,4,4,4,4,3,3,3,3,3,3,2,2,2,2,2,2,1,1,1,1,1,1]
[49,13,13,13,13,13,13,13,13,13,13,13,13,12,12,12,12,12,12,12,12,12,12,12,12,11,11,11,11,11,11,10,10,10,10,10,10,10,10,9,9,8,8,7,7,6,6,5,5,5,5,5,5,5,5,4,4,4,4,4,4,2,2,2,2,2,2,1,1,1,1,1,1]
[50,14,14,14,14,14,14,13,13,13,13,13,13,12,12,12,12,12,12,12,12,12,12,12,12,11,11,11,11,11,11,11,11,11,11,11,11,10,10,10,10,9,9,8,8,7,7,6,6,5,5,5,5,5,5,4,4,4,4,4,4,3,3,3,3,3,3,2,2,2,2,2,2]
[51,14,14,14,14,14,14,13,13,13,13,13,13,13,13,13,13,13,13,12,12,12,12,12,12,11,11,11,11,11,11,11,11,11,11,11,11,10,10,10,10,9,9,8,8,7,7,6,6,6,6,6,6,6,6,5,5,5,5,5,5,3,3,3,3,3,3,2,2,2,2,2,2]
[52,14,14,14,14,14,14,14,14,14,14,14,14,13,13,13,13,13,13,12,12,12,12,12,12,12,12,12,12,12,12,11,11,11,11,11,11,11,11,10,10,10,10,9,9,8,8,7,7,6,6,6,6,6,6,5,5,5,5,5,5,4,4,4,4,4,4,3,3,3,3,3,3]
[53,14,14,14,14,14,14,14,14,14,14,14,14,13,13,13,13,13,13,13,13,13,13,13,13,12,12,12,12,12,12,11,11,11,11,11,11,11,11,10,10,10,10,9,9,8,8,7,7,7,7,7,7,7,7,6,6,6,6,6,6,4,4,4,4,4,4,3,3,3,3,3,3]
[54,15,15,15,15,15,15,14,14,14,14,14,14,13,13,13,13,13,13,13,13,13,13,13,13,12,12,12,12,12,12,12,12,12,12,12,12,11,11,11,11,10,10,10,10,9,9,8,8,7,7,7,7,7,7,6,6,6,6,6,6,5,5,5,5,5,5,4,4,4,4,4,4]
[55,15,15,15,15,15,15,14,14,14,14,14,14,14,14,14,14,14,14,13,13,13,13,13,13,12,12,12,12,12,12,12,12,12,12,12,12,11,11,11,11,10,10,10,10,9,9,8,8,8,8,8,8,8,8,7,7,7,7,7,7,5,5,5,5,5,5,4,4,4,4,4,4]
[56,15,15,15,15,15,15,15,15,15,15,15,15,14,14,14,14,14,14,13,13,13,13,13,13,13,13,13,13,13,13,12,12,12,12,12,12,12,12,11,11,11,11,10,10,10,10,9,9,8,8,8,8,8,8,7,7,7,7,7,7,6,6,6,6,6,6,5,5,5,5,5,5]
[57,15,15,15,15,15,15,15,15,15,15,15,15,14,14,14,14,14,14,14,14,14,14,14,14,13,13,13,13,13,13,12,12,12,12,12,12,12,12,11,11,11,11,10,10,10,10,9,9,9,9,9,9,9,9,8,8,8,8,8,8,6,6,6,6,6,6,5,5,5,5,5,5]
[58,16,16,16,16,16,16,15,15,15,15,15,15,14,14,14,14,14,14,14,14,14,14,14,14,13,13,13,13,13,13,13,13,13,13,13,13,12,12,12,12,11,11,11,11,10,10,10,10,9,9,9,9,9,9,8,8,8,8,8,8,7,7,7,7,7,7,6,6,6,6,6,6]
[59,16,16,16,16,16,16,15,15,15,15,15,15,15,15,15,15,15,15,14,14,14,14,14,14,13,13,13,13,13,13,13,13,13,13,13,13,12,12,12,12,11,11,11,11,10,10,10,10,10,10,10,10,10,10,9,9,9,9,9,9,7,7,7,7,7,7,6,6,6,6,6,6]
[60,16,16,16,16,16,16,16,16,16,16,16,16,15,15,15,15,15,15,14,14,14,14,14,14,14,14,14,14,14,14,13,13,13,13,13,13,13,13,12,12,12,12,11,11,11,11,10,10,10,10,10,10,10,10,9,9,9,9,9,9,8,8,8,8,8,8,7,7,7,7,7,7]
[61,16,16,16,16,16,16,16,16,16,16,16,16,15,15,15,15,15,15,15,15,15,15,15,15,14,14,14,14,14,14,13,13,13,13,13,13,13,13,12,12,12,12,11,11,11,11,10,10,10,10,10,10,10,10,10,10,10,10,10,10,8,8,8,8,8,8,7,7,7,7,7,7]
[62,17,17,17,17,17,17,16,16,16,16,16,16,15,15,15,15,15,15,15,15,15,15,15,15,14,14,14,14,14,14,14,14,14,14,14,14,13,13,13,13,12,12,12,12,11,11,11,11,10,10,10,10,10,10,10,10,10,10,10,10,9,9,9,9,9,9,8,8,8,8,8,8]
[63,17,17,17,17,17,17,16,16,16,16,16,16,16,16,16,16,16,16,15,15,15,15,15,15,14,14,14,14,14,14,14,14,14,14,14,14,13,13,13,13,12,12,12,12,11,11,11,11,11,11,11,11,11,11,10,10,10,10,10,10,9,9,9,9,9,9,8,8,8,8,8,8]
[64,17,17,17,17,17,17,17,17,17,17,17,17,16,16,16,16,16,16,15,15,15,15,15,15,15,15,15,15,15,15,14,14,14,14,14,14,14,14,13,13,13,13,12,12,12,12,11,11,11,11,11,11,11,11,10,10,10,10,10,10,10,10,10,10,10,10,9,9,9,9,9,9]
[65,17,17,17,17,17,17,17,17,17,17,17,17,16,16,16,16,16,16,16,16,16,16,16,16,15,15,15,15,15,15,14,14,14,14,14,14,14,14,13,13,13,13,12,12,12,12,11,11,11,11,11,11,11,11,11,11,11,11,11,11,10,10,10,10,10,10,9,9,9,9,9,9]
[66,18,18,18,18,18,18,17,17,17,17,17,17,16,16,16,16,16,16,16,16,16,16,16,16,15,15,15,15,15,15,15,15,15,15,15,15,14,14,14,14,13,13,13,13,12,12,12,12,11,11,11,11,11,11,11,11,11,11,11,11,10,10,10,10,10,10,10,10,10,10,10,10]
[67,18,18,18,18,18,18,17,17,17,17,17,17,17,17,17,17,17,17,16,16,16,16,16,16,15,15,15,15,15,15,15,15,15,15,15,15,14,14,14,14,13,13,13,13,12,12,12,12,12,12,12,12,12,12,11,11,11,11,11,11,10,10,10,10,10,10,10,10,10,10,10,10]
[68,18,18,18,18,18,18,18,18,18,18,18,18,17,17,17,17,17,17,16,16,16,16,16,16,16,16,16,16,16,16,15,15,15,15,15,15,15,15,14,14,14,14,13,13,13,13,12,12,12,12,12,12,12,12,11,11,11,11,11,11,11,11,11,11,11,11,10,10,10,10,10,10]
[69,18,18,18,18,18,18,18,18,18,18,18,18,17,17,17,17,17,17,17,17,17,17,17,17,16,16,16,16,16,16,15,15,15,15,15,15,15,15,14,14,14,14,13,13,13,13,12,12,12,12,12,12,12,12,12,12,12,12,12,12,11,11,11,11,11,11,10,10,10,10,10,10]
[70,19,19,19,19,19,19,18,18,18,18,18,18,17,17,17,17,17,17,17,17,17,17,17,17,16,16,16,16,16,16,16,16,16,16,16,16,15,15,15,15,14,14,14,14,13,13,13,13,12,12,12,12,12,12,12,12,12,12,12,12,11,11,11,11,11,11,11,11,11,11,11,11]
[71,19,19,19,19,19,19,18,18,18,18,18,18,18,18,18,18,18,18,17,17,17,17,17,17,16,16,16,16,16,16,16,16,16,16,16,16,15,15,15,15,14,14,14,14,13,13,13,13,13,13,13,13,13,13,12,12,12,12,12,12,11,11,11,11,11,11,11,11,11,11,11,11]
[72,19,19,19,19,19,19,19,19,19,19,19,19,18,18,18,18,18,18,17,17,17,17,17,17,17,17,17,17,17,17,16,16,16,16,16,16,16,16,15,15,15,15,14,14,14,14,13,13,13,13,13,13,13,13,12,12,12,12,12,12,12,12,12,12,12,12,11,11,11,11,11,11]
[73,19,19,19,19,19,19,19,19,19,19,19,19,18,18,18,18,18,18,18,18,18,18,18,18,17,17,17,17,17,17,16,16,16,16,16,16,16,16,15,15,15,15,14,14,14,14,13,13,13,13,13,13,13,13,13,13,13,13,13,13,12,12,12,12,12,12,11,11,11,11,11,11]
[74,19,19,19,19,19,19,19,19,19,19,19,19,18,18,18,18,18,18,18,18,18,18,18,18,17,17,17,17,17,17,17,17,17,17,17,17,16,16,16,16,15,15,15,15,14,14,14,14,13,13,13,13,13,13,13,13,13,13,13,13,12,12,12,12,12,12,12,12,12,12,12,12]
[75,20,20,20,20,20,20,19,19,19,19,19,19,19,19,19,19,19,19,18,18,18,18,18,18,17,17,17,17,17,17,17,17,17,17,17,17,16,16,16,16,15,15,15,15,14,14,14,14,14,14,14,14,14,14,13,13,13,13,13,13,12,12,12,12,12,12,12,12,12,12,12,12]
[76,20,20,20,20,20,20,19,19,19,19,19,19,19,19,19,19,19,19,18,18,18,18,18,18,18,18,18,18,18,18,17,17,17,17,17,17,17,17,16,16,16,16,15,15,15,15,14,14,14,14,14,14,14,14,13,13,13,13,13,13,13,13,13,13,13,13,12,12,12,12,12,12]
[77,20,20,20,20,20,20,20,20,20,20,20,20,19,19,19,19,19,19,19,19,19,19,19,19,18,18,18,18,18,18,17,17,17,17,17,17,17,17,16,16,16,16,15,15,15,15,14,14,14,14,14,14,14,14,14,14,14,14,14,14,13,13,13,13,13,13,12,12,12,12,12,12]
[78,20,20,20,20,20,20,20,20,20,20,20,20,19,19,19,19,19,19,19,19,19,19,19,19,18,18,18,18,18,18,18,18,18,18,18,18,17,17,17,17,16,16,16,16,15,15,15,15,14,14,14,14,14,14,14,14,14,14,14,14,13,13,13,13,13,13,13,13,13,13,13,13]
[79,20,20,20,20,20,20,20,20,20,20,20,20,19,19,19,19,19,19,19,19,19,19,19,19,18,18,18,18,18,18,18,18,18,18,18,18,17,17,17,17,16,16,16,16,15,15,15,15,15,15,15,15,15,15,14,14,14,14,14,14,13,13,13,13,13,13,13,13,13,13,13,13]
[80,20,20,20,20,20,20,20,20,20,20,20,20,20,20,20,20,20,20,19,19,19,19,19,19,19,19,19,19,19,19,18,18,18,18,18,18,18,18,17,17,17,17,16,16,16,16,15,15,15,15,15,15,15,15,14,14,14,14,14,14,14,14,14,14,14,14,13,13,13,13,13,13]
[81,20,20,20,20,20,20,20,20,20,20,20,20,20,20,20,20,20,20,19,19,19,19,19,19,19,19,19,19,19,19,18,18,18,18,18,18,18,18,17,17,17,17,16,16,16,16,15,15,15,15,15,15,15,15,15,15,15,15,15,15,14,14,14,14,14,14,13,13,13,13,13,13]
[82,20,20,20,20,20,20,20,20,20,20,20,20,20,20,20,20,20,20,20,20,20,20,20,20,19,19,19,19,19,19,19,19,19,19,19,19,18,18,18,18,17,17,17,17,16,16,16,16,15,15,15,15,15,15,15,15,15,15,15,15,14,14,14,14,14,14,14,14,14,14,14,14]
[83,20,20,20,20,20,20,20,20,20,20,20,20,20,20,20,20,20,20,20,20,20,20,20,20,19,19,19,19,19,19,19,19,19,19,19,19,18,18,18,18,17,17,17,17,16,16,16,16,16,16,16,16,16,16,15,15,15,15,15,15,14,14,14,14,14,14,14,14,14,14,14,14]
[84,20,20,20,20,20,20,20,20,20,20,20,20,20,20,20,20,20,20,20,20,20,20,20,20,19,19,19,19,19,19,19,19,19,19,19,19,19,19,18,18,18,18,17,17,17,17,16,16,16,16,16,16,16,16,15,15,15,15,15,15,15,15,15,15,15,15,14,14,14,14,14,14]
[85,20,20,20,20,20,20,20,20,20,20,20,20,20,20,20,20,20,20,20,20,20,20,20,20,20,20,20,20,20,20,19,19,19,19,19,19,19,19,18,18,18,18,17,17,17,17,16,16,16,16,16,16,16,16,16,16,16,16,16,16,15,15,15,15,15,15,14,14,14,14,14,14]
[86,20,20,20,20,20,20,20,20,20,20,20,20,20,20,20,20,20,20,20,20,20,20,20,20,20,20,20,20,20,20,19,19,19,19,19,19,19,19,19,19,18,18,18,18,17,17,17,17,16,16,16,16,16,16,16,16,16,16,16,16,15,15,15,15,15,15,15,15,15,15,15,15]
[87,20,20,20,20,20,20,20,20,20,20,20,20,20,20,20,20,20,20,20,20,20,20,20,20,20,20,20,20,20,20,20,20,20,20,20,20,19,19,19,19,18,18,18,18,17,17,17,17,17,17,17,17,17,17,16,16,16,16,16,16,15,15,15,15,15,15,15,15,15,15,15,15]
[88,20,20,20,20,20,20,20,20,20,20,20,20,20,20,20,20,20,20,20,20,20,20,20,20,20,20,20,20,20,20,20,20,20,20,20,20,19,19,19,19,19,19,18,18,18,18,17,17,17,17,17,17,17,17,16,16,16,16,16,16,16,16,16,16,16,16,15,15,15,15,15,15]
[89,20,20,20,20,20,20,20,20,20,20,20,20,20,20,20,20,20,20,20,20,20,20,20,20,20,20,20,20,20,20,20,20,20,20,20,20,20,20,19,19,19,19,18,18,18,18,17,17,17,17,17,17,17,17,17,17,17,17,17,17,16,16,16,16,16,16,15,15,15,15,15,15]
[90,20,20,20,20,20,20,20,20,20,20,20,20,20,20,20,20,20,20,20,20,20,20,20,20,20,20,20,20,20,20,20,20,20,20,20,20,19,19,19,19,19,19,19,19,18,18,18,18,17,17,17,17,17,17,17,17,17,17,17,17,16,16,16,16,16,16,16,16,16,16,16,16]
[91,20,20,20,20,20,20,20,20,20,20,20,20,20,20,20,20,20,20,20,20,20,20,20,20,20,20,20,20,20,20,20,20,20,20,20,20,19,19,20,20,19,19,19,19,18,18,18,18,18,18,18,18,18,18,17,17,17,17,17,17,16,16,16,16,16,16,16,16,16,16,16,16]
[92,20,20,20,20,20,20,20,20,20,20,20,20,20,20,20,20,20,20,20,20,20,20,20,20,20,20,20,20,20,20,20,20,20,20,20,20,20,20,20,20,19,19,19,19,19,19,18,18,18,18,18,18,18,18,17,17,17,17,17,17,17,17,17,17,17,17,16,16,16,16,16,16]
[93,20,20,20,20,20,20,20,20,20,20,20,20,20,20,20,20,20,20,20,20,20,20,20,20,20,20,20,20,20,20,20,20,20,20,20,20,20,20,20,20,20,20,19,19,19,19,18,18,18,18,18,18,18,18,18,18,18,18,18,18,17,17,17,17,17,17,16,16,16,16,16,16]
[94,20,20,20,20,20,20,20,20,20,20,20,20,20,20,20,20,20,20,20,20,20,20,20,20,20,20,20,20,20,20,20,20,20,20,20,20,20,20,20,20,20,20,19,19,19,19,19,19,18,18,18,18,18,18,18,18,18,18,18,18,17,17,17,17,17,17,17,17,17,17,17,17]
[95,20,20,20,20,20,20,20,20,20,20,20,20,20,20,20,20,20,20,20,20,20,20,20,20,20,20,20,20,20,20,20,20,20,20,20,20,20,20,20,20,20,20,20,20,19,19,19,19,19,19,19,19,19,19,18,18,18,18,18,18,17,17,17,17,17,17,17,17,17,17,17,17]
[96,20,20,20,20,20,20,20,20,20,20,20,20,20,20,20,20,20,20,20,20,20,20,20,20,20,20,20,20,20,20,20,20,20,20,20,20,20,20,20,20,20,20,19,19,19,19,19,19,19,19,19,19,19,19,18,18,18,18,18,18,18,18,18,18,18,18,17,17,17,17,17,17]
[97,20,20,20,20,20,20,20,20,20,20,20,20,20,20,20,20,20,20,20,20,20,20,20,20,20,20,20,20,20,20,20,20,20,20,20,20,20,20,20,20,20,20,20,20,20,20,19,19,19,19,19,19,19,19,19,19,19,19,19,19,18,18,18,18,18,18,17,17,17,17,17,17]
[98,20,20,20,20,20,20,20,20,20,20,20,20,20,20,20,20,20,20,20,20,20,20,20,20,20,20,20,20,20,20,20,20,20,20,20,20,20,20,20,20,20,20,20,20,20,20,19,19,19,19,19,19,19,19,19,19,19,19,19,19,18,18,18,18,18,18,18,18,18,18,18,18]
[99,20,20,20,20,20,20,20,20,20,20,20,20,20,20,20,20,20,20,20,20,20,20,20,20,20,20,20,20,20,20,20,20,20,20,20,20,20,20,20,20,20,20,20,20,20,20,20,20,19,19,19,19,19,19,19,19,19,19,19,19,18,18,18,18,18,18,18,18,18,18,18,18]
[100,20,20,20,20,20,20,20,20,20,20,20,20,20,20,20,20,20,20,20,20,20,20,20,20,20,20,20,20,20,20,20,20,20,20,20,20,20,20,20,20,20,20,20,20,20,20,20,20,20,20,20,20,20,20,19,19,19,19,19,19,19,19,19,19,19,19,18,18,18,18,18,18]
[101,20,20,20,20,20,20,20,20,20,20,20,20,20,20,20,20,20,20,20,20,20,20,20,20,20,20,20,20,20,20,20,20,20,20,20,20,20,20,20,20,20,20,20,20,20,20,20,20,20,20,20,20,20,20,19,19,19,19,19,19,19,19,19,19,19,19,18,18,18,18,18,18]
[102,20,20,20,20,20,20,20,20,20,20,20,20,20,20,20,20,20,20,20,20,20,20,20,20,20,20,20,20,20,20,20,20,20,20,20,20,20,20,20,20,20,20,20,20,20,20,20,20,20,20,20,20,20,20,20,20,20,20,20,20,19,19,19,19,19,19,19,19,19,19,19,19]
[103,20,20,20,20,20,20,20,20,20,20,20,20,20,20,20,20,20,20,20,20,20,20,20,20,20,20,20,20,20,20,20,20,20,20,20,20,20,20,20,20,20,20,20,20,20,20,20,20,20,20,20,20,20,20,20,20,20,20,20,20,19,19,19,19,19,19,19,19,19,19,19,19]
[104,20,20,20,20,20,20,20,20,20,20,20,20,20,20,20,20,20,20,20,20,20,20,20,20,20,20,20,20,20,20,20,20,20,20,20,20,20,20,20,20,20,20,20,20,20,20,20,20,20,20,20,20,20,20,20,20,20,20,20,20,19,19,19,19,19,19,19,19,19,19,19,19]
[105,20,20,20,20,20,20,20,20,20,20,20,20,20,20,20,20,20,20,20,20,20,20,20,20,20,20,20,20,20,20,20,20,20,20,20,20,20,20,20,20,20,20,20,20,20,20,20,20,20,20,20,20,20,20,20,20,20,20,20,20,20,20,20,20,20,20,19,19,19,19,19,19]
[106,20,20,20,20,20,20,20,20,20,20,20,20,20,20,20,20,20,20,20,20,20,20,20,20,20,20,20,20,20,20,20,20,20,20,20,20,20,20,20,20,20,20,20,20,20,20,20,20,20,20,20,20,20,20,20,20,20,20,20,20,20,20,20,20,20,20,19,19,19,19,19,19]
[107,20,20,20,20,20,20,20,20,20,20,20,20,20,20,20,20,20,20,20,20,20,20,20,20,20,20,20,20,20,20,20,20,20,20,20,20,20,20,20,20,20,20,20,20,20,20,20,20,20,20,20,20,20,20,20,20,20,20,20,20,20,20,20,20,20,20,20,20,20,20,20,20]

{"sheet":"Course 20 m","index":5,"n_rows":373,"n_cols":73,"rows_kept":373,"hidden":true}
[null,73,74,75,76,77,78,79,80,81,82,83,84,85,86,87,88,89,90,91,92,93,94,95,96,97,98,99,100,101,102,103,104,105,106,107,108,109,110,111,112,113,114,115,116,117,118,119,120,121,122,123,124,125,126,127,128,129,130,131,132,133,134,135,136,137,138,139,140,141,142,143,144]
[280,20,20,20,20,20,20,20,20,20,20,20,20,20,20,20,20,20,20,20,20,20,20,20,20,20,20,20,20,20,20,20,20,20,20,20,20,20,20,20,20,20,20,20,20,20,20,20,20,20,20,20,20,20,20,20,20,20,20,20,20,20,20,20,20,20,20,20,20,20,20,20,20]
[281,20,20,20,20,20,20,20,20,20,20,20,20,20,20,20,20,20,20,20,20,20,20,20,20,20,20,20,20,20,20,20,20,20,20,20,20,20,20,20,20,20,20,20,20,20,20,20,20,20,20,20,20,20,20,20,20,20,20,20,20,20,20,20,20,20,20,20,20,20,20,20,20]
[282,20,20,20,20,20,20,20,20,20,20,20,20,20,20,20,20,20,20,20,20,20,20,20,20,20,20,20,20,20,20,20,20,20,20,20,20,20,20,20,20,20,20,20,20,20,20,20,20,20,20,20,20,20,20,20,20,20,20,20,20,20,20,20,20,20,20,20,20,20,20,20,20]
[283,20,20,20,20,20,20,20,20,20,20,20,20,20,20,20,20,20,20,20,20,20,20,20,20,20,20,20,20,20,20,20,20,20,20,20,20,20,20,20,20,20,20,20,20,20,20,20,20,20,20,20,20,20,20,20,20,20,20,20,20,20,20,20,20,20,20,20,20,20,20,20,20]
[284,20,20,20,20,20,20,20,20,20,20,20,20,20,20,20,20,20,20,20,20,20,20,20,20,20,20,20,20,20,20,20,20,20,20,20,20,20,20,20,20,20,20,20,20,20,20,20,20,20,20,20,20,20,20,20,20,20,20,20,20,20,20,20,20,20,20,20,20,20,20,20,20]
[285,20,20,20,20,20,20,20,20,20,20,20,20,20,20,20,20,20,20,20,20,20,20,20,20,20,20,20,20,20,20,20,20,20,20,20,20,20,20,20,20,20,20,20,20,20,20,20,20,20,20,20,20,20,20,20,20,20,20,20,20,20,20,20,20,20,20,20,20,20,20,20,20]
[286,20,20,20,20,20,20,20,20,20,20,20,20,20,20,20,20,20,20,20,20,20,20,20,20,20,20,20,20,20,20,20,20,20,20,20,20,20,20,20,20,20,20,20,20,20,20,20,20,20,20,20,20,20,20,20,20,20,20,20,20,20,20,20,20,20,20,20,20,20,20,20,20]
[287,20,20,20,20,20,20,20,20,20,20,20,20,20,20,20,20,20,20,20,20,20,20,20,20,20,20,20,20,20,20,20,20,20,20,20,20,20,20,20,20,20,20,20,20,20,20,20,20,20,20,20,20,20,20,20,20,20,20,20,20,20,20,20,20,20,20,20,20,20,20,20,20]
[288,20,20,20,20,20,20,20,20,20,20,20,20,20,20,20,20,20,20,20,20,20,20,20,20,20,20,20,20,20,20,20,20,20,20,20,20,20,20,20,20,20,20,20,20,20,20,20,20,20,20,20,20,20,20,20,20,20,20,20,20,20,20,20,20,20,20,20,20,20,20,20,20]
[289,20,20,20,20,20,20,20,20,20,20,20,20,20,20,20,20,20,20,20,20,20,20,20,20,20,20,20,20,20,20,20,20,20,20,20,20,20,20,20,20,20,20,20,20,20,20,20,20,20,20,20,20,20,20,20,20,20,20,20,20,20,20,20,20,20,20,20,20,20,20,20,20]
[290,20,20,20,20,20,20,20,20,20,20,20,20,20,20,20,20,20,20,20,20,20,20,20,20,20,20,20,20,20,20,20,20,20,20,20,20,20,20,20,20,20,20,20,20,20,20,20,20,20,20,20,20,20,20,20,20,20,20,20,20,20,20,20,20,20,20,20,20,20,20,20,20]
[291,20,20,20,20,20,20,20,20,20,20,20,20,20,20,20,20,20,20,20,20,20,20,20,20,20,20,20,20,20,20,20,20,20,20,20,20,20,20,20,20,20,20,20,20,20,20,20,20,20,20,20,20,20,20,20,20,20,20,20,20,20,20,20,20,20,20,20,20,20,20,20,20]
[292,20,20,20,20,20,20,20,20,20,20,20,20,20,20,20,20,20,20,20,20,20,20,20,20,20,20,20,20,20,20,20,20,20,20,20,20,20,20,20,20,20,20,20,20,20,20,20,20,20,20,20,20,20,20,20,20,20,20,20,20,20,20,20,20,20,20,20,20,20,20,20,20]
[293,20,20,20,20,20,20,20,20,20,20,20,20,20,20,20,20,20,20,20,20,20,20,20,20,20,20,20,20,20,20,20,20,20,20,20,20,20,20,20,20,20,20,20,20,20,20,20,20,20,20,20,20,20,20,20,20,20,20,20,20,20,20,20,20,20,20,20,20,20,20,20,20]
[294,20,20,20,20,20,20,20,20,20,20,20,20,20,20,20,20,20,20,20,20,20,20,20,20,20,20,20,20,20,20,20,20,20,20,20,20,20,20,20,20,20,20,20,20,20,20,20,20,20,20,20,20,20,20,20,20,20,20,20,20,20,20,20,20,20,20,20,20,20,20,20,20]
[295,20,20,20,20,20,20,20,20,20,20,20,20,20,20,20,20,20,20,20,20,20,20,20,20,20,20,20,20,20,20,20,20,20,20,20,20,20,20,20,20,20,20,20,20,20,20,20,20,20,20,20,20,20,20,20,20,20,20,20,20,20,20,20,20,20,20,20,20,20,20,20,20]
[296,20,20,20,20,20,20,20,20,20,20,20,20,20,20,20,20,20,20,20,20,20,20,20,20,20,20,20,20,20,20,20,20,20,20,20,20,20,20,20,20,20,20,20,20,20,20,20,20,20,20,20,20,20,20,20,20,20,20,20,20,20,20,20,20,20,20,20,20,20,20,20,20]
[297,20,20,20,20,20,20,20,20,20,20,20,20,20,20,20,20,20,20,20,20,20,20,20,20,20,20,20,20,20,20,20,20,20,20,20,20,20,20,20,20,20,20,20,20,20,20,20,20,20,20,20,20,20,20,20,20,20,20,20,20,20,20,20,20,20,20,20,20,20,20,20,20]
[298,20,20,20,20,20,20,20,20,20,20,20,20,20,20,20,20,20,20,20,20,20,20,20,20,20,20,20,20,20,20,20,20,20,20,20,20,20,20,20,20,20,20,20,20,20,20,20,20,20,20,20,20,20,20,20,20,20,20,20,20,20,20,20,20,20,20,20,20,20,20,20,20]
[299,20,20,20,20,20,20,20,20,20,20,20,20,20,20,20,20,20,20,20,20,20,20,20,20,20,20,20,20,20,20,20,20,20,20,20,20,20,20,20,20,20,20,20,20,20,20,20,20,20,20,20,20,20,20,20,20,20,20,20,20,20,20,20,20,20,20,20,20,20,20,20,20]
[300,20,20,20,20,20,20,20,20,20,20,20,20,20,20,20,20,20,20,20,20,20,20,20,20,20,20,20,20,20,20,20,20,20,20,20,20,20,20,20,20,20,20,20,20,20,20,20,20,20,20,20,20,20,20,20,20,20,20,20,20,20,20,20,20,20,20,20,20,20,20,20,20]
[301,20,20,20,20,20,20,20,20,20,20,20,20,20,20,20,20,20,20,20,20,20,20,20,20,20,20,20,20,20,20,20,20,20,20,20,20,20,20,20,20,20,20,20,20,20,20,20,20,20,20,20,20,20,20,20,20,20,20,20,20,20,20,20,20,20,20,20,20,20,20,20,20]
[302,20,20,20,20,20,20,20,20,20,20,20,20,20,20,20,20,20,20,20,20,20,20,20,20,20,20,20,20,20,20,20,20,20,20,20,20,20,20,20,20,20,20,20,20,20,20,20,20,20,20,20,20,20,20,20,20,20,20,20,20,20,20,20,20,20,20,20,20,20,20,20,20]
[303,20,20,20,20,20,20,20,20,20,20,20,20,20,20,20,20,20,20,20,20,20,20,20,20,20,20,20,20,20,20,20,20,20,20,20,20,20,20,20,20,20,20,20,20,20,20,20,20,20,20,20,20,20,20,20,20,20,20,20,20,20,20,20,20,20,20,20,20,20,20,20,20]
[304,20,20,20,20,20,20,20,20,20,20,20,20,20,20,20,20,20,20,20,20,20,20,20,20,20,20,20,20,20,20,20,20,20,20,20,20,20,20,20,20,20,20,20,20,20,20,20,20,20,20,20,20,20,20,20,20,20,20,20,20,20,20,20,20,20,20,20,20,20,20,20,20]
[305,20,20,20,20,20,20,20,20,20,20,20,20,20,20,20,20,20,20,20,20,20,20,20,20,20,20,20,20,20,20,20,20,20,20,20,20,20,20,20,20,20,20,20,20,20,20,20,20,20,20,20,20,20,20,20,20,20,20,20,20,20,20,20,20,20,20,20,20,20,20,20,20]
[306,20,20,20,20,20,20,20,20,20,20,20,20,20,20,20,20,20,20,20,20,20,20,20,20,20,20,20,20,20,20,20,20,20,20,20,20,20,20,20,20,20,20,20,20,20,20,20,20,20,20,20,20,20,20,20,20,20,20,20,20,20,20,20,20,20,20,20,20,20,20,20,20]
[307,20,20,20,20,20,20,20,20,20,20,20,20,20,20,20,20,20,20,20,20,20,20,20,20,20,20,20,20,20,20,20,20,20,20,20,20,20,20,20,20,20,20,20,20,20,20,20,20,20,20,20,20,20,20,20,20,20,20,20,20,20,20,20,20,20,20,20,20,20,20,20,20]
[308,20,20,20,20,20,20,20,20,20,20,20,20,20,20,20,20,20,20,20,20,20,20,20,20,20,20,20,20,20,20,20,20,20,20,20,20,20,20,20,20,20,20,20,20,20,20,20,20,20,20,20,20,20,20,20,20,20,20,20,20,20,20,20,20,20,20,20,20,20,20,20,20]
[309,20,20,20,20,20,20,20,20,20,20,20,20,20,20,20,20,20,20,20,20,20,20,20,20,20,20,20,20,20,20,20,20,20,20,20,20,20,20,20,20,20,20,20,20,20,20,20,20,20,20,20,20,20,20,20,20,20,20,20,20,20,20,20,20,20,20,20,20,20,20,20,20]
[310,20,20,20,20,20,20,20,20,20,20,20,20,20,20,20,20,20,20,20,20,20,20,20,20,20,20,20,20,20,20,20,20,20,20,20,20,20,20,20,20,20,20,20,20,20,20,20,20,20,20,20,20,20,20,20,20,20,20,20,20,20,20,20,20,20,20,20,20,20,20,20,20]
[311,20,20,20,20,20,20,20,20,20,20,20,20,20,20,20,20,20,20,20,20,20,20,20,20,20,20,20,20,20,20,20,20,20,20,20,20,20,20,20,20,20,20,20,20,20,20,20,20,20,20,20,20,20,20,20,20,20,20,20,20,20,20,20,20,20,20,20,20,20,20,20,20]
[312,20,20,20,20,20,20,20,20,20,20,20,20,20,20,20,20,20,20,20,20,20,20,20,20,20,20,20,20,20,20,20,20,20,20,20,20,20,20,20,20,20,20,20,20,20,20,20,20,20,20,20,20,20,20,20,20,20,20,20,20,20,20,20,20,20,20,20,20,20,20,20,20]
[313,20,20,20,20,20,20,20,20,20,20,20,20,20,20,20,20,20,20,20,20,20,20,20,20,20,20,20,20,20,20,20,20,20,20,20,20,20,20,20,20,20,20,20,20,20,20,20,20,20,20,20,20,20,20,20,20,20,20,20,20,20,20,20,20,20,20,20,20,20,20,20,20]
[314,20,20,20,20,20,20,20,20,20,20,20,20,20,20,20,20,20,20,20,20,20,20,20,20,20,20,20,20,20,20,20,20,20,20,20,20,20,20,20,20,20,20,20,20,20,20,20,20,20,20,20,20,20,20,20,20,20,20,20,20,20,20,20,20,20,20,20,20,20,20,20,20]
[315,20,20,20,20,20,20,20,20,20,20,20,20,20,20,20,20,20,20,20,20,20,20,20,20,20,20,20,20,20,20,20,20,20,20,20,20,20,20,20,20,20,20,20,20,20,20,20,20,20,20,20,20,20,20,20,20,20,20,20,20,20,20,20,20,20,20,20,20,20,20,20,20]
[316,20,20,20,20,20,20,20,20,20,20,20,20,20,20,20,20,20,20,20,20,20,20,20,20,20,20,20,20,20,20,20,20,20,20,20,20,20,20,20,20,20,20,20,20,20,20,20,20,20,20,20,20,20,20,20,20,20,20,20,20,20,20,20,20,20,20,20,20,20,20,20,20]
[317,20,20,20,20,20,20,20,20,20,20,20,20,20,20,20,20,20,20,20,20,20,20,20,20,20,20,20,20,20,20,20,20,20,20,20,20,20,20,20,20,20,20,20,20,20,20,20,20,20,20,20,20,20,20,20,20,20,20,20,20,20,20,20,20,20,20,20,20,20,20,20,20]
[318,20,20,20,20,20,20,20,20,20,20,20,20,20,20,20,20,20,20,20,20,20,20,20,20,20,20,20,20,20,20,20,20,20,20,20,20,20,20,20,20,20,20,20,20,20,20,20,20,20,20,20,20,20,20,20,20,20,20,20,20,20,20,20,20,20,20,20,20,20,20,20,20]
[319,20,20,20,20,20,20,20,20,20,20,20,20,20,20,20,20,20,20,20,20,20,20,20,20,20,20,20,20,20,20,20,20,20,20,20,20,20,20,20,20,20,20,20,20,20,20,20,20,20,20,20,20,20,20,20,20,20,20,20,20,20,20,20,20,20,20,20,20,20,20,20,20]
[320,20,20,20,20,20,20,20,20,20,20,20,20,20,20,20,20,20,20,20,20,20,20,20,20,20,20,20,20,20,20,20,20,20,20,20,20,20,20,20,20,20,20,20,20,20,20,20,20,20,20,20,20,20,20,20,20,20,20,20,20,20,20,20,20,20,20,20,20,20,20,20,20]
[321,20,20,20,20,20,20,20,20,20,20,20,20,20,20,20,20,20,20,20,20,20,20,20,20,20,20,20,20,20,20,20,20,20,20,20,20,20,20,20,20,20,20,20,20,20,20,20,20,20,20,20,20,20,20,20,20,20,20,20,20,20,20,20,20,20,20,19,19,19,19,19,19]
[322,20,20,20,20,20,20,20,20,20,20,20,20,20,20,20,20,20,20,20,20,20,20,20,20,20,20,20,20,20,20,20,20,20,20,20,20,20,20,20,20,20,20,20,20,20,20,20,20,20,20,20,20,20,20,20,20,20,20,20,20,20,20,20,20,20,20,19,19,19,19,19,19]
[323,20,20,20,20,20,20,20,20,20,20,20,20,20,20,20,20,20,20,20,20,20,20,20,20,20,20,20,20,20,20,20,20,20,20,20,20,20,20,20,20,20,20,20,20,20,20,20,20,20,20,20,20,20,20,20,20,20,20,20,20,19,19,19,19,19,19,19,19,19,19,19,19]
[324,20,20,20,20,20,20,20,20,20,20,20,20,20,20,20,20,20,20,20,20,20,20,20,20,20,20,20,20,20,20,20,20,20,20,20,20,20,20,20,20,20,20,20,20,20,20,20,20,20,20,20,20,20,20,20,20,20,20,20,20,19,19,19,19,19,19,19,19,19,19,19,19]
[325,20,20,20,20,20,20,20,20,20,20,20,20,20,20,20,20,20,20,20,20,20,20,20,20,20,20,20,20,20,20,20,20,20,20,20,20,20,20,20,20,20,20,20,20,20,20,20,20,20,20,20,20,20,20,20,20,20,20,20,20,19,19,19,19,19,19,19,19,19,19,19,19]
[326,20,20,20,20,20,20,20,20,20,20,20,20,20,20,20,20,20,20,20,20,20,20,20,20,20,20,20,20,20,20,20,20,20,20,20,20,20,20,20,20,20,20,20,20,20,20,20,20,20,20,20,20,20,20,19,19,19,19,19,19,19,19,19,19,19,19,19,19,19,19,19,19]
[327,20,20,20,20,20,20,20,20,20,20,20,20,20,20,20,20,20,20,20,20,20,20,20,20,20,20,20,20,20,20,20,20,20,20,20,20,20,20,20,20,20,20,20,20,20,20,20,20,20,20,20,20,20,20,19,19,19,19,19,19,19,19,19,19,19,19,19,19,19,19,19,19]
[328,20,20,20,20,20,20,20,20,20,20,20,20,20,20,20,20,20,20,20,20,20,20,20,20,20,20,20,20,20,20,20,20,20,20,20,20,20,20,20,20,20,20,20,20,20,20,20,20,20,20,20,20,20,20,19,19,19,19,19,19,19,19,19,19,19,19,19,19,19,19,19,19]
[329,20,20,20,20,20,20,20,20,20,20,20,20,20,20,20,20,20,20,20,20,20,20,20,20,20,20,20,20,20,20,20,20,20,20,20,20,20,20,20,20,20,20,20,20,20,20,20,20,19,19,19,19,19,19,19,19,19,19,19,19,19,19,19,19,19,19,19,19,19,19,19,19]
[330,20,20,20,20,20,20,20,20,20,20,20,20,20,20,20,20,20,20,20,20,20,20,20,20,20,20,20,20,20,20,20,20,20,20,20,20,20,20,20,20,20,20,20,20,20,20,20,20,19,19,19,19,19,19,19,19,19,19,19,19,19,19,19,19,19,19,19,19,19,19,19,19]
[331,20,20,20,20,20,20,20,20,20,20,20,20,20,20,20,20,20,20,20,20,20,20,20,20,20,20,20,20,20,20,20,20,20,20,20,20,20,20,20,20,20,20,19,19,19,19,19,19,19,19,19,19,19,19,19,19,19,19,19,19,19,19,19,19,19,19,19,19,19,19,19,19]
[332,20,20,20,20,20,20,20,20,20,20,20,20,20,20,20,20,20,20,20,20,20,20,20,20,20,20,20,20,20,20,20,20,20,20,20,20,20,20,20,20,20,20,19,19,19,19,19,19,19,19,19,19,19,19,19,19,19,19,19,19,19,19,19,19,19,19,19,19,19,19,19,19]
[333,20,20,20,20,20,20,20,20,20,20,20,20,20,20,20,20,20,20,20,20,20,20,20,20,20,20,20,20,20,20,20,20,20,20,20,20,20,20,20,20,20,20,19,19,19,19,19,19,19,19,19,19,19,19,19,19,19,19,19,19,19,19,19,19,19,19,19,19,19,19,19,19]
[334,20,20,20,20,20,20,20,20,20,20,20,20,20,20,20,20,20,20,20,20,20,20,20,20,20,20,20,20,20,20,20,20,20,20,20,20,20,20,20,20,20,20,19,19,19,19,19,19,19,19,19,19,19,19,19,19,19,19,19,19,19,19,19,19,19,19,19,19,19,19,19,19]
[335,20,20,20,20,20,20,20,20,20,20,20,20,20,20,20,20,20,20,20,20,20,20,20,20,20,20,20,20,20,20,20,20,20,20,20,20,20,20,20,20,20,20,19,19,19,19,19,19,19,19,19,19,19,19,19,19,19,19,19,19,19,19,19,19,19,19,19,19,19,19,19,19]
[336,20,20,20,20,20,20,20,20,20,20,20,20,20,20,20,20,20,20,20,20,20,20,20,20,20,20,20,20,20,20,20,20,20,20,20,20,19,19,19,19,19,19,19,19,19,19,19,19,19,19,19,19,19,19,19,19,19,19,19,19,19,19,19,19,19,19,18,18,18,18,18,18]
[337,20,20,20,20,20,20,20,20,20,20,20,20,20,20,20,20,20,20,20,20,20,20,20,20,20,20,20,20,20,20,20,20,20,20,20,20,19,19,19,19,19,19,19,19,19,19,19,19,19,19,19,19,19,19,19,19,19,19,19,19,19,19,19,19,19,19,18,18,18,18,18,18]
[338,20,20,20,20,20,20,20,20,20,20,20,20,20,20,20,20,20,20,20,20,20,20,20,20,20,20,20,20,20,20,20,20,20,20,20,20,19,19,19,19,19,19,19,19,19,19,19,19,19,19,19,19,19,19,19,19,19,19,19,19,18,18,18,18,18,18,18,18,18,18,18,18]
[339,20,20,20,20,20,20,20,20,20,20,20,20,20,20,20,20,20,20,20,20,20,20,20,20,20,20,20,20,20,20,20,20,20,20,20,20,19,19,19,19,19,19,19,19,19,19,19,19,19,19,19,19,19,19,19,19,19,19,19,19,18,18,18,18,18,18,18,18,18,18,18,18]
[340,20,20,20,20,20,20,20,20,20,20,20,20,20,20,20,20,20,20,20,20,20,20,20,20,20,20,20,20,20,20,20,20,20,20,20,20,19,19,19,19,19,19,19,19,19,19,19,19,19,19,19,19,19,19,19,19,19,19,19,19,18,18,18,18,18,18,18,18,18,18,18,18]
[341,20,20,20,20,20,20,20,20,20,20,20,20,20,20,20,20,20,20,20,20,20,20,20,20,20,20,20,20,20,20,19,19,19,19,19,19,19,19,19,19,19,19,19,19,19,19,19,19,19,19,19,19,19,19,18,18,18,18,18,18,18,18,18,18,18,18,18,18,18,18,18,18]
[342,20,20,20,20,20,20,20,20,20,20,20,20,20,20,20,20,20,20,20,20,20,20,20,20,20,20,20,20,20,20,19,19,19,19,19,19,19,19,19,19,19,19,19,19,19,19,19,19,19,19,19,19,19,19,18,18,18,18,18,18,18,18,18,18,18,18,18,18,18,18,18,18]
[343,20,20,20,20,20,20,20,20,20,20,20,20,20,20,20,20,20,20,20,20,20,20,20,20,20,20,20,20,20,20,19,19,19,19,19,19,19,19,19,19,19,19,19,19,19,19,19,19,19,19,19,19,19,19,18,18,18,18,18,18,18,18,18,18,18,18,18,18,18,18,18,18]
[344,20,20,20,20,20,20,20,20,20,20,20,20,20,20,20,20,20,20,20,20,20,20,20,20,20,20,20,20,20,20,19,19,19,19,19,19,19,19,19,19,19,19,19,19,19,19,19,19,18,18,18,18,18,18,18,18,18,18,18,18,18,18,18,18,18,18,18,18,18,18,18,18]
[345,20,20,20,20,20,20,20,20,20,20,20,20,20,20,20,20,20,20,20,20,20,20,20,20,20,20,20,20,20,20,19,19,19,19,19,19,19,19,19,19,19,19,19,19,19,19,19,19,18,18,18,18,18,18,18,18,18,18,18,18,18,18,18,18,18,18,18,18,18,18,18,18]
[346,20,20,20,20,20,20,20,20,20,20,20,20,20,20,20,20,20,20,20,20,20,20,20,20,19,19,19,19,19,19,19,19,19,19,19,19,19,19,19,19,19,19,18,18,18,18,18,18,18,18,18,18,18,18,18,18,18,18,18,18,18,18,18,18,18,18,18,18,18,18,18,18]
[347,20,20,20,20,20,20,20,20,20,20,20,20,20,20,20,20,20,20,20,20,20,20,20,20,19,19,19,19,19,19,19,19,19,19,19,19,19,19,19,19,19,19,18,18,18,18,18,18,18,18,18,18,18,18,18,18,18,18,18,18,18,18,18,18,18,18,18,18,18,18,18,18]
[348,20,20,20,20,20,20,20,20,20,20,20,20,20,20,20,20,20,20,20,20,20,20,20,20,19,19,19,19,19,19,19,19,19,19,19,19,19,19,19,19,19,19,18,18,18,18,18,18,18,18,18,18,18,18,18,18,18,18,18,18,18,18,18,18,18,18,18,18,18,18,18,18]
[349,20,20,20,20,20,20,20,20,20,20,20,20,20,20,20,20,20,20,20,20,20,20,20,20,19,19,19,19,19,19,19,19,19,19,19,19,19,19,19,19,19,19,18,18,18,18,18,18,18,18,18,18,18,18,18,18,18,18,18,18,18,18,18,18,18,18,18,18,18,18,18,18]
[350,20,20,20,20,20,20,20,20,20,20,20,20,20,20,20,20,20,20,20,20,20,20,20,20,19,19,19,19,19,19,19,19,19,19,19,19,19,19,19,19,19,19,18,18,18,18,18,18,18,18,18,18,18,18,18,18,18,18,18,18,18,18,18,18,18,18,18,18,18,18,18,18]
[351,20,20,20,20,20,20,20,20,20,20,20,20,20,20,20,20,20,20,19,19,19,19,19,19,19,19,19,19,19,19,19,19,19,19,19,19,18,18,18,18,18,18,18,18,18,18,18,18,18,18,18,18,18,18,18,18,18,18,18,18,18,18,18,18,18,18,17,17,17,17,17,17]
[352,20,20,20,20,20,20,20,20,20,20,20,20,20,20,20,20,20,20,19,19,19,19,19,19,19,19,19,19,19,19,19,19,19,19,19,19,18,18,18,18,18,18,18,18,18,18,18,18,18,18,18,18,18,18,18,18,18,18,18,18,18,18,18,18,18,18,17,17,17,17,17,17]
[353,20,20,20,20,20,20,20,20,20,20,20,20,20,20,20,20,20,20,19,19,19,19,19,19,19,19,19,19,19,19,19,19,19,19,19,19,18,18,18,18,18,18,18,18,18,18,18,18,18,18,18,18,18,18,18,18,18,18,18,18,17,17,17,17,17,17,17,17,17,17,17,17]
[354,20,20,20,20,20,20,20,20,20,20,20,20,20,20,20,20,20,20,19,19,19,19,19,19,19,19,19,19,19,19,19,19,19,19,19,19,18,18,18,18,18,18,18,18,18,18,18,18,18,18,18,18,18,18,18,18,18,18,18,18,17,17,17,17,17,17,17,17,17,17,17,17]
[355,20,20,20,20,20,20,20,20,20,20,20,20,20,20,20,20,20,20,19,19,19,19,19,19,19,19,19,19,19,19,19,19,19,19,19,19,18,18,18,18,18,18,18,18,18,18,18,18,18,18,18,18,18,18,18,18,18,18,18,18,17,17,17,17,17,17,17,17,17,17,17,17]
[356,20,20,20,20,20,20,20,20,20,20,20,20,19,19,19,19,19,19,19,19,19,19,19,19,19,19,19,19,19,19,18,18,18,18,18,18,18,18,18,18,18,18,18,18,18,18,18,18,18,18,18,18,18,18,17,17,17,17,17,17,17,17,17,17,17,17,17,17,17,17,17,17]
[357,20,20,20,20,20,20,20,20,20,20,20,20,19,19,19,19,19,19,19,19,19,19,19,19,19,19,19,19,19,19,18,18,18,18,18,18,18,18,18,18,18,18,18,18,18,18,18,18,18,18,18,18,18,18,17,17,17,17,17,17,17,17,17,17,17,17,17,17,17,17,17,17]
[358,20,20,20,20,20,20,20,20,20,20,20,20,19,19,19,19,19,19,19,19,19,19,19,19,19,19,19,19,19,19,18,18,18,18,18,18,18,18,18,18,18,18,18,18,18,18,18,18,18,18,18,18,18,18,17,17,17,17,17,17,17,17,17,17,17,17,17,17,17,17,17,17]
[359,20,20,20,20,20,20,20,20,20,20,20,20,19,19,19,19,19,19,19,19,19,19,19,19,19,19,19,19,19,19,18,18,18,18,18,18,18,18,18,18,18,18,18,18,18,18,18,18,17,17,17,17,17,17,17,17,17,17,17,17,17,17,17,17,17,17,17,17,17,17,17,17]
[360,20,20,20,20,20,20,20,20,20,20,20,20,19,19,19,19,19,19,19,19,19,19,19,19,19,19,19,19,19,19,18,18,18,18,18,18,18,18,18,18,18,18,18,18,18,18,18,18,17,17,17,17,17,17,17,17,17,17,17,17,17,17,17,17,17,17,17,17,17,17,17,17]
[361,20,20,20,20,20,20,19,19,19,19,19,19,19,19,19,19,19,19,19,19,19,19,19,19,18,18,18,18,18,18,18,18,18,18,18,18,18,18,18,18,18,18,17,17,17,17,17,17,17,17,17,17,17,17,17,17,17,17,17,17,17,17,17,17,17,17,17,17,17,17,17,17]
[362,20,20,20,20,20,20,19,19,19,19,19,19,19,19,19,19,19,19,19,19,19,19,19,19,18,18,18,18,18,18,18,18,18,18,18,18,18,18,18,18,18,18,17,17,17,17,17,17,17,17,17,17,17,17,17,17,17,17,17,17,17,17,17,17,17,17,17,17,17,17,17,17]
[363,20,20,20,20,20,20,19,19,19,19,19,19,19,19,19,19,19,19,19,19,19,19,19,19,18,18,18,18,18,18,18,18,18,18,18,18,18,18,18,18,18,18,17,17,17,17,17,17,17,17,17,17,17,17,17,17,17,17,17,17,17,17,17,17,17,17,17,17,17,17,17,17]
[364,20,20,20,20,20,20,19,19,19,19,19,19,19,19,19,19,19,19,19,19,19,19,19,19,18,18,18,18,18,18,18,18,18,18,18,18,18,18,18,18,18,18,17,17,17,17,17,17,17,17,17,17,17,17,17,17,17,17,17,17,17,17,17,17,17,17,17,17,17,17,17,17]
[365,20,20,20,20,20,20,19,19,19,19,19,19,19,19,19,19,19,19,19,19,19,19,19,19,18,18,18,18,18,18,18,18,18,18,18,18,18,18,18,18,18,18,17,17,17,17,17,17,17,17,17,17,17,17,17,17,17,17,17,17,17,17,17,17,17,17,17,17,17,17,17,17]
[366,19,19,19,19,19,19,19,19,19,19,19,19,19,19,19,19,19,19,18,18,18,18,18,18,18,18,18,18,18,18,18,18,18,18,18,18,17,17,17,17,17,17,17,17,17,17,17,17,17,17,17,17,17,17,17,17,17,17,17,17,17,17,17,17,17,17,16,16,16,16,16,16]
[367,19,19,19,19,19,19,19,19,19,19,19,19,19,19,19,19,19,19,18,18,18,18,18,18,18,18,18,18,18,18,18,18,18,18,18,18,17,17,17,17,17,17,17,17,17,17,17,17,17,17,17,17,17,17,17,17,17,17,17,17,17,17,17,17,17,17,16,16,16,16,16,16]
[368,19,19,19,19,19,19,19,19,19,19,19,19,19,19,19,19,19,19,18,18,18,18,18,18,18,18,18,18,18,18,18,18,18,18,18,18,17,17,17,17,17,17,17,17,17,17,17,17,17,17,17,17,17,17,17,17,17,17,17,17,16,16,16,16,16,16,16,16,16,16,16,16]
[369,19,19,19,19,19,19,19,19,19,19,19,19,19,19,19,19,19,19,18,18,18,18,18,18,18,18,18,18,18,18,18,18,18,18,18,18,17,17,17,17,17,17,17,17,17,17,17,17,17,17,17,17,17,17,17,17,17,17,17,17,16,16,16,16,16,16,16,16,16,16,16,16]
[370,19,19,19,19,19,19,19,19,19,19,19,19,19,19,19,19,19,19,18,18,18,18,18,18,18,18,18,18,18,18,18,18,18,18,18,18,17,17,17,17,17,17,17,17,17,17,17,17,17,17,17,17,17,17,17,17,17,17,17,17,16,16,16,16,16,16,16,16,16,16,16,16]
[371,19,19,19,19,19,19,19,19,19,19,19,19,18,18,18,18,18,18,18,18,18,18,18,18,18,18,18,18,18,18,17,17,17,17,17,17,17,17,17,17,17,17,17,17,17,17,17,17,17,17,17,17,17,17,16,16,16,16,16,16,16,16,16,16,16,16,16,16,16,16,16,16]
[372,19,19,19,19,19,19,19,19,19,19,19,19,18,18,18,18,18,18,18,18,18,18,18,18,18,18,18,18,18,18,17,17,17,17,17,17,17,17,17,17,17,17,17,17,17,17,17,17,17,17,17,17,17,17,16,16,16,16,16,16,16,16,16,16,16,16,16,16,16,16,16,16]
[373,19,19,19,19,19,19,19,19,19,19,19,19,18,18,18,18,18,18,18,18,18,18,18,18,18,18,18,18,18,18,17,17,17,17,17,17,17,17,17,17,17,17,17,17,17,17,17,17,17,17,17,17,17,17,16,16,16,16,16,16,16,16,16,16,16,16,16,16,16,16,16,16]
[374,19,19,19,19,19,19,19,19,19,19,19,19,18,18,18,18,18,18,18,18,18,18,18,18,18,18,18,18,18,18,17,17,17,17,17,17,17,17,17,17,17,17,17,17,17,17,17,17,16,16,16,16,16,16,16,16,16,16,16,16,16,16,16,16,16,16,16,16,16,16,16,16]
[375,19,19,19,19,19,19,19,19,19,19,19,19,18,18,18,18,18,18,18,18,18,18,18,18,18,18,18,18,18,18,17,17,17,17,17,17,17,17,17,17,17,17,17,17,17,17,17,17,16,16,16,16,16,16,16,16,16,16,16,16,16,16,16,16,16,16,16,16,16,16,16,16]
[376,19,19,19,19,19,19,18,18,18,18,18,18,18,18,18,18,18,18,18,18,18,18,18,18,17,17,17,17,17,17,17,17,17,17,17,17,17,17,17,17,17,17,16,16,16,16,16,16,16,16,16,16,16,16,16,16,16,16,16,16,16,16,16,16,16,16,16,16,16,16,16,16]
[377,19,19,19,19,19,19,18,18,18,18,18,18,18,18,18,18,18,18,18,18,18,18,18,18,17,17,17,17,17,17,17,17,17,17,17,17,17,17,17,17,17,17,16,16,16,16,16,16,16,16,16,16,16,16,16,16,16,16,16,16,16,16,16,16,16,16,16,16,16,16,16,16]
[378,19,19,19,19,19,19,18,18,18,18,18,18,18,18,18,18,18,18,18,18,18,18,18,18,17,17,17,17,17,17,17,17,17,17,17,17,17,17,17,17,17,17,16,16,16,16,16,16,16,16,16,16,16,16,16,16,16,16,16,16,16,16,16,16,16,16,16,16,16,16,16,16]
[379,19,19,19,19,19,19,18,18,18,18,18,18,18,18,18,18,18,18,18,18,18,18,18,18,17,17,17,17,17,17,17,17,17,17,17,17,17,17,17,17,17,17,16,16,16,16,16,16,16,16,16,16,16,16,16,16,16,16,16,16,16,16,16,16,16,16,16,16,16,16,16,16]
[380,19,19,19,19,19,19,18,18,18,18,18,18,18,18,18,18,18,18,18,18,18,18,18,18,17,17,17,17,17,17,17,17,17,17,17,17,17,17,17,17,17,17,16,16,16,16,16,16,16,16,16,16,16,16,16,16,16,16,16,16,16,16,16,16,16,16,16,16,16,16,16,16]
[381,18,18,18,18,18,18,18,18,18,18,18,18,18,18,18,18,18,18,17,17,17,17,17,17,17,17,17,17,17,17,17,17,17,17,17,17,16,16,16,16,16,16,16,16,16,16,16,16,16,16,16,16,16,16,16,16,16,16,16,16,16,16,16,16,16,16,15,15,15,15,15,15]
[382,18,18,18,18,18,18,18,18,18,18,18,18,18,18,18,18,18,18,17,17,17,17,17,17,17,17,17,17,17,17,17,17,17,17,17,17,16,16,16,16,16,16,16,16,16,16,16,16,16,16,16,16,16,16,16,16,16,16,16,16,16,16,16,16,16,16,15,15,15,15,15,15]
[383,18,18,18,18,18,18,18,18,18,18,18,18,18,18,18,18,18,18,17,17,17,17,17,17,17,17,17,17,17,17,17,17,17,17,17,17,16,16,16,16,16,16,16,16,16,16,16,16,16,16,16,16,16,16,16,16,16,16,16,16,15,15,15,15,15,15,15,15,15,15,15,15]
[384,18,18,18,18,18,18,18,18,18,18,18,18,18,18,18,18,18,18,17,17,17,17,17,17,17,17,17,17,17,17,17,17,17,17,17,17,16,16,16,16,16,16,16,16,16,16,16,16,16,16,16,16,16,16,16,16,16,16,16,16,15,15,15,15,15,15,15,15,15,15,15,15]
[385,18,18,18,18,18,18,18,18,18,18,18,18,18,18,18,18,18,18,17,17,17,17,17,17,17,17,17,17,17,17,17,17,17,17,17,17,16,16,16,16,16,16,16,16,16,16,16,16,16,16,16,16,16,16,16,16,16,16,16,16,15,15,15,15,15,15,15,15,15,15,15,15]
[386,18,18,18,18,18,18,18,18,18,18,18,18,17,17,17,17,17,17,17,17,17,17,17,17,17,17,17,17,17,17,16,16,16,16,16,16,16,16,16,16,16,16,16,16,16,16,16,16,16,16,16,16,16,16,15,15,15,15,15,15,15,15,15,15,15,15,15,15,15,15,15,15]
[387,18,18,18,18,18,18,18,18,18,18,18,18,17,17,17,17,17,17,17,17,17,17,17,17,17,17,17,17,17,17,16,16,16,16,16,16,16,16,16,16,16,16,16,16,16,16,16,16,16,16,16,16,16,16,15,15,15,15,15,15,15,15,15,15,15,15,15,15,15,15,15,15]
[388,18,18,18,18,18,18,18,18,18,18,18,18,17,17,17,17,17,17,17,17,17,17,17,17,17,17,17,17,17,17,16,16,16,16,16,16,16,16,16,16,16,16,16,16,16,16,16,16,16,16,16,16,16,16,15,15,15,15,15,15,15,15,15,15,15,15,15,15,15,15,15,15]
[389,18,18,18,18,18,18,18,18,18,18,18,18,17,17,17,17,17,17,17,17,17,17,17,17,17,17,17,17,17,17,16,16,16,16,16,16,16,16,16,16,16,16,16,16,16,16,16,16,15,15,15,15,15,15,15,15,15,15,15,15,15,15,15,15,15,15,15,15,15,15,15,15]
[390,18,18,18,18,18,18,18,18,18,18,18,18,17,17,17,17,17,17,17,17,17,17,17,17,17,17,17,17,17,17,16,16,16,16,16,16,16,16,16,16,16,16,16,16,16,16,16,16,15,15,15,15,15,15,15,15,15,15,15,15,15,15,15,15,15,15,15,15,15,15,15,15]
[391,18,18,18,18,18,18,17,17,17,17,17,17,17,17,17,17,17,17,17,17,17,17,17,17,16,16,16,16,16,16,16,16,16,16,16,16,16,16,16,16,16,16,15,15,15,15,15,15,15,15,15,15,15,15,15,15,15,15,15,15,15,15,15,15,15,15,15,15,15,15,15,15]
[392,18,18,18,18,18,18,17,17,17,17,17,17,17,17,17,17,17,17,17,17,17,17,17,17,16,16,16,16,16,16,16,16,16,16,16,16,16,16,16,16,16,16,15,15,15,15,15,15,15,15,15,15,15,15,15,15,15,15,15,15,15,15,15,15,15,15,15,15,15,15,15,15]
[393,18,18,18,18,18,18,17,17,17,17,17,17,17,17,17,17,17,17,17,17,17,17,17,17,16,16,16,16,16,16,16,16,16,16,16,16,16,16,16,16,16,16,15,15,15,15,15,15,15,15,15,15,15,15,15,15,15,15,15,15,15,15,15,15,15,15,15,15,15,15,15,15]
[394,18,18,18,18,18,18,17,17,17,17,17,17,17,17,17,17,17,17,17,17,17,17,17,17,16,16,16,16,16,16,16,16,16,16,16,16,16,16,16,16,16,16,15,15,15,15,15,15,15,15,15,15,15,15,15,15,15,15,15,15,15,15,15,15,15,15,15,15,15,15,15,15]
[395,18,18,18,18,18,18,17,17,17,17,17,17,17,17,17,17,17,17,17,17,17,17,17,17,16,16,16,16,16,16,16,16,16,16,16,16,16,16,16,16,16,16,15,15,15,15,15,15,15,15,15,15,15,15,15,15,15,15,15,15,15,15,15,15,15,15,15,15,15,15,15,15]
[396,17,17,17,17,17,17,17,17,17,17,17,17,17,17,17,17,17,17,16,16,16,16,16,16,16,16,16,16,16,16,16,16,16,16,16,16,15,15,15,15,15,15,15,15,15,15,15,15,15,15,15,15,15,15,15,15,15,15,15,15,15,15,15,15,15,15,14,14,14,14,14,14]
[397,17,17,17,17,17,17,17,17,17,17,17,17,17,17,17,17,17,17,16,16,16,16,16,16,16,16,16,16,16,16,16,16,16,16,16,16,15,15,15,15,15,15,15,15,15,15,15,15,15,15,15,15,15,15,15,15,15,15,15,15,15,15,15,15,15,15,14,14,14,14,14,14]
[398,17,17,17,17,17,17,17,17,17,17,17,17,17,17,17,17,17,17,16,16,16,16,16,16,16,16,16,16,16,16,16,16,16,16,16,16,15,15,15,15,15,15,15,15,15,15,15,15,15,15,15,15,15,15,15,15,15,15,15,15,14,14,14,14,14,14,14,14,14,14,14,14]
[399,17,17,17,17,17,17,17,17,17,17,17,17,17,17,17,17,17,17,16,16,16,16,16,16,16,16,16,16,16,16,16,16,16,16,16,16,15,15,15,15,15,15,15,15,15,15,15,15,15,15,15,15,15,15,15,15,15,15,15,15,14,14,14,14,14,14,14,14,14,14,14,14]
[400,17,17,17,17,17,17,17,17,17,17,17,17,17,17,17,17,17,17,16,16,16,16,16,16,16,16,16,16,16,16,16,16,16,16,16,16,15,15,15,15,15,15,15,15,15,15,15,15,15,15,15,15,15,15,15,15,15,15,15,15,14,14,14,14,14,14,14,14,14,14,14,14]
[401,17,17,17,17,17,17,17,17,17,17,17,17,16,16,16,16,16,16,16,16,16,16,16,16,16,16,16,16,16,16,15,15,15,15,15,15,15,15,15,15,15,15,15,15,15,15,15,15,15,15,15,15,15,15,14,14,14,14,14,14,14,14,14,14,14,14,14,14,14,14,14,14]
[402,17,17,17,17,17,17,17,17,17,17,17,17,16,16,16,16,16,16,16,16,16,16,16,16,16,16,16,16,16,16,15,15,15,15,15,15,15,15,15,15,15,15,15,15,15,15,15,15,15,15,15,15,15,15,14,14,14,14,14,14,14,14,14,14,14,14,14,14,14,14,14,14]
[403,17,17,17,17,17,17,17,17,17,17,17,17,16,16,16,16,16,16,16,16,16,16,16,16,16,16,16,16,16,16,15,15,15,15,15,15,15,15,15,15,15,15,15,15,15,15,15,15,15,15,15,15,15,15,14,14,14,14,14,14,14,14,14,14,14,14,14,14,14,14,14,14]
[404,17,17,17,17,17,17,17,17,17,17,17,17,16,16,16,16,16,16,16,16,16,16,16,16,16,16,16,16,16,16,15,15,15,15,15,15,15,15,15,15,15,15,15,15,15,15,15,15,14,14,14,14,14,14,14,14,14,14,14,14,14,14,14,14,14,14,14,14,14,14,14,14]
[405,17,17,17,17,17,17,17,17,17,17,17,17,16,16,16,16,16,16,16,16,16,16,16,16,16,16,16,16,16,16,15,15,15,15,15,15,15,15,15,15,15,15,15,15,15,15,15,15,14,14,14,14,14,14,14,14,14,14,14,14,14,14,14,14,14,14,14,14,14,14,14,14]
[406,17,17,17,17,17,17,16,16,16,16,16,16,16,16,16,16,16,16,16,16,16,16,16,16,15,15,15,15,15,15,15,15,15,15,15,15,15,15,15,15,15,15,14,14,14,14,14,14,14,14,14,14,14,14,14,14,14,14,14,14,14,14,14,14,14,14,14,14,14,14,14,14]
[407,17,17,17,17,17,17,16,16,16,16,16,16,16,16,16,16,16,16,16,16,16,16,16,16,15,15,15,15,15,15,15,15,15,15,15,15,15,15,15,15,15,15,14,14,14,14,14,14,14,14,14,14,14,14,14,14,14,14,14,14,14,14,14,14,14,14,14,14,14,14,14,14]
[408,17,17,17,17,17,17,16,16,16,16,16,16,16,16,16,16,16,16,16,16,16,16,16,16,15,15,15,15,15,15,15,15,15,15,15,15,15,15,15,15,15,15,14,14,14,14,14,14,14,14,14,14,14,14,14,14,14,14,14,14,14,14,14,14,14,14,14,14,14,14,14,14]
[409,17,17,17,17,17,17,16,16,16,16,16,16,16,16,16,16,16,16,16,16,16,16,16,16,15,15,15,15,15,15,15,15,15,15,15,15,15,15,15,15,15,15,14,14,14,14,14,14,14,14,14,14,14,14,14,14,14,14,14,14,14,14,14,14,14,14,14,14,14,14,14,14]
[410,17,17,17,17,17,17,16,16,16,16,16,16,16,16,16,16,16,16,16,16,16,16,16,16,15,15,15,15,15,15,15,15,15,15,15,15,15,15,15,15,15,15,14,14,14,14,14,14,14,14,14,14,14,14,14,14,14,14,14,14,14,14,14,14,14,14,14,14,14,14,14,14]
[411,16,16,16,16,16,16,16,16,16,16,16,16,16,16,16,16,16,16,15,15,15,15,15,15,15,15,15,15,15,15,15,15,15,15,15,15,14,14,14,14,14,14,14,14,14,14,14,14,14,14,14,14,14,14,14,14,14,14,14,14,14,14,14,14,14,14,13,13,13,13,13,13]
[412,16,16,16,16,16,16,16,16,16,16,16,16,16,16,16,16,16,16,15,15,15,15,15,15,15,15,15,15,15,15,15,15,15,15,15,15,14,14,14,14,14,14,14,14,14,14,14,14,14,14,14,14,14,14,14,14,14,14,14,14,14,14,14,14,14,14,13,13,13,13,13,13]
[413,16,16,16,16,16,16,16,16,16,16,16,16,16,16,16,16,16,16,15,15,15,15,15,15,15,15,15,15,15,15,15,15,15,15,15,15,14,14,14,14,14,14,14,14,14,14,14,14,14,14,14,14,14,14,14,14,14,14,14,14,13,13,13,13,13,13,13,13,13,13,13,13]
[414,16,16,16,16,16,16,16,16,16,16,16,16,16,16,16,16,16,16,15,15,15,15,15,15,15,15,15,15,15,15,15,15,15,15,15,15,14,14,14,14,14,14,14,14,14,14,14,14,14,14,14,14,14,14,14,14,14,14,14,14,13,13,13,13,13,13,13,13,13,13,13,13]
[415,16,16,16,16,16,16,16,16,16,16,16,16,16,16,16,16,16,16,15,15,15,15,15,15,15,15,15,15,15,15,15,15,15,15,15,15,14,14,14,14,14,14,14,14,14,14,14,14,14,14,14,14,14,14,14,14,14,14,14,14,13,13,13,13,13,13,13,13,13,13,13,13]
[416,16,16,16,16,16,16,16,16,16,16,16,16,15,15,15,15,15,15,15,15,15,15,15,15,15,15,15,15,15,15,14,14,14,14,14,14,14,14,14,14,14,14,14,14,14,14,14,14,14,14,14,14,14,14,13,13,13,13,13,13,13,13,13,13,13,13,13,13,13,13,13,13]
[417,16,16,16,16,16,16,16,16,16,16,16,16,15,15,15,15,15,15,15,15,15,15,15,15,15,15,15,15,15,15,14,14,14,14,14,14,14,14,14,14,14,14,14,14,14,14,14,14,14,14,14,14,14,14,13,13,13,13,13,13,13,13,13,13,13,13,13,13,13,13,13,13]
[418,16,16,16,16,16,16,16,16,16,16,16,16,15,15,15,15,15,15,15,15,15,15,15,15,15,15,15,15,15,15,14,14,14,14,14,14,14,14,14,14,14,14,14,14,14,14,14,14,14,14,14,14,14,14,13,13,13,13,13,13,13,13,13,13,13,13,13,13,13,13,13,13]
[419,16,16,16,16,16,16,16,16,16,16,16,16,15,15,15,15,15,15,15,15,15,15,15,15,15,15,15,15,15,15,14,14,14,14,14,14,14,14,14,14,14,14,14,14,14,14,14,14,13,13,13,13,13,13,13,13,13,13,13,13,13,13,13,13,13,13,13,13,13,13,13,13]
[420,16,16,16,16,16,16,16,16,16,16,16,16,15,15,15,15,15,15,15,15,15,15,15,15,15,15,15,15,15,15,14,14,14,14,14,14,14,14,14,14,14,14,14,14,14,14,14,14,13,13,13,13,13,13,13,13,13,13,13,13,13,13,13,13,13,13,13,13,13,13,13,13]
[421,16,16,16,16,16,16,15,15,15,15,15,15,15,15,15,15,15,15,15,15,15,15,15,15,14,14,14,14,14,14,14,14,14,14,14,14,14,14,14,14,14,14,13,13,13,13,13,13,13,13,13,13,13,13,13,13,13,13,13,13,13,13,13,13,13,13,13,13,13,13,13,13]
[422,16,16,16,16,16,16,15,15,15,15,15,15,15,15,15,15,15,15,15,15,15,15,15,15,14,14,14,14,14,14,14,14,14,14,14,14,14,14,14,14,14,14,13,13,13,13,13,13,13,13,13,13,13,13,13,13,13,13,13,13,13,13,13,13,13,13,13,13,13,13,13,13]
[423,16,16,16,16,16,16,15,15,15,15,15,15,15,15,15,15,15,15,15,15,15,15,15,15,14,14,14,14,14,14,14,14,14,14,14,14,14,14,14,14,14,14,13,13,13,13,13,13,13,13,13,13,13,13,13,13,13,13,13,13,13,13,13,13,13,13,13,13,13,13,13,13]
[424,16,16,16,16,16,16,15,15,15,15,15,15,15,15,15,15,15,15,15,15,15,15,15,15,14,14,14,14,14,14,14,14,14,14,14,14,14,14,14,14,14,14,13,13,13,13,13,13,13,13,13,13,13,13,13,13,13,13,13,13,13,13,13,13,13,13,13,13,13,13,13,13]
[425,16,16,16,16,16,16,15,15,15,15,15,15,15,15,15,15,15,15,15,15,15,15,15,15,14,14,14,14,14,14,14,14,14,14,14,14,14,14,14,14,14,14,13,13,13,13,13,13,13,13,13,13,13,13,13,13,13,13,13,13,13,13,13,13,13,13,13,13,13,13,13,13]
[426,15,15,15,15,15,15,15,15,15,15,15,15,15,15,15,15,15,15,14,14,14,14,14,14,14,14,14,14,14,14,14,14,14,14,14,14,13,13,13,13,13,13,13,13,13,13,13,13,13,13,13,13,13,13,13,13,13,13,13,13,13,13,13,13,13,13,12,12,12,12,12,12]
[427,15,15,15,15,15,15,15,15,15,15,15,15,15,15,15,15,15,15,14,14,14,14,14,14,14,14,14,14,14,14,14,14,14,14,14,14,13,13,13,13,13,13,13,13,13,13,13,13,13,13,13,13,13,13,13,13,13,13,13,13,13,13,13,13,13,13,12,12,12,12,12,12]
[428,15,15,15,15,15,15,15,15,15,15,15,15,15,15,15,15,15,15,14,14,14,14,14,14,14,14,14,14,14,14,14,14,14,14,14,14,13,13,13,13,13,13,13,13,13,13,13,13,13,13,13,13,13,13,13,13,13,13,13,13,12,12,12,12,12,12,12,12,12,12,12,12]
[429,15,15,15,15,15,15,15,15,15,15,15,15,15,15,15,15,15,15,14,14,14,14,14,14,14,14,14,14,14,14,14,14,14,14,14,14,13,13,13,13,13,13,13,13,13,13,13,13,13,13,13,13,13,13,13,13,13,13,13,13,12,12,12,12,12,12,12,12,12,12,12,12]
[430,15,15,15,15,15,15,15,15,15,15,15,15,15,15,15,15,15,15,14,14,14,14,14,14,14,14,14,14,14,14,14,14,14,14,14,14,13,13,13,13,13,13,13,13,13,13,13,13,13,13,13,13,13,13,13,13,13,13,13,13,12,12,12,12,12,12,12,12,12,12,12,12]
[431,15,15,15,15,15,15,15,15,15,15,15,15,14,14,14,14,14,14,14,14,14,14,14,14,14,14,14,14,14,14,13,13,13,13,13,13,13,13,13,13,13,13,13,13,13,13,13,13,13,13,13,13,13,13,12,12,12,12,12,12,12,12,12,12,12,12,12,12,12,12,12,12]
[432,15,15,15,15,15,15,15,15,15,15,15,15,14,14,14,14,14,14,14,14,14,14,14,14,14,14,14,14,14,14,13,13,13,13,13,13,13,13,13,13,13,13,13,13,13,13,13,13,13,13,13,13,13,13,12,12,12,12,12,12,12,12,12,12,12,12,12,12,12,12,12,12]
[433,15,15,15,15,15,15,15,15,15,15,15,15,14,14,14,14,14,14,14,14,14,14,14,14,14,14,14,14,14,14,13,13,13,13,13,13,13,13,13,13,13,13,13,13,13,13,13,13,13,13,13,13,13,13,12,12,12,12,12,12,12,12,12,12,12,12,12,12,12,12,12,12]
[434,15,15,15,15,15,15,15,15,15,15,15,15,14,14,14,14,14,14,14,14,14,14,14,14,14,14,14,14,14,14,13,13,13,13,13,13,13,13,13,13,13,13,13,13,13,13,13,13,12,12,12,12,12,12,12,12,12,12,12,12,12,12,12,12,12,12,12,12,12,12,12,12]
[435,15,15,15,15,15,15,15,15,15,15,15,15,14,14,14,14,14,14,14,14,14,14,14,14,14,14,14,14,14,14,13,13,13,13,13,13,13,13,13,13,13,13,13,13,13,13,13,13,12,12,12,12,12,12,12,12,12,12,12,12,12,12,12,12,12,12,12,12,12,12,12,12]
[436,15,15,15,15,15,15,14,14,14,14,14,14,14,14,14,14,14,14,14,14,14,14,14,14,13,13,13,13,13,13,13,13,13,13,13,13,13,13,13,13,13,13,12,12,12,12,12,12,12,12,12,12,12,12,12,12,12,12,12,12,12,12,12,12,12,12,12,12,12,12,12,12]
[437,15,15,15,15,15,15,14,14,14,14,14,14,14,14,14,14,14,14,14,14,14,14,14,14,13,13,13,13,13,13,13,13,13,13,13,13,13,13,13,13,13,13,12,12,12,12,12,12,12,12,12,12,12,12,12,12,12,12,12,12,12,12,12,12,12,12,12,12,12,12,12,12]
[438,15,15,15,15,15,15,14,14,14,14,14,14,14,14,14,14,14,14,14,14,14,14,14,14,13,13,13,13,13,13,13,13,13,13,13,13,13,13,13,13,13,13,12,12,12,12,12,12,12,12,12,12,12,12,12,12,12,12,12,12,12,12,12,12,12,12,12,12,12,12,12,12]
[439,15,15,15,15,15,15,14,14,14,14,14,14,14,14,14,14,14,14,14,14,14,14,14,14,13,13,13,13,13,13,13,13,13,13,13,13,13,13,13,13,13,13,12,12,12,12,12,12,12,12,12,12,12,12,12,12,12,12,12,12,12,12,12,12,12,12,12,12,12,12,12,12]
[440,15,15,15,15,15,15,14,14,14,14,14,14,14,14,14,14,14,14,14,14,14,14,14,14,13,13,13,13,13,13,13,13,13,13,13,13,13,13,13,13,13,13,12,12,12,12,12,12,12,12,12,12,12,12,12,12,12,12,12,12,12,12,12,12,12,12,12,12,12,12,12,12]
[441,14,14,14,14,14,14,14,14,14,14,14,14,14,14,14,14,14,14,13,13,13,13,13,13,13,13,13,13,13,13,13,13,13,13,13,13,12,12,12,12,12,12,12,12,12,12,12,12,12,12,12,12,12,12,12,12,12,12,12,12,12,12,12,12,12,12,11,11,11,11,11,11]
[442,14,14,14,14,14,14,14,14,14,14,14,14,14,14,14,14,14,14,13,13,13,13,13,13,13,13,13,13,13,13,13,13,13,13,13,13,12,12,12,12,12,12,12,12,12,12,12,12,12,12,12,12,12,12,12,12,12,12,12,12,12,12,12,12,12,12,11,11,11,11,11,11]
[443,14,14,14,14,14,14,14,14,14,14,14,14,14,14,14,14,14,14,13,13,13,13,13,13,13,13,13,13,13,13,13,13,13,13,13,13,12,12,12,12,12,12,12,12,12,12,12,12,12,12,12,12,12,12,12,12,12,12,12,12,11,11,11,11,11,11,11,11,11,11,11,11]
[444,14,14,14,14,14,14,14,14,14,14,14,14,14,14,14,14,14,14,13,13,13,13,13,13,13,13,13,13,13,13,13,13,13,13,13,13,12,12,12,12,12,12,12,12,12,12,12,12,12,12,12,12,12,12,12,12,12,12,12,12,11,11,11,11,11,11,11,11,11,11,11,11]
[445,14,14,14,14,14,14,14,14,14,14,14,14,14,14,14,14,14,14,13,13,13,13,13,13,13,13,13,13,13,13,13,13,13,13,13,13,12,12,12,12,12,12,12,12,12,12,12,12,12,12,12,12,12,12,12,12,12,12,12,12,11,11,11,11,11,11,11,11,11,11,11,11]
[446,14,14,14,14,14,14,14,14,14,14,14,14,13,13,13,13,13,13,13,13,13,13,13,13,13,13,13,13,13,13,12,12,12,12,12,12,12,12,12,12,12,12,12,12,12,12,12,12,12,12,12,12,12,12,11,11,11,11,11,11,11,11,11,11,11,11,11,11,11,11,11,11]
[447,14,14,14,14,14,14,14,14,14,14,14,14,13,13,13,13,13,13,13,13,13,13,13,13,13,13,13,13,13,13,12,12,12,12,12,12,12,12,12,12,12,12,12,12,12,12,12,12,12,12,12,12,12,12,11,11,11,11,11,11,11,11,11,11,11,11,11,11,11,11,11,11]
[448,14,14,14,14,14,14,14,14,14,14,14,14,13,13,13,13,13,13,13,13,13,13,13,13,13,13,13,13,13,13,12,12,12,12,12,12,12,12,12,12,12,12,12,12,12,12,12,12,12,12,12,12,12,12,11,11,11,11,11,11,11,11,11,11,11,11,11,11,11,11,11,11]
[449,14,14,14,14,14,14,14,14,14,14,14,14,13,13,13,13,13,13,13,13,13,13,13,13,13,13,13,13,13,13,12,12,12,12,12,12,12,12,12,12,12,12,12,12,12,12,12,12,11,11,11,11,11,11,11,11,11,11,11,11,11,11,11,11,11,11,11,11,11,11,11,11]
[450,14,14,14,14,14,14,14,14,14,14,14,14,13,13,13,13,13,13,13,13,13,13,13,13,13,13,13,13,13,13,12,12,12,12,12,12,12,12,12,12,12,12,12,12,12,12,12,12,11,11,11,11,11,11,11,11,11,11,11,11,11,11,11,11,11,11,11,11,11,11,11,11]
[451,14,14,14,14,14,14,13,13,13,13,13,13,13,13,13,13,13,13,13,13,13,13,13,13,12,12,12,12,12,12,12,12,12,12,12,12,12,12,12,12,12,12,11,11,11,11,11,11,11,11,11,11,11,11,11,11,11,11,11,11,11,11,11,11,11,11,11,11,11,11,11,11]
[452,14,14,14,14,14,14,13,13,13,13,13,13,13,13,13,13,13,13,13,13,13,13,13,13,12,12,12,12,12,12,12,12,12,12,12,12,12,12,12,12,12,12,11,11,11,11,11,11,11,11,11,11,11,11,11,11,11,11,11,11,11,11,11,11,11,11,11,11,11,11,11,11]
[453,14,14,14,14,14,14,13,13,13,13,13,13,13,13,13,13,13,13,13,13,13,13,13,13,12,12,12,12,12,12,12,12,12,12,12,12,12,12,12,12,12,12,11,11,11,11,11,11,11,11,11,11,11,11,11,11,11,11,11,11,11,11,11,11,11,11,11,11,11,11,11,11]
[454,14,14,14,14,14,14,13,13,13,13,13,13,13,13,13,13,13,13,13,13,13,13,13,13,12,12,12,12,12,12,12,12,12,12,12,12,12,12,12,12,12,12,11,11,11,11,11,11,11,11,11,11,11,11,11,11,11,11,11,11,11,11,11,11,11,11,11,11,11,11,11,11]
[455,14,14,14,14,14,14,13,13,13,13,13,13,13,13,13,13,13,13,13,13,13,13,13,13,12,12,12,12,12,12,12,12,12,12,12,12,12,12,12,12,12,12,11,11,11,11,11,11,11,11,11,11,11,11,11,11,11,11,11,11,11,11,11,11,11,11,11,11,11,11,11,11]
[456,13,13,13,13,13,13,13,13,13,13,13,13,13,13,13,13,13,13,12,12,12,12,12,12,12,12,12,12,12,12,12,12,12,12,12,12,11,11,11,11,11,11,11,11,11,11,11,11,11,11,11,11,11,11,11,11,11,11,11,11,11,11,11,11,11,11,10,10,10,10,10,10]
[457,13,13,13,13,13,13,13,13,13,13,13,13,13,13,13,13,13,13,12,12,12,12,12,12,12,12,12,12,12,12,12,12,12,12,12,12,11,11,11,11,11,11,11,11,11,11,11,11,11,11,11,11,11,11,11,11,11,11,11,11,11,11,11,11,11,11,10,10,10,10,10,10]
[458,13,13,13,13,13,13,13,13,13,13,13,13,13,13,13,13,13,13,12,12,12,12,12,12,12,12,12,12,12,12,12,12,12,12,12,12,11,11,11,11,11,11,11,11,11,11,11,11,11,11,11,11,11,11,11,11,11,11,11,11,10,10,10,10,10,10,10,10,10,10,10,10]
[459,13,13,13,13,13,13,13,13,13,13,13,13,13,13,13,13,13,13,12,12,12,12,12,12,12,12,12,12,12,12,12,12,12,12,12,12,11,11,11,11,11,11,11,11,11,11,11,11,11,11,11,11,11,11,11,11,11,11,11,11,10,10,10,10,10,10,10,10,10,10,10,10]
[460,13,13,13,13,13,13,13,13,13,13,13,13,13,13,13,13,13,13,12,12,12,12,12,12,12,12,12,12,12,12,12,12,12,12,12,12,11,11,11,11,11,11,11,11,11,11,11,11,11,11,11,11,11,11,11,11,11,11,11,11,10,10,10,10,10,10,10,10,10,10,10,10]
[461,13,13,13,13,13,13,13,13,13,13,13,13,12,12,12,12,12,12,12,12,12,12,12,12,12,12,12,12,12,12,11,11,11,11,11,11,11,11,11,11,11,11,11,11,11,11,11,11,11,11,11,11,11,11,10,10,10,10,10,10,10,10,10,10,10,10,10,10,10,10,10,10]
[462,13,13,13,13,13,13,13,13,13,13,13,13,12,12,12,12,12,12,12,12,12,12,12,12,12,12,12,12,12,12,11,11,11,11,11,11,11,11,11,11,11,11,11,11,11,11,11,11,11,11,11,11,11,11,10,10,10,10,10,10,10,10,10,10,10,10,10,10,10,10,10,10]
[463,13,13,13,13,13,13,13,13,13,13,13,13,12,12,12,12,12,12,12,12,12,12,12,12,12,12,12,12,12,12,11,11,11,11,11,11,11,11,11,11,11,11,11,11,11,11,11,11,11,11,11,11,11,11,10,10,10,10,10,10,10,10,10,10,10,10,10,10,10,10,10,10]
[464,13,13,13,13,13,13,13,13,13,13,13,13,12,12,12,12,12,12,12,12,12,12,12,12,12,12,12,12,12,12,11,11,11,11,11,11,11,11,11,11,11,11,11,11,11,11,11,11,10,10,10,10,10,10,10,10,10,10,10,10,10,10,10,10,10,10,10,10,10,10,10,10]
[465,13,13,13,13,13,13,13,13,13,13,13,13,12,12,12,12,12,12,12,12,12,12,12,12,12,12,12,12,12,12,11,11,11,11,11,11,11,11,11,11,11,11,11,11,11,11,11,11,10,10,10,10,10,10,10,10,10,10,10,10,10,10,10,10,10,10,10,10,10,10,10,10]
[466,13,13,13,13,13,13,12,12,12,12,12,12,12,12,12,12,12,12,12,12,12,12,12,12,11,11,11,11,11,11,11,11,11,11,11,11,11,11,11,11,11,11,10,10,10,10,10,10,10,10,10,10,10,10,10,10,10,10,10,10,10,10,10,10,10,10,10,10,10,10,10,10]
[467,13,13,13,13,13,13,12,12,12,12,12,12,12,12,12,12,12,12,12,12,12,12,12,12,11,11,11,11,11,11,11,11,11,11,11,11,11,11,11,11,11,11,10,10,10,10,10,10,10,10,10,10,10,10,10,10,10,10,10,10,10,10,10,10,10,10,10,10,10,10,10,10]
[468,13,13,13,13,13,13,12,12,12,12,12,12,12,12,12,12,12,12,12,12,12,12,12,12,11,11,11,11,11,11,11,11,11,11,11,11,11,11,11,11,11,11,10,10,10,10,10,10,10,10,10,10,10,10,10,10,10,10,10,10,10,10,10,10,10,10,10,10,10,10,10,10]
[469,13,13,13,13,13,13,12,12,12,12,12,12,12,12,12,12,12,12,12,12,12,12,12,12,11,11,11,11,11,11,11,11,11,11,11,11,11,11,11,11,11,11,10,10,10,10,10,10,10,10,10,10,10,10,10,10,10,10,10,10,10,10,10,10,10,10,10,10,10,10,10,10]
[470,13,13,13,13,13,13,12,12,12,12,12,12,12,12,12,12,12,12,12,12,12,12,12,12,11,11,11,11,11,11,11,11,11,11,11,11,11,11,11,11,11,11,10,10,10,10,10,10,10,10,10,10,10,10,10,10,10,10,10,10,10,10,10,10,10,10,10,10,10,10,10,10]
[471,12,12,12,12,12,12,12,12,12,12,12,12,12,12,12,12,12,12,11,11,11,11,11,11,11,11,11,11,11,11,11,11,11,11,11,11,10,10,10,10,10,10,10,10,10,10,10,10,10,10,10,10,10,10,10,10,10,10,10,10,10,10,10,10,10,10,9,9,9,9,9,9]
[472,12,12,12,12,12,12,12,12,12,12,12,12,12,12,12,12,12,12,11,11,11,11,11,11,11,11,11,11,11,11,11,11,11,11,11,11,10,10,10,10,10,10,10,10,10,10,10,10,10,10,10,10,10,10,10,10,10,10,10,10,10,10,10,10,10,10,9,9,9,9,9,9]
[473,12,12,12,12,12,12,12,12,12,12,12,12,12,12,12,12,12,12,11,11,11,11,11,11,11,11,11,11,11,11,11,11,11,11,11,11,10,10,10,10,10,10,10,10,10,10,10,10,10,10,10,10,10,10,10,10,10,10,10,10,9,9,9,9,9,9,9,9,9,9,9,9]
[474,12,12,12,12,12,12,12,12,12,12,12,12,12,12,12,12,12,12,11,11,11,11,11,11,11,11,11,11,11,11,11,11,11,11,11,11,10,10,10,10,10,10,10,10,10,10,10,10,10,10,10,10,10,10,10,10,10,10,10,10,9,9,9,9,9,9,9,9,9,9,9,9]
[475,12,12,12,12,12,12,12,12,12,12,12,12,12,12,12,12,12,12,11,11,11,11,11,11,11,11,11,11,11,11,11,11,11,11,11,11,10,10,10,10,10,10,10,10,10,10,10,10,10,10,10,10,10,10,10,10,10,10,10,10,9,9,9,9,9,9,9,9,9,9,9,9]
[476,12,12,12,12,12,12,12,12,12,12,12,12,11,11,11,11,11,11,11,11,11,11,11,11,11,11,11,11,11,11,10,10,10,10,10,10,10,10,10,10,10,10,10,10,10,10,10,10,10,10,10,10,10,10,9,9,9,9,9,9,9,9,9,9,9,9,9,9,9,9,9,9]
[477,12,12,12,12,12,12,12,12,12,12,12,12,11,11,11,11,11,11,11,11,11,11,11,11,11,11,11,11,11,11,10,10,10,10,10,10,10,10,10,10,10,10,10,10,10,10,10,10,10,10,10,10,10,10,9,9,9,9,9,9,9,9,9,9,9,9,9,9,9,9,9,9]
[478,12,12,12,12,12,12,12,12,12,12,12,12,11,11,11,11,11,11,11,11,11,11,11,11,11,11,11,11,11,11,10,10,10,10,10,10,10,10,10,10,10,10,10,10,10,10,10,10,10,10,10,10,10,10,9,9,9,9,9,9,9,9,9,9,9,9,9,9,9,9,9,9]
[479,12,12,12,12,12,12,12,12,12,12,12,12,11,11,11,11,11,11,11,11,11,11,11,11,11,11,11,11,11,11,10,10,10,10,10,10,10,10,10,10,10,10,10,10,10,10,10,10,9,9,9,9,9,9,9,9,9,9,9,9,9,9,9,9,9,9,9,9,9,9,9,9]
[480,12,12,12,12,12,12,12,12,12,12,12,12,11,11,11,11,11,11,11,11,11,11,11,11,11,11,11,11,11,11,10,10,10,10,10,10,10,10,10,10,10,10,10,10,10,10,10,10,9,9,9,9,9,9,9,9,9,9,9,9,9,9,9,9,9,9,9,9,9,9,9,9]
[481,12,12,12,12,12,12,11,11,11,11,11,11,11,11,11,11,11,11,11,11,11,11,11,11,10,10,10,10,10,10,10,10,10,10,10,10,10,10,10,10,10,10,9,9,9,9,9,9,9,9,9,9,9,9,9,9,9,9,9,9,9,9,9,9,9,9,9,9,9,9,9,9]
[482,12,12,12,12,12,12,11,11,11,11,11,11,11,11,11,11,11,11,11,11,11,11,11,11,10,10,10,10,10,10,10,10,10,10,10,10,10,10,10,10,10,10,9,9,9,9,9,9,9,9,9,9,9,9,9,9,9,9,9,9,9,9,9,9,9,9,9,9,9,9,9,9]
[483,12,12,12,12,12,12,11,11,11,11,11,11,11,11,11,11,11,11,11,11,11,11,11,11,10,10,10,10,10,10,10,10,10,10,10,10,10,10,10,10,10,10,9,9,9,9,9,9,9,9,9,9,9,9,9,9,9,9,9,9,9,9,9,9,9,9,9,9,9,9,9,9]
[484,12,12,12,12,12,12,11,11,11,11,11,11,11,11,11,11,11,11,11,11,11,11,11,11,10,10,10,10,10,10,10,10,10,10,10,10,10,10,10,10,10,10,9,9,9,9,9,9,9,9,9,9,9,9,9,9,9,9,9,9,9,9,9,9,9,9,9,9,9,9,9,9]
[485,12,12,12,12,12,12,11,11,11,11,11,11,11,11,11,11,11,11,11,11,11,11,11,11,10,10,10,10,10,10,10,10,10,10,10,10,10,10,10,10,10,10,9,9,9,9,9,9,9,9,9,9,9,9,9,9,9,9,9,9,9,9,9,9,9,9,9,9,9,9,9,9]
[486,11,11,11,11,11,11,11,11,11,11,11,11,11,11,11,11,11,11,10,10,10,10,10,10,10,10,10,10,10,10,10,10,10,10,10,10,9,9,9,9,9,9,9,9,9,9,9,9,9,9,9,9,9,9,9,9,9,9,9,9,9,9,9,9,9,9,8,8,8,8,8,8]
[487,11,11,11,11,11,11,11,11,11,11,11,11,11,11,11,11,11,11,10,10,10,10,10,10,10,10,10,10,10,10,10,10,10,10,10,10,9,9,9,9,9,9,9,9,9,9,9,9,9,9,9,9,9,9,9,9,9,9,9,9,9,9,9,9,9,9,8,8,8,8,8,8]
[488,11,11,11,11,11,11,11,11,11,11,11,11,11,11,11,11,11,11,10,10,10,10,10,10,10,10,10,10,10,10,10,10,10,10,10,10,9,9,9,9,9,9,9,9,9,9,9,9,9,9,9,9,9,9,9,9,9,9,9,9,8,8,8,8,8,8,8,8,8,8,8,8]
[489,11,11,11,11,11,11,11,11,11,11,11,11,11,11,11,11,11,11,10,10,10,10,10,10,10,10,10,10,10,10,10,10,10,10,10,10,9,9,9,9,9,9,9,9,9,9,9,9,9,9,9,9,9,9,9,9,9,9,9,9,8,8,8,8,8,8,8,8,8,8,8,8]
[490,11,11,11,11,11,11,11,11,11,11,11,11,11,11,11,11,11,11,10,10,10,10,10,10,10,10,10,10,10,10,10,10,10,10,10,10,9,9,9,9,9,9,9,9,9,9,9,9,9,9,9,9,9,9,9,9,9,9,9,9,8,8,8,8,8,8,8,8,8,8,8,8]
[491,11,11,11,11,11,11,11,11,11,11,11,11,10,10,10,10,10,10,10,10,10,10,10,10,10,10,10,10,10,10,9,9,9,9,9,9,9,9,9,9,9,9,9,9,9,9,9,9,9,9,9,9,9,9,8,8,8,8,8,8,8,8,8,8,8,8,8,8,8,8,8,8]
[492,11,11,11,11,11,11,11,11,11,11,11,11,10,10,10,10,10,10,10,10,10,10,10,10,10,10,10,10,10,10,9,9,9,9,9,9,9,9,9,9,9,9,9,9,9,9,9,9,9,9,9,9,9,9,8,8,8,8,8,8,8,8,8,8,8,8,8,8,8,8,8,8]
[493,11,11,11,11,11,11,11,11,11,11,11,11,10,10,10,10,10,10,10,10,10,10,10,10,10,10,10,10,10,10,9,9,9,9,9,9,9,9,9,9,9,9,9,9,9,9,9,9,9,9,9,9,9,9,8,8,8,8,8,8,8,8,8,8,8,8,8,8,8,8,8,8]
[494,11,11,11,11,11,11,11,11,11,11,11,11,10,10,10,10,10,10,10,10,10,10,10,10,10,10,10,10,10,10,9,9,9,9,9,9,9,9,9,9,9,9,9,9,9,9,9,9,8,8,8,8,8,8,8,8,8,8,8,8,8,8,8,8,8,8,8,8,8,8,8,8]
[495,11,11,11,11,11,11,11,11,11,11,11,11,10,10,10,10,10,10,10,10,10,10,10,10,10,10,10,10,10,10,9,9,9,9,9,9,9,9,9,9,9,9,9,9,9,9,9,9,8,8,8,8,8,8,8,8,8,8,8,8,8,8,8,8,8,8,8,8,8,8,8,8]
[496,11,11,11,11,11,11,10,10,10,10,10,10,10,10,10,10,10,10,10,10,10,10,10,10,9,9,9,9,9,9,9,9,9,9,9,9,9,9,9,9,9,9,8,8,8,8,8,8,8,8,8,8,8,8,8,8,8,8,8,8,8,8,8,8,8,8,8,8,8,8,8,8]
[497,11,11,11,11,11,11,10,10,10,10,10,10,10,10,10,10,10,10,10,10,10,10,10,10,9,9,9,9,9,9,9,9,9,9,9,9,9,9,9,9,9,9,8,8,8,8,8,8,8,8,8,8,8,8,8,8,8,8,8,8,8,8,8,8,8,8,8,8,8,8,8,8]
[498,11,11,11,11,11,11,10,10,10,10,10,10,10,10,10,10,10,10,10,10,10,10,10,10,9,9,9,9,9,9,9,9,9,9,9,9,9,9,9,9,9,9,8,8,8,8,8,8,8,8,8,8,8,8,8,8,8,8,8,8,8,8,8,8,8,8,8,8,8,8,8,8]
[499,11,11,11,11,11,11,10,10,10,10,10,10,10,10,10,10,10,10,10,10,10,10,10,10,9,9,9,9,9,9,9,9,9,9,9,9,9,9,9,9,9,9,8,8,8,8,8,8,8,8,8,8,8,8,8,8,8,8,8,8,8,8,8,8,8,8,8,8,8,8,8,8]
[500,11,11,11,11,11,11,10,10,10,10,10,10,10,10,10,10,10,10,10,10,10,10,10,10,9,9,9,9,9,9,9,9,9,9,9,9,9,9,9,9,9,9,8,8,8,8,8,8,8,8,8,8,8,8,8,8,8,8,8,8,8,8,8,8,8,8,8,8,8,8,8,8]
[501,10,10,10,10,10,10,10,10,10,10,10,10,10,10,10,10,10,10,9,9,9,9,9,9,9,9,9,9,9,9,9,9,9,9,9,9,8,8,8,8,8,8,8,8,8,8,8,8,8,8,8,8,8,8,8,8,8,8,8,8,8,8,8,8,8,8,7,7,7,7,7,7]
[502,10,10,10,10,10,10,10,10,10,10,10,10,10,10,10,10,10,10,9,9,9,9,9,9,9,9,9,9,9,9,9,9,9,9,9,9,8,8,8,8,8,8,8,8,8,8,8,8,8,8,8,8,8,8,8,8,8,8,8,8,8,8,8,8,8,8,7,7,7,7,7,7]
[503,10,10,10,10,10,10,10,10,10,10,10,10,10,10,10,10,10,10,9,9,9,9,9,9,9,9,9,9,9,9,9,9,9,9,9,9,8,8,8,8,8,8,8,8,8,8,8,8,8,8,8,8,8,8,8,8,8,8,8,8,7,7,7,7,7,7,7,7,7,7,7,7]
[504,10,10,10,10,10,10,10,10,10,10,10,10,10,10,10,10,10,10,9,9,9,9,9,9,9,9,9,9,9,9,9,9,9,9,9,9,8,8,8,8,8,8,8,8,8,8,8,8,8,8,8,8,8,8,8,8,8,8,8,8,7,7,7,7,7,7,7,7,7,7,7,7]
[505,10,10,10,10,10,10,10,10,10,10,10,10,10,10,10,10,10,10,9,9,9,9,9,9,9,9,9,9,9,9,9,9,9,9,9,9,8,8,8,8,8,8,8,8,8,8,8,8,8,8,8,8,8,8,8,8,8,8,8,8,7,7,7,7,7,7,7,7,7,7,7,7]
[506,10,10,10,10,10,10,10,10,10,10,10,10,9,9,9,9,9,9,9,9,9,9,9,9,9,9,9,9,9,9,8,8,8,8,8,8,8,8,8,8,8,8,8,8,8,8,8,8,8,8,8,8,8,8,7,7,7,7,7,7,7,7,7,7,7,7,7,7,7,7,7,7]
[507,10,10,10,10,10,10,10,10,10,10,10,10,9,9,9,9,9,9,9,9,9,9,9,9,9,9,9,9,9,9,8,8,8,8,8,8,8,8,8,8,8,8,8,8,8,8,8,8,8,8,8,8,8,8,7,7,7,7,7,7,7,7,7,7,7,7,7,7,7,7,7,7]
[508,10,10,10,10,10,10,10,10,10,10,10,10,9,9,9,9,9,9,9,9,9,9,9,9,9,9,9,9,9,9,8,8,8,8,8,8,8,8,8,8,8,8,8,8,8,8,8,8,8,8,8,8,8,8,7,7,7,7,7,7,7,7,7,7,7,7,7,7,7,7,7,7]
[509,10,10,10,10,10,10,10,10,10,10,10,10,9,9,9,9,9,9,9,9,9,9,9,9,9,9,9,9,9,9,8,8,8,8,8,8,8,8,8,8,8,8,8,8,8,8,8,8,7,7,7,7,7,7,7,7,7,7,7,7,7,7,7,7,7,7,7,7,7,7,7,7]
[510,10,10,10,10,10,10,10,10,10,10,10,10,9,9,9,9,9,9,9,9,9,9,9,9,9,9,9,9,9,9,8,8,8,8,8,8,8,8,8,8,8,8,8,8,8,8,8,8,7,7,7,7,7,7,7,7,7,7,7,7,7,7,7,7,7,7,7,7,7,7,7,7]
[511,10,10,10,10,10,10,9,9,9,9,9,9,9,9,9,9,9,9,9,9,9,9,9,9,8,8,8,8,8,8,8,8,8,8,8,8,8,8,8,8,8,8,7,7,7,7,7,7,7,7,7,7,7,7,7,7,7,7,7,7,7,7,7,7,7,7,7,7,7,7,7,7]
[512,10,10,10,10,10,10,9,9,9,9,9,9,9,9,9,9,9,9,9,9,9,9,9,9,8,8,8,8,8,8,8,8,8,8,8,8,8,8,8,8,8,8,7,7,7,7,7,7,7,7,7,7,7,7,7,7,7,7,7,7,7,7,7,7,7,7,7,7,7,7,7,7]
[513,10,10,10,10,10,10,9,9,9,9,9,9,9,9,9,9,9,9,9,9,9,9,9,9,8,8,8,8,8,8,8,8,8,8,8,8,8,8,8,8,8,8,7,7,7,7,7,7,7,7,7,7,7,7,7,7,7,7,7,7,7,7,7,7,7,7,7,7,7,7,7,7]
[514,10,10,10,10,10,10,9,9,9,9,9,9,9,9,9,9,9,9,9,9,9,9,9,9,8,8,8,8,8,8,8,8,8,8,8,8,8,8,8,8,8,8,7,7,7,7,7,7,7,7,7,7,7,7,7,7,7,7,7,7,7,7,7,7,7,7,7,7,7,7,7,7]
[515,10,10,10,10,10,10,9,9,9,9,9,9,9,9,9,9,9,9,9,9,9,9,9,9,8,8,8,8,8,8,8,8,8,8,8,8,8,8,8,8,8,8,7,7,7,7,7,7,7,7,7,7,7,7,7,7,7,7,7,7,7,7,7,7,7,7,7,7,7,7,7,7]
[516,9,9,9,9,9,9,9,9,9,9,9,9,9,9,9,9,9,9,8,8,8,8,8,8,8,8,8,8,8,8,8,8,8,8,8,8,7,7,7,7,7,7,7,7,7,7,7,7,7,7,7,7,7,7,7,7,7,7,7,7,7,7,7,7,7,7,6,6,6,6,6,6]
[517,9,9,9,9,9,9,9,9,9,9,9,9,9,9,9,9,9,9,8,8,8,8,8,8,8,8,8,8,8,8,8,8,8,8,8,8,7,7,7,7,7,7,7,7,7,7,7,7,7,7,7,7,7,7,7,7,7,7,7,7,7,7,7,7,7,7,6,6,6,6,6,6]
[518,9,9,9,9,9,9,9,9,9,9,9,9,9,9,9,9,9,9,8,8,8,8,8,8,8,8,8,8,8,8,8,8,8,8,8,8,7,7,7,7,7,7,7,7,7,7,7,7,7,7,7,7,7,7,7,7,7,7,7,7,6,6,6,6,6,6,6,6,6,6,6,6]
[519,9,9,9,9,9,9,9,9,9,9,9,9,9,9,9,9,9,9,8,8,8,8,8,8,8,8,8,8,8,8,8,8,8,8,8,8,7,7,7,7,7,7,7,7,7,7,7,7,7,7,7,7,7,7,7,7,7,7,7,7,6,6,6,6,6,6,6,6,6,6,6,6]
[520,9,9,9,9,9,9,9,9,9,9,9,9,9,9,9,9,9,9,8,8,8,8,8,8,8,8,8,8,8,8,8,8,8,8,8,8,7,7,7,7,7,7,7,7,7,7,7,7,7,7,7,7,7,7,7,7,7,7,7,7,6,6,6,6,6,6,6,6,6,6,6,6]
[521,9,9,9,9,9,9,9,9,9,9,9,9,8,8,8,8,8,8,8,8,8,8,8,8,8,8,8,8,8,8,7,7,7,7,7,7,7,7,7,7,7,7,7,7,7,7,7,7,7,7,7,7,7,7,6,6,6,6,6,6,6,6,6,6,6,6,6,6,6,6,6,6]
[522,9,9,9,9,9,9,9,9,9,9,9,9,8,8,8,8,8,8,8,8,8,8,8,8,8,8,8,8,8,8,7,7,7,7,7,7,7,7,7,7,7,7,7,7,7,7,7,7,7,7,7,7,7,7,6,6,6,6,6,6,6,6,6,6,6,6,6,6,6,6,6,6]
[523,9,9,9,9,9,9,9,9,9,9,9,9,8,8,8,8,8,8,8,8,8,8,8,8,8,8,8,8,8,8,7,7,7,7,7,7,7,7,7,7,7,7,7,7,7,7,7,7,7,7,7,7,7,7,6,6,6,6,6,6,6,6,6,6,6,6,6,6,6,6,6,6]
[524,9,9,9,9,9,9,9,9,9,9,9,9,8,8,8,8,8,8,8,8,8,8,8,8,8,8,8,8,8,8,7,7,7,7,7,7,7,7,7,7,7,7,7,7,7,7,7,7,6,6,6,6,6,6,6,6,6,6,6,6,6,6,6,6,6,6,6,6,6,6,6,6]
[525,9,9,9,9,9,9,9,9,9,9,9,9,8,8,8,8,8,8,8,8,8,8,8,8,8,8,8,8,8,8,7,7,7,7,7,7,7,7,7,7,7,7,7,7,7,7,7,7,6,6,6,6,6,6,6,6,6,6,6,6,6,6,6,6,6,6,6,6,6,6,6,6]
[526,9,9,9,9,9,9,8,8,8,8,8,8,8,8,8,8,8,8,8,8,8,8,8,8,7,7,7,7,7,7,7,7,7,7,7,7,7,7,7,7,7,7,6,6,6,6,6,6,6,6,6,6,6,6,6,6,6,6,6,6,6,6,6,6,6,6,6,6,6,6,6,6]
[527,9,9,9,9,9,9,8,8,8,8,8,8,8,8,8,8,8,8,8,8,8,8,8,8,7,7,7,7,7,7,7,7,7,7,7,7,7,7,7,7,7,7,6,6,6,6,6,6,6,6,6,6,6,6,6,6,6,6,6,6,6,6,6,6,6,6,6,6,6,6,6,6]
[528,9,9,9,9,9,9,8,8,8,8,8,8,8,8,8,8,8,8,8,8,8,8,8,8,7,7,7,7,7,7,7,7,7,7,7,7,7,7,7,7,7,7,6,6,6,6,6,6,6,6,6,6,6,6,6,6,6,6,6,6,6,6,6,6,6,6,6,6,6,6,6,6]
[529,9,9,9,9,9,9,8,8,8,8,8,8,8,8,8,8,8,8,8,8,8,8,8,8,7,7,7,7,7,7,7,7,7,7,7,7,7,7,7,7,7,7,6,6,6,6,6,6,6,6,6,6,6,6,6,6,6,6,6,6,6,6,6,6,6,6,6,6,6,6,6,6]
[530,9,9,9,9,9,9,8,8,8,8,8,8,8,8,8,8,8,8,8,8,8,8,8,8,7,7,7,7,7,7,7,7,7,7,7,7,7,7,7,7,7,7,6,6,6,6,6,6,6,6,6,6,6,6,6,6,6,6,6,6,6,6,6,6,6,6,6,6,6,6,6,6]
[531,8,8,8,8,8,8,8,8,8,8,8,8,8,8,8,8,8,8,7,7,7,7,7,7,7,7,7,7,7,7,7,7,7,7,7,7,6,6,6,6,6,6,6,6,6,6,6,6,6,6,6,6,6,6,6,6,6,6,6,6,6,6,6,6,6,6,5,5,5,5,5,5]
[532,8,8,8,8,8,8,8,8,8,8,8,8,8,8,8,8,8,8,7,7,7,7,7,7,7,7,7,7,7,7,7,7,7,7,7,7,6,6,6,6,6,6,6,6,6,6,6,6,6,6,6,6,6,6,6,6,6,6,6,6,6,6,6,6,6,6,5,5,5,5,5,5]
[533,8,8,8,8,8,8,8,8,8,8,8,8,8,8,8,8,8,8,7,7,7,7,7,7,7,7,7,7,7,7,7,7,7,7,7,7,6,6,6,6,6,6,6,6,6,6,6,6,6,6,6,6,6,6,6,6,6,6,6,6,5,5,5,5,5,5,5,5,5,5,5,5]
[534,8,8,8,8,8,8,8,8,8,8,8,8,8,8,8,8,8,8,7,7,7,7,7,7,7,7,7,7,7,7,7,7,7,7,7,7,6,6,6,6,6,6,6,6,6,6,6,6,6,6,6,6,6,6,6,6,6,6,6,6,5,5,5,5,5,5,5,5,5,5,5,5]
[535,8,8,8,8,8,8,8,8,8,8,8,8,8,8,8,8,8,8,7,7,7,7,7,7,7,7,7,7,7,7,7,7,7,7,7,7,6,6,6,6,6,6,6,6,6,6,6,6,6,6,6,6,6,6,6,6,6,6,6,6,5,5,5,5,5,5,5,5,5,5,5,5]
[536,8,8,8,8,8,8,8,8,8,8,8,8,7,7,7,7,7,7,7,7,7,7,7,7,7,7,7,7,7,7,6,6,6,6,6,6,6,6,6,6,6,6,6,6,6,6,6,6,6,6,6,6,6,6,5,5,5,5,5,5,5,5,5,5,5,5,5,5,5,5,5,5]
[537,8,8,8,8,8,8,8,8,8,8,8,8,7,7,7,7,7,7,7,7,7,7,7,7,7,7,7,7,7,7,6,6,6,6,6,6,6,6,6,6,6,6,6,6,6,6,6,6,6,6,6,6,6,6,5,5,5,5,5,5,5,5,5,5,5,5,5,5,5,5,5,5]
[538,8,8,8,8,8,8,8,8,8,8,8,8,7,7,7,7,7,7,7,7,7,7,7,7,7,7,7,7,7,7,6,6,6,6,6,6,6,6,6,6,6,6,6,6,6,6,6,6,6,6,6,6,6,6,5,5,5,5,5,5,5,5,5,5,5,5,5,5,5,5,5,5]
[539,8,8,8,8,8,8,8,8,8,8,8,8,7,7,7,7,7,7,7,7,7,7,7,7,7,7,7,7,7,7,6,6,6,6,6,6,6,6,6,6,6,6,6,6,6,6,6,6,5,5,5,5,5,5,5,5,5,5,5,5,5,5,5,5,5,5,5,5,5,5,5,5]
[540,8,8,8,8,8,8,8,8,8,8,8,8,7,7,7,7,7,7,7,7,7,7,7,7,7,7,7,7,7,7,6,6,6,6,6,6,6,6,6,6,6,6,6,6,6,6,6,6,5,5,5,5,5,5,5,5,5,5,5,5,5,5,5,5,5,5,5,5,5,5,5,5]
[541,8,8,8,8,8,8,7,7,7,7,7,7,7,7,7,7,7,7,7,7,7,7,7,7,6,6,6,6,6,6,6,6,6,6,6,6,6,6,6,6,6,6,5,5,5,5,5,5,5,5,5,5,5,5,5,5,5,5,5,5,5,5,5,5,5,5,5,5,5,5,5,5]
[542,8,8,8,8,8,8,7,7,7,7,7,7,7,7,7,7,7,7,7,7,7,7,7,7,6,6,6,6,6,6,6,6,6,6,6,6,6,6,6,6,6,6,5,5,5,5,5,5,5,5,5,5,5,5,5,5,5,5,5,5,5,5,5,5,5,5,5,5,5,5,5,5]
[543,8,8,8,8,8,8,7,7,7,7,7,7,7,7,7,7,7,7,7,7,7,7,7,7,6,6,6,6,6,6,6,6,6,6,6,6,6,6,6,6,6,6,5,5,5,5,5,5,5,5,5,5,5,5,5,5,5,5,5,5,5,5,5,5,5,5,5,5,5,5,5,5]
[544,8,8,8,8,8,8,7,7,7,7,7,7,7,7,7,7,7,7,7,7,7,7,7,7,6,6,6,6,6,6,6,6,6,6,6,6,6,6,6,6,6,6,5,5,5,5,5,5,5,5,5,5,5,5,5,5,5,5,5,5,5,5,5,5,5,5,5,5,5,5,5,5]
[545,8,8,8,8,8,8,7,7,7,7,7,7,7,7,7,7,7,7,7,7,7,7,7,7,6,6,6,6,6,6,6,6,6,6,6,6,6,6,6,6,6,6,5,5,5,5,5,5,5,5,5,5,5,5,5,5,5,5,5,5,5,5,5,5,5,5,5,5,5,5,5,5]
[546,7,7,7,7,7,7,7,7,7,7,7,7,7,7,7,7,7,7,6,6,6,6,6,6,6,6,6,6,6,6,6,6,6,6,6,6,5,5,5,5,5,5,5,5,5,5,5,5,5,5,5,5,5,5,5,5,5,5,5,5,5,5,5,5,5,5,4,4,4,4,4,4]
[547,7,7,7,7,7,7,7,7,7,7,7,7,7,7,7,7,7,7,6,6,6,6,6,6,6,6,6,6,6,6,6,6,6,6,6,6,5,5,5,5,5,5,5,5,5,5,5,5,5,5,5,5,5,5,5,5,5,5,5,5,5,5,5,5,5,5,4,4,4,4,4,4]
[548,7,7,7,7,7,7,7,7,7,7,7,7,7,7,7,7,7,7,6,6,6,6,6,6,6,6,6,6,6,6,6,6,6,6,6,6,5,5,5,5,5,5,5,5,5,5,5,5,5,5,5,5,5,5,5,5,5,5,5,5,4,4,4,4,4,4,4,4,4,4,4,4]
[549,7,7,7,7,7,7,7,7,7,7,7,7,7,7,7,7,7,7,6,6,6,6,6,6,6,6,6,6,6,6,6,6,6,6,6,6,5,5,5,5,5,5,5,5,5,5,5,5,5,5,5,5,5,5,5,5,5,5,5,5,4,4,4,4,4,4,4,4,4,4,4,4]
[550,7,7,7,7,7,7,7,7,7,7,7,7,7,7,7,7,7,7,6,6,6,6,6,6,6,6,6,6,6,6,6,6,6,6,6,6,5,5,5,5,5,5,5,5,5,5,5,5,5,5,5,5,5,5,5,5,5,5,5,5,4,4,4,4,4,4,4,4,4,4,4,4]
[551,7,7,7,7,7,7,7,7,7,7,7,7,6,6,6,6,6,6,6,6,6,6,6,6,6,6,6,6,6,6,5,5,5,5,5,5,5,5,5,5,5,5,5,5,5,5,5,5,5,5,5,5,5,5,4,4,4,4,4,4,4,4,4,4,4,4,4,4,4,4,4,4]
[552,7,7,7,7,7,7,7,7,7,7,7,7,6,6,6,6,6,6,6,6,6,6,6,6,6,6,6,6,6,6,5,5,5,5,5,5,5,5,5,5,5,5,5,5,5,5,5,5,5,5,5,5,5,5,4,4,4,4,4,4,4,4,4,4,4,4,4,4,4,4,4,4]
[553,7,7,7,7,7,7,7,7,7,7,7,7,6,6,6,6,6,6,6,6,6,6,6,6,6,6,6,6,6,6,5,5,5,5,5,5,5,5,5,5,5,5,5,5,5,5,5,5,5,5,5,5,5,5,4,4,4,4,4,4,4,4,4,4,4,4,4,4,4,4,4,4]
[554,7,7,7,7,7,7,7,7,7,7,7,7,6,6,6,6,6,6,6,6,6,6,6,6,6,6,6,6,6,6,5,5,5,5,5,5,5,5,5,5,5,5,5,5,5,5,5,5,4,4,4,4,4,4,4,4,4,4,4,4,4,4,4,4,4,4,4,4,4,4,4,4]
[555,7,7,7,7,7,7,7,7,7,7,7,7,6,6,6,6,6,6,6,6,6,6,6,6,6,6,6,6,6,6,5,5,5,5,5,5,5,5,5,5,5,5,5,5,5,5,5,5,4,4,4,4,4,4,4,4,4,4,4,4,4,4,4,4,4,4,4,4,4,4,4,4]
[556,7,7,7,7,7,7,6,6,6,6,6,6,6,6,6,6,6,6,6,6,6,6,6,6,5,5,5,5,5,5,5,5,5,5,5,5,5,5,5,5,5,5,4,4,4,4,4,4,4,4,4,4,4,4,4,4,4,4,4,4,4,4,4,4,4,4,4,4,4,4,4,4]
[557,7,7,7,7,7,7,6,6,6,6,6,6,6,6,6,6,6,6,6,6,6,6,6,6,5,5,5,5,5,5,5,5,5,5,5,5,5,5,5,5,5,5,4,4,4,4,4,4,4,4,4,4,4,4,4,4,4,4,4,4,4,4,4,4,4,4,4,4,4,4,4,4]
[558,7,7,7,7,7,7,6,6,6,6,6,6,6,6,6,6,6,6,6,6,6,6,6,6,5,5,5,5,5,5,5,5,5,5,5,5,5,5,5,5,5,5,4,4,4,4,4,4,4,4,4,4,4,4,4,4,4,4,4,4,4,4,4,4,4,4,4,4,4,4,4,4]
[559,7,7,7,7,7,7,6,6,6,6,6,6,6,6,6,6,6,6,6,6,6,6,6,6,5,5,5,5,5,5,5,5,5,5,5,5,5,5,5,5,5,5,4,4,4,4,4,4,4,4,4,4,4,4,4,4,4,4,4,4,4,4,4,4,4,4,4,4,4,4,4,4]
[560,7,7,7,7,7,7,6,6,6,6,6,6,6,6,6,6,6,6,6,6,6,6,6,6,5,5,5,5,5,5,5,5,5,5,5,5,5,5,5,5,5,5,4,4,4,4,4,4,4,4,4,4,4,4,4,4,4,4,4,4,4,4,4,4,4,4,4,4,4,4,4,4]
[561,6,6,6,6,6,6,6,6,6,6,6,6,6,6,6,6,6,6,5,5,5,5,5,5,5,5,5,5,5,5,5,5,5,5,5,5,4,4,4,4,4,4,4,4,4,4,4,4,4,4,4,4,4,4,4,4,4,4,4,4,4,4,4,4,4,4,3,3,3,3,3,3]
[562,6,6,6,6,6,6,6,6,6,6,6,6,6,6,6,6,6,6,5,5,5,5,5,5,5,5,5,5,5,5,5,5,5,5,5,5,4,4,4,4,4,4,4,4,4,4,4,4,4,4,4,4,4,4,4,4,4,4,4,4,4,4,4,4,4,4,3,3,3,3,3,3]
[563,6,6,6,6,6,6,6,6,6,6,6,6,6,6,6,6,6,6,5,5,5,5,5,5,5,5,5,5,5,5,5,5,5,5,5,5,4,4,4,4,4,4,4,4,4,4,4,4,4,4,4,4,4,4,4,4,4,4,4,4,3,3,3,3,3,3,3,3,3,3,3,3]
[564,6,6,6,6,6,6,6,6,6,6,6,6,6,6,6,6,6,6,5,5,5,5,5,5,5,5,5,5,5,5,5,5,5,5,5,5,4,4,4,4,4,4,4,4,4,4,4,4,4,4,4,4,4,4,4,4,4,4,4,4,3,3,3,3,3,3,3,3,3,3,3,3]
[565,6,6,6,6,6,6,6,6,6,6,6,6,6,6,6,6,6,6,5,5,5,5,5,5,5,5,5,5,5,5,5,5,5,5,5,5,4,4,4,4,4,4,4,4,4,4,4,4,4,4,4,4,4,4,4,4,4,4,4,4,3,3,3,3,3,3,3,3,3,3,3,3]
[566,6,6,6,6,6,6,6,6,6,6,6,6,5,5,5,5,5,5,5,5,5,5,5,5,5,5,5,5,5,5,4,4,4,4,4,4,4,4,4,4,4,4,4,4,4,4,4,4,4,4,4,4,4,4,3,3,3,3,3,3,3,3,3,3,3,3,3,3,3,3,3,3]
[567,6,6,6,6,6,6,6,6,6,6,6,6,5,5,5,5,5,5,5,5,5,5,5,5,5,5,5,5,5,5,4,4,4,4,4,4,4,4,4,4,4,4,4,4,4,4,4,4,4,4,4,4,4,4,3,3,3,3,3,3,3,3,3,3,3,3,3,3,3,3,3,3]
[568,6,6,6,6,6,6,6,6,6,6,6,6,5,5,5,5,5,5,5,5,5,5,5,5,5,5,5,5,5,5,4,4,4,4,4,4,4,4,4,4,4,4,4,4,4,4,4,4,4,4,4,4,4,4,3,3,3,3,3,3,3,3,3,3,3,3,3,3,3,3,3,3]
[569,6,6,6,6,6,6,6,6,6,6,6,6,5,5,5,5,5,5,5,5,5,5,5,5,5,5,5,5,5,5,4,4,4,4,4,4,4,4,4,4,4,4,4,4,4,4,4,4,3,3,3,3,3,3,3,3,3,3,3,3,3,3,3,3,3,3,3,3,3,3,3,3]
[570,6,6,6,6,6,6,6,6,6,6,6,6,5,5,5,5,5,5,5,5,5,5,5,5,5,5,5,5,5,5,4,4,4,4,4,4,4,4,4,4,4,4,4,4,4,4,4,4,3,3,3,3,3,3,3,3,3,3,3,3,3,3,3,3,3,3,3,3,3,3,3,3]
[571,6,6,6,6,6,6,5,5,5,5,5,5,5,5,5,5,5,5,5,5,5,5,5,5,4,4,4,4,4,4,4,4,4,4,4,4,4,4,4,4,4,4,3,3,3,3,3,3,3,3,3,3,3,3,3,3,3,3,3,3,3,3,3,3,3,3,3,3,3,3,3,3]
[572,6,6,6,6,6,6,5,5,5,5,5,5,5,5,5,5,5,5,5,5,5,5,5,5,4,4,4,4,4,4,4,4,4,4,4,4,4,4,4,4,4,4,3,3,3,3,3,3,3,3,3,3,3,3,3,3,3,3,3,3,3,3,3,3,3,3,3,3,3,3,3,3]
[573,6,6,6,6,6,6,5,5,5,5,5,5,5,5,5,5,5,5,5,5,5,5,5,5,4,4,4,4,4,4,4,4,4,4,4,4,4,4,4,4,4,4,3,3,3,3,3,3,3,3,3,3,3,3,3,3,3,3,3,3,3,3,3,3,3,3,3,3,3,3,3,3]
[574,6,6,6,6,6,6,5,5,5,5,5,5,5,5,5,5,5,5,5,5,5,5,5,5,4,4,4,4,4,4,4,4,4,4,4,4,4,4,4,4,4,4,3,3,3,3,3,3,3,3,3,3,3,3,3,3,3,3,3,3,3,3,3,3,3,3,3,3,3,3,3,3]
[575,6,6,6,6,6,6,5,5,5,5,5,5,5,5,5,5,5,5,5,5,5,5,5,5,4,4,4,4,4,4,4,4,4,4,4,4,4,4,4,4,4,4,3,3,3,3,3,3,3,3,3,3,3,3,3,3,3,3,3,3,3,3,3,3,3,3,3,3,3,3,3,3]
[576,5,5,5,5,5,5,5,5,5,5,5,5,5,5,5,5,5,5,4,4,4,4,4,4,4,4,4,4,4,4,4,4,4,4,4,4,3,3,3,3,3,3,3,3,3,3,3,3,3,3,3,3,3,3,3,3,3,3,3,3,3,3,3,3,3,3,2,2,2,2,2,2]
[577,5,5,5,5,5,5,5,5,5,5,5,5,5,5,5,5,5,5,4,4,4,4,4,4,4,4,4,4,4,4,4,4,4,4,4,4,3,3,3,3,3,3,3,3,3,3,3,3,3,3,3,3,3,3,3,3,3,3,3,3,3,3,3,3,3,3,2,2,2,2,2,2]
[578,5,5,5,5,5,5,5,5,5,5,5,5,5,5,5,5,5,5,4,4,4,4,4,4,4,4,4,4,4,4,4,4,4,4,4,4,3,3,3,3,3,3,3,3,3,3,3,3,3,3,3,3,3,3,3,3,3,3,3,3,2,2,2,2,2,2,2,2,2,2,2,2]
[579,5,5,5,5,5,5,5,5,5,5,5,5,5,5,5,5,5,5,4,4,4,4,4,4,4,4,4,4,4,4,4,4,4,4,4,4,3,3,3,3,3,3,3,3,3,3,3,3,3,3,3,3,3,3,3,3,3,3,3,3,2,2,2,2,2,2,2,2,2,2,2,2]
[580,5,5,5,5,5,5,5,5,5,5,5,5,5,5,5,5,5,5,4,4,4,4,4,4,4,4,4,4,4,4,4,4,4,4,4,4,3,3,3,3,3,3,3,3,3,3,3,3,3,3,3,3,3,3,3,3,3,3,3,3,2,2,2,2,2,2,2,2,2,2,2,2]
[581,5,5,5,5,5,5,5,5,5,5,5,5,4,4,4,4,4,4,4,4,4,4,4,4,4,4,4,4,4,4,3,3,3,3,3,3,3,3,3,3,3,3,3,3,3,3,3,3,3,3,3,3,3,3,2,2,2,2,2,2,2,2,2,2,2,2,2,2,2,2,2,2]
[582,5,5,5,5,5,5,5,5,5,5,5,5,4,4,4,4,4,4,4,4,4,4,4,4,4,4,4,4,4,4,3,3,3,3,3,3,3,3,3,3,3,3,3,3,3,3,3,3,3,3,3,3,3,3,2,2,2,2,2,2,2,2,2,2,2,2,2,2,2,2,2,2]
[583,5,5,5,5,5,5,5,5,5,5,5,5,4,4,4,4,4,4,4,4,4,4,4,4,4,4,4,4,4,4,3,3,3,3,3,3,3,3,3,3,3,3,3,3,3,3,3,3,3,3,3,3,3,3,2,2,2,2,2,2,2,2,2,2,2,2,2,2,2,2,2,2]
[584,5,5,5,5,5,5,5,5,5,5,5,5,4,4,4,4,4,4,4,4,4,4,4,4,4,4,4,4,4,4,3,3,3,3,3,3,3,3,3,3,3,3,3,3,3,3,3,3,2,2,2,2,2,2,2,2,2,2,2,2,2,2,2,2,2,2,2,2,2,2,2,2]
[585,5,5,5,5,5,5,5,5,5,5,5,5,4,4,4,4,4,4,4,4,4,4,4,4,4,4,4,4,4,4,3,3,3,3,3,3,3,3,3,3,3,3,3,3,3,3,3,3,2,2,2,2,2,2,2,2,2,2,2,2,2,2,2,2,2,2,2,2,2,2,2,2]
[586,5,5,5,5,5,5,4,4,4,4,4,4,4,4,4,4,4,4,4,4,4,4,4,4,3,3,3,3,3,3,3,3,3,3,3,3,3,3,3,3,3,3,2,2,2,2,2,2,2,2,2,2,2,2,2,2,2,2,2,2,2,2,2,2,2,2,2,2,2,2,2,2]
[587,5,5,5,5,5,5,4,4,4,4,4,4,4,4,4,4,4,4,4,4,4,4,4,4,3,3,3,3,3,3,3,3,3,3,3,3,3,3,3,3,3,3,2,2,2,2,2,2,2,2,2,2,2,2,2,2,2,2,2,2,2,2,2,2,2,2,2,2,2,2,2,2]
[588,5,5,5,5,5,5,4,4,4,4,4,4,4,4,4,4,4,4,4,4,4,4,4,4,3,3,3,3,3,3,3,3,3,3,3,3,3,3,3,3,3,3,2,2,2,2,2,2,2,2,2,2,2,2,2,2,2,2,2,2,2,2,2,2,2,2,2,2,2,2,2,2]
[589,5,5,5,5,5,5,4,4,4,4,4,4,4,4,4,4,4,4,4,4,4,4,4,4,3,3,3,3,3,3,3,3,3,3,3,3,3,3,3,3,3,3,2,2,2,2,2,2,2,2,2,2,2,2,2,2,2,2,2,2,2,2,2,2,2,2,2,2,2,2,2,2]
[590,5,5,5,5,5,5,4,4,4,4,4,4,4,4,4,4,4,4,4,4,4,4,4,4,3,3,3,3,3,3,3,3,3,3,3,3,3,3,3,3,3,3,2,2,2,2,2,2,2,2,2,2,2,2,2,2,2,2,2,2,2,2,2,2,2,2,2,2,2,2,2,2]
[591,4,4,4,4,4,4,4,4,4,4,4,4,4,4,4,4,4,4,3,3,3,3,3,3,3,3,3,3,3,3,3,3,3,3,3,3,2,2,2,2,2,2,2,2,2,2,2,2,2,2,2,2,2,2,2,2,2,2,2,2,2,2,2,2,2,2,1,1,1,1,1,1]
[592,4,4,4,4,4,4,4,4,4,4,4,4,4,4,4,4,4,4,3,3,3,3,3,3,3,3,3,3,3,3,3,3,3,3,3,3,2,2,2,2,2,2,2,2,2,2,2,2,2,2,2,2,2,2,2,2,2,2,2,2,2,2,2,2,2,2,1,1,1,1,1,1]
[593,4,4,4,4,4,4,4,4,4,4,4,4,4,4,4,4,4,4,3,3,3,3,3,3,3,3,3,3,3,3,3,3,3,3,3,3,2,2,2,2,2,2,2,2,2,2,2,2,2,2,2,2,2,2,2,2,2,2,2,2,1,1,1,1,1,1,1,1,1,1,1,1]
[594,4,4,4,4,4,4,4,4,4,4,4,4,4,4,4,4,4,4,3,3,3,3,3,3,3,3,3,3,3,3,3,3,3,3,3,3,2,2,2,2,2,2,2,2,2,2,2,2,2,2,2,2,2,2,2,2,2,2,2,2,1,1,1,1,1,1,1,1,1,1,1,1]
[595,4,4,4,4,4,4,4,4,4,4,4,4,4,4,4,4,4,4,3,3,3,3,3,3,3,3,3,3,3,3,3,3,3,3,3,3,2,2,2,2,2,2,2,2,2,2,2,2,2,2,2,2,2,2,2,2,2,2,2,2,1,1,1,1,1,1,1,1,1,1,1,1]
[596,4,4,4,4,4,4,4,4,4,4,4,4,3,3,3,3,3,3,3,3,3,3,3,3,3,3,3,3,3,3,2,2,2,2,2,2,2,2,2,2,2,2,2,2,2,2,2,2,2,2,2,2,2,2,1,1,1,1,1,1,1,1,1,1,1,1,1,1,1,1,1,1]
[597,4,4,4,4,4,4,4,4,4,4,4,4,3,3,3,3,3,3,3,3,3,3,3,3,3,3,3,3,3,3,2,2,2,2,2,2,2,2,2,2,2,2,2,2,2,2,2,2,2,2,2,2,2,2,1,1,1,1,1,1,1,1,1,1,1,1,1,1,1,1,1,1]
[598,4,4,4,4,4,4,4,4,4,4,4,4,3,3,3,3,3,3,3,3,3,3,3,3,3,3,3,3,3,3,2,2,2,2,2,2,2,2,2,2,2,2,2,2,2,2,2,2,2,2,2,2,2,2,1,1,1,1,1,1,1,1,1,1,1,1,1,1,1,1,1,1]
[599,4,4,4,4,4,4,4,4,4,4,4,4,3,3,3,3,3,3,3,3,3,3,3,3,3,3,3,3,3,3,2,2,2,2,2,2,2,2,2,2,2,2,2,2,2,2,2,2,1,1,1,1,1,1,1,1,1,1,1,1,1,1,1,1,1,1,1,1,1,1,1,1]
[600,4,4,4,4,4,4,4,4,4,4,4,4,3,3,3,3,3,3,3,3,3,3,3,3,3,3,3,3,3,3,2,2,2,2,2,2,2,2,2,2,2,2,2,2,2,2,2,2,1,1,1,1,1,1,1,1,1,1,1,1,1,1,1,1,1,1,1,1,1,1,1,1]
[601,4,4,4,4,4,4,3,3,3,3,3,3,3,3,3,3,3,3,3,3,3,3,3,3,2,2,2,2,2,2,2,2,2,2,2,2,2,2,2,2,2,2,1,1,1,1,1,1,1,1,1,1,1,1,1,1,1,1,1,1,1,1,1,1,1,1,1,1,1,1,1,1]
[602,4,4,4,4,4,4,3,3,3,3,3,3,3,3,3,3,3,3,3,3,3,3,3,3,2,2,2,2,2,2,2,2,2,2,2,2,2,2,2,2,2,2,1,1,1,1,1,1,1,1,1,1,1,1,1,1,1,1,1,1,1,1,1,1,1,1,1,1,1,1,1,1]
[603,4,4,4,4,4,4,3,3,3,3,3,3,3,3,3,3,3,3,3,3,3,3,3,3,2,2,2,2,2,2,2,2,2,2,2,2,2,2,2,2,2,2,1,1,1,1,1,1,1,1,1,1,1,1,1,1,1,1,1,1,1,1,1,1,1,1,1,1,1,1,1,1]
[604,4,4,4,4,4,4,3,3,3,3,3,3,3,3,3,3,3,3,3,3,3,3,3,3,2,2,2,2,2,2,2,2,2,2,2,2,2,2,2,2,2,2,1,1,1,1,1,1,1,1,1,1,1,1,1,1,1,1,1,1,1,1,1,1,1,1,1,1,1,1,1,1]
[605,4,4,4,4,4,4,3,3,3,3,3,3,3,3,3,3,3,3,3,3,3,3,3,3,2,2,2,2,2,2,2,2,2,2,2,2,2,2,2,2,2,2,1,1,1,1,1,1,1,1,1,1,1,1,1,1,1,1,1,1,1,1,1,1,1,1,1,1,1,1,1,1]
[606,3,3,3,3,3,3,3,3,3,3,3,3,3,3,3,3,3,3,2,2,2,2,2,2,2,2,2,2,2,2,2,2,2,2,2,2,1,1,1,1,1,1,1,1,1,1,1,1,1,1,1,1,1,1,1,1,1,1,1,1,1,1,1,1,1,1,0,0,0,0,0,0]
[607,3,3,3,3,3,3,3,3,3,3,3,3,3,3,3,3,3,3,2,2,2,2,2,2,2,2,2,2,2,2,2,2,2,2,2,2,1,1,1,1,1,1,1,1,1,1,1,1,1,1,1,1,1,1,1,1,1,1,1,1,1,1,1,1,1,1,0,0,0,0,0,0]
[608,3,3,3,3,3,3,3,3,3,3,3,3,3,3,3,3,3,3,2,2,2,2,2,2,2,2,2,2,2,2,2,2,2,2,2,2,1,1,1,1,1,1,1,1,1,1,1,1,1,1,1,1,1,1,1,1,1,1,1,1,0,0,0,0,0,0,0,0,0,0,0,0]
[609,3,3,3,3,3,3,3,3,3,3,3,3,3,3,3,3,3,3,2,2,2,2,2,2,2,2,2,2,2,2,2,2,2,2,2,2,1,1,1,1,1,1,1,1,1,1,1,1,1,1,1,1,1,1,1,1,1,1,1,1,0,0,0,0,0,0,0,0,0,0,0,0]
[610,3,3,3,3,3,3,3,3,3,3,3,3,3,3,3,3,3,3,2,2,2,2,2,2,2,2,2,2,2,2,2,2,2,2,2,2,1,1,1,1,1,1,1,1,1,1,1,1,1,1,1,1,1,1,1,1,1,1,1,1,0,0,0,0,0,0,0,0,0,0,0,0]
[611,3,3,3,3,3,3,3,3,3,3,3,3,2,2,2,2,2,2,2,2,2,2,2,2,2,2,2,2,2,2,1,1,1,1,1,1,1,1,1,1,1,1,1,1,1,1,1,1,1,1,1,1,1,1,0,0,0,0,0,0,0,0,0,0,0,0,0,0,0,0,0,0]
[612,3,3,3,3,3,3,3,3,3,3,3,3,2,2,2,2,2,2,2,2,2,2,2,2,2,2,2,2,2,2,1,1,1,1,1,1,1,1,1,1,1,1,1,1,1,1,1,1,1,1,1,1,1,1,0,0,0,0,0,0,0,0,0,0,0,0,0,0,0,0,0,0]
[613,3,3,3,3,3,3,3,3,3,3,3,3,2,2,2,2,2,2,2,2,2,2,2,2,2,2,2,2,2,2,1,1,1,1,1,1,1,1,1,1,1,1,1,1,1,1,1,1,1,1,1,1,1,1,0,0,0,0,0,0,0,0,0,0,0,0,0,0,0,0,0,0]
[614,3,3,3,3,3,3,3,3,3,3,3,3,2,2,2,2,2,2,2,2,2,2,2,2,2,2,2,2,2,2,1,1,1,1,1,1,1,1,1,1,1,1,1,1,1,1,1,1,0,0,0,0,0,0,0,0,0,0,0,0,0,0,0,0,0,0,0,0,0,0,0,0]
[615,3,3,3,3,3,3,3,3,3,3,3,3,2,2,2,2,2,2,2,2,2,2,2,2,2,2,2,2,2,2,1,1,1,1,1,1,1,1,1,1,1,1,1,1,1,1,1,1,0,0,0,0,0,0,0,0,0,0,0,0,0,0,0,0,0,0,0,0,0,0,0,0]
[616,3,3,3,3,3,3,2,2,2,2,2,2,2,2,2,2,2,2,2,2,2,2,2,2,1,1,1,1,1,1,1,1,1,1,1,1,1,1,1,1,1,1,0,0,0,0,0,0,0,0,0,0,0,0,0,0,0,0,0,0,0,0,0,0,0,0,0,0,0,0,0,0]
[617,3,3,3,3,3,3,2,2,2,2,2,2,2,2,2,2,2,2,2,2,2,2,2,2,1,1,1,1,1,1,1,1,1,1,1,1,1,1,1,1,1,1,0,0,0,0,0,0,0,0,0,0,0,0,0,0,0,0,0,0,0,0,0,0,0,0,0,0,0,0,0,0]
[618,3,3,3,3,3,3,2,2,2,2,2,2,2,2,2,2,2,2,2,2,2,2,2,2,1,1,1,1,1,1,1,1,1,1,1,1,1,1,1,1,1,1,0,0,0,0,0,0,0,0,0,0,0,0,0,0,0,0,0,0,0,0,0,0,0,0,0,0,0,0,0,0]
[619,3,3,3,3,3,3,2,2,2,2,2,2,2,2,2,2,2,2,2,2,2,2,2,2,1,1,1,1,1,1,1,1,1,1,1,1,1,1,1,1,1,1,0,0,0,0,0,0,0,0,0,0,0,0,0,0,0,0,0,0,0,0,0,0,0,0,0,0,0,0,0,0]
[620,3,3,3,3,3,3,2,2,2,2,2,2,2,2,2,2,2,2,2,2,2,2,2,2,1,1,1,1,1,1,1,1,1,1,1,1,1,1,1,1,1,1,0,0,0,0,0,0,0,0,0,0,0,0,0,0,0,0,0,0,0,0,0,0,0,0,0,0,0,0,0,0]
[621,2,2,2,2,2,2,2,2,2,2,2,2,2,2,2,2,2,2,1,1,1,1,1,1,1,1,1,1,1,1,1,1,1,1,1,1,0,0,0,0,0,0,0,0,0,0,0,0,0,0,0,0,0,0,0,0,0,0,0,0,0,0,0,0,0,0,0,0,0,0,0,0]
[622,2,2,2,2,2,2,2,2,2,2,2,2,2,2,2,2,2,2,1,1,1,1,1,1,1,1,1,1,1,1,1,1,1,1,1,1,0,0,0,0,0,0,0,0,0,0,0,0,0,0,0,0,0,0,0,0,0,0,0,0,0,0,0,0,0,0,0,0,0,0,0,0]
[623,2,2,2,2,2,2,2,2,2,2,2,2,2,2,2,2,2,2,1,1,1,1,1,1,1,1,1,1,1,1,1,1,1,1,1,1,0,0,0,0,0,0,0,0,0,0,0,0,0,0,0,0,0,0,0,0,0,0,0,0,0,0,0,0,0,0,0,0,0,0,0,0]
[624,2,2,2,2,2,2,2,2,2,2,2,2,2,2,2,2,2,2,1,1,1,1,1,1,1,1,1,1,1,1,1,1,1,1,1,1,0,0,0,0,0,0,0,0,0,0,0,0,0,0,0,0,0,0,0,0,0,0,0,0,0,0,0,0,0,0,0,0,0,0,0,0]
[625,2,2,2,2,2,2,2,2,2,2,2,2,2,2,2,2,2,2,1,1,1,1,1,1,1,1,1,1,1,1,1,1,1,1,1,1,0,0,0,0,0,0,0,0,0,0,0,0,0,0,0,0,0,0,0,0,0,0,0,0,0,0,0,0,0,0,0,0,0,0,0,0]
[626,2,2,2,2,2,2,2,2,2,2,2,2,1,1,1,1,1,1,1,1,1,1,1,1,1,1,1,1,1,1,0,0,0,0,0,0,0,0,0,0,0,0,0,0,0,0,0,0,0,0,0,0,0,0,0,0,0,0,0,0,0,0,0,0,0,0,0,0,0,0,0,0]
[627,2,2,2,2,2,2,2,2,2,2,2,2,1,1,1,1,1,1,1,1,1,1,1,1,1,1,1,1,1,1,0,0,0,0,0,0,0,0,0,0,0,0,0,0,0,0,0,0,0,0,0,0,0,0,0,0,0,0,0,0,0,0,0,0,0,0,0,0,0,0,0,0]
[628,2,2,2,2,2,2,2,2,2,2,2,2,1,1,1,1,1,1,1,1,1,1,1,1,1,1,1,1,1,1,0,0,0,0,0,0,0,0,0,0,0,0,0,0,0,0,0,0,0,0,0,0,0,0,0,0,0,0,0,0,0,0,0,0,0,0,0,0,0,0,0,0]
[629,2,2,2,2,2,2,2,2,2,2,2,2,1,1,1,1,1,1,1,1,1,1,1,1,1,1,1,1,1,1,0,0,0,0,0,0,0,0,0,0,0,0,0,0,0,0,0,0,0,0,0,0,0,0,0,0,0,0,0,0,0,0,0,0,0,0,0,0,0,0,0,0]
[630,2,2,2,2,2,2,2,2,2,2,2,2,1,1,1,1,1,1,1,1,1,1,1,1,1,1,1,1,1,1,0,0,0,0,0,0,0,0,0,0,0,0,0,0,0,0,0,0,0,0,0,0,0,0,0,0,0,0,0,0,0,0,0,0,0,0,0,0,0,0,0,0]
[631,2,2,2,2,2,2,1,1,1,1,1,1,1,1,1,1,1,1,1,1,1,1,1,1,0,0,0,0,0,0,0,0,0,0,0,0,0,0,0,0,0,0,0,0,0,0,0,0,0,0,0,0,0,0,0,0,0,0,0,0,0,0,0,0,0,0,0,0,0,0,0,0]
[632,2,2,2,2,2,2,1,1,1,1,1,1,1,1,1,1,1,1,1,1,1,1,1,1,0,0,0,0,0,0,0,0,0,0,0,0,0,0,0,0,0,0,0,0,0,0,0,0,0,0,0,0,0,0,0,0,0,0,0,0,0,0,0,0,0,0,0,0,0,0,0,0]
[633,2,2,2,2,2,2,1,1,1,1,1,1,1,1,1,1,1,1,1,1,1,1,1,1,0,0,0,0,0,0,0,0,0,0,0,0,0,0,0,0,0,0,0,0,0,0,0,0,0,0,0,0,0,0,0,0,0,0,0,0,0,0,0,0,0,0,0,0,0,0,0,0]
[634,2,2,2,2,2,2,1,1,1,1,1,1,1,1,1,1,1,1,1,1,1,1,1,1,0,0,0,0,0,0,0,0,0,0,0,0,0,0,0,0,0,0,0,0,0,0,0,0,0,0,0,0,0,0,0,0,0,0,0,0,0,0,0,0,0,0,0,0,0,0,0,0]
[635,2,2,2,2,2,2,1,1,1,1,1,1,1,1,1,1,1,1,1,1,1,1,1,1,0,0,0,0,0,0,0,0,0,0,0,0,0,0,0,0,0,0,0,0,0,0,0,0,0,0,0,0,0,0,0,0,0,0,0,0,0,0,0,0,0,0,0,0,0,0,0,0]
[636,1,1,1,1,1,1,1,1,1,1,1,1,1,1,1,1,1,1,0,0,0,0,0,0,0,0,0,0,0,0,0,0,0,0,0,0,0,0,0,0,0,0,0,0,0,0,0,0,0,0,0,0,0,0,0,0,0,0,0,0,0,0,0,0,0,0,0,0,0,0,0,0]
[637,1,1,1,1,1,1,1,1,1,1,1,1,1,1,1,1,1,1,0,0,0,0,0,0,0,0,0,0,0,0,0,0,0,0,0,0,0,0,0,0,0,0,0,0,0,0,0,0,0,0,0,0,0,0,0,0,0,0,0,0,0,0,0,0,0,0,0,0,0,0,0,0]
[638,1,1,1,1,1,1,1,1,1,1,1,1,1,1,1,1,1,1,0,0,0,0,0,0,0,0,0,0,0,0,0,0,0,0,0,0,0,0,0,0,0,0,0,0,0,0,0,0,0,0,0,0,0,0,0,0,0,0,0,0,0,0,0,0,0,0,0,0,0,0,0,0]
[639,1,1,1,1,1,1,1,1,1,1,1,1,1,1,1,1,1,1,0,0,0,0,0,0,0,0,0,0,0,0,0,0,0,0,0,0,0,0,0,0,0,0,0,0,0,0,0,0,0,0,0,0,0,0,0,0,0,0,0,0,0,0,0,0,0,0,0,0,0,0,0,0]
[640,1,1,1,1,1,1,1,1,1,1,1,1,1,1,1,1,1,1,0,0,0,0,0,0,0,0,0,0,0,0,0,0,0,0,0,0,0,0,0,0,0,0,0,0,0,0,0,0,0,0,0,0,0,0,0,0,0,0,0,0,0,0,0,0,0,0,0,0,0,0,0,0]
[641,1,1,1,1,1,1,1,1,1,1,1,1,0,0,0,0,0,0,0,0,0,0,0,0,0,0,0,0,0,0,0,0,0,0,0,0,0,0,0,0,0,0,0,0,0,0,0,0,0,0,0,0,0,0,0,0,0,0,0,0,0,0,0,0,0,0,0,0,0,0,0,0]
[642,1,1,1,1,1,1,1,1,1,1,1,1,0,0,0,0,0,0,0,0,0,0,0,0,0,0,0,0,0,0,0,0,0,0,0,0,0,0,0,0,0,0,0,0,0,0,0,0,0,0,0,0,0,0,0,0,0,0,0,0,0,0,0,0,0,0,0,0,0,0,0,0]
[643,1,1,1,1,1,1,1,1,1,1,1,1,0,0,0,0,0,0,0,0,0,0,0,0,0,0,0,0,0,0,0,0,0,0,0,0,0,0,0,0,0,0,0,0,0,0,0,0,0,0,0,0,0,0,0,0,0,0,0,0,0,0,0,0,0,0,0,0,0,0,0,0]
[644,1,1,1,1,1,1,1,1,1,1,1,1,0,0,0,0,0,0,0,0,0,0,0,0,0,0,0,0,0,0,0,0,0,0,0,0,0,0,0,0,0,0,0,0,0,0,0,0,0,0,0,0,0,0,0,0,0,0,0,0,0,0,0,0,0,0,0,0,0,0,0,0]
[645,1,1,1,1,1,1,1,1,1,1,1,1,0,0,0,0,0,0,0,0,0,0,0,0,0,0,0,0,0,0,0,0,0,0,0,0,0,0,0,0,0,0,0,0,0,0,0,0,0,0,0,0,0,0,0,0,0,0,0,0,0,0,0,0,0,0,0,0,0,0,0,0]
[646,1,1,1,1,1,1,0,0,0,0,0,0,0,0,0,0,0,0,0,0,0,0,0,0,0,0,0,0,0,0,0,0,0,0,0,0,0,0,0,0,0,0,0,0,0,0,0,0,0,0,0,0,0,0,0,0,0,0,0,0,0,0,0,0,0,0,0,0,0,0,0,0]
[647,1,1,1,1,1,1,0,0,0,0,0,0,0,0,0,0,0,0,0,0,0,0,0,0,0,0,0,0,0,0,0,0,0,0,0,0,0,0,0,0,0,0,0,0,0,0,0,0,0,0,0,0,0,0,0,0,0,0,0,0,0,0,0,0,0,0,0,0,0,0,0,0]
[648,1,1,1,1,1,1,0,0,0,0,0,0,0,0,0,0,0,0,0,0,0,0,0,0,0,0,0,0,0,0,0,0,0,0,0,0,0,0,0,0,0,0,0,0,0,0,0,0,0,0,0,0,0,0,0,0,0,0,0,0,0,0,0,0,0,0,0,0,0,0,0,0]
[649,1,1,1,1,1,1,0,0,0,0,0,0,0,0,0,0,0,0,0,0,0,0,0,0,0,0,0,0,0,0,0,0,0,0,0,0,0,0,0,0,0,0,0,0,0,0,0,0,0,0,0,0,0,0,0,0,0,0,0,0,0,0,0,0,0,0,0,0,0,0,0,0]
[650,1,1,1,1,1,1,0,0,0,0,0,0,0,0,0,0,0,0,0,0,0,0,0,0,0,0,0,0,0,0,0,0,0,0,0,0,0,0,0,0,0,0,0,0,0,0,0,0,0,0,0,0,0,0,0,0,0,0,0,0,0,0,0,0,0,0,0,0,0,0,0,0]
[651,0,0,0,0,0,0,0,0,0,0,0,0,0,0,0,0,0,0,0,0,0,0,0,0,0,0,0,0,0,0,0,0,0,0,0,0,0,0,0,0,0,0,0,0,0,0,0,0,0,0,0,0,0,0,0,0,0,0,0,0,0,0,0,0,0,0,0,0,0,0,0,0]

{"sheet":"Pont","index":6,"n_rows":188,"n_cols":73,"rows_kept":188,"hidden":true}
[null,73,74,75,76,77,78,79,80,81,82,83,84,85,86,87,88,89,90,91,92,93,94,95,96,97,98,99,100,101,102,103,104,105,106,107,108,109,110,111,112,113,114,115,116,117,118,119,120,121,122,123,124,125,126,127,128,129,130,131,132,133,134,135,136,137,138,139,140,141,142,143,144]
[0,20,20,20,20,20,20,20,20,20,20,20,20,20,20,20,20,20,20,20,20,20,20,20,20,20,20,20,20,20,20,20,20,20,20,20,20,20,20,20,20,20,20,20,20,20,20,20,20,20,20,20,20,20,20,20,20,20,20,20,20,20,20,20,20,20,20,20,20,20,20,20,20]
[0.5,20,20,20,20,20,20,20,20,20,20,20,20,20,20,20,20,20,20,20,20,20,20,20,20,20,20,20,20,20,20,20,20,20,20,20,20,20,20,20,20,20,20,20,20,20,20,20,20,20,20,20,20,20,20,20,20,20,20,20,20,20,20,20,20,20,20,20,20,20,20,20,20]
[1,20,20,20,20,20,20,20,20,20,20,20,20,20,20,20,20,20,20,20,20,20,20,20,20,20,20,20,20,20,20,20,20,20,20,20,20,20,20,20,20,20,20,20,20,20,20,20,20,20,20,20,20,20,20,20,20,20,20,20,20,20,20,20,20,20,20,20,20,20,20,20,20]
[1.5,20,20,20,20,20,20,20,20,20,20,20,20,20,20,20,20,20,20,20,20,20,20,20,20,20,20,20,20,20,20,20,20,20,20,20,20,20,20,20,20,20,20,20,20,20,20,20,20,20,20,20,20,20,20,20,20,20,20,20,20,20,20,20,20,20,20,20,20,20,20,20,20]
[2,20,20,20,20,20,20,20,20,20,20,20,20,20,20,20,20,20,20,20,20,20,20,20,20,20,20,20,20,20,20,20,20,20,20,20,20,20,20,20,20,20,20,20,20,20,20,20,20,20,20,20,20,20,20,20,20,20,20,20,20,20,20,20,20,20,20,20,20,20,20,20,20]
[2.5,20,20,20,20,20,20,20,20,20,20,20,20,20,20,20,20,20,20,20,20,20,20,20,20,20,20,20,20,20,20,20,20,20,20,20,20,20,20,20,20,20,20,20,20,20,20,20,20,20,20,20,20,20,20,20,20,20,20,20,20,20,20,20,20,20,20,20,20,20,20,20,20]
[3,20,20,20,20,20,20,20,20,20,20,20,20,20,20,20,20,20,20,20,20,20,20,20,20,20,20,20,20,20,20,20,20,20,20,20,20,20,20,20,20,20,20,20,20,20,20,20,20,20,20,20,20,20,20,20,20,20,20,20,20,20,20,20,20,20,20,20,20,20,20,20,20]
[3.5,20,20,20,20,20,20,20,20,20,20,20,20,20,20,20,20,20,20,20,20,20,20,20,20,20,20,20,20,20,20,20,20,20,20,20,20,20,20,20,20,20,20,20,20,20,20,20,20,20,20,20,20,20,20,20,20,20,20,20,20,20,20,20,20,20,20,20,20,20,20,20,20]
[4,20,20,20,20,20,20,20,20,20,20,20,20,20,20,20,20,20,20,20,20,20,20,20,20,20,20,20,20,20,20,20,20,20,20,20,20,20,20,20,20,20,20,20,20,20,20,20,20,20,20,20,20,20,20,20,20,20,20,20,20,20,20,20,20,20,20,20,20,20,20,20,20]
[4.5,20,20,20,20,20,20,20,20,20,20,20,20,20,20,20,20,20,20,20,20,20,20,20,20,20,20,20,20,20,20,20,20,20,20,20,20,20,20,20,20,20,20,20,20,20,20,20,20,20,20,20,20,20,20,20,20,20,20,20,20,20,20,20,20,20,20,20,20,20,20,20,20]
[5,20,20,20,20,20,20,20,20,20,20,20,20,20,20,20,20,20,20,20,20,20,20,20,20,20,20,20,20,20,20,20,20,20,20,20,20,20,20,20,20,20,20,20,20,20,20,20,20,20,20,20,20,20,20,20,20,20,20,20,20,20,20,20,20,20,20,20,20,20,20,20,20]
[5.5,20,20,20,20,20,20,20,20,20,20,20,20,20,20,20,20,20,20,20,20,20,20,20,20,20,20,20,20,20,20,20,20,20,20,20,20,20,20,20,20,20,20,20,20,20,20,20,20,20,20,20,20,20,20,20,20,20,20,20,20,20,20,20,20,20,20,20,20,20,20,20,20]
[6,20,20,20,20,20,20,20,20,20,20,20,20,20,20,20,20,20,20,20,20,20,20,20,20,20,20,20,20,20,20,20,20,20,20,20,20,20,20,20,20,20,20,20,20,20,20,20,20,20,20,20,20,20,20,20,20,20,20,20,20,20,20,20,20,20,20,20,20,20,20,20,20]
[6.5,20,20,20,20,20,20,20,20,20,20,20,20,20,20,20,20,20,20,20,20,20,20,20,20,20,20,20,20,20,20,20,20,20,20,20,20,20,20,20,20,20,20,20,20,20,20,20,20,20,20,20,20,20,20,20,20,20,20,20,20,20,20,20,20,20,20,20,20,20,20,20,20]
[7,20,20,20,20,20,20,20,20,20,20,20,20,20,20,20,20,20,20,20,20,20,20,20,20,20,20,20,20,20,20,20,20,20,20,20,20,20,20,20,20,20,20,20,20,20,20,20,20,20,20,20,20,20,20,20,20,20,20,20,20,20,20,20,20,20,20,20,20,20,20,20,20]
[7.5,20,20,20,20,20,20,20,20,20,20,20,20,20,20,20,20,20,20,20,20,20,20,20,20,20,20,20,20,20,20,20,20,20,20,20,20,20,20,20,20,20,20,20,20,20,20,20,20,20,20,20,20,20,20,20,20,20,20,20,20,20,20,20,20,20,20,20,20,20,20,20,20]
[8,20,20,20,20,20,20,20,20,20,20,20,20,20,20,20,20,20,20,20,20,20,20,20,20,20,20,20,20,20,20,20,20,20,20,20,20,20,20,20,20,20,20,20,20,20,20,20,20,20,20,20,20,20,20,20,20,20,20,20,20,20,20,20,20,20,20,20,20,20,20,20,20]
[8.5,20,20,20,20,20,20,20,20,20,20,20,20,20,20,20,20,20,20,20,20,20,20,20,20,20,20,20,20,20,20,20,20,20,20,20,20,20,20,20,20,20,20,20,20,20,20,20,20,20,20,20,20,20,20,20,20,20,20,20,20,20,20,20,20,20,20,20,20,20,20,20,20]
[9,20,20,20,20,20,20,20,20,20,20,20,20,20,20,20,20,20,20,20,20,20,20,20,20,20,20,20,20,20,20,20,20,20,20,20,20,20,20,20,20,20,20,20,20,20,20,20,20,20,20,20,20,20,20,20,20,20,20,20,20,20,20,20,20,20,20,20,20,20,20,20,20]
[9.5,20,20,20,20,20,20,20,20,20,20,20,20,20,20,20,20,20,20,20,20,20,20,20,20,20,20,20,20,20,20,20,20,20,20,20,20,20,20,20,20,20,20,20,20,20,20,20,20,20,20,20,20,20,20,20,20,20,20,20,20,20,20,20,20,20,20,20,20,20,20,20,20]
[10,20,20,20,20,20,20,20,20,20,20,20,20,20,20,20,20,20,20,20,20,20,20,20,20,20,20,20,20,20,20,20,20,20,20,20,20,20,20,20,20,20,20,20,20,20,20,20,20,20,20,20,20,20,20,20,20,20,20,20,20,20,20,20,20,20,20,20,20,20,20,20,20]
[10.5,20,20,20,20,20,20,20,20,20,20,20,20,20,20,20,20,20,20,20,20,20,20,20,20,20,20,20,20,20,20,20,20,20,20,20,20,20,20,20,20,20,20,20,20,20,20,20,20,20,20,20,20,20,20,20,20,20,20,20,20,20,20,20,20,20,20,20,20,20,20,20,20]
[11,20,20,20,20,20,20,20,20,20,20,20,20,20,20,20,20,20,20,20,20,20,20,20,20,20,20,20,20,20,20,20,20,20,20,20,20,20,20,20,20,20,20,20,20,20,20,20,20,20,20,20,20,20,20,20,20,20,20,20,20,20,20,20,20,20,20,20,20,20,20,20,20]
[11.5,20,20,20,20,20,20,20,20,20,20,20,20,20,20,20,20,20,20,20,20,20,20,20,20,20,20,20,20,20,20,20,20,20,20,20,20,20,20,20,20,20,20,20,20,20,20,20,20,20,20,20,20,20,20,20,20,20,20,20,20,20,20,20,20,20,20,20,20,20,20,20,20]
[12,20,20,20,20,20,20,20,20,20,20,20,20,20,20,20,20,20,20,20,20,20,20,20,20,20,20,20,20,20,20,20,20,20,20,20,20,20,20,20,20,20,20,20,20,20,20,20,20,20,20,20,20,20,20,20,20,20,20,20,20,20,20,20,20,20,20,20,20,20,20,20,20]
[12.5,20,20,20,20,20,20,20,20,20,20,20,20,20,20,20,20,20,20,20,20,20,20,20,20,20,20,20,20,20,20,20,20,20,20,20,20,20,20,20,20,20,20,20,20,20,20,20,20,20,20,20,20,20,20,20,20,20,20,20,20,20,20,20,20,20,20,20,20,20,20,20,20]
[13,20,20,20,20,20,20,20,20,20,20,20,20,20,20,20,20,20,20,20,20,20,20,20,20,20,20,20,20,20,20,20,20,20,20,20,20,20,20,20,20,20,20,20,20,20,20,20,20,20,20,20,20,20,20,20,20,20,20,20,20,20,20,20,20,20,20,20,20,20,20,20,20]
[13.5,20,20,20,20,20,20,20,20,20,20,20,20,20,20,20,20,20,20,20,20,20,20,20,20,20,20,20,20,20,20,20,20,20,20,20,20,20,20,20,20,20,20,20,20,20,20,20,20,20,20,20,20,20,20,20,20,20,20,20,20,20,20,20,20,20,20,20,20,20,20,20,20]
[14,20,20,20,20,20,20,20,20,20,20,20,20,20,20,20,20,20,20,20,20,20,20,20,20,20,20,20,20,20,20,20,20,20,20,20,20,20,20,20,20,20,20,20,20,20,20,20,20,20,20,20,20,20,20,20,20,20,20,20,20,20,20,20,20,20,20,20,20,20,20,20,20]
[14.5,20,20,20,20,20,20,20,20,20,20,20,20,20,20,20,20,20,20,20,20,20,20,20,20,20,20,20,20,20,20,20,20,20,20,20,20,20,20,20,20,20,20,20,20,20,20,20,20,20,20,20,20,20,20,20,20,20,20,20,20,20,20,20,20,20,20,20,20,20,20,20,20]
[15,20,20,20,20,20,20,20,20,20,20,20,20,20,20,20,20,20,20,20,20,20,20,20,20,20,20,20,20,20,20,20,20,20,20,20,20,20,20,20,20,20,20,20,20,20,20,20,20,20,20,20,20,20,20,20,20,20,20,20,20,20,20,20,20,20,20,20,20,20,20,20,20]
[15.5,20,20,20,20,20,20,20,20,20,20,20,20,20,20,20,20,20,20,20,20,20,20,20,20,20,20,20,20,20,20,20,20,20,20,20,20,20,20,20,20,20,20,20,20,20,20,20,20,20,20,20,20,20,20,20,20,20,20,20,20,20,20,20,20,20,20,20,20,20,20,20,20]
[16,20,20,20,20,20,20,20,20,20,20,20,20,20,20,20,20,20,20,20,20,20,20,20,20,20,20,20,20,20,20,20,20,20,20,20,20,20,20,20,20,20,20,20,20,20,20,20,20,20,20,20,20,20,20,20,20,20,20,20,20,20,20,20,20,20,20,20,20,20,20,20,20]
[16.5,20,20,20,20,20,20,20,20,20,20,20,20,20,20,20,20,20,20,20,20,20,20,20,20,20,20,20,20,20,20,20,20,20,20,20,20,20,20,20,20,20,20,20,20,20,20,20,20,20,20,20,20,20,20,20,20,20,20,20,20,20,20,20,20,20,20,20,20,20,20,20,20]
[17,20,20,20,20,20,20,20,20,20,20,20,20,20,20,20,20,20,20,20,20,20,20,20,20,20,20,20,20,20,20,20,20,20,20,20,20,20,20,20,20,20,20,20,20,20,20,20,20,20,20,20,20,20,20,20,20,20,20,20,20,20,20,20,20,20,20,20,20,20,20,20,20]
[17.5,20,20,20,20,20,20,20,20,20,20,20,20,20,20,20,20,20,20,20,20,20,20,20,20,20,20,20,20,20,20,20,20,20,20,20,20,20,20,20,20,20,20,20,20,20,20,20,20,20,20,20,20,20,20,20,20,20,20,20,20,20,20,20,20,20,20,20,20,20,20,20,20]
[18,20,20,20,20,20,20,20,20,20,20,20,20,20,20,20,20,20,20,20,20,20,20,20,20,20,20,20,20,20,20,20,20,20,20,20,20,20,20,20,20,20,20,20,20,20,20,20,20,20,20,20,20,20,20,20,20,20,20,20,20,20,20,20,20,20,20,20,20,20,20,20,20]
[18.5,20,20,20,20,20,20,20,20,20,20,20,20,20,20,20,20,20,20,20,20,20,20,20,20,20,20,20,20,20,20,20,20,20,20,20,20,20,20,20,20,20,20,20,20,20,20,20,20,20,20,20,20,20,20,20,20,20,20,20,20,20,20,20,20,20,20,20,20,20,20,20,20]
[19,20,20,20,20,20,20,20,20,20,20,20,20,20,20,20,20,20,20,20,20,20,20,20,20,20,20,20,20,20,20,20,20,20,20,20,20,20,20,20,20,20,20,20,20,20,20,20,20,20,20,20,20,20,20,20,20,20,20,20,20,20,20,20,20,20,20,20,20,20,20,20,20]
[19.5,20,20,20,20,20,20,20,20,20,20,20,20,20,20,20,20,20,20,20,20,20,20,20,20,20,20,20,20,20,20,20,20,20,20,20,20,20,20,20,20,20,20,20,20,20,20,20,20,20,20,20,20,20,20,20,20,20,20,20,20,20,20,20,20,20,20,20,20,20,20,20,20]
[20,20,20,20,20,20,20,20,20,20,20,20,20,20,20,20,20,20,20,20,20,20,20,20,20,20,20,20,20,20,20,20,20,20,20,20,20,20,20,20,20,20,20,20,20,20,20,20,20,20,20,20,20,20,20,20,20,20,20,20,20,20,20,20,20,20,20,20,20,20,20,20,20]
[20.5,20,20,20,20,20,20,20,20,20,20,20,20,20,20,20,20,20,20,20,20,20,20,20,20,20,20,20,20,20,20,20,20,20,20,20,20,20,20,20,20,20,20,20,20,20,20,20,20,20,20,20,20,20,20,20,20,20,20,20,20,20,20,20,20,20,20,20,20,20,20,20,20]
[21,20,20,20,20,20,20,20,20,20,20,20,20,20,20,20,20,20,20,20,20,20,20,20,20,20,20,20,20,20,20,20,20,20,20,20,20,20,20,20,20,20,20,20,20,20,20,20,20,20,20,20,20,20,20,20,20,20,20,20,20,20,20,20,20,20,20,20,20,20,20,20,20]
[21.5,20,20,20,20,20,20,20,20,20,20,20,20,20,20,20,20,20,20,20,20,20,20,20,20,20,20,20,20,20,20,20,20,20,20,20,20,20,20,20,20,20,20,20,20,20,20,20,20,20,20,20,20,20,20,20,20,20,20,20,20,20,20,20,20,20,20,20,20,20,20,20,20]
[22,20,20,20,20,20,20,20,20,20,20,20,20,20,20,20,20,20,20,20,20,20,20,20,20,20,20,20,20,20,20,20,20,20,20,20,20,20,20,20,20,20,20,20,20,20,20,20,20,20,20,20,20,20,20,20,20,20,20,20,20,20,20,20,20,20,20,20,20,20,20,20,20]
[22.5,20,20,20,20,20,20,20,20,20,20,20,20,20,20,20,20,20,20,20,20,20,20,20,20,20,20,20,20,20,20,20,20,20,20,20,20,20,20,20,20,20,20,20,20,20,20,20,20,20,20,20,20,20,20,20,20,20,20,20,20,20,20,20,20,20,20,20,20,20,20,20,20]
[23,20,20,20,20,20,20,20,20,20,20,20,20,20,20,20,20,20,20,20,20,20,20,20,20,20,20,20,20,20,20,20,20,20,20,20,20,20,20,20,20,20,20,20,20,20,20,20,20,20,20,20,20,20,20,20,20,20,20,20,20,20,20,20,20,20,20,20,20,20,20,20,20]
[23.5,20,20,20,20,20,20,20,20,20,20,20,20,20,20,20,20,20,20,20,20,20,20,20,20,20,20,20,20,20,20,20,20,20,20,20,20,20,20,20,20,20,20,20,20,20,20,20,20,20,20,20,20,20,20,20,20,20,20,20,20,20,20,20,20,20,20,20,20,20,20,20,20]
[24,20,20,20,20,20,20,20,20,20,20,20,20,20,20,20,20,20,20,20,20,20,20,20,20,20,20,20,20,20,20,20,20,20,20,20,20,20,20,20,20,20,20,20,20,20,20,20,20,20,20,20,20,20,20,20,20,20,20,20,20,20,20,20,20,20,20,20,20,20,20,20,20]
[24.5,20,20,20,20,20,20,20,20,20,20,20,20,20,20,20,20,20,20,20,20,20,20,20,20,20,20,20,20,20,20,20,20,20,20,20,20,20,20,20,20,20,20,20,20,20,20,20,20,20,20,20,20,20,20,20,20,20,20,20,20,20,20,20,20,20,20,20,20,20,20,20,20]
[25,20,20,20,20,20,20,20,20,20,20,20,20,20,20,20,20,20,20,20,20,20,20,20,20,20,20,20,20,20,20,20,20,20,20,20,20,20,20,20,20,20,20,20,20,20,20,20,20,20,20,20,20,20,20,20,20,20,20,20,20,20,20,20,20,20,20,20,20,20,20,20,20]
[25.5,20,20,20,20,20,20,20,20,20,20,20,20,20,20,20,20,20,20,20,20,20,20,20,20,20,20,20,20,20,20,20,20,20,20,20,20,20,20,20,20,20,20,20,20,20,20,20,20,20,20,20,20,20,20,20,20,20,20,20,20,20,20,20,20,20,20,20,20,20,20,20,20]
[26,20,20,20,20,20,20,20,20,20,20,20,20,20,20,20,20,20,20,20,20,20,20,20,20,20,20,20,20,20,20,20,20,20,20,20,20,20,20,20,20,20,20,20,20,20,20,20,20,20,20,20,20,20,20,20,20,20,20,20,20,20,20,20,20,20,20,20,20,20,20,20,20]
[26.5,20,20,20,20,20,20,20,20,20,20,20,20,20,20,20,20,20,20,20,20,20,20,20,20,20,20,20,20,20,20,20,20,20,20,20,20,20,20,20,20,20,20,20,20,20,20,20,20,20,20,20,20,20,20,20,20,20,20,20,20,20,20,20,20,20,20,19,19,19,19,19,19]
[27,20,20,20,20,20,20,20,20,20,20,20,20,20,20,20,20,20,20,20,20,20,20,20,20,20,20,20,20,20,20,20,20,20,20,20,20,20,20,20,20,20,20,20,20,20,20,20,20,20,20,20,20,20,20,20,20,20,20,20,20,20,20,20,20,20,20,19,19,19,19,19,19]
[27.5,20,20,20,20,20,20,20,20,20,20,20,20,20,20,20,20,20,20,20,20,20,20,20,20,20,20,20,20,20,20,20,20,20,20,20,20,20,20,20,20,20,20,20,20,20,20,20,20,20,20,20,20,20,20,20,20,20,20,20,20,19,19,19,19,19,19,19,19,19,19,19,19]
[28,20,20,20,20,20,20,20,20,20,20,20,20,20,20,20,20,20,20,20,20,20,20,20,20,20,20,20,20,20,20,20,20,20,20,20,20,20,20,20,20,20,20,20,20,20,20,20,20,20,20,20,20,20,20,20,20,20,20,20,20,19,19,19,19,19,19,19,19,19,19,19,19]
[28.5,20,20,20,20,20,20,20,20,20,20,20,20,20,20,20,20,20,20,20,20,20,20,20,20,20,20,20,20,20,20,20,20,20,20,20,20,20,20,20,20,20,20,20,20,20,20,20,20,20,20,20,20,20,20,19,19,19,19,19,19,19,19,19,19,19,19,19,19,19,19,19,19]
[29,20,20,20,20,20,20,20,20,20,20,20,20,20,20,20,20,20,20,20,20,20,20,20,20,20,20,20,20,20,20,20,20,20,20,20,20,20,20,20,20,20,20,20,20,20,20,20,20,20,20,20,20,20,20,19,19,19,19,19,19,19,19,19,19,19,19,19,19,19,19,19,19]
[29.5,20,20,20,20,20,20,20,20,20,20,20,20,20,20,20,20,20,20,20,20,20,20,20,20,20,20,20,20,20,20,20,20,20,20,20,20,20,20,20,20,20,20,20,20,20,20,20,20,19,19,19,19,19,19,19,19,19,19,19,19,19,19,19,19,19,19,18,18,18,18,18,18]
[30,20,20,20,20,20,20,20,20,20,20,20,20,20,20,20,20,20,20,20,20,20,20,20,20,20,20,20,20,20,20,20,20,20,20,20,20,20,20,20,20,20,20,20,20,20,20,20,20,19,19,19,19,19,19,19,19,19,19,19,19,19,19,19,19,19,19,18,18,18,18,18,18]
[30.5,20,20,20,20,20,20,20,20,20,20,20,20,20,20,20,20,20,20,20,20,20,20,20,20,20,20,20,20,20,20,20,20,20,20,20,20,20,20,20,20,20,20,19,19,19,19,19,19,19,19,19,19,19,19,19,19,19,19,19,19,18,18,18,18,18,18,18,18,18,18,18,18]
[31,20,20,20,20,20,20,20,20,20,20,20,20,20,20,20,20,20,20,20,20,20,20,20,20,20,20,20,20,20,20,20,20,20,20,20,20,20,20,20,20,20,20,19,19,19,19,19,19,19,19,19,19,19,19,19,19,19,19,19,19,18,18,18,18,18,18,18,18,18,18,18,18]
[31.5,20,20,20,20,20,20,20,20,20,20,20,20,20,20,20,20,20,20,20,20,20,20,20,20,20,20,20,20,20,20,20,20,20,20,20,20,19,19,19,19,19,19,19,19,19,19,19,19,19,19,19,19,19,19,18,18,18,18,18,18,18,18,18,18,18,18,18,18,18,18,18,18]
[32,20,20,20,20,20,20,20,20,20,20,20,20,20,20,20,20,20,20,20,20,20,20,20,20,20,20,20,20,20,20,20,20,20,20,20,20,19,19,19,19,19,19,19,19,19,19,19,19,19,19,19,19,19,19,18,18,18,18,18,18,18,18,18,18,18,18,18,18,18,18,18,18]
[32.5,20,20,20,20,20,20,20,20,20,20,20,20,20,20,20,20,20,20,20,20,20,20,20,20,20,20,20,20,20,20,19,19,19,19,19,19,19,19,19,19,19,19,19,19,19,19,19,19,18,18,18,18,18,18,18,18,18,18,18,18,18,18,18,18,18,18,17,17,17,17,17,17]
[33,20,20,20,20,20,20,20,20,20,20,20,20,20,20,20,20,20,20,20,20,20,20,20,20,20,20,20,20,20,20,19,19,19,19,19,19,19,19,19,19,19,19,19,19,19,19,19,19,18,18,18,18,18,18,18,18,18,18,18,18,18,18,18,18,18,18,17,17,17,17,17,17]
[33.5,20,20,20,20,20,20,20,20,20,20,20,20,20,20,20,20,20,20,20,20,20,20,20,20,19,19,19,19,19,19,19,19,19,19,19,19,19,19,19,19,19,19,18,18,18,18,18,18,18,18,18,18,18,18,18,18,18,18,18,18,17,17,17,17,17,17,17,17,17,17,17,17]
[34,20,20,20,20,20,20,20,20,20,20,20,20,20,20,20,20,20,20,20,20,20,20,20,20,19,19,19,19,19,19,19,19,19,19,19,19,19,19,19,19,19,19,18,18,18,18,18,18,18,18,18,18,18,18,18,18,18,18,18,18,17,17,17,17,17,17,17,17,17,17,17,17]
[34.5,20,20,20,20,20,20,20,20,20,20,20,20,20,20,20,20,20,20,19,19,19,19,19,19,19,19,19,19,19,19,19,19,19,19,19,19,18,18,18,18,18,18,18,18,18,18,18,18,18,18,18,18,18,18,17,17,17,17,17,17,17,17,17,17,17,17,17,17,17,17,17,17]
[35,20,20,20,20,20,20,20,20,20,20,20,20,20,20,20,20,20,20,19,19,19,19,19,19,19,19,19,19,19,19,19,19,19,19,19,19,18,18,18,18,18,18,18,18,18,18,18,18,18,18,18,18,18,18,17,17,17,17,17,17,17,17,17,17,17,17,17,17,17,17,17,17]
[35.5,20,20,20,20,20,20,20,20,20,20,20,20,19,19,19,19,19,19,19,19,19,19,19,19,19,19,19,19,19,19,18,18,18,18,18,18,18,18,18,18,18,18,18,18,18,18,18,18,17,17,17,17,17,17,17,17,17,17,17,17,17,17,17,17,17,17,16,16,16,16,16,16]
[36,20,20,20,20,20,20,20,20,20,20,20,20,19,19,19,19,19,19,19,19,19,19,19,19,19,19,19,19,19,19,18,18,18,18,18,18,18,18,18,18,18,18,18,18,18,18,18,18,17,17,17,17,17,17,17,17,17,17,17,17,17,17,17,17,17,17,16,16,16,16,16,16]
[36.5,19,19,19,19,19,19,19,19,19,19,19,19,19,19,19,19,19,19,19,19,19,19,19,19,18,18,18,18,18,18,18,18,18,18,18,18,18,18,18,18,18,18,17,17,17,17,17,17,17,17,17,17,17,17,17,17,17,17,17,17,16,16,16,16,16,16,16,16,16,16,16,16]
[37,19,19,19,19,19,19,19,19,19,19,19,19,19,19,19,19,19,19,19,19,19,19,19,19,18,18,18,18,18,18,18,18,18,18,18,18,18,18,18,18,18,18,17,17,17,17,17,17,17,17,17,17,17,17,17,17,17,17,17,17,16,16,16,16,16,16,16,16,16,16,16,16]
[37.5,19,19,19,19,19,19,19,19,19,19,19,19,19,19,19,19,19,19,18,18,18,18,18,18,18,18,18,18,18,18,18,18,18,18,18,18,17,17,17,17,17,17,17,17,17,17,17,17,17,17,17,17,17,17,16,16,16,16,16,16,16,16,16,16,16,16,16,16,16,16,16,16]
[38,19,19,19,19,19,19,19,19,19,19,19,19,19,19,19,19,19,19,18,18,18,18,18,18,18,18,18,18,18,18,18,18,18,18,18,18,17,17,17,17,17,17,17,17,17,17,17,17,17,17,17,17,17,17,16,16,16,16,16,16,16,16,16,16,16,16,16,16,16,16,16,16]
[38.5,19,19,19,19,19,19,19,19,19,19,19,19,18,18,18,18,18,18,18,18,18,18,18,18,18,18,18,18,18,18,17,17,17,17,17,17,17,17,17,17,17,17,17,17,17,17,17,17,16,16,16,16,16,16,16,16,16,16,16,16,16,16,16,16,16,16,15,15,15,15,15,15]
[39,19,19,19,19,19,19,19,19,19,19,19,19,18,18,18,18,18,18,18,18,18,18,18,18,18,18,18,18,18,18,17,17,17,17,17,17,17,17,17,17,17,17,17,17,17,17,17,17,16,16,16,16,16,16,16,16,16,16,16,16,16,16,16,16,16,16,15,15,15,15,15,15]
[39.5,18,18,18,18,18,18,18,18,18,18,18,18,18,18,18,18,18,18,18,18,18,18,18,18,17,17,17,17,17,17,17,17,17,17,17,17,17,17,17,17,17,17,16,16,16,16,16,16,16,16,16,16,16,16,16,16,16,16,16,16,15,15,15,15,15,15,15,15,15,15,15,15]
[40,18,18,18,18,18,18,18,18,18,18,18,18,18,18,18,18,18,18,18,18,18,18,18,18,17,17,17,17,17,17,17,17,17,17,17,17,17,17,17,17,17,17,16,16,16,16,16,16,16,16,16,16,16,16,16,16,16,16,16,16,15,15,15,15,15,15,15,15,15,15,15,15]
[40.5,18,18,18,18,18,18,18,18,18,18,18,18,18,18,18,18,18,18,17,17,17,17,17,17,17,17,17,17,17,17,17,17,17,17,17,17,16,16,16,16,16,16,16,16,16,16,16,16,16,16,16,16,16,16,15,15,15,15,15,15,15,15,15,15,15,15,15,15,15,15,15,15]
[41,18,18,18,18,18,18,18,18,18,18,18,18,18,18,18,18,18,18,17,17,17,17,17,17,17,17,17,17,17,17,17,17,17,17,17,17,16,16,16,16,16,16,16,16,16,16,16,16,16,16,16,16,16,16,15,15,15,15,15,15,15,15,15,15,15,15,15,15,15,15,15,15]
[41.5,18,18,18,18,18,18,18,18,18,18,18,18,17,17,17,17,17,17,17,17,17,17,17,17,17,17,17,17,17,17,16,16,16,16,16,16,16,16,16,16,16,16,16,16,16,16,16,16,15,15,15,15,15,15,15,15,15,15,15,15,15,15,15,15,15,15,14,14,14,14,14,14]
[42,18,18,18,18,18,18,18,18,18,18,18,18,17,17,17,17,17,17,17,17,17,17,17,17,17,17,17,17,17,17,16,16,16,16,16,16,16,16,16,16,16,16,16,16,16,16,16,16,15,15,15,15,15,15,15,15,15,15,15,15,15,15,15,15,15,15,14,14,14,14,14,14]
[42.5,17,17,17,17,17,17,17,17,17,17,17,17,17,17,17,17,17,17,17,17,17,17,17,17,16,16,16,16,16,16,16,16,16,16,16,16,16,16,16,16,16,16,15,15,15,15,15,15,15,15,15,15,15,15,15,15,15,15,15,15,14,14,14,14,14,14,14,14,14,14,14,14]
[43,17,17,17,17,17,17,17,17,17,17,17,17,17,17,17,17,17,17,17,17,17,17,17,17,16,16,16,16,16,16,16,16,16,16,16,16,16,16,16,16,16,16,15,15,15,15,15,15,15,15,15,15,15,15,15,15,15,15,15,15,14,14,14,14,14,14,14,14,14,14,14,14]
[43.5,17,17,17,17,17,17,17,17,17,17,17,17,17,17,17,17,17,17,16,16,16,16,16,16,16,16,16,16,16,16,16,16,16,16,16,16,15,15,15,15,15,15,15,15,15,15,15,15,15,15,15,15,15,15,14,14,14,14,14,14,14,14,14,14,14,14,14,14,14,14,14,14]
[44,17,17,17,17,17,17,17,17,17,17,17,17,17,17,17,17,17,17,16,16,16,16,16,16,16,16,16,16,16,16,16,16,16,16,16,16,15,15,15,15,15,15,15,15,15,15,15,15,15,15,15,15,15,15,14,14,14,14,14,14,14,14,14,14,14,14,14,14,14,14,14,14]
[44.5,17,17,17,17,17,17,17,17,17,17,17,17,16,16,16,16,16,16,16,16,16,16,16,16,16,16,16,16,16,16,15,15,15,15,15,15,15,15,15,15,15,15,15,15,15,15,15,15,14,14,14,14,14,14,14,14,14,14,14,14,14,14,14,14,14,14,13,13,13,13,13,13]
[45,17,17,17,17,17,17,17,17,17,17,17,17,16,16,16,16,16,16,16,16,16,16,16,16,16,16,16,16,16,16,15,15,15,15,15,15,15,15,15,15,15,15,15,15,15,15,15,15,14,14,14,14,14,14,14,14,14,14,14,14,14,14,14,14,14,14,13,13,13,13,13,13]
[45.5,16,16,16,16,16,16,16,16,16,16,16,16,16,16,16,16,16,16,16,16,16,16,16,16,15,15,15,15,15,15,15,15,15,15,15,15,15,15,15,15,15,15,14,14,14,14,14,14,14,14,14,14,14,14,14,14,14,14,14,14,13,13,13,13,13,13,13,13,13,13,13,13]
[46,16,16,16,16,16,16,16,16,16,16,16,16,16,16,16,16,16,16,16,16,16,16,16,16,15,15,15,15,15,15,15,15,15,15,15,15,15,15,15,15,15,15,14,14,14,14,14,14,14,14,14,14,14,14,14,14,14,14,14,14,13,13,13,13,13,13,13,13,13,13,13,13]
[46.5,16,16,16,16,16,16,16,16,16,16,16,16,16,16,16,16,16,16,15,15,15,15,15,15,15,15,15,15,15,15,15,15,15,15,15,15,14,14,14,14,14,14,14,14,14,14,14,14,14,14,14,14,14,14,13,13,13,13,13,13,13,13,13,13,13,13,13,13,13,13,13,13]
[47,16,16,16,16,16,16,16,16,16,16,16,16,16,16,16,16,16,16,15,15,15,15,15,15,15,15,15,15,15,15,15,15,15,15,15,15,14,14,14,14,14,14,14,14,14,14,14,14,14,14,14,14,14,14,13,13,13,13,13,13,13,13,13,13,13,13,13,13,13,13,13,13]
[47.5,16,16,16,16,16,16,16,16,16,16,16,16,15,15,15,15,15,15,15,15,15,15,15,15,15,15,15,15,15,15,14,14,14,14,14,14,14,14,14,14,14,14,14,14,14,14,14,14,13,13,13,13,13,13,13,13,13,13,13,13,13,13,13,13,13,13,12,12,12,12,12,12]
[48,16,16,16,16,16,16,16,16,16,16,16,16,15,15,15,15,15,15,15,15,15,15,15,15,15,15,15,15,15,15,14,14,14,14,14,14,14,14,14,14,14,14,14,14,14,14,14,14,13,13,13,13,13,13,13,13,13,13,13,13,13,13,13,13,13,13,12,12,12,12,12,12]
[48.5,15,15,15,15,15,15,15,15,15,15,15,15,15,15,15,15,15,15,15,15,15,15,15,15,14,14,14,14,14,14,14,14,14,14,14,14,14,14,14,14,14,14,13,13,13,13,13,13,13,13,13,13,13,13,13,13,13,13,13,13,12,12,12,12,12,12,12,12,12,12,12,12]
[49,15,15,15,15,15,15,15,15,15,15,15,15,15,15,15,15,15,15,15,15,15,15,15,15,14,14,14,14,14,14,14,14,14,14,14,14,14,14,14,14,14,14,13,13,13,13,13,13,13,13,13,13,13,13,13,13,13,13,13,13,12,12,12,12,12,12,12,12,12,12,12,12]
[49.5,15,15,15,15,15,15,15,15,15,15,15,15,15,15,15,15,15,15,14,14,14,14,14,14,14,14,14,14,14,14,14,14,14,14,14,14,13,13,13,13,13,13,13,13,13,13,13,13,13,13,13,13,13,13,12,12,12,12,12,12,12,12,12,12,12,12,12,12,12,12,12,12]
[50,15,15,15,15,15,15,15,15,15,15,15,15,15,15,15,15,15,15,14,14,14,14,14,14,14,14,14,14,14,14,14,14,14,14,14,14,13,13,13,13,13,13,13,13,13,13,13,13,13,13,13,13,13,13,12,12,12,12,12,12,12,12,12,12,12,12,12,12,12,12,12,12]
[50.5,15,15,15,15,15,15,15,15,15,15,15,15,14,14,14,14,14,14,14,14,14,14,14,14,14,14,14,14,14,14,13,13,13,13,13,13,13,13,13,13,13,13,13,13,13,13,13,13,12,12,12,12,12,12,12,12,12,12,12,12,12,12,12,12,12,12,11,11,11,11,11,11]
[51,15,15,15,15,15,15,15,15,15,15,15,15,14,14,14,14,14,14,14,14,14,14,14,14,14,14,14,14,14,14,13,13,13,13,13,13,13,13,13,13,13,13,13,13,13,13,13,13,12,12,12,12,12,12,12,12,12,12,12,12,12,12,12,12,12,12,11,11,11,11,11,11]
[51.5,14,14,14,14,14,14,14,14,14,14,14,14,14,14,14,14,14,14,14,14,14,14,14,14,13,13,13,13,13,13,13,13,13,13,13,13,13,13,13,13,13,13,12,12,12,12,12,12,12,12,12,12,12,12,12,12,12,12,12,12,11,11,11,11,11,11,11,11,11,11,11,11]
[52,14,14,14,14,14,14,14,14,14,14,14,14,14,14,14,14,14,14,14,14,14,14,14,14,13,13,13,13,13,13,13,13,13,13,13,13,13,13,13,13,13,13,12,12,12,12,12,12,12,12,12,12,12,12,12,12,12,12,12,12,11,11,11,11,11,11,11,11,11,11,11,11]
[52.5,14,14,14,14,14,14,14,14,14,14,14,14,14,14,14,14,14,14,13,13,13,13,13,13,13,13,13,13,13,13,13,13,13,13,13,13,12,12,12,12,12,12,12,12,12,12,12,12,12,12,12,12,12,12,11,11,11,11,11,11,11,11,11,11,11,11,11,11,11,11,11,11]
[53,14,14,14,14,14,14,14,14,14,14,14,14,14,14,14,14,14,14,13,13,13,13,13,13,13,13,13,13,13,13,13,13,13,13,13,13,12,12,12,12,12,12,12,12,12,12,12,12,12,12,12,12,12,12,11,11,11,11,11,11,11,11,11,11,11,11,11,11,11,11,11,11]
[53.5,14,14,14,14,14,14,14,14,14,14,14,14,13,13,13,13,13,13,13,13,13,13,13,13,13,13,13,13,13,13,12,12,12,12,12,12,12,12,12,12,12,12,12,12,12,12,12,12,11,11,11,11,11,11,11,11,11,11,11,11,11,11,11,11,11,11,10,10,10,10,10,10]
[54,14,14,14,14,14,14,14,14,14,14,14,14,13,13,13,13,13,13,13,13,13,13,13,13,13,13,13,13,13,13,12,12,12,12,12,12,12,12,12,12,12,12,12,12,12,12,12,12,11,11,11,11,11,11,11,11,11,11,11,11,11,11,11,11,11,11,10,10,10,10,10,10]
[54.5,13,13,13,13,13,13,13,13,13,13,13,13,13,13,13,13,13,13,13,13,13,13,13,13,12,12,12,12,12,12,12,12,12,12,12,12,12,12,12,12,12,12,11,11,11,11,11,11,11,11,11,11,11,11,11,11,11,11,11,11,10,10,10,10,10,10,10,10,10,10,10,10]
[55,13,13,13,13,13,13,13,13,13,13,13,13,13,13,13,13,13,13,13,13,13,13,13,13,12,12,12,12,12,12,12,12,12,12,12,12,12,12,12,12,12,12,11,11,11,11,11,11,11,11,11,11,11,11,11,11,11,11,11,11,10,10,10,10,10,10,10,10,10,10,10,10]
[55.5,13,13,13,13,13,13,13,13,13,13,13,13,13,13,13,13,13,13,12,12,12,12,12,12,12,12,12,12,12,12,12,12,12,12,12,12,11,11,11,11,11,11,11,11,11,11,11,11,11,11,11,11,11,11,10,10,10,10,10,10,10,10,10,10,10,10,10,10,10,10,10,10]
[56,13,13,13,13,13,13,13,13,13,13,13,13,13,13,13,13,13,13,12,12,12,12,12,12,12,12,12,12,12,12,12,12,12,12,12,12,11,11,11,11,11,11,11,11,11,11,11,11,11,11,11,11,11,11,10,10,10,10,10,10,10,10,10,10,10,10,10,10,10,10,10,10]
[56.5,13,13,13,13,13,13,13,13,13,13,13,13,12,12,12,12,12,12,12,12,12,12,12,12,12,12,12,12,12,12,11,11,11,11,11,11,11,11,11,11,11,11,11,11,11,11,11,11,10,10,10,10,10,10,10,10,10,10,10,10,10,10,10,10,10,10,9,9,9,9,9,9]
[57,13,13,13,13,13,13,13,13,13,13,13,13,12,12,12,12,12,12,12,12,12,12,12,12,12,12,12,12,12,12,11,11,11,11,11,11,11,11,11,11,11,11,11,11,11,11,11,11,10,10,10,10,10,10,10,10,10,10,10,10,10,10,10,10,10,10,9,9,9,9,9,9]
[57.5,12,12,12,12,12,12,12,12,12,12,12,12,12,12,12,12,12,12,12,12,12,12,12,12,11,11,11,11,11,11,11,11,11,11,11,11,11,11,11,11,11,11,10,10,10,10,10,10,10,10,10,10,10,10,10,10,10,10,10,10,9,9,9,9,9,9,9,9,9,9,9,9]
[58,12,12,12,12,12,12,12,12,12,12,12,12,12,12,12,12,12,12,12,12,12,12,12,12,11,11,11,11,11,11,11,11,11,11,11,11,11,11,11,11,11,11,10,10,10,10,10,10,10,10,10,10,10,10,10,10,10,10,10,10,9,9,9,9,9,9,9,9,9,9,9,9]
[58.5,12,12,12,12,12,12,12,12,12,12,12,12,12,12,12,12,12,12,11,11,11,11,11,11,11,11,11,11,11,11,11,11,11,11,11,11,10,10,10,10,10,10,10,10,10,10,10,10,10,10,10,10,10,10,9,9,9,9,9,9,9,9,9,9,9,9,9,9,9,9,9,9]
[59,12,12,12,12,12,12,12,12,12,12,12,12,12,12,12,12,12,12,11,11,11,11,11,11,11,11,11,11,11,11,11,11,11,11,11,11,10,10,10,10,10,10,10,10,10,10,10,10,10,10,10,10,10,10,9,9,9,9,9,9,9,9,9,9,9,9,9,9,9,9,9,9]
[59.5,12,12,12,12,12,12,12,12,12,12,12,12,11,11,11,11,11,11,11,11,11,11,11,11,11,11,11,11,11,11,10,10,10,10,10,10,10,10,10,10,10,10,10,10,10,10,10,10,9,9,9,9,9,9,9,9,9,9,9,9,9,9,9,9,9,9,8,8,8,8,8,8]
[60,12,12,12,12,12,12,12,12,12,12,12,12,11,11,11,11,11,11,11,11,11,11,11,11,11,11,11,11,11,11,10,10,10,10,10,10,10,10,10,10,10,10,10,10,10,10,10,10,9,9,9,9,9,9,9,9,9,9,9,9,9,9,9,9,9,9,8,8,8,8,8,8]
[60.5,11,11,11,11,11,11,11,11,11,11,11,11,11,11,11,11,11,11,11,11,11,11,11,11,10,10,10,10,10,10,10,10,10,10,10,10,10,10,10,10,10,10,9,9,9,9,9,9,9,9,9,9,9,9,9,9,9,9,9,9,8,8,8,8,8,8,8,8,8,8,8,8]
[61,11,11,11,11,11,11,11,11,11,11,11,11,11,11,11,11,11,11,11,11,11,11,11,11,10,10,10,10,10,10,10,10,10,10,10,10,10,10,10,10,10,10,9,9,9,9,9,9,9,9,9,9,9,9,9,9,9,9,9,9,8,8,8,8,8,8,8,8,8,8,8,8]
[61.5,11,11,11,11,11,11,11,11,11,11,11,11,11,11,11,11,11,11,10,10,10,10,10,10,10,10,10,10,10,10,10,10,10,10,10,10,9,9,9,9,9,9,9,9,9,9,9,9,9,9,9,9,9,9,8,8,8,8,8,8,8,8,8,8,8,8,8,8,8,8,8,8]
[62,11,11,11,11,11,11,11,11,11,11,11,11,11,11,11,11,11,11,10,10,10,10,10,10,10,10,10,10,10,10,10,10,10,10,10,10,9,9,9,9,9,9,9,9,9,9,9,9,9,9,9,9,9,9,8,8,8,8,8,8,8,8,8,8,8,8,8,8,8,8,8,8]
[62.5,11,11,11,11,11,11,11,11,11,11,11,11,10,10,10,10,10,10,10,10,10,10,10,10,10,10,10,10,10,10,9,9,9,9,9,9,9,9,9,9,9,9,9,9,9,9,9,9,8,8,8,8,8,8,8,8,8,8,8,8,8,8,8,8,8,8,7,7,7,7,7,7]
[63,11,11,11,11,11,11,11,11,11,11,11,11,10,10,10,10,10,10,10,10,10,10,10,10,10,10,10,10,10,10,9,9,9,9,9,9,9,9,9,9,9,9,9,9,9,9,9,9,8,8,8,8,8,8,8,8,8,8,8,8,8,8,8,8,8,8,7,7,7,7,7,7]
[63.5,10,10,10,10,10,10,10,10,10,10,10,10,10,10,10,10,10,10,10,10,10,10,10,10,9,9,9,9,9,9,9,9,9,9,9,9,9,9,9,9,9,9,8,8,8,8,8,8,8,8,8,8,8,8,8,8,8,8,8,8,7,7,7,7,7,7,7,7,7,7,7,7]
[64,10,10,10,10,10,10,10,10,10,10,10,10,10,10,10,10,10,10,10,10,10,10,10,10,9,9,9,9,9,9,9,9,9,9,9,9,9,9,9,9,9,9,8,8,8,8,8,8,8,8,8,8,8,8,8,8,8,8,8,8,7,7,7,7,7,7,7,7,7,7,7,7]
[64.5,10,10,10,10,10,10,10,10,10,10,10,10,10,10,10,10,10,10,9,9,9,9,9,9,9,9,9,9,9,9,9,9,9,9,9,9,8,8,8,8,8,8,8,8,8,8,8,8,8,8,8,8,8,8,7,7,7,7,7,7,7,7,7,7,7,7,7,7,7,7,7,7]
[65,10,10,10,10,10,10,10,10,10,10,10,10,10,10,10,10,10,10,9,9,9,9,9,9,9,9,9,9,9,9,9,9,9,9,9,9,8,8,8,8,8,8,8,8,8,8,8,8,8,8,8,8,8,8,7,7,7,7,7,7,7,7,7,7,7,7,7,7,7,7,7,7]
[65.5,10,10,10,10,10,10,10,10,10,10,10,10,9,9,9,9,9,9,9,9,9,9,9,9,9,9,9,9,9,9,8,8,8,8,8,8,8,8,8,8,8,8,8,8,8,8,8,8,7,7,7,7,7,7,7,7,7,7,7,7,7,7,7,7,7,7,6,6,6,6,6,6]
[66,10,10,10,10,10,10,10,10,10,10,10,10,9,9,9,9,9,9,9,9,9,9,9,9,9,9,9,9,9,9,8,8,8,8,8,8,8,8,8,8,8,8,8,8,8,8,8,8,7,7,7,7,7,7,7,7,7,7,7,7,7,7,7,7,7,7,6,6,6,6,6,6]
[66.5,9,9,9,9,9,9,9,9,9,9,9,9,9,9,9,9,9,9,9,9,9,9,9,9,8,8,8,8,8,8,8,8,8,8,8,8,8,8,8,8,8,8,7,7,7,7,7,7,7,7,7,7,7,7,7,7,7,7,7,7,6,6,6,6,6,6,6,6,6,6,6,6]
[67,9,9,9,9,9,9,9,9,9,9,9,9,9,9,9,9,9,9,9,9,9,9,9,9,8,8,8,8,8,8,8,8,8,8,8,8,8,8,8,8,8,8,7,7,7,7,7,7,7,7,7,7,7,7,7,7,7,7,7,7,6,6,6,6,6,6,6,6,6,6,6,6]
[67.5,9,9,9,9,9,9,9,9,9,9,9,9,9,9,9,9,9,9,8,8,8,8,8,8,8,8,8,8,8,8,8,8,8,8,8,8,7,7,7,7,7,7,7,7,7,7,7,7,7,7,7,7,7,7,6,6,6,6,6,6,6,6,6,6,6,6,6,6,6,6,6,6]
[68,9,9,9,9,9,9,9,9,9,9,9,9,9,9,9,9,9,9,8,8,8,8,8,8,8,8,8,8,8,8,8,8,8,8,8,8,7,7,7,7,7,7,7,7,7,7,7,7,7,7,7,7,7,7,6,6,6,6,6,6,6,6,6,6,6,6,6,6,6,6,6,6]
[68.5,9,9,9,9,9,9,9,9,9,9,9,9,8,8,8,8,8,8,8,8,8,8,8,8,8,8,8,8,8,8,7,7,7,7,7,7,7,7,7,7,7,7,7,7,7,7,7,7,6,6,6,6,6,6,6,6,6,6,6,6,6,6,6,6,6,6,5,5,5,5,5,5]
[69,9,9,9,9,9,9,9,9,9,9,9,9,8,8,8,8,8,8,8,8,8,8,8,8,8,8,8,8,8,8,7,7,7,7,7,7,7,7,7,7,7,7,7,7,7,7,7,7,6,6,6,6,6,6,6,6,6,6,6,6,6,6,6,6,6,6,5,5,5,5,5,5]
[69.5,8,8,8,8,8,8,8,8,8,8,8,8,8,8,8,8,8,8,8,8,8,8,8,8,7,7,7,7,7,7,7,7,7,7,7,7,7,7,7,7,7,7,6,6,6,6,6,6,6,6,6,6,6,6,6,6,6,6,6,6,5,5,5,5,5,5,5,5,5,5,5,5]
[70,8,8,8,8,8,8,8,8,8,8,8,8,8,8,8,8,8,8,8,8,8,8,8,8,7,7,7,7,7,7,7,7,7,7,7,7,7,7,7,7,7,7,6,6,6,6,6,6,6,6,6,6,6,6,6,6,6,6,6,6,5,5,5,5,5,5,5,5,5,5,5,5]
[70.5,8,8,8,8,8,8,8,8,8,8,8,8,8,8,8,8,8,8,7,7,7,7,7,7,7,7,7,7,7,7,7,7,7,7,7,7,6,6,6,6,6,6,6,6,6,6,6,6,6,6,6,6,6,6,5,5,5,5,5,5,5,5,5,5,5,5,5,5,5,5,5,5]
[71,8,8,8,8,8,8,8,8,8,8,8,8,8,8,8,8,8,8,7,7,7,7,7,7,7,7,7,7,7,7,7,7,7,7,7,7,6,6,6,6,6,6,6,6,6,6,6,6,6,6,6,6,6,6,5,5,5,5,5,5,5,5,5,5,5,5,5,5,5,5,5,5]
[71.5,8,8,8,8,8,8,8,8,8,8,8,8,7,7,7,7,7,7,7,7,7,7,7,7,7,7,7,7,7,7,6,6,6,6,6,6,6,6,6,6,6,6,6,6,6,6,6,6,5,5,5,5,5,5,5,5,5,5,5,5,5,5,5,5,5,5,4,4,4,4,4,4]
[72,8,8,8,8,8,8,8,8,8,8,8,8,7,7,7,7,7,7,7,7,7,7,7,7,7,7,7,7,7,7,6,6,6,6,6,6,6,6,6,6,6,6,6,6,6,6,6,6,5,5,5,5,5,5,5,5,5,5,5,5,5,5,5,5,5,5,4,4,4,4,4,4]
[72.5,7,7,7,7,7,7,7,7,7,7,7,7,7,7,7,7,7,7,7,7,7,7,7,7,6,6,6,6,6,6,6,6,6,6,6,6,6,6,6,6,6,6,5,5,5,5,5,5,5,5,5,5,5,5,5,5,5,5,5,5,4,4,4,4,4,4,4,4,4,4,4,4]
[73,7,7,7,7,7,7,7,7,7,7,7,7,7,7,7,7,7,7,7,7,7,7,7,7,6,6,6,6,6,6,6,6,6,6,6,6,6,6,6,6,6,6,5,5,5,5,5,5,5,5,5,5,5,5,5,5,5,5,5,5,4,4,4,4,4,4,4,4,4,4,4,4]
[73.5,7,7,7,7,7,7,7,7,7,7,7,7,7,7,7,7,7,7,6,6,6,6,6,6,6,6,6,6,6,6,6,6,6,6,6,6,5,5,5,5,5,5,5,5,5,5,5,5,5,5,5,5,5,5,4,4,4,4,4,4,4,4,4,4,4,4,4,4,4,4,4,4]
[74,7,7,7,7,7,7,7,7,7,7,7,7,7,7,7,7,7,7,6,6,6,6,6,6,6,6,6,6,6,6,6,6,6,6,6,6,5,5,5,5,5,5,5,5,5,5,5,5,5,5,5,5,5,5,4,4,4,4,4,4,4,4,4,4,4,4,4,4,4,4,4,4]
[74.5,7,7,7,7,7,7,7,7,7,7,7,7,6,6,6,6,6,6,6,6,6,6,6,6,6,6,6,6,6,6,5,5,5,5,5,5,5,5,5,5,5,5,5,5,5,5,5,5,4,4,4,4,4,4,4,4,4,4,4,4,4,4,4,4,4,4,3,3,3,3,3,3]
[75,7,7,7,7,7,7,7,7,7,7,7,7,6,6,6,6,6,6,6,6,6,6,6,6,6,6,6,6,6,6,5,5,5,5,5,5,5,5,5,5,5,5,5,5,5,5,5,5,4,4,4,4,4,4,4,4,4,4,4,4,4,4,4,4,4,4,3,3,3,3,3,3]
[75.5,6,6,6,6,6,6,6,6,6,6,6,6,6,6,6,6,6,6,6,6,6,6,6,6,5,5,5,5,5,5,5,5,5,5,5,5,5,5,5,5,5,5,4,4,4,4,4,4,4,4,4,4,4,4,4,4,4,4,4,4,3,3,3,3,3,3,3,3,3,3,3,3]
[76,6,6,6,6,6,6,6,6,6,6,6,6,6,6,6,6,6,6,6,6,6,6,6,6,5,5,5,5,5,5,5,5,5,5,5,5,5,5,5,5,5,5,4,4,4,4,4,4,4,4,4,4,4,4,4,4,4,4,4,4,3,3,3,3,3,3,3,3,3,3,3,3]
[76.5,6,6,6,6,6,6,6,6,6,6,6,6,6,6,6,6,6,6,5,5,5,5,5,5,5,5,5,5,5,5,5,5,5,5,5,5,4,4,4,4,4,4,4,4,4,4,4,4,4,4,4,4,4,4,3,3,3,3,3,3,3,3,3,3,3,3,3,3,3,3,3,3]
[77,6,6,6,6,6,6,6,6,6,6,6,6,6,6,6,6,6,6,5,5,5,5,5,5,5,5,5,5,5,5,5,5,5,5,5,5,4,4,4,4,4,4,4,4,4,4,4,4,4,4,4,4,4,4,3,3,3,3,3,3,3,3,3,3,3,3,3,3,3,3,3,3]
[77.5,6,6,6,6,6,6,6,6,6,6,6,6,5,5,5,5,5,5,5,5,5,5,5,5,5,5,5,5,5,5,4,4,4,4,4,4,4,4,4,4,4,4,4,4,4,4,4,4,3,3,3,3,3,3,3,3,3,3,3,3,3,3,3,3,3,3,2,2,2,2,2,2]
[78,6,6,6,6,6,6,6,6,6,6,6,6,5,5,5,5,5,5,5,5,5,5,5,5,5,5,5,5,5,5,4,4,4,4,4,4,4,4,4,4,4,4,4,4,4,4,4,4,3,3,3,3,3,3,3,3,3,3,3,3,3,3,3,3,3,3,2,2,2,2,2,2]
[78.5,5,5,5,5,5,5,5,5,5,5,5,5,5,5,5,5,5,5,5,5,5,5,5,5,4,4,4,4,4,4,4,4,4,4,4,4,4,4,4,4,4,4,3,3,3,3,3,3,3,3,3,3,3,3,3,3,3,3,3,3,2,2,2,2,2,2,2,2,2,2,2,2]
[79,5,5,5,5,5,5,5,5,5,5,5,5,5,5,5,5,5,5,5,5,5,5,5,5,4,4,4,4,4,4,4,4,4,4,4,4,4,4,4,4,4,4,3,3,3,3,3,3,3,3,3,3,3,3,3,3,3,3,3,3,2,2,2,2,2,2,2,2,2,2,2,2]
[79.5,5,5,5,5,5,5,5,5,5,5,5,5,5,5,5,5,5,5,4,4,4,4,4,4,4,4,4,4,4,4,4,4,4,4,4,4,3,3,3,3,3,3,3,3,3,3,3,3,3,3,3,3,3,3,2,2,2,2,2,2,2,2,2,2,2,2,2,2,2,2,2,2]
[80,5,5,5,5,5,5,5,5,5,5,5,5,5,5,5,5,5,5,4,4,4,4,4,4,4,4,4,4,4,4,4,4,4,4,4,4,3,3,3,3,3,3,3,3,3,3,3,3,3,3,3,3,3,3,2,2,2,2,2,2,2,2,2,2,2,2,1,1,1,1,1,1]
[80.5,5,5,5,5,5,5,5,5,5,5,5,5,4,4,4,4,4,4,4,4,4,4,4,4,4,4,4,4,4,4,3,3,3,3,3,3,3,3,3,3,3,3,3,3,3,3,3,3,2,2,2,2,2,2,2,2,2,2,2,2,2,2,2,2,2,2,1,1,1,1,1,1]
[81,5,5,5,5,5,5,5,5,5,5,5,5,4,4,4,4,4,4,4,4,4,4,4,4,4,4,4,4,4,4,3,3,3,3,3,3,3,3,3,3,3,3,3,3,3,3,3,3,2,2,2,2,2,2,2,2,2,2,2,2,1,1,1,1,1,1,1,1,1,1,1,1]
[81.5,4,4,4,4,4,4,4,4,4,4,4,4,4,4,4,4,4,4,4,4,4,4,4,4,3,3,3,3,3,3,3,3,3,3,3,3,3,3,3,3,3,3,2,2,2,2,2,2,2,2,2,2,2,2,2,2,2,2,2,2,1,1,1,1,1,1,1,1,1,1,1,1]
[82,4,4,4,4,4,4,4,4,4,4,4,4,4,4,4,4,4,4,4,4,4,4,4,4,3,3,3,3,3,3,3,3,3,3,3,3,3,3,3,3,3,3,2,2,2,2,2,2,2,2,2,2,2,2,1,1,1,1,1,1,1,1,1,1,1,1,1,1,1,1,1,1]
[82.5,4,4,4,4,4,4,4,4,4,4,4,4,4,4,4,4,4,4,3,3,3,3,3,3,3,3,3,3,3,3,3,3,3,3,3,3,2,2,2,2,2,2,2,2,2,2,2,2,2,2,2,2,2,2,1,1,1,1,1,1,1,1,1,1,1,1,1,1,1,1,1,1]
[83,4,4,4,4,4,4,4,4,4,4,4,4,4,4,4,4,4,4,3,3,3,3,3,3,3,3,3,3,3,3,3,3,3,3,3,3,2,2,2,2,2,2,2,2,2,2,2,2,1,1,1,1,1,1,1,1,1,1,1,1,1,1,1,1,1,1,0,0,0,0,0,0]
[83.5,4,4,4,4,4,4,4,4,4,4,4,4,3,3,3,3,3,3,3,3,3,3,3,3,3,3,3,3,3,3,2,2,2,2,2,2,2,2,2,2,2,2,2,2,2,2,2,2,1,1,1,1,1,1,1,1,1,1,1,1,1,1,1,1,1,1,0,0,0,0,0,0]
[84,4,4,4,4,4,4,4,4,4,4,4,4,3,3,3,3,3,3,3,3,3,3,3,3,3,3,3,3,3,3,2,2,2,2,2,2,2,2,2,2,2,2,1,1,1,1,1,1,1,1,1,1,1,1,1,1,1,1,1,1,0,0,0,0,0,0,0,0,0,0,0,0]
[84.5,3,3,3,3,3,3,3,3,3,3,3,3,3,3,3,3,3,3,3,3,3,3,3,3,2,2,2,2,2,2,2,2,2,2,2,2,2,2,2,2,2,2,1,1,1,1,1,1,1,1,1,1,1,1,1,1,1,1,1,1,0,0,0,0,0,0,0,0,0,0,0,0]
[85,3,3,3,3,3,3,3,3,3,3,3,3,3,3,3,3,3,3,3,3,3,3,3,3,2,2,2,2,2,2,2,2,2,2,2,2,1,1,1,1,1,1,1,1,1,1,1,1,1,1,1,1,1,1,0,0,0,0,0,0,0,0,0,0,0,0,0,0,0,0,0,0]
[85.5,3,3,3,3,3,3,3,3,3,3,3,3,3,3,3,3,3,3,2,2,2,2,2,2,2,2,2,2,2,2,2,2,2,2,2,2,1,1,1,1,1,1,1,1,1,1,1,1,1,1,1,1,1,1,0,0,0,0,0,0,0,0,0,0,0,0,0,0,0,0,0,0]
[86,3,3,3,3,3,3,3,3,3,3,3,3,3,3,3,3,3,3,2,2,2,2,2,2,2,2,2,2,2,2,1,1,1,1,1,1,1,1,1,1,1,1,1,1,1,1,1,1,0,0,0,0,0,0,0,0,0,0,0,0,0,0,0,0,0,0,0,0,0,0,0,0]
[86.5,3,3,3,3,3,3,3,3,3,3,3,3,2,2,2,2,2,2,2,2,2,2,2,2,2,2,2,2,2,2,1,1,1,1,1,1,1,1,1,1,1,1,1,1,1,1,1,1,0,0,0,0,0,0,0,0,0,0,0,0,0,0,0,0,0,0,0,0,0,0,0,0]
[87,3,3,3,3,3,3,3,3,3,3,3,3,2,2,2,2,2,2,2,2,2,2,2,2,1,1,1,1,1,1,1,1,1,1,1,1,1,1,1,1,1,1,0,0,0,0,0,0,0,0,0,0,0,0,0,0,0,0,0,0,0,0,0,0,0,0,0,0,0,0,0,0]
[87.5,2,2,2,2,2,2,2,2,2,2,2,2,2,2,2,2,2,2,2,2,2,2,2,2,1,1,1,1,1,1,1,1,1,1,1,1,1,1,1,1,1,1,0,0,0,0,0,0,0,0,0,0,0,0,0,0,0,0,0,0,0,0,0,0,0,0,0,0,0,0,0,0]
[88,2,2,2,2,2,2,2,2,2,2,2,2,2,2,2,2,2,2,1,1,1,1,1,1,1,1,1,1,1,1,1,1,1,1,1,1,0,0,0,0,0,0,0,0,0,0,0,0,0,0,0,0,0,0,0,0,0,0,0,0,0,0,0,0,0,0,0,0,0,0,0,0]
[88.5,2,2,2,2,2,2,2,2,2,2,2,2,2,2,2,2,2,2,1,1,1,1,1,1,1,1,1,1,1,1,1,1,1,1,1,1,0,0,0,0,0,0,0,0,0,0,0,0,0,0,0,0,0,0,0,0,0,0,0,0,0,0,0,0,0,0,0,0,0,0,0,0]
[89,2,2,2,2,2,2,2,2,2,2,2,2,1,1,1,1,1,1,1,1,1,1,1,1,1,1,1,1,1,1,0,0,0,0,0,0,0,0,0,0,0,0,0,0,0,0,0,0,0,0,0,0,0,0,0,0,0,0,0,0,0,0,0,0,0,0,0,0,0,0,0,0]
[89.5,2,2,2,2,2,2,2,2,2,2,2,2,1,1,1,1,1,1,1,1,1,1,1,1,1,1,1,1,1,1,0,0,0,0,0,0,0,0,0,0,0,0,0,0,0,0,0,0,0,0,0,0,0,0,0,0,0,0,0,0,0,0,0,0,0,0,0,0,0,0,0,0]
[90,1,1,1,1,1,1,1,1,1,1,1,1,1,1,1,1,1,1,1,1,1,1,1,1,0,0,0,0,0,0,0,0,0,0,0,0,0,0,0,0,0,0,0,0,0,0,0,0,0,0,0,0,0,0,0,0,0,0,0,0,0,0,0,0,0,0,0,0,0,0,0,0]
[90.5,1,1,1,1,1,1,1,1,1,1,1,1,1,1,1,1,1,1,1,1,1,1,1,1,0,0,0,0,0,0,0,0,0,0,0,0,0,0,0,0,0,0,0,0,0,0,0,0,0,0,0,0,0,0,0,0,0,0,0,0,0,0,0,0,0,0,0,0,0,0,0,0]
[91,1,1,1,1,1,1,1,1,1,1,1,1,1,1,1,1,1,1,0,0,0,0,0,0,0,0,0,0,0,0,0,0,0,0,0,0,0,0,0,0,0,0,0,0,0,0,0,0,0,0,0,0,0,0,0,0,0,0,0,0,0,0,0,0,0,0,0,0,0,0,0,0]
[91.5,1,1,1,1,1,1,1,1,1,1,1,1,1,1,1,1,1,1,0,0,0,0,0,0,0,0,0,0,0,0,0,0,0,0,0,0,0,0,0,0,0,0,0,0,0,0,0,0,0,0,0,0,0,0,0,0,0,0,0,0,0,0,0,0,0,0,0,0,0,0,0,0]
[92,1,1,1,1,1,1,1,1,1,1,1,1,0,0,0,0,0,0,0,0,0,0,0,0,0,0,0,0,0,0,0,0,0,0,0,0,0,0,0,0,0,0,0,0,0,0,0,0,0,0,0,0,0,0,0,0,0,0,0,0,0,0,0,0,0,0,0,0,0,0,0,0]
[92.5,1,1,1,1,1,1,1,1,1,1,1,1,0,0,0,0,0,0,0,0,0,0,0,0,0,0,0,0,0,0,0,0,0,0,0,0,0,0,0,0,0,0,0,0,0,0,0,0,0,0,0,0,0,0,0,0,0,0,0,0,0,0,0,0,0,0,0,0,0,0,0,0]
[93,0,0,0,0,0,0,0,0,0,0,0,0,0,0,0,0,0,0,0,0,0,0,0,0,0,0,0,0,0,0,0,0,0,0,0,0,0,0,0,0,0,0,0,0,0,0,0,0,0,0,0,0,0,0,0,0,0,0,0,0,0,0,0,0,0,0,0,0,0,0,0,0]

{"sheet":"pointe de pieds","index":7,"n_rows":110,"n_cols":73,"rows_kept":110,"hidden":true}
[null,73,74,75,76,77,78,79,80,81,82,83,84,85,86,87,88,89,90,91,92,93,94,95,96,97,98,99,100,101,102,103,104,105,106,107,108,109,110,111,112,113,114,115,116,117,118,119,120,121,122,123,124,125,126,127,128,129,130,131,132,133,134,135,136,137,138,139,140,141,142,143,144]
[0,20,20,20,20,20,20,20,20,20,20,20,20,20,20,20,20,20,20,20,20,20,20,20,20,20,20,20,20,20,20,20,20,20,20,20,20,20,20,20,20,20,20,20,20,20,20,20,20,20,20,20,20,20,20,20,20,20,20,20,20,20,20,20,20,20,20,20,20,20,20,20,20]
[0.1,20,20,20,20,20,20,20,20,20,20,20,20,20,20,20,20,20,20,20,20,20,20,20,20,20,20,20,20,20,20,20,20,20,20,20,20,20,20,20,20,20,20,20,20,20,20,20,20,20,20,20,20,20,20,20,20,20,20,20,20,20,20,20,20,20,20,20,20,20,20,20,20]
[0.2,20,20,20,20,20,20,20,20,20,20,20,20,20,20,20,20,20,20,20,20,20,20,20,20,20,20,20,20,20,20,20,20,20,20,20,20,20,20,20,20,20,20,20,20,20,20,20,20,20,20,20,20,20,20,20,20,20,20,20,20,20,20,20,20,20,20,19,19,19,19,19,19]
[0.3,20,20,20,20,20,20,20,20,20,20,20,20,20,20,20,20,20,20,20,20,20,20,20,20,20,20,20,20,20,20,20,20,20,20,20,20,20,20,20,20,20,20,20,20,20,20,20,20,20,20,20,20,20,20,20,20,20,20,20,20,19,19,19,19,19,19,19,19,19,19,19,19]
[0.4,20,20,20,20,20,20,20,20,20,20,20,20,20,20,20,20,20,20,20,20,20,20,20,20,20,20,20,20,20,20,20,20,20,20,20,20,20,20,20,20,20,20,20,20,20,20,20,20,20,20,20,20,20,20,19,19,19,19,19,19,19,19,19,19,19,19,19,19,19,19,19,19]
[0.5,20,20,20,20,20,20,20,20,20,20,20,20,20,20,20,20,20,20,20,20,20,20,20,20,20,20,20,20,20,20,20,20,20,20,20,20,20,20,20,20,20,20,20,20,20,20,20,20,19,19,19,19,19,19,19,19,19,19,19,19,19,19,19,19,19,19,19,19,19,19,19,19]
[0.6,20,20,20,20,20,20,20,20,20,20,20,20,20,20,20,20,20,20,20,20,20,20,20,20,20,20,20,20,20,20,20,20,20,20,20,20,20,20,20,20,20,20,19,19,19,19,19,19,19,19,19,19,19,19,19,19,19,19,19,19,19,19,19,19,19,19,19,19,19,19,19,19]
[0.7,20,20,20,20,20,20,20,20,20,20,20,20,20,20,20,20,20,20,20,20,20,20,20,20,20,20,20,20,20,20,20,20,20,20,20,20,19,19,19,19,19,19,19,19,19,19,19,19,19,19,19,19,19,19,19,19,19,19,19,19,19,19,19,19,19,19,18,18,18,18,18,18]
[0.8,20,20,20,20,20,20,20,20,20,20,20,20,20,20,20,20,20,20,20,20,20,20,20,20,20,20,20,20,20,20,19,19,19,19,19,19,19,19,19,19,19,19,19,19,19,19,19,19,19,19,19,19,19,19,19,19,19,19,19,19,18,18,18,18,18,18,18,18,18,18,18,18]
[0.9,20,20,20,20,20,20,20,20,20,20,20,20,20,20,20,20,20,20,20,20,20,20,20,20,19,19,19,19,19,19,19,19,19,19,19,19,19,19,19,19,19,19,19,19,19,19,19,19,19,19,19,19,19,19,18,18,18,18,18,18,18,18,18,18,18,18,18,18,18,18,18,18]
[1,20,20,20,20,20,20,20,20,20,20,20,20,20,20,20,20,20,20,19,19,19,19,19,19,19,19,19,19,19,19,19,19,19,19,19,19,19,19,19,19,19,19,19,19,19,19,19,19,18,18,18,18,18,18,18,18,18,18,18,18,18,18,18,18,18,18,18,18,18,18,18,18]
[1.1,20,20,20,20,20,20,20,20,20,20,20,20,19,19,19,19,19,19,19,19,19,19,19,19,19,19,19,19,19,19,19,19,19,19,19,19,19,19,19,19,19,19,18,18,18,18,18,18,18,18,18,18,18,18,18,18,18,18,18,18,18,18,18,18,18,18,18,18,18,18,18,18]
[1.2,20,20,20,20,20,20,19,19,19,19,19,19,19,19,19,19,19,19,19,19,19,19,19,19,19,19,19,19,19,19,19,19,19,19,19,19,18,18,18,18,18,18,18,18,18,18,18,18,18,18,18,18,18,18,18,18,18,18,18,18,18,18,18,18,18,18,17,17,17,17,17,17]
[1.3,19,19,19,19,19,19,19,19,19,19,19,19,19,19,19,19,19,19,19,19,19,19,19,19,19,19,19,19,19,19,18,18,18,18,18,18,18,18,18,18,18,18,18,18,18,18,18,18,18,18,18,18,18,18,18,18,18,18,18,18,17,17,17,17,17,17,17,17,17,17,17,17]
[1.4,19,19,19,19,19,19,19,19,19,19,19,19,19,19,19,19,19,19,19,19,19,19,19,19,18,18,18,18,18,18,18,18,18,18,18,18,18,18,18,18,18,18,18,18,18,18,18,18,18,18,18,18,18,18,17,17,17,17,17,17,17,17,17,17,17,17,17,17,17,17,17,17]
[1.5,19,19,19,19,19,19,19,19,19,19,19,19,19,19,19,19,19,19,18,18,18,18,18,18,18,18,18,18,18,18,18,18,18,18,18,18,18,18,18,18,18,18,18,18,18,18,18,18,17,17,17,17,17,17,17,17,17,17,17,17,17,17,17,17,17,17,17,17,17,17,17,17]
[1.6,19,19,19,19,19,19,19,19,19,19,19,19,18,18,18,18,18,18,18,18,18,18,18,18,18,18,18,18,18,18,18,18,18,18,18,18,18,18,18,18,18,18,17,17,17,17,17,17,17,17,17,17,17,17,17,17,17,17,17,17,17,17,17,17,17,17,17,17,17,17,17,17]
[1.7,19,19,19,19,19,19,18,18,18,18,18,18,18,18,18,18,18,18,18,18,18,18,18,18,18,18,18,18,18,18,18,18,18,18,18,18,17,17,17,17,17,17,17,17,17,17,17,17,17,17,17,17,17,17,17,17,17,17,17,17,17,17,17,17,17,17,16,16,16,16,16,16]
[1.8,18,18,18,18,18,18,18,18,18,18,18,18,18,18,18,18,18,18,18,18,18,18,18,18,18,18,18,18,18,18,17,17,17,17,17,17,17,17,17,17,17,17,17,17,17,17,17,17,17,17,17,17,17,17,17,17,17,17,17,17,16,16,16,16,16,16,16,16,16,16,16,16]
[1.9,18,18,18,18,18,18,18,18,18,18,18,18,18,18,18,18,18,18,18,18,18,18,18,18,17,17,17,17,17,17,17,17,17,17,17,17,17,17,17,17,17,17,17,17,17,17,17,17,17,17,17,17,17,17,16,16,16,16,16,16,16,16,16,16,16,16,16,16,16,16,16,16]
[2,18,18,18,18,18,18,18,18,18,18,18,18,18,18,18,18,18,18,17,17,17,17,17,17,17,17,17,17,17,17,17,17,17,17,17,17,17,17,17,17,17,17,17,17,17,17,17,17,16,16,16,16,16,16,16,16,16,16,16,16,16,16,16,16,16,16,16,16,16,16,16,16]
[2.1,18,18,18,18,18,18,18,18,18,18,18,18,17,17,17,17,17,17,17,17,17,17,17,17,17,17,17,17,17,17,17,17,17,17,17,17,17,17,17,17,17,17,16,16,16,16,16,16,16,16,16,16,16,16,16,16,16,16,16,16,16,16,16,16,16,16,16,16,16,16,16,16]
[2.2,18,18,18,18,18,18,17,17,17,17,17,17,17,17,17,17,17,17,17,17,17,17,17,17,17,17,17,17,17,17,17,17,17,17,17,17,16,16,16,16,16,16,16,16,16,16,16,16,16,16,16,16,16,16,16,16,16,16,16,16,16,16,16,16,16,16,15,15,15,15,15,15]
[2.3,17,17,17,17,17,17,17,17,17,17,17,17,17,17,17,17,17,17,17,17,17,17,17,17,17,17,17,17,17,17,16,16,16,16,16,16,16,16,16,16,16,16,16,16,16,16,16,16,16,16,16,16,16,16,16,16,16,16,16,16,15,15,15,15,15,15,15,15,15,15,15,15]
[2.4,17,17,17,17,17,17,17,17,17,17,17,17,17,17,17,17,17,17,17,17,17,17,17,17,16,16,16,16,16,16,16,16,16,16,16,16,16,16,16,16,16,16,16,16,16,16,16,16,16,16,16,16,16,16,15,15,15,15,15,15,15,15,15,15,15,15,15,15,15,15,15,15]
[2.5,17,17,17,17,17,17,17,17,17,17,17,17,17,17,17,17,17,17,16,16,16,16,16,16,16,16,16,16,16,16,16,16,16,16,16,16,16,16,16,16,16,16,16,16,16,16,16,16,15,15,15,15,15,15,15,15,15,15,15,15,15,15,15,15,15,15,15,15,15,15,15,15]
[2.6,17,17,17,17,17,17,17,17,17,17,17,17,16,16,16,16,16,16,16,16,16,16,16,16,16,16,16,16,16,16,16,16,16,16,16,16,16,16,16,16,16,16,15,15,15,15,15,15,15,15,15,15,15,15,15,15,15,15,15,15,15,15,15,15,15,15,15,15,15,15,15,15]
[2.7,17,17,17,17,17,17,16,16,16,16,16,16,16,16,16,16,16,16,16,16,16,16,16,16,16,16,16,16,16,16,16,16,16,16,16,16,15,15,15,15,15,15,15,15,15,15,15,15,15,15,15,15,15,15,15,15,15,15,15,15,15,15,15,15,15,15,14,14,14,14,14,14]
[2.8,16,16,16,16,16,16,16,16,16,16,16,16,16,16,16,16,16,16,16,16,16,16,16,16,16,16,16,16,16,16,15,15,15,15,15,15,15,15,15,15,15,15,15,15,15,15,15,15,15,15,15,15,15,15,15,15,15,15,15,15,14,14,14,14,14,14,14,14,14,14,14,14]
[2.9,16,16,16,16,16,16,16,16,16,16,16,16,16,16,16,16,16,16,16,16,16,16,16,16,15,15,15,15,15,15,15,15,15,15,15,15,15,15,15,15,15,15,15,15,15,15,15,15,15,15,15,15,15,15,14,14,14,14,14,14,14,14,14,14,14,14,14,14,14,14,14,14]
[3,16,16,16,16,16,16,16,16,16,16,16,16,16,16,16,16,16,16,15,15,15,15,15,15,15,15,15,15,15,15,15,15,15,15,15,15,15,15,15,15,15,15,15,15,15,15,15,15,14,14,14,14,14,14,14,14,14,14,14,14,14,14,14,14,14,14,14,14,14,14,14,14]
[3.1,16,16,16,16,16,16,16,16,16,16,16,16,15,15,15,15,15,15,15,15,15,15,15,15,15,15,15,15,15,15,15,15,15,15,15,15,15,15,15,15,15,15,14,14,14,14,14,14,14,14,14,14,14,14,14,14,14,14,14,14,14,14,14,14,14,14,14,14,14,14,14,14]
[3.2,16,16,16,16,16,16,15,15,15,15,15,15,15,15,15,15,15,15,15,15,15,15,15,15,15,15,15,15,15,15,15,15,15,15,15,15,14,14,14,14,14,14,14,14,14,14,14,14,14,14,14,14,14,14,14,14,14,14,14,14,14,14,14,14,14,14,13,13,13,13,13,13]
[3.3,15,15,15,15,15,15,15,15,15,15,15,15,15,15,15,15,15,15,15,15,15,15,15,15,15,15,15,15,15,15,14,14,14,14,14,14,14,14,14,14,14,14,14,14,14,14,14,14,14,14,14,14,14,14,14,14,14,14,14,14,13,13,13,13,13,13,13,13,13,13,13,13]
[3.4,15,15,15,15,15,15,15,15,15,15,15,15,15,15,15,15,15,15,15,15,15,15,15,15,14,14,14,14,14,14,14,14,14,14,14,14,14,14,14,14,14,14,14,14,14,14,14,14,14,14,14,14,14,14,13,13,13,13,13,13,13,13,13,13,13,13,13,13,13,13,13,13]
[3.5,15,15,15,15,15,15,15,15,15,15,15,15,15,15,15,15,15,15,14,14,14,14,14,14,14,14,14,14,14,14,14,14,14,14,14,14,14,14,14,14,14,14,14,14,14,14,14,14,13,13,13,13,13,13,13,13,13,13,13,13,13,13,13,13,13,13,13,13,13,13,13,13]
[3.6,15,15,15,15,15,15,15,15,15,15,15,15,14,14,14,14,14,14,14,14,14,14,14,14,14,14,14,14,14,14,14,14,14,14,14,14,14,14,14,14,14,14,13,13,13,13,13,13,13,13,13,13,13,13,13,13,13,13,13,13,13,13,13,13,13,13,13,13,13,13,13,13]
[3.7,15,15,15,15,15,15,14,14,14,14,14,14,14,14,14,14,14,14,14,14,14,14,14,14,14,14,14,14,14,14,14,14,14,14,14,14,13,13,13,13,13,13,13,13,13,13,13,13,13,13,13,13,13,13,13,13,13,13,13,13,13,13,13,13,13,13,12,12,12,12,12,12]
[3.8,14,14,14,14,14,14,14,14,14,14,14,14,14,14,14,14,14,14,14,14,14,14,14,14,14,14,14,14,14,14,13,13,13,13,13,13,13,13,13,13,13,13,13,13,13,13,13,13,13,13,13,13,13,13,13,13,13,13,13,13,12,12,12,12,12,12,12,12,12,12,12,12]
[3.9,14,14,14,14,14,14,14,14,14,14,14,14,14,14,14,14,14,14,14,14,14,14,14,14,13,13,13,13,13,13,13,13,13,13,13,13,13,13,13,13,13,13,13,13,13,13,13,13,13,13,13,13,13,13,12,12,12,12,12,12,12,12,12,12,12,12,12,12,12,12,12,12]
[4,14,14,14,14,14,14,14,14,14,14,14,14,14,14,14,14,14,14,13,13,13,13,13,13,13,13,13,13,13,13,13,13,13,13,13,13,13,13,13,13,13,13,13,13,13,13,13,13,12,12,12,12,12,12,12,12,12,12,12,12,12,12,12,12,12,12,12,12,12,12,12,12]
[4.1,14,14,14,14,14,14,14,14,14,14,14,14,13,13,13,13,13,13,13,13,13,13,13,13,13,13,13,13,13,13,13,13,13,13,13,13,13,13,13,13,13,13,12,12,12,12,12,12,12,12,12,12,12,12,12,12,12,12,12,12,12,12,12,12,12,12,12,12,12,12,12,12]
[4.2,14,14,14,14,14,14,13,13,13,13,13,13,13,13,13,13,13,13,13,13,13,13,13,13,13,13,13,13,13,13,13,13,13,13,13,13,12,12,12,12,12,12,12,12,12,12,12,12,12,12,12,12,12,12,12,12,12,12,12,12,12,12,12,12,12,12,11,11,11,11,11,11]
[4.3,13,13,13,13,13,13,13,13,13,13,13,13,13,13,13,13,13,13,13,13,13,13,13,13,13,13,13,13,13,13,12,12,12,12,12,12,12,12,12,12,12,12,12,12,12,12,12,12,12,12,12,12,12,12,12,12,12,12,12,12,11,11,11,11,11,11,11,11,11,11,11,11]
[4.4,13,13,13,13,13,13,13,13,13,13,13,13,13,13,13,13,13,13,13,13,13,13,13,13,12,12,12,12,12,12,12,12,12,12,12,12,12,12,12,12,12,12,12,12,12,12,12,12,12,12,12,12,12,12,11,11,11,11,11,11,11,11,11,11,11,11,11,11,11,11,11,11]
[4.5,13,13,13,13,13,13,13,13,13,13,13,13,13,13,13,13,13,13,12,12,12,12,12,12,12,12,12,12,12,12,12,12,12,12,12,12,12,12,12,12,12,12,12,12,12,12,12,12,11,11,11,11,11,11,11,11,11,11,11,11,11,11,11,11,11,11,11,11,11,11,11,11]
[4.6,13,13,13,13,13,13,13,13,13,13,13,13,12,12,12,12,12,12,12,12,12,12,12,12,12,12,12,12,12,12,12,12,12,12,12,12,12,12,12,12,12,12,11,11,11,11,11,11,11,11,11,11,11,11,11,11,11,11,11,11,11,11,11,11,11,11,11,11,11,11,11,11]
[4.7,13,13,13,13,13,13,12,12,12,12,12,12,12,12,12,12,12,12,12,12,12,12,12,12,12,12,12,12,12,12,12,12,12,12,12,12,11,11,11,11,11,11,11,11,11,11,11,11,11,11,11,11,11,11,11,11,11,11,11,11,11,11,11,11,11,11,10,10,10,10,10,10]
[4.8,12,12,12,12,12,12,12,12,12,12,12,12,12,12,12,12,12,12,12,12,12,12,12,12,12,12,12,12,12,12,11,11,11,11,11,11,11,11,11,11,11,11,11,11,11,11,11,11,11,11,11,11,11,11,11,11,11,11,11,11,10,10,10,10,10,10,10,10,10,10,10,10]
[4.9,12,12,12,12,12,12,12,12,12,12,12,12,12,12,12,12,12,12,12,12,12,12,12,12,11,11,11,11,11,11,11,11,11,11,11,11,11,11,11,11,11,11,11,11,11,11,11,11,11,11,11,11,11,11,10,10,10,10,10,10,10,10,10,10,10,10,10,10,10,10,10,10]
[5,12,12,12,12,12,12,12,12,12,12,12,12,12,12,12,12,12,12,11,11,11,11,11,11,11,11,11,11,11,11,11,11,11,11,11,11,11,11,11,11,11,11,11,11,11,11,11,11,10,10,10,10,10,10,10,10,10,10,10,10,10,10,10,10,10,10,10,10,10,10,10,10]
[5.1,12,12,12,12,12,12,12,12,12,12,12,12,11,11,11,11,11,11,11,11,11,11,11,11,11,11,11,11,11,11,11,11,11,11,11,11,11,11,11,11,11,11,10,10,10,10,10,10,10,10,10,10,10,10,10,10,10,10,10,10,10,10,10,10,10,10,10,10,10,10,10,10]
[5.2,12,12,12,12,12,12,11,11,11,11,11,11,11,11,11,11,11,11,11,11,11,11,11,11,11,11,11,11,11,11,11,11,11,11,11,11,10,10,10,10,10,10,10,10,10,10,10,10,10,10,10,10,10,10,10,10,10,10,10,10,10,10,10,10,10,10,9,9,9,9,9,9]
[5.3,11,11,11,11,11,11,11,11,11,11,11,11,11,11,11,11,11,11,11,11,11,11,11,11,11,11,11,11,11,11,10,10,10,10,10,10,10,10,10,10,10,10,10,10,10,10,10,10,10,10,10,10,10,10,10,10,10,10,10,10,9,9,9,9,9,9,9,9,9,9,9,9]
[5.4,11,11,11,11,11,11,11,11,11,11,11,11,11,11,11,11,11,11,11,11,11,11,11,11,10,10,10,10,10,10,10,10,10,10,10,10,10,10,10,10,10,10,10,10,10,10,10,10,10,10,10,10,10,10,9,9,9,9,9,9,9,9,9,9,9,9,9,9,9,9,9,9]
[5.5,11,11,11,11,11,11,11,11,11,11,11,11,11,11,11,11,11,11,10,10,10,10,10,10,10,10,10,10,10,10,10,10,10,10,10,10,10,10,10,10,10,10,10,10,10,10,10,10,9,9,9,9,9,9,9,9,9,9,9,9,9,9,9,9,9,9,9,9,9,9,9,9]
[5.6,11,11,11,11,11,11,11,11,11,11,11,11,10,10,10,10,10,10,10,10,10,10,10,10,10,10,10,10,10,10,10,10,10,10,10,10,10,10,10,10,10,10,9,9,9,9,9,9,9,9,9,9,9,9,9,9,9,9,9,9,9,9,9,9,9,9,9,9,9,9,9,9]
[5.7,11,11,11,11,11,11,10,10,10,10,10,10,10,10,10,10,10,10,10,10,10,10,10,10,10,10,10,10,10,10,10,10,10,10,10,10,9,9,9,9,9,9,9,9,9,9,9,9,9,9,9,9,9,9,9,9,9,9,9,9,9,9,9,9,9,9,8,8,8,8,8,8]
[5.8,10,10,10,10,10,10,10,10,10,10,10,10,10,10,10,10,10,10,10,10,10,10,10,10,10,10,10,10,10,10,9,9,9,9,9,9,9,9,9,9,9,9,9,9,9,9,9,9,9,9,9,9,9,9,9,9,9,9,9,9,8,8,8,8,8,8,8,8,8,8,8,8]
[5.9,10,10,10,10,10,10,10,10,10,10,10,10,10,10,10,10,10,10,10,10,10,10,10,10,9,9,9,9,9,9,9,9,9,9,9,9,9,9,9,9,9,9,9,9,9,9,9,9,9,9,9,9,9,9,8,8,8,8,8,8,8,8,8,8,8,8,8,8,8,8,8,8]
[6,10,10,10,10,10,10,10,10,10,10,10,10,10,10,10,10,10,10,9,9,9,9,9,9,9,9,9,9,9,9,9,9,9,9,9,9,9,9,9,9,9,9,9,9,9,9,9,9,8,8,8,8,8,8,8,8,8,8,8,8,8,8,8,8,8,8,8,8,8,8,8,8]
[6.1,10,10,10,10,10,10,10,10,10,10,10,10,9,9,9,9,9,9,9,9,9,9,9,9,9,9,9,9,9,9,9,9,9,9,9,9,9,9,9,9,9,9,8,8,8,8,8,8,8,8,8,8,8,8,8,8,8,8,8,8,8,8,8,8,8,8,8,8,8,8,8,8]
[6.2,10,10,10,10,10,10,9,9,9,9,9,9,9,9,9,9,9,9,9,9,9,9,9,9,9,9,9,9,9,9,9,9,9,9,9,9,8,8,8,8,8,8,8,8,8,8,8,8,8,8,8,8,8,8,8,8,8,8,8,8,8,8,8,8,8,8,7,7,7,7,7,7]
[6.3,9,9,9,9,9,9,9,9,9,9,9,9,9,9,9,9,9,9,9,9,9,9,9,9,9,9,9,9,9,9,8,8,8,8,8,8,8,8,8,8,8,8,8,8,8,8,8,8,8,8,8,8,8,8,8,8,8,8,8,8,7,7,7,7,7,7,7,7,7,7,7,7]
[6.4,9,9,9,9,9,9,9,9,9,9,9,9,9,9,9,9,9,9,9,9,9,9,9,9,8,8,8,8,8,8,8,8,8,8,8,8,8,8,8,8,8,8,8,8,8,8,8,8,8,8,8,8,8,8,7,7,7,7,7,7,7,7,7,7,7,7,7,7,7,7,7,7]
[6.5,9,9,9,9,9,9,9,9,9,9,9,9,9,9,9,9,9,9,8,8,8,8,8,8,8,8,8,8,8,8,8,8,8,8,8,8,8,8,8,8,8,8,8,8,8,8,8,8,7,7,7,7,7,7,7,7,7,7,7,7,7,7,7,7,7,7,7,7,7,7,7,7]
[6.6,9,9,9,9,9,9,9,9,9,9,9,9,8,8,8,8,8,8,8,8,8,8,8,8,8,8,8,8,8,8,8,8,8,8,8,8,8,8,8,8,8,8,7,7,7,7,7,7,7,7,7,7,7,7,7,7,7,7,7,7,7,7,7,7,7,7,7,7,7,7,7,7]
[6.7,9,9,9,9,9,9,8,8,8,8,8,8,8,8,8,8,8,8,8,8,8,8,8,8,8,8,8,8,8,8,8,8,8,8,8,8,7,7,7,7,7,7,7,7,7,7,7,7,7,7,7,7,7,7,7,7,7,7,7,7,7,7,7,7,7,7,6,6,6,6,6,6]
[6.8,8,8,8,8,8,8,8,8,8,8,8,8,8,8,8,8,8,8,8,8,8,8,8,8,8,8,8,8,8,8,7,7,7,7,7,7,7,7,7,7,7,7,7,7,7,7,7,7,7,7,7,7,7,7,7,7,7,7,7,7,6,6,6,6,6,6,6,6,6,6,6,6]
[6.9,8,8,8,8,8,8,8,8,8,8,8,8,8,8,8,8,8,8,8,8,8,8,8,8,7,7,7,7,7,7,7,7,7,7,7,7,7,7,7,7,7,7,7,7,7,7,7,7,7,7,7,7,7,7,6,6,6,6,6,6,6,6,6,6,6,6,6,6,6,6,6,6]
[7,8,8,8,8,8,8,8,8,8,8,8,8,8,8,8,8,8,8,7,7,7,7,7,7,7,7,7,7,7,7,7,7,7,7,7,7,7,7,7,7,7,7,7,7,7,7,7,7,6,6,6,6,6,6,6,6,6,6,6,6,6,6,6,6,6,6,6,6,6,6,6,6]
[7.1,8,8,8,8,8,8,8,8,8,8,8,8,7,7,7,7,7,7,7,7,7,7,7,7,7,7,7,7,7,7,7,7,7,7,7,7,7,7,7,7,7,7,6,6,6,6,6,6,6,6,6,6,6,6,6,6,6,6,6,6,6,6,6,6,6,6,6,6,6,6,6,6]
[7.2,8,8,8,8,8,8,7,7,7,7,7,7,7,7,7,7,7,7,7,7,7,7,7,7,7,7,7,7,7,7,7,7,7,7,7,7,6,6,6,6,6,6,6,6,6,6,6,6,6,6,6,6,6,6,6,6,6,6,6,6,6,6,6,6,6,6,5,5,5,5,5,5]
[7.3,7,7,7,7,7,7,7,7,7,7,7,7,7,7,7,7,7,7,7,7,7,7,7,7,7,7,7,7,7,7,6,6,6,6,6,6,6,6,6,6,6,6,6,6,6,6,6,6,6,6,6,6,6,6,6,6,6,6,6,6,5,5,5,5,5,5,5,5,5,5,5,5]
[7.4,7,7,7,7,7,7,7,7,7,7,7,7,7,7,7,7,7,7,7,7,7,7,7,7,6,6,6,6,6,6,6,6,6,6,6,6,6,6,6,6,6,6,6,6,6,6,6,6,6,6,6,6,6,6,5,5,5,5,5,5,5,5,5,5,5,5,5,5,5,5,5,5]
[7.5,7,7,7,7,7,7,7,7,7,7,7,7,7,7,7,7,7,7,6,6,6,6,6,6,6,6,6,6,6,6,6,6,6,6,6,6,6,6,6,6,6,6,6,6,6,6,6,6,5,5,5,5,5,5,5,5,5,5,5,5,5,5,5,5,5,5,5,5,5,5,5,5]
[7.6,7,7,7,7,7,7,7,7,7,7,7,7,6,6,6,6,6,6,6,6,6,6,6,6,6,6,6,6,6,6,6,6,6,6,6,6,6,6,6,6,6,6,5,5,5,5,5,5,5,5,5,5,5,5,5,5,5,5,5,5,5,5,5,5,5,5,5,5,5,5,5,5]
[7.7,7,7,7,7,7,7,6,6,6,6,6,6,6,6,6,6,6,6,6,6,6,6,6,6,6,6,6,6,6,6,6,6,6,6,6,6,5,5,5,5,5,5,5,5,5,5,5,5,5,5,5,5,5,5,5,5,5,5,5,5,5,5,5,5,5,5,4,4,4,4,4,4]
[7.8,6,6,6,6,6,6,6,6,6,6,6,6,6,6,6,6,6,6,6,6,6,6,6,6,6,6,6,6,6,6,5,5,5,5,5,5,5,5,5,5,5,5,5,5,5,5,5,5,5,5,5,5,5,5,5,5,5,5,5,5,4,4,4,4,4,4,4,4,4,4,4,4]
[7.9,6,6,6,6,6,6,6,6,6,6,6,6,6,6,6,6,6,6,6,6,6,6,6,6,5,5,5,5,5,5,5,5,5,5,5,5,5,5,5,5,5,5,5,5,5,5,5,5,5,5,5,5,5,5,4,4,4,4,4,4,4,4,4,4,4,4,4,4,4,4,4,4]
[8,6,6,6,6,6,6,6,6,6,6,6,6,6,6,6,6,6,6,5,5,5,5,5,5,5,5,5,5,5,5,5,5,5,5,5,5,5,5,5,5,5,5,5,5,5,5,5,5,4,4,4,4,4,4,4,4,4,4,4,4,4,4,4,4,4,4,4,4,4,4,4,4]
[8.1,6,6,6,6,6,6,6,6,6,6,6,6,5,5,5,5,5,5,5,5,5,5,5,5,5,5,5,5,5,5,5,5,5,5,5,5,5,5,5,5,5,5,4,4,4,4,4,4,4,4,4,4,4,4,4,4,4,4,4,4,4,4,4,4,4,4,4,4,4,4,4,4]
[8.2,6,6,6,6,6,6,5,5,5,5,5,5,5,5,5,5,5,5,5,5,5,5,5,5,5,5,5,5,5,5,5,5,5,5,5,5,4,4,4,4,4,4,4,4,4,4,4,4,4,4,4,4,4,4,4,4,4,4,4,4,4,4,4,4,4,4,3,3,3,3,3,3]
[8.3,5,5,5,5,5,5,5,5,5,5,5,5,5,5,5,5,5,5,5,5,5,5,5,5,5,5,5,5,5,5,4,4,4,4,4,4,4,4,4,4,4,4,4,4,4,4,4,4,4,4,4,4,4,4,4,4,4,4,4,4,3,3,3,3,3,3,3,3,3,3,3,3]
[8.4,5,5,5,5,5,5,5,5,5,5,5,5,5,5,5,5,5,5,5,5,5,5,5,5,4,4,4,4,4,4,4,4,4,4,4,4,4,4,4,4,4,4,4,4,4,4,4,4,4,4,4,4,4,4,3,3,3,3,3,3,3,3,3,3,3,3,3,3,3,3,3,3]
[8.5,5,5,5,5,5,5,5,5,5,5,5,5,5,5,5,5,5,5,4,4,4,4,4,4,4,4,4,4,4,4,4,4,4,4,4,4,4,4,4,4,4,4,4,4,4,4,4,4,3,3,3,3,3,3,3,3,3,3,3,3,3,3,3,3,3,3,3,3,3,3,3,3]
[8.6,5,5,5,5,5,5,5,5,5,5,5,5,4,4,4,4,4,4,4,4,4,4,4,4,4,4,4,4,4,4,4,4,4,4,4,4,4,4,4,4,4,4,3,3,3,3,3,3,3,3,3,3,3,3,3,3,3,3,3,3,3,3,3,3,3,3,3,3,3,3,3,3]
[8.7,5,5,5,5,5,5,4,4,4,4,4,4,4,4,4,4,4,4,4,4,4,4,4,4,4,4,4,4,4,4,4,4,4,4,4,4,3,3,3,3,3,3,3,3,3,3,3,3,3,3,3,3,3,3,3,3,3,3,3,3,3,3,3,3,3,3,2,2,2,2,2,2]
[8.8,4,4,4,4,4,4,4,4,4,4,4,4,4,4,4,4,4,4,4,4,4,4,4,4,4,4,4,4,4,4,3,3,3,3,3,3,3,3,3,3,3,3,3,3,3,3,3,3,3,3,3,3,3,3,3,3,3,3,3,3,2,2,2,2,2,2,2,2,2,2,2,2]
[8.9,4,4,4,4,4,4,4,4,4,4,4,4,4,4,4,4,4,4,4,4,4,4,4,4,3,3,3,3,3,3,3,3,3,3,3,3,3,3,3,3,3,3,3,3,3,3,3,3,3,3,3,3,3,3,2,2,2,2,2,2,2,2,2,2,2,2,2,2,2,2,2,2]
[9,4,4,4,4,4,4,4,4,4,4,4,4,4,4,4,4,4,4,3,3,3,3,3,3,3,3,3,3,3,3,3,3,3,3,3,3,3,3,3,3,3,3,3,3,3,3,3,3,2,2,2,2,2,2,2,2,2,2,2,2,2,2,2,2,2,2,2,2,2,2,2,2]
[9.1,4,4,4,4,4,4,4,4,4,4,4,4,3,3,3,3,3,3,3,3,3,3,3,3,3,3,3,3,3,3,3,3,3,3,3,3,3,3,3,3,3,3,2,2,2,2,2,2,2,2,2,2,2,2,2,2,2,2,2,2,2,2,2,2,2,2,2,2,2,2,2,2]
[9.2,4,4,4,4,4,4,3,3,3,3,3,3,3,3,3,3,3,3,3,3,3,3,3,3,3,3,3,3,3,3,3,3,3,3,3,3,2,2,2,2,2,2,2,2,2,2,2,2,2,2,2,2,2,2,2,2,2,2,2,2,2,2,2,2,2,2,1,1,1,1,1,1]
[9.3,3,3,3,3,3,3,3,3,3,3,3,3,3,3,3,3,3,3,3,3,3,3,3,3,3,3,3,3,3,3,2,2,2,2,2,2,2,2,2,2,2,2,2,2,2,2,2,2,2,2,2,2,2,2,2,2,2,2,2,2,1,1,1,1,1,1,1,1,1,1,1,1]
[9.4,3,3,3,3,3,3,3,3,3,3,3,3,3,3,3,3,3,3,3,3,3,3,3,3,2,2,2,2,2,2,2,2,2,2,2,2,2,2,2,2,2,2,2,2,2,2,2,2,2,2,2,2,2,2,1,1,1,1,1,1,1,1,1,1,1,1,1,1,1,1,1,1]
[9.5,3,3,3,3,3,3,3,3,3,3,3,3,3,3,3,3,3,3,2,2,2,2,2,2,2,2,2,2,2,2,2,2,2,2,2,2,2,2,2,2,2,2,2,2,2,2,2,2,1,1,1,1,1,1,1,1,1,1,1,1,1,1,1,1,1,1,1,1,1,1,1,1]
[9.6,3,3,3,3,3,3,3,3,3,3,3,3,2,2,2,2,2,2,2,2,2,2,2,2,2,2,2,2,2,2,2,2,2,2,2,2,2,2,2,2,2,2,1,1,1,1,1,1,1,1,1,1,1,1,1,1,1,1,1,1,1,1,1,1,1,1,1,1,1,1,1,1]
[9.7,3,3,3,3,3,3,2,2,2,2,2,2,2,2,2,2,2,2,2,2,2,2,2,2,2,2,2,2,2,2,2,2,2,2,2,2,1,1,1,1,1,1,1,1,1,1,1,1,1,1,1,1,1,1,1,1,1,1,1,1,1,1,1,1,1,1,0,0,0,0,0,0]
[9.8,2,2,2,2,2,2,2,2,2,2,2,2,2,2,2,2,2,2,2,2,2,2,2,2,2,2,2,2,2,2,1,1,1,1,1,1,1,1,1,1,1,1,1,1,1,1,1,1,1,1,1,1,1,1,1,1,1,1,1,1,0,0,0,0,0,0,0,0,0,0,0,0]
[9.9,2,2,2,2,2,2,2,2,2,2,2,2,2,2,2,2,2,2,2,2,2,2,2,2,1,1,1,1,1,1,1,1,1,1,1,1,1,1,1,1,1,1,1,1,1,1,1,1,1,1,1,1,1,1,0,0,0,0,0,0,0,0,0,0,0,0,0,0,0,0,0,0]
[10,2,2,2,2,2,2,2,2,2,2,2,2,2,2,2,2,2,2,1,1,1,1,1,1,1,1,1,1,1,1,1,1,1,1,1,1,1,1,1,1,1,1,1,1,1,1,1,1,0,0,0,0,0,0,0,0,0,0,0,0,0,0,0,0,0,0,0,0,0,0,0,0]
[10.1,2,2,2,2,2,2,2,2,2,2,2,2,1,1,1,1,1,1,1,1,1,1,1,1,1,1,1,1,1,1,1,1,1,1,1,1,1,1,1,1,1,1,0,0,0,0,0,0,0,0,0,0,0,0,0,0,0,0,0,0,0,0,0,0,0,0,0,0,0,0,0,0]
[10.2,2,2,2,2,2,2,1,1,1,1,1,1,1,1,1,1,1,1,1,1,1,1,1,1,1,1,1,1,1,1,1,1,1,1,1,1,0,0,0,0,0,0,0,0,0,0,0,0,0,0,0,0,0,0,0,0,0,0,0,0,0,0,0,0,0,0,0,0,0,0,0,0]
[10.3,1,1,1,1,1,1,1,1,1,1,1,1,1,1,1,1,1,1,1,1,1,1,1,1,1,1,1,1,1,1,0,0,0,0,0,0,0,0,0,0,0,0,0,0,0,0,0,0,0,0,0,0,0,0,0,0,0,0,0,0,0,0,0,0,0,0,0,0,0,0,0,0]
[10.4,1,1,1,1,1,1,1,1,1,1,1,1,1,1,1,1,1,1,1,1,1,1,1,1,0,0,0,0,0,0,0,0,0,0,0,0,0,0,0,0,0,0,0,0,0,0,0,0,0,0,0,0,0,0,0,0,0,0,0,0,0,0,0,0,0,0,0,0,0,0,0,0]
[10.5,1,1,1,1,1,1,1,1,1,1,1,1,1,1,1,1,1,1,0,0,0,0,0,0,0,0,0,0,0,0,0,0,0,0,0,0,0,0,0,0,0,0,0,0,0,0,0,0,0,0,0,0,0,0,0,0,0,0,0,0,0,0,0,0,0,0,0,0,0,0,0,0]
[10.6,1,1,1,1,1,1,1,1,1,1,1,1,0,0,0,0,0,0,0,0,0,0,0,0,0,0,0,0,0,0,0,0,0,0,0,0,0,0,0,0,0,0,0,0,0,0,0,0,0,0,0,0,0,0,0,0,0,0,0,0,0,0,0,0,0,0,0,0,0,0,0,0]
[10.7,1,1,1,1,1,1,0,0,0,0,0,0,0,0,0,0,0,0,0,0,0,0,0,0,0,0,0,0,0,0,0,0,0,0,0,0,0,0,0,0,0,0,0,0,0,0,0,0,0,0,0,0,0,0,0,0,0,0,0,0,0,0,0,0,0,0,0,0,0,0,0,0]
[10.8,0,0,0,0,0,0,0,0,0,0,0,0,0,0,0,0,0,0,0,0,0,0,0,0,0,0,0,0,0,0,0,0,0,0,0,0,0,0,0,0,0,0,0,0,0,0,0,0,0,0,0,0,0,0,0,0,0,0,0,0,0,0,0,0,0,0,0,0,0,0,0,0]

{"sheet":"Epaules","index":8,"n_rows":76,"n_cols":73,"rows_kept":76,"hidden":true}
[null,73,74,75,76,77,78,79,80,81,82,83,84,85,86,87,88,89,90,91,92,93,94,95,96,97,98,99,100,101,102,103,104,105,106,107,108,109,110,111,112,113,114,115,116,117,118,119,120,121,122,123,124,125,126,127,128,129,130,131,132,133,134,135,136,137,138,139,140,141,142,143,144]
[0,20,20,20,20,20,20,20,20,20,20,20,20,20,20,20,20,20,20,20,20,20,20,20,20,20,20,20,20,20,20,20,20,20,20,20,20,20,20,20,20,20,20,20,20,20,20,20,20,20,20,20,20,20,20,20,20,20,20,20,20,20,20,20,20,20,20,20,20,20,20,20,20]
[1,20,20,20,20,20,20,20,20,20,20,20,20,20,20,20,20,20,20,20,20,20,20,20,20,20,20,20,20,20,20,20,20,20,20,20,20,20,20,20,20,20,20,20,20,20,20,20,20,20,20,20,20,20,20,20,20,20,20,20,20,20,20,20,20,20,20,20,20,20,20,20,20]
[2,20,20,20,20,20,20,20,20,20,20,20,20,20,20,20,20,20,20,20,20,20,20,20,20,20,20,20,20,20,20,20,20,20,20,20,20,20,20,20,20,20,20,20,20,20,20,20,20,20,20,20,20,20,20,20,20,20,20,20,20,20,20,20,20,20,20,20,20,20,20,20,20]
[3,20,20,20,20,20,20,20,20,20,20,20,20,20,20,20,20,20,20,20,20,20,20,20,20,20,20,20,20,20,20,20,20,20,20,20,20,20,20,20,20,20,20,20,20,20,20,20,20,20,20,20,20,20,20,20,20,20,20,20,20,20,20,20,20,20,20,20,20,20,20,20,20]
[4,20,20,20,20,20,20,20,20,20,20,20,20,20,20,20,20,20,20,20,20,20,20,20,20,20,20,20,20,20,20,20,20,20,20,20,20,20,20,20,20,20,20,20,20,20,20,20,20,20,20,20,20,20,20,20,20,20,20,20,20,20,20,20,20,20,20,19,19,19,19,19,19]
[5,20,20,20,20,20,20,20,20,20,20,20,20,20,20,20,20,20,20,20,20,20,20,20,20,20,20,20,20,20,20,20,20,20,20,20,20,20,20,20,20,20,20,20,20,20,20,20,20,20,20,20,20,20,20,20,20,20,20,20,20,19,19,19,19,19,19,19,19,19,19,19,19]
[6,20,20,20,20,20,20,20,20,20,20,20,20,20,20,20,20,20,20,20,20,20,20,20,20,20,20,20,20,20,20,20,20,20,20,20,20,20,20,20,20,20,20,20,20,20,20,20,20,20,20,20,20,20,20,19,19,19,19,19,19,19,19,19,19,19,19,19,19,19,19,19,19]
[7,20,20,20,20,20,20,20,20,20,20,20,20,20,20,20,20,20,20,20,20,20,20,20,20,20,20,20,20,20,20,20,20,20,20,20,20,20,20,20,20,20,20,20,20,20,20,20,20,19,19,19,19,19,19,19,19,19,19,19,19,19,19,19,19,19,19,18,18,18,18,18,18]
[8,20,20,20,20,20,20,20,20,20,20,20,20,20,20,20,20,20,20,20,20,20,20,20,20,20,20,20,20,20,20,20,20,20,20,20,20,20,20,20,20,20,20,20,20,20,20,20,20,19,19,19,19,19,19,19,19,19,19,19,19,18,18,18,18,18,18,18,18,18,18,18,18]
[9,20,20,20,20,20,20,20,20,20,20,20,20,20,20,20,20,20,20,20,20,20,20,20,20,20,20,20,20,20,20,20,20,20,20,20,20,20,20,20,20,20,20,19,19,19,19,19,19,19,19,19,19,19,19,18,18,18,18,18,18,18,18,18,18,18,18,18,18,18,18,18,18]
[10,20,20,20,20,20,20,20,20,20,20,20,20,20,20,20,20,20,20,20,20,20,20,20,20,20,20,20,20,20,20,20,20,20,20,20,20,19,19,19,19,19,19,19,19,19,19,19,19,18,18,18,18,18,18,18,18,18,18,18,18,18,18,18,18,18,18,17,17,17,17,17,17]
[11,20,20,20,20,20,20,20,20,20,20,20,20,20,20,20,20,20,20,20,20,20,20,20,20,20,20,20,20,20,20,20,20,20,20,20,20,19,19,19,19,19,19,19,19,19,19,19,19,18,18,18,18,18,18,18,18,18,18,18,18,17,17,17,17,17,17,17,17,17,17,17,17]
[12,20,20,20,20,20,20,20,20,20,20,20,20,20,20,20,20,20,20,20,20,20,20,20,20,20,20,20,20,20,20,19,19,19,19,19,19,19,19,19,19,19,19,18,18,18,18,18,18,18,18,18,18,18,18,17,17,17,17,17,17,17,17,17,17,17,17,17,17,17,17,17,17]
[13,20,20,20,20,20,20,20,20,20,20,20,20,20,20,20,20,20,20,20,20,20,20,20,20,19,19,19,19,19,19,19,19,19,19,19,19,18,18,18,18,18,18,18,18,18,18,18,18,17,17,17,17,17,17,17,17,17,17,17,17,17,17,17,17,17,17,16,16,16,16,16,16]
[14,20,20,20,20,20,20,20,20,20,20,20,20,20,20,20,20,20,20,19,19,19,19,19,19,19,19,19,19,19,19,19,19,19,19,19,19,18,18,18,18,18,18,18,18,18,18,18,18,17,17,17,17,17,17,17,17,17,17,17,17,16,16,16,16,16,16,16,16,16,16,16,16]
[15,20,20,20,20,20,20,20,20,20,20,20,20,19,19,19,19,19,19,19,19,19,19,19,19,19,19,19,19,19,19,18,18,18,18,18,18,18,18,18,18,18,18,17,17,17,17,17,17,17,17,17,17,17,17,16,16,16,16,16,16,16,16,16,16,16,16,16,16,16,16,16,16]
[16,20,20,20,20,20,20,19,19,19,19,19,19,19,19,19,19,19,19,19,19,19,19,19,19,18,18,18,18,18,18,18,18,18,18,18,18,17,17,17,17,17,17,17,17,17,17,17,17,16,16,16,16,16,16,16,16,16,16,16,16,16,16,16,16,16,16,15,15,15,15,15,15]
[17,19,19,19,19,19,19,19,19,19,19,19,19,19,19,19,19,19,19,18,18,18,18,18,18,18,18,18,18,18,18,18,18,18,18,18,18,17,17,17,17,17,17,17,17,17,17,17,17,16,16,16,16,16,16,16,16,16,16,16,16,15,15,15,15,15,15,15,15,15,15,15,15]
[18,19,19,19,19,19,19,19,19,19,19,19,19,18,18,18,18,18,18,18,18,18,18,18,18,18,18,18,18,18,18,17,17,17,17,17,17,17,17,17,17,17,17,16,16,16,16,16,16,16,16,16,16,16,16,15,15,15,15,15,15,15,15,15,15,15,15,15,15,15,15,15,15]
[19,19,19,19,19,19,19,18,18,18,18,18,18,18,18,18,18,18,18,18,18,18,18,18,18,17,17,17,17,17,17,17,17,17,17,17,17,16,16,16,16,16,16,16,16,16,16,16,16,15,15,15,15,15,15,15,15,15,15,15,15,15,15,15,15,15,15,14,14,14,14,14,14]
[20,18,18,18,18,18,18,18,18,18,18,18,18,18,18,18,18,18,18,17,17,17,17,17,17,17,17,17,17,17,17,17,17,17,17,17,17,16,16,16,16,16,16,16,16,16,16,16,16,15,15,15,15,15,15,15,15,15,15,15,15,14,14,14,14,14,14,14,14,14,14,14,14]
[21,18,18,18,18,18,18,18,18,18,18,18,18,17,17,17,17,17,17,17,17,17,17,17,17,17,17,17,17,17,17,16,16,16,16,16,16,16,16,16,16,16,16,15,15,15,15,15,15,15,15,15,15,15,15,14,14,14,14,14,14,14,14,14,14,14,14,14,14,14,14,14,14]
[22,18,18,18,18,18,18,17,17,17,17,17,17,17,17,17,17,17,17,17,17,17,17,17,17,16,16,16,16,16,16,16,16,16,16,16,16,15,15,15,15,15,15,15,15,15,15,15,15,14,14,14,14,14,14,14,14,14,14,14,14,14,14,14,14,14,14,13,13,13,13,13,13]
[23,17,17,17,17,17,17,17,17,17,17,17,17,17,17,17,17,17,17,16,16,16,16,16,16,16,16,16,16,16,16,16,16,16,16,16,16,15,15,15,15,15,15,15,15,15,15,15,15,14,14,14,14,14,14,14,14,14,14,14,14,13,13,13,13,13,13,13,13,13,13,13,13]
[24,17,17,17,17,17,17,17,17,17,17,17,17,16,16,16,16,16,16,16,16,16,16,16,16,16,16,16,16,16,16,15,15,15,15,15,15,15,15,15,15,15,15,14,14,14,14,14,14,14,14,14,14,14,14,13,13,13,13,13,13,13,13,13,13,13,13,13,13,13,13,13,13]
[25,17,17,17,17,17,17,16,16,16,16,16,16,16,16,16,16,16,16,16,16,16,16,16,16,15,15,15,15,15,15,15,15,15,15,15,15,14,14,14,14,14,14,14,14,14,14,14,14,13,13,13,13,13,13,13,13,13,13,13,13,13,13,13,13,13,13,12,12,12,12,12,12]
[26,16,16,16,16,16,16,16,16,16,16,16,16,16,16,16,16,16,16,15,15,15,15,15,15,15,15,15,15,15,15,15,15,15,15,15,15,14,14,14,14,14,14,14,14,14,14,14,14,13,13,13,13,13,13,13,13,13,13,13,13,12,12,12,12,12,12,12,12,12,12,12,12]
[27,16,16,16,16,16,16,16,16,16,16,16,16,15,15,15,15,15,15,15,15,15,15,15,15,15,15,15,15,15,15,14,14,14,14,14,14,14,14,14,14,14,14,13,13,13,13,13,13,13,13,13,13,13,13,12,12,12,12,12,12,12,12,12,12,12,12,12,12,12,12,12,12]
[28,16,16,16,16,16,16,15,15,15,15,15,15,15,15,15,15,15,15,15,15,15,15,15,15,14,14,14,14,14,14,14,14,14,14,14,14,13,13,13,13,13,13,13,13,13,13,13,13,12,12,12,12,12,12,12,12,12,12,12,12,12,12,12,12,12,12,11,11,11,11,11,11]
[29,15,15,15,15,15,15,15,15,15,15,15,15,15,15,15,15,15,15,14,14,14,14,14,14,14,14,14,14,14,14,14,14,14,14,14,14,13,13,13,13,13,13,13,13,13,13,13,13,12,12,12,12,12,12,12,12,12,12,12,12,11,11,11,11,11,11,11,11,11,11,11,11]
[30,15,15,15,15,15,15,15,15,15,15,15,15,14,14,14,14,14,14,14,14,14,14,14,14,14,14,14,14,14,14,13,13,13,13,13,13,13,13,13,13,13,13,12,12,12,12,12,12,12,12,12,12,12,12,11,11,11,11,11,11,11,11,11,11,11,11,11,11,11,11,11,11]
[31,15,15,15,15,15,15,14,14,14,14,14,14,14,14,14,14,14,14,14,14,14,14,14,14,13,13,13,13,13,13,13,13,13,13,13,13,12,12,12,12,12,12,12,12,12,12,12,12,11,11,11,11,11,11,11,11,11,11,11,11,11,11,11,11,11,11,10,10,10,10,10,10]
[32,14,14,14,14,14,14,14,14,14,14,14,14,14,14,14,14,14,14,13,13,13,13,13,13,13,13,13,13,13,13,13,13,13,13,13,13,12,12,12,12,12,12,12,12,12,12,12,12,11,11,11,11,11,11,11,11,11,11,11,11,10,10,10,10,10,10,10,10,10,10,10,10]
[33,14,14,14,14,14,14,14,14,14,14,14,14,13,13,13,13,13,13,13,13,13,13,13,13,13,13,13,13,13,13,12,12,12,12,12,12,12,12,12,12,12,12,11,11,11,11,11,11,11,11,11,11,11,11,10,10,10,10,10,10,10,10,10,10,10,10,10,10,10,10,10,10]
[34,14,14,14,14,14,14,13,13,13,13,13,13,13,13,13,13,13,13,13,13,13,13,13,13,12,12,12,12,12,12,12,12,12,12,12,12,11,11,11,11,11,11,11,11,11,11,11,11,10,10,10,10,10,10,10,10,10,10,10,10,10,10,10,10,10,10,9,9,9,9,9,9]
[35,13,13,13,13,13,13,13,13,13,13,13,13,13,13,13,13,13,13,12,12,12,12,12,12,12,12,12,12,12,12,12,12,12,12,12,12,11,11,11,11,11,11,11,11,11,11,11,11,10,10,10,10,10,10,10,10,10,10,10,10,9,9,9,9,9,9,9,9,9,9,9,9]
[36,13,13,13,13,13,13,13,13,13,13,13,13,12,12,12,12,12,12,12,12,12,12,12,12,12,12,12,12,12,12,11,11,11,11,11,11,11,11,11,11,11,11,10,10,10,10,10,10,10,10,10,10,10,10,9,9,9,9,9,9,9,9,9,9,9,9,9,9,9,9,9,9]
[37,13,13,13,13,13,13,12,12,12,12,12,12,12,12,12,12,12,12,12,12,12,12,12,12,11,11,11,11,11,11,11,11,11,11,11,11,10,10,10,10,10,10,10,10,10,10,10,10,9,9,9,9,9,9,9,9,9,9,9,9,9,9,9,9,9,9,8,8,8,8,8,8]
[38,12,12,12,12,12,12,12,12,12,12,12,12,12,12,12,12,12,12,11,11,11,11,11,11,11,11,11,11,11,11,11,11,11,11,11,11,10,10,10,10,10,10,10,10,10,10,10,10,9,9,9,9,9,9,9,9,9,9,9,9,8,8,8,8,8,8,8,8,8,8,8,8]
[39,12,12,12,12,12,12,12,12,12,12,12,12,11,11,11,11,11,11,11,11,11,11,11,11,11,11,11,11,11,11,10,10,10,10,10,10,10,10,10,10,10,10,9,9,9,9,9,9,9,9,9,9,9,9,8,8,8,8,8,8,8,8,8,8,8,8,8,8,8,8,8,8]
[40,12,12,12,12,12,12,11,11,11,11,11,11,11,11,11,11,11,11,11,11,11,11,11,11,10,10,10,10,10,10,10,10,10,10,10,10,9,9,9,9,9,9,9,9,9,9,9,9,8,8,8,8,8,8,8,8,8,8,8,8,8,8,8,8,8,8,7,7,7,7,7,7]
[41,11,11,11,11,11,11,11,11,11,11,11,11,11,11,11,11,11,11,10,10,10,10,10,10,10,10,10,10,10,10,10,10,10,10,10,10,9,9,9,9,9,9,9,9,9,9,9,9,8,8,8,8,8,8,8,8,8,8,8,8,7,7,7,7,7,7,7,7,7,7,7,7]
[42,11,11,11,11,11,11,11,11,11,11,11,11,10,10,10,10,10,10,10,10,10,10,10,10,10,10,10,10,10,10,9,9,9,9,9,9,9,9,9,9,9,9,8,8,8,8,8,8,8,8,8,8,8,8,7,7,7,7,7,7,7,7,7,7,7,7,7,7,7,7,7,7]
[43,11,11,11,11,11,11,10,10,10,10,10,10,10,10,10,10,10,10,10,10,10,10,10,10,9,9,9,9,9,9,9,9,9,9,9,9,8,8,8,8,8,8,8,8,8,8,8,8,7,7,7,7,7,7,7,7,7,7,7,7,7,7,7,7,7,7,6,6,6,6,6,6]
[44,10,10,10,10,10,10,10,10,10,10,10,10,10,10,10,10,10,10,9,9,9,9,9,9,9,9,9,9,9,9,9,9,9,9,9,9,8,8,8,8,8,8,8,8,8,8,8,8,7,7,7,7,7,7,7,7,7,7,7,7,6,6,6,6,6,6,6,6,6,6,6,6]
[45,10,10,10,10,10,10,10,10,10,10,10,10,9,9,9,9,9,9,9,9,9,9,9,9,9,9,9,9,9,9,8,8,8,8,8,8,8,8,8,8,8,8,7,7,7,7,7,7,7,7,7,7,7,7,6,6,6,6,6,6,6,6,6,6,6,6,6,6,6,6,6,6]
[46,10,10,10,10,10,10,9,9,9,9,9,9,9,9,9,9,9,9,9,9,9,9,9,9,8,8,8,8,8,8,8,8,8,8,8,8,7,7,7,7,7,7,7,7,7,7,7,7,6,6,6,6,6,6,6,6,6,6,6,6,6,6,6,6,6,6,5,5,5,5,5,5]
[47,9,9,9,9,9,9,9,9,9,9,9,9,9,9,9,9,9,9,8,8,8,8,8,8,8,8,8,8,8,8,8,8,8,8,8,8,7,7,7,7,7,7,7,7,7,7,7,7,6,6,6,6,6,6,6,6,6,6,6,6,5,5,5,5,5,5,5,5,5,5,5,5]
[48,9,9,9,9,9,9,9,9,9,9,9,9,8,8,8,8,8,8,8,8,8,8,8,8,8,8,8,8,8,8,7,7,7,7,7,7,7,7,7,7,7,7,6,6,6,6,6,6,6,6,6,6,6,6,5,5,5,5,5,5,5,5,5,5,5,5,5,5,5,5,5,5]
[49,9,9,9,9,9,9,8,8,8,8,8,8,8,8,8,8,8,8,8,8,8,8,8,8,7,7,7,7,7,7,7,7,7,7,7,7,6,6,6,6,6,6,6,6,6,6,6,6,5,5,5,5,5,5,5,5,5,5,5,5,5,5,5,5,5,5,4,4,4,4,4,4]
[50,8,8,8,8,8,8,8,8,8,8,8,8,8,8,8,8,8,8,7,7,7,7,7,7,7,7,7,7,7,7,7,7,7,7,7,7,6,6,6,6,6,6,6,6,6,6,6,6,5,5,5,5,5,5,5,5,5,5,5,5,4,4,4,4,4,4,4,4,4,4,4,4]
[51,8,8,8,8,8,8,8,8,8,8,8,8,7,7,7,7,7,7,7,7,7,7,7,7,7,7,7,7,7,7,6,6,6,6,6,6,6,6,6,6,6,6,5,5,5,5,5,5,5,5,5,5,5,5,4,4,4,4,4,4,4,4,4,4,4,4,4,4,4,4,4,4]
[52,8,8,8,8,8,8,7,7,7,7,7,7,7,7,7,7,7,7,7,7,7,7,7,7,6,6,6,6,6,6,6,6,6,6,6,6,5,5,5,5,5,5,5,5,5,5,5,5,4,4,4,4,4,4,4,4,4,4,4,4,4,4,4,4,4,4,3,3,3,3,3,3]
[53,7,7,7,7,7,7,7,7,7,7,7,7,7,7,7,7,7,7,6,6,6,6,6,6,6,6,6,6,6,6,6,6,6,6,6,6,5,5,5,5,5,5,5,5,5,5,5,5,4,4,4,4,4,4,4,4,4,4,4,4,3,3,3,3,3,3,3,3,3,3,3,3]
[54,7,7,7,7,7,7,7,7,7,7,7,7,6,6,6,6,6,6,6,6,6,6,6,6,6,6,6,6,6,6,5,5,5,5,5,5,5,5,5,5,5,5,4,4,4,4,4,4,4,4,4,4,4,4,3,3,3,3,3,3,3,3,3,3,3,3,3,3,3,3,3,3]
[55,7,7,7,7,7,7,6,6,6,6,6,6,6,6,6,6,6,6,6,6,6,6,6,6,5,5,5,5,5,5,5,5,5,5,5,5,4,4,4,4,4,4,4,4,4,4,4,4,3,3,3,3,3,3,3,3,3,3,3,3,3,3,3,3,3,3,2,2,2,2,2,2]
[56,6,6,6,6,6,6,6,6,6,6,6,6,6,6,6,6,6,6,5,5,5,5,5,5,5,5,5,5,5,5,5,5,5,5,5,5,4,4,4,4,4,4,4,4,4,4,4,4,3,3,3,3,3,3,3,3,3,3,3,3,2,2,2,2,2,2,2,2,2,2,2,2]
[57,6,6,6,6,6,6,6,6,6,6,6,6,5,5,5,5,5,5,5,5,5,5,5,5,5,5,5,5,5,5,4,4,4,4,4,4,4,4,4,4,4,4,3,3,3,3,3,3,3,3,3,3,3,3,2,2,2,2,2,2,2,2,2,2,2,2,2,2,2,2,2,2]
[58,6,6,6,6,6,6,5,5,5,5,5,5,5,5,5,5,5,5,5,5,5,5,5,5,4,4,4,4,4,4,4,4,4,4,4,4,3,3,3,3,3,3,3,3,3,3,3,3,2,2,2,2,2,2,2,2,2,2,2,2,2,2,2,2,2,2,1,1,1,1,1,1]
[59,5,5,5,5,5,5,5,5,5,5,5,5,5,5,5,5,5,5,4,4,4,4,4,4,4,4,4,4,4,4,4,4,4,4,4,4,3,3,3,3,3,3,3,3,3,3,3,3,2,2,2,2,2,2,2,2,2,2,2,2,1,1,1,1,1,1,1,1,1,1,1,1]
[60,5,5,5,5,5,5,5,5,5,5,5,5,4,4,4,4,4,4,4,4,4,4,4,4,4,4,4,4,4,4,3,3,3,3,3,3,3,3,3,3,3,3,2,2,2,2,2,2,2,2,2,2,2,2,1,1,1,1,1,1,1,1,1,1,1,1,1,1,1,1,1,1]
[61,5,5,5,5,5,5,4,4,4,4,4,4,4,4,4,4,4,4,4,4,4,4,4,4,3,3,3,3,3,3,3,3,3,3,3,3,2,2,2,2,2,2,2,2,2,2,2,2,1,1,1,1,1,1,1,1,1,1,1,1,1,1,1,1,1,1,0,0,0,0,0,0]
[62,4,4,4,4,4,4,4,4,4,4,4,4,4,4,4,4,4,4,3,3,3,3,3,3,3,3,3,3,3,3,3,3,3,3,3,3,2,2,2,2,2,2,2,2,2,2,2,2,1,1,1,1,1,1,1,1,1,1,1,1,0,0,0,0,0,0,0,0,0,0,0,0]
[63,4,4,4,4,4,4,4,4,4,4,4,4,3,3,3,3,3,3,3,3,3,3,3,3,3,3,3,3,3,3,2,2,2,2,2,2,2,2,2,2,2,2,1,1,1,1,1,1,1,1,1,1,1,1,0,0,0,0,0,0,0,0,0,0,0,0,0,0,0,0,0,0]
[64,4,4,4,4,4,4,3,3,3,3,3,3,3,3,3,3,3,3,3,3,3,3,3,3,2,2,2,2,2,2,2,2,2,2,2,2,1,1,1,1,1,1,1,1,1,1,1,1,0,0,0,0,0,0,0,0,0,0,0,0,0,0,0,0,0,0,0,0,0,0,0,0]
[65,3,3,3,3,3,3,3,3,3,3,3,3,3,3,3,3,3,3,2,2,2,2,2,2,2,2,2,2,2,2,2,2,2,2,2,2,1,1,1,1,1,1,1,1,1,1,1,1,0,0,0,0,0,0,0,0,0,0,0,0,0,0,0,0,0,0,0,0,0,0,0,0]
[66,3,3,3,3,3,3,3,3,3,3,3,3,2,2,2,2,2,2,2,2,2,2,2,2,2,2,2,2,2,2,1,1,1,1,1,1,1,1,1,1,1,1,0,0,0,0,0,0,0,0,0,0,0,0,0,0,0,0,0,0,0,0,0,0,0,0,0,0,0,0,0,0]
[67,3,3,3,3,3,3,2,2,2,2,2,2,2,2,2,2,2,2,2,2,2,2,2,2,1,1,1,1,1,1,1,1,1,1,1,1,0,0,0,0,0,0,0,0,0,0,0,0,0,0,0,0,0,0,0,0,0,0,0,0,0,0,0,0,0,0,0,0,0,0,0,0]
[68,2,2,2,2,2,2,2,2,2,2,2,2,2,2,2,2,2,2,1,1,1,1,1,1,1,1,1,1,1,1,1,1,1,1,1,1,0,0,0,0,0,0,0,0,0,0,0,0,0,0,0,0,0,0,0,0,0,0,0,0,0,0,0,0,0,0,0,0,0,0,0,0]
[69,2,2,2,2,2,2,2,2,2,2,2,2,1,1,1,1,1,1,1,1,1,1,1,1,1,1,1,1,1,1,0,0,0,0,0,0,0,0,0,0,0,0,0,0,0,0,0,0,0,0,0,0,0,0,0,0,0,0,0,0,0,0,0,0,0,0,0,0,0,0,0,0]
[70,2,2,2,2,2,2,1,1,1,1,1,1,1,1,1,1,1,1,1,1,1,1,1,1,0,0,0,0,0,0,0,0,0,0,0,0,0,0,0,0,0,0,0,0,0,0,0,0,0,0,0,0,0,0,0,0,0,0,0,0,0,0,0,0,0,0,0,0,0,0,0,0]
[71,1,1,1,1,1,1,1,1,1,1,1,1,1,1,1,1,1,1,0,0,0,0,0,0,0,0,0,0,0,0,0,0,0,0,0,0,0,0,0,0,0,0,0,0,0,0,0,0,0,0,0,0,0,0,0,0,0,0,0,0,0,0,0,0,0,0,0,0,0,0,0,0]
[72,1,1,1,1,1,1,1,1,1,1,1,1,0,0,0,0,0,0,0,0,0,0,0,0,0,0,0,0,0,0,0,0,0,0,0,0,0,0,0,0,0,0,0,0,0,0,0,0,0,0,0,0,0,0,0,0,0,0,0,0,0,0,0,0,0,0,0,0,0,0,0,0]
[73,1,1,1,1,1,1,0,0,0,0,0,0,0,0,0,0,0,0,0,0,0,0,0,0,0,0,0,0,0,0,0,0,0,0,0,0,0,0,0,0,0,0,0,0,0,0,0,0,0,0,0,0,0,0,0,0,0,0,0,0,0,0,0,0,0,0,0,0,0,0,0,0]
[74,0,0,0,0,0,0,0,0,0,0,0,0,0,0,0,0,0,0,0,0,0,0,0,0,0,0,0,0,0,0,0,0,0,0,0,0,0,0,0,0,0,0,0,0,0,0,0,0,0,0,0,0,0,0,0,0,0,0,0,0,0,0,0,0,0,0,0,0,0,0,0,0]

{"sheet":"Accueil","index":9,"n_rows":129,"n_cols":7,"rows_kept":129,"merged":[[0,2,0,9],[1,2,1,9],[3,1,3,2],[3,4,4,4],[5,3,22,3],[24,2,24,3],[25,2,25,3],[27,2,28,2],[27,3,27,5]]}
[null,"Vous êtes une région ou un regroupement :","1 - Vérifier la saison sportive ci-dessous et renseigner les cellules jaunes : code région, nom complet des clubs engagés, dates des tests physiques. Un N° pour chaque club est alors attribué.\n2 - Cliquer sur l'onglet des Tests Physiques et indiquer pour chaque gymnaste le N° du club (attribué sur \"Accueil\"), son nom (majuscule) et prénom (minuscule) ainsi que sa date de naissance et son N° de licence.\n3 - Saisir les performances en respectant l'unité de mesure (vous pouvez vous déplacer en utilisant la touche tabulation).\n4 - Pour l'évaluation des modules enchaînement et tests techniques engins & corporels, saisir dans l'onglet Eval\n5 - Transférer les résultats au responsable régional PAS pour qu'il centralise les résultats de la région avec copie au coordonnateur technique régional."]
[null,null,"$ Les feuilles \"Eval\" & \"Résultats\" permettent plusieurs tris et de rétablir l'ordre initial à l'aide de l'identifiant (Tri Id).\n          La feuille \"Résultats CF4\" est un tableau simplifié. Vous ne pouvez y faire que des tris et obtenir le palmarès et la couleur du ruban.\n          La feuille \"CR CF4\" (onglet rouge selon version excel) peut éventuellement servir à recopier les résultats des tests physiques (copier-collage spécial valeurs)."]
[]
[null,"Saison sportive",null,"2025-2026"]
[null,"Nom de la région","Code","Code région"]
[null,"GUADELOUPE",1]
[null,"MARTINIQUE",2]
[null,"GUYANE",3]
[null,"LA REUNION",4]
[null,"ILE DE FRANCE",11]
[null,"CENTRE VAL DE LOIRE",24]
[null,"BOURGOGNE - FRANCHE COMTE",27]
[null,"NORMANDIE",28]
[null,"HAUTS DE FRANCE",32]
[null,"GRAND EST",44]
[null,"PAYS DE LA LOIRE",52]
[null,"BRETAGNE",53]
[null,"NOUVELLE AQUITAINE",75]
[null,"OCCITANIE",76]
[null,"AUVERGNE - RHONE-ALPES",84,{"$nulls":3}," "]
[null,"PROVENCE ALPES COTE D'AZUR",93]
[null,"CORSE",94]
[null,"NOUVELLE CALEDONIE",99]
[]
[null,"Nom du département : "]
[null,"Secteur"]
[]
[null,null,"N° Club","CLUBS engagés, Départements, DATE"]
[{"$nulls":3},"Nom complet du club","Date\nTests Physiques","Lieu"]
[null,null,{"$f":"IF(D30=\"\",\"\",1)","v":""}]
[null,null,{"$f":"IF(D31=\"\",\"\",MAX($C$30:C30)+1)","v":""}]
[null,null,{"$f":"IF(D32=\"\",\"\",MAX($C$30:C31)+1)","v":""}]
[null,null,{"$f":"IF(D33=\"\",\"\",MAX($C$30:C32)+1)","v":""}]
[null,null,{"$f":"IF(D34=\"\",\"\",MAX($C$30:C33)+1)","v":""}]
[null,null,{"$f":"IF(D35=\"\",\"\",MAX($C$30:C34)+1)","v":""}]
[null,null,{"$f":"IF(D36=\"\",\"\",MAX($C$30:C35)+1)","v":""}]
[null,null,{"$f":"IF(D37=\"\",\"\",MAX($C$30:C36)+1)","v":""}]
[null,null,{"$f":"IF(D38=\"\",\"\",MAX($C$30:C37)+1)","v":""}]
[null,null,{"$f":"IF(D39=\"\",\"\",MAX($C$30:C38)+1)","v":""}]
[null,null,{"$f":"IF(D40=\"\",\"\",MAX($C$30:C39)+1)","v":""}]
[null,null,{"$f":"IF(D41=\"\",\"\",MAX($C$30:C40)+1)","v":""}]
[null,null,{"$f":"IF(D42=\"\",\"\",MAX($C$30:C41)+1)","v":""}]
[null,null,{"$f":"IF(D43=\"\",\"\",MAX($C$30:C42)+1)","v":""}]
[null,null,{"$f":"IF(D44=\"\",\"\",MAX($C$30:C43)+1)","v":""}]
[null,null,{"$f":"IF(D45=\"\",\"\",MAX($C$30:C44)+1)","v":""}]
[null,null,{"$f":"IF(D46=\"\",\"\",MAX($C$30:C45)+1)","v":""}]
[null,null,{"$f":"IF(D47=\"\",\"\",MAX($C$30:C46)+1)","v":""}]
[null,null,{"$f":"IF(D48=\"\",\"\",MAX($C$30:C47)+1)","v":""}]
[null,null,{"$f":"IF(D49=\"\",\"\",MAX($C$30:C48)+1)","v":""}]
[null,null,{"$f":"IF(D50=\"\",\"\",MAX($C$30:C49)+1)","v":""}]
[null,null,{"$f":"IF(D51=\"\",\"\",MAX($C$30:C50)+1)","v":""}]
[null,null,{"$f":"IF(D52=\"\",\"\",MAX($C$30:C51)+1)","v":""}]
[null,null,{"$f":"IF(D53=\"\",\"\",MAX($C$30:C52)+1)","v":""}]
[null,null,{"$f":"IF(D54=\"\",\"\",MAX($C$30:C53)+1)","v":""}]
[null,null,{"$f":"IF(D55=\"\",\"\",MAX($C$30:C54)+1)","v":""}]
[null,null,{"$f":"IF(D56=\"\",\"\",MAX($C$30:C55)+1)","v":""}]
[null,null,{"$f":"IF(D57=\"\",\"\",MAX($C$30:C56)+1)","v":""}]
[null,null,{"$f":"IF(D58=\"\",\"\",MAX($C$30:C57)+1)","v":""}]
[null,null,{"$f":"IF(D59=\"\",\"\",MAX($C$30:C58)+1)","v":""}]
[null,null,{"$f":"IF(D60=\"\",\"\",MAX($C$30:C59)+1)","v":""}]
[null,null,{"$f":"IF(D61=\"\",\"\",MAX($C$30:C60)+1)","v":""}]
[null,null,{"$f":"IF(D62=\"\",\"\",MAX($C$30:C61)+1)","v":""}]
[null,null,{"$f":"IF(D63=\"\",\"\",MAX($C$30:C62)+1)","v":""}]
[null,null,{"$f":"IF(D64=\"\",\"\",MAX($C$30:C63)+1)","v":""}]
[null,null,{"$f":"IF(D65=\"\",\"\",MAX($C$30:C64)+1)","v":""}]
[null,null,{"$f":"IF(D66=\"\",\"\",MAX($C$30:C65)+1)","v":""}]
[null,null,{"$f":"IF(D67=\"\",\"\",MAX($C$30:C66)+1)","v":""}]
[null,null,{"$f":"IF(D68=\"\",\"\",MAX($C$30:C67)+1)","v":""}]
[null,null,{"$f":"IF(D69=\"\",\"\",MAX($C$30:C68)+1)","v":""}]
[null,null,{"$f":"IF(D70=\"\",\"\",MAX($C$30:C69)+1)","v":""}]
[null,null,{"$f":"IF(D71=\"\",\"\",MAX($C$30:C70)+1)","v":""}]
[null,null,{"$f":"IF(D72=\"\",\"\",MAX($C$30:C71)+1)","v":""}]
[null,null,{"$f":"IF(D73=\"\",\"\",MAX($C$30:C72)+1)","v":""}]
[null,null,{"$f":"IF(D74=\"\",\"\",MAX($C$30:C73)+1)","v":""}]
[null,null,{"$f":"IF(D75=\"\",\"\",MAX($C$30:C74)+1)","v":""}]
[null,null,{"$f":"IF(D76=\"\",\"\",MAX($C$30:C75)+1)","v":""}]
[null,null,{"$f":"IF(D77=\"\",\"\",MAX($C$30:C76)+1)","v":""}]
[null,null,{"$f":"IF(D78=\"\",\"\",MAX($C$30:C77)+1)","v":""}]
[null,null,{"$f":"IF(D79=\"\",\"\",MAX($C$30:C78)+1)","v":""}]
[null,null,{"$f":"IF(D80=\"\",\"\",MAX($C$30:C79)+1)","v":""}]
[null,null,{"$f":"IF(D81=\"\",\"\",MAX($C$30:C80)+1)","v":""}]
[null,null,{"$f":"IF(D82=\"\",\"\",MAX($C$30:C81)+1)","v":""}]
[null,null,{"$f":"IF(D83=\"\",\"\",MAX($C$30:C82)+1)","v":""}]
[null,null,{"$f":"IF(D84=\"\",\"\",MAX($C$30:C83)+1)","v":""}]
[null,null,{"$f":"IF(D85=\"\",\"\",MAX($C$30:C84)+1)","v":""}]
[null,null,{"$f":"IF(D86=\"\",\"\",MAX($C$30:C85)+1)","v":""}]
[null,null,{"$f":"IF(D87=\"\",\"\",MAX($C$30:C86)+1)","v":""}]
[null,null,{"$f":"IF(D88=\"\",\"\",MAX($C$30:C87)+1)","v":""}]
[null,null,{"$f":"IF(D89=\"\",\"\",MAX($C$30:C88)+1)","v":""}]
[null,null,{"$f":"IF(D90=\"\",\"\",MAX($C$30:C89)+1)","v":""}]
[null,null,{"$f":"IF(D91=\"\",\"\",MAX($C$30:C90)+1)","v":""}]
[null,null,{"$f":"IF(D92=\"\",\"\",MAX($C$30:C91)+1)","v":""}]
[null,null,{"$f":"IF(D93=\"\",\"\",MAX($C$30:C92)+1)","v":""}]
[null,null,{"$f":"IF(D94=\"\",\"\",MAX($C$30:C93)+1)","v":""}]
[null,null,{"$f":"IF(D95=\"\",\"\",MAX($C$30:C94)+1)","v":""}]
[null,null,{"$f":"IF(D96=\"\",\"\",MAX($C$30:C95)+1)","v":""}]
[null,null,{"$f":"IF(D97=\"\",\"\",MAX($C$30:C96)+1)","v":""}]
[null,null,{"$f":"IF(D98=\"\",\"\",MAX($C$30:C97)+1)","v":""}]
[null,null,{"$f":"IF(D99=\"\",\"\",MAX($C$30:C98)+1)","v":""}]
[null,null,{"$f":"IF(D100=\"\",\"\",MAX($C$30:C99)+1)","v":""}]
[null,null,{"$f":"IF(D101=\"\",\"\",MAX($C$30:C100)+1)","v":""}]
[null,null,{"$f":"IF(D102=\"\",\"\",MAX($C$30:C101)+1)","v":""}]
[null,null,{"$f":"IF(D103=\"\",\"\",MAX($C$30:C102)+1)","v":""}]
[null,null,{"$f":"IF(D104=\"\",\"\",MAX($C$30:C103)+1)","v":""}]
[null,null,{"$f":"IF(D105=\"\",\"\",MAX($C$30:C104)+1)","v":""}]
[null,null,{"$f":"IF(D106=\"\",\"\",MAX($C$30:C105)+1)","v":""}]
[null,null,{"$f":"IF(D107=\"\",\"\",MAX($C$30:C106)+1)","v":""}]
[null,null,{"$f":"IF(D108=\"\",\"\",MAX($C$30:C107)+1)","v":""}]
[null,null,{"$f":"IF(D109=\"\",\"\",MAX($C$30:C108)+1)","v":""}]
[null,null,{"$f":"IF(D110=\"\",\"\",MAX($C$30:C109)+1)","v":""}]
[null,null,{"$f":"IF(D111=\"\",\"\",MAX($C$30:C110)+1)","v":""}]
[null,null,{"$f":"IF(D112=\"\",\"\",MAX($C$30:C111)+1)","v":""}]
[null,null,{"$f":"IF(D113=\"\",\"\",MAX($C$30:C112)+1)","v":""}]
[null,null,{"$f":"IF(D114=\"\",\"\",MAX($C$30:C113)+1)","v":""}]
[null,null,{"$f":"IF(D115=\"\",\"\",MAX($C$30:C114)+1)","v":""}]
[null,null,{"$f":"IF(D116=\"\",\"\",MAX($C$30:C115)+1)","v":""}]
[null,null,{"$f":"IF(D117=\"\",\"\",MAX($C$30:C116)+1)","v":""}]
[null,null,{"$f":"IF(D118=\"\",\"\",MAX($C$30:C117)+1)","v":""}]
[null,null,{"$f":"IF(D119=\"\",\"\",MAX($C$30:C118)+1)","v":""}]
[null,null,{"$f":"IF(D120=\"\",\"\",MAX($C$30:C119)+1)","v":""}]
[null,null,{"$f":"IF(D121=\"\",\"\",MAX($C$30:C120)+1)","v":""}]
[null,null,{"$f":"IF(D122=\"\",\"\",MAX($C$30:C121)+1)","v":""}]
[null,null,{"$f":"IF(D123=\"\",\"\",MAX($C$30:C122)+1)","v":""}]
[null,null,{"$f":"IF(D124=\"\",\"\",MAX($C$30:C123)+1)","v":""}]
[null,null,{"$f":"IF(D125=\"\",\"\",MAX($C$30:C124)+1)","v":""}]
[null,null,{"$f":"IF(D126=\"\",\"\",MAX($C$30:C125)+1)","v":""}]
[null,null,{"$f":"IF(D127=\"\",\"\",MAX($C$30:C126)+1)","v":""}]
[null,null,{"$f":"IF(D128=\"\",\"\",MAX($C$30:C127)+1)","v":""}]
[null,null,{"$f":"IF(D129=\"\",\"\",MAX($C$30:C128)+1)","v":""}]

{"sheet":"CF4 TestsPhys","index":10,"n_rows":103,"n_cols":29,"rows_kept":103,"merged":[[0,0,0,6],[0,7,0,28],[1,0,2,0],[1,1,2,1],[1,2,2,2],[1,3,2,3],[1,4,2,4],[1,5,2,5],[1,6,2,6],[1,7,1,8],[1,9,1,10],[1,11,1,12],[1,13,1,14],[1,15,1,16],[1,17,1,18],[1,19,1,20],[1,21,1,22],[1,23,1,24],[1,25,1,26],[1,27,2,27],[1,28,2,28]]}
["Identifiants",{"$nulls":6},"MODULE TESTS PHYSIQUES"]
["Région","Nom du club","N° Club","Nom Prénom","Date de Naissance","Nb de mois","N° de licence","Détente horiz",null,"Sautillés",null,"Course 20m",null,"Ecart droit",null,"Ecart gauche",null,"Ecart facial",null,"Fermeture",null,"Pont",null,"Epaules",null,"Pointes de pieds",null,"Total\nPhys.\n/200","Total Phys.\n/20"]
[{"$nulls":7},"Perf.","Note\n/20","Perf.","Note\n/20","Perf.","Note\n/20","Perf.","Note\n/20","Perf.","Note\n/20","Perf.","Note\n/20","Perf.","Note\n/20","Perf.","Note\n/20","Perf","Note\n/20","Perf.","Note\n/20"]
[{"$f":"IF(D4=\"\",\"\",Accueil!$D$6)","v":""},{"$f":"IF(OR(Accueil!$D$6=\"\",C4=\"\",D4=\"\"),\"\",UPPER(LOOKUP(C4,Accueil!$C$30:$C$129,Accueil!$D$30:$D$129)))","v":""},{"$nulls":3},{"$f":"IF(OR(Accueil!$D$6=\"\",D4=\"\",E4=\"\"),\"\",DATEDIF(E4,LOOKUP(C4,Accueil!$C$30:$C$129,Accueil!$E$30:$E$129),\"m\"))","v":""},null,null,{"$f":"IF(OR(E4=\"\",H4=\"\"),\"\",VLOOKUP(H4,Détente!$A$2:$BU$157,MATCH(F4,(Détente!$B$1:$BU$1),1)+1))","v":""},null,{"$f":"IF(OR(E4=\"\",J4=\"\"),\"\",VLOOKUP(J4,Sautillers!$A$2:$BU$99,MATCH(F4,(Sautillers!$B$1:$BU$1),1)+1))","v":""},null,{"$f":"IF(OR(E4=\"\",L4=\"\"),\"\",VLOOKUP(L4,'Course 20 m'!$A$2:$BU$373,MATCH(F4,('Course 20 m'!$B$1:$BU$1),1)+1))","v":""},null,{"$f":"IF(OR(E4=\"\",N4=\"\"),\"\",VLOOKUP(N4,'Ecarts D&G'!$A$2:$BU$147,MATCH(F4,('Ecarts D&G'!$B$1:$BU$1),1)+1))","v":""},null,{"$f":"IF(OR(E4=\"\",P4=\"\"),\"\",VLOOKUP(P4,'Ecarts D&G'!$A$2:$BU$147,MATCH(F4,('Ecarts D&G'!$B$1:$BU$1),1)+1))","v":""},null,{"$f":"IF(OR(E4=\"\",R4=\"\"),\"\",VLOOKUP(R4,'Ecart facial'!$A$2:$BU$143,MATCH(F4,('Ecart facial'!$B$1:$BU$1),1)+1))","v":""},null,{"$f":"IF(OR(E4=\"\",T4=\"\"),\"\",VLOOKUP(T4,'Fermeture TJ'!$A$2:$BU$126,MATCH(F4,('Fermeture TJ'!$B$1:$BU$1),1)+1))","v":""},null,{"$f":"IF(OR(E4=\"\",V4=\"\"),\"\",VLOOKUP(V4,Pont!$A$2:$BU$188,MATCH(F4,(Pont!$B$1:$BU$1),1)+1))","v":""},null,{"$f":"IF(OR(E4=\"\",X4=\"\"),\"\",VLOOKUP(X4,Epaules!$A$2:$BU$76,MATCH(F4,(Epaules!$B$1:$BU$1),1)+1))","v":""},null,{"$f":"IF(OR(E4=\"\",Z4=\"\"),\"\",VLOOKUP(Z4,'pointe de pieds'!$A$2:$BU$110,MATCH(F4,('pointe de pieds'!$B$1:$BU$1),1)+1))","v":""},{"$f":"IF(OR(H4=\"\",J4=\"\",L4=\"\",N4=\"\",P4=\"\",R4=\"\",T4=\"\",V4=\"\",X4=\"\",Z4=\"\"),\"\",SUM(I4,K4,M4,O4,Q4,S4,U4,W4,Y4,AA4))","v":""},{"$f":"IF(OR(H4=\"\",J4=\"\",L4=\"\",N4=\"\",P4=\"\",R4=\"\",T4=\"\",V4=\"\",X4=\"\",Z4=\"\"),\"\",AVERAGE(I4,K4,M4,O4,Q4,S4,U4,W4,Y4,AA4))","v":""}]
[{"$f":"IF(D5=\"\",\"\",Accueil!$D$6)","v":""},{"$f":"IF(OR(Accueil!$D$6=\"\",C5=\"\",D5=\"\"),\"\",UPPER(LOOKUP(C5,Accueil!$C$30:$C$129,Accueil!$D$30:$D$129)))","v":""},{"$nulls":3},{"$f":"IF(OR(Accueil!$D$6=\"\",D5=\"\",E5=\"\"),\"\",DATEDIF(E5,LOOKUP(C5,Accueil!$C$30:$C$129,Accueil!$E$30:$E$129),\"m\"))","v":""},null,null,{"$f":"IF(OR(E5=\"\",H5=\"\"),\"\",VLOOKUP(H5,Détente!$A$2:$BU$157,MATCH(F5,(Détente!$B$1:$BU$1),1)+1))","v":""},null,{"$f":"IF(OR(E5=\"\",J5=\"\"),\"\",VLOOKUP(J5,Sautillers!$A$2:$BU$99,MATCH(F5,(Sautillers!$B$1:$BU$1),1)+1))","v":""},null,{"$f":"IF(OR(E5=\"\",L5=\"\"),\"\",VLOOKUP(L5,'Course 20 m'!$A$2:$BU$373,MATCH(F5,('Course 20 m'!$B$1:$BU$1),1)+1))","v":""},null,{"$f":"IF(OR(E5=\"\",N5=\"\"),\"\",VLOOKUP(N5,'Ecarts D&G'!$A$2:$BU$147,MATCH(F5,('Ecarts D&G'!$B$1:$BU$1),1)+1))","v":""},null,{"$f":"IF(OR(E5=\"\",P5=\"\"),\"\",VLOOKUP(P5,'Ecarts D&G'!$A$2:$BU$147,MATCH(F5,('Ecarts D&G'!$B$1:$BU$1),1)+1))","v":""},null,{"$f":"IF(OR(E5=\"\",R5=\"\"),\"\",VLOOKUP(R5,'Ecart facial'!$A$2:$BU$143,MATCH(F5,('Ecart facial'!$B$1:$BU$1),1)+1))","v":""},null,{"$f":"IF(OR(E5=\"\",T5=\"\"),\"\",VLOOKUP(T5,'Fermeture TJ'!$A$2:$BU$126,MATCH(F5,('Fermeture TJ'!$B$1:$BU$1),1)+1))","v":""},null,{"$f":"IF(OR(E5=\"\",V5=\"\"),\"\",VLOOKUP(V5,Pont!$A$2:$BU$188,MATCH(F5,(Pont!$B$1:$BU$1),1)+1))","v":""},null,{"$f":"IF(OR(E5=\"\",X5=\"\"),\"\",VLOOKUP(X5,Epaules!$A$2:$BU$76,MATCH(F5,(Epaules!$B$1:$BU$1),1)+1))","v":""},null,{"$f":"IF(OR(E5=\"\",Z5=\"\"),\"\",VLOOKUP(Z5,'pointe de pieds'!$A$2:$BU$110,MATCH(F5,('pointe de pieds'!$B$1:$BU$1),1)+1))","v":""},{"$f":"IF(OR(H5=\"\",J5=\"\",L5=\"\",N5=\"\",P5=\"\",R5=\"\",T5=\"\",V5=\"\",X5=\"\",Z5=\"\"),\"\",SUM(I5,K5,M5,O5,Q5,S5,U5,W5,Y5,AA5))","v":""},{"$f":"IF(OR(H5=\"\",J5=\"\",L5=\"\",N5=\"\",P5=\"\",R5=\"\",T5=\"\",V5=\"\",X5=\"\",Z5=\"\"),\"\",AVERAGE(I5,K5,M5,O5,Q5,S5,U5,W5,Y5,AA5))","v":""}]
[{"$f":"IF(D6=\"\",\"\",Accueil!$D$6)","v":""},{"$f":"IF(OR(Accueil!$D$6=\"\",C6=\"\",D6=\"\"),\"\",UPPER(LOOKUP(C6,Accueil!$C$30:$C$129,Accueil!$D$30:$D$129)))","v":""},{"$nulls":3},{"$f":"IF(OR(Accueil!$D$6=\"\",D6=\"\",E6=\"\"),\"\",DATEDIF(E6,LOOKUP(C6,Accueil!$C$30:$C$129,Accueil!$E$30:$E$129),\"m\"))","v":""},null,null,{"$f":"IF(OR(E6=\"\",H6=\"\"),\"\",VLOOKUP(H6,Détente!$A$2:$BU$157,MATCH(F6,(Détente!$B$1:$BU$1),1)+1))","v":""},null,{"$f":"IF(OR(E6=\"\",J6=\"\"),\"\",VLOOKUP(J6,Sautillers!$A$2:$BU$99,MATCH(F6,(Sautillers!$B$1:$BU$1),1)+1))","v":""},null,{"$f":"IF(OR(E6=\"\",L6=\"\"),\"\",VLOOKUP(L6,'Course 20 m'!$A$2:$BU$373,MATCH(F6,('Course 20 m'!$B$1:$BU$1),1)+1))","v":""},null,{"$f":"IF(OR(E6=\"\",N6=\"\"),\"\",VLOOKUP(N6,'Ecarts D&G'!$A$2:$BU$147,MATCH(F6,('Ecarts D&G'!$B$1:$BU$1),1)+1))","v":""},null,{"$f":"IF(OR(E6=\"\",P6=\"\"),\"\",VLOOKUP(P6,'Ecarts D&G'!$A$2:$BU$147,MATCH(F6,('Ecarts D&G'!$B$1:$BU$1),1)+1))","v":""},null,{"$f":"IF(OR(E6=\"\",R6=\"\"),\"\",VLOOKUP(R6,'Ecart facial'!$A$2:$BU$143,MATCH(F6,('Ecart facial'!$B$1:$BU$1),1)+1))","v":""},null,{"$f":"IF(OR(E6=\"\",T6=\"\"),\"\",VLOOKUP(T6,'Fermeture TJ'!$A$2:$BU$126,MATCH(F6,('Fermeture TJ'!$B$1:$BU$1),1)+1))","v":""},null,{"$f":"IF(OR(E6=\"\",V6=\"\"),\"\",VLOOKUP(V6,Pont!$A$2:$BU$188,MATCH(F6,(Pont!$B$1:$BU$1),1)+1))","v":""},null,{"$f":"IF(OR(E6=\"\",X6=\"\"),\"\",VLOOKUP(X6,Epaules!$A$2:$BU$76,MATCH(F6,(Epaules!$B$1:$BU$1),1)+1))","v":""},null,{"$f":"IF(OR(E6=\"\",Z6=\"\"),\"\",VLOOKUP(Z6,'pointe de pieds'!$A$2:$BU$110,MATCH(F6,('pointe de pieds'!$B$1:$BU$1),1)+1))","v":""},"",""]
[{"$f":"IF(D7=\"\",\"\",Accueil!$D$6)","v":""},{"$f":"IF(OR(Accueil!$D$6=\"\",C7=\"\",D7=\"\"),\"\",UPPER(LOOKUP(C7,Accueil!$C$30:$C$129,Accueil!$D$30:$D$129)))","v":""},{"$nulls":3},{"$f":"IF(OR(Accueil!$D$6=\"\",D7=\"\",E7=\"\"),\"\",DATEDIF(E7,LOOKUP(C7,Accueil!$C$30:$C$129,Accueil!$E$30:$E$129),\"m\"))","v":""},null,null,{"$f":"IF(OR(E7=\"\",H7=\"\"),\"\",VLOOKUP(H7,Détente!$A$2:$BU$157,MATCH(F7,(Détente!$B$1:$BU$1),1)+1))","v":""},null,{"$f":"IF(OR(E7=\"\",J7=\"\"),\"\",VLOOKUP(J7,Sautillers!$A$2:$BU$99,MATCH(F7,(Sautillers!$B$1:$BU$1),1)+1))","v":""},null,{"$f":"IF(OR(E7=\"\",L7=\"\"),\"\",VLOOKUP(L7,'Course 20 m'!$A$2:$BU$373,MATCH(F7,('Course 20 m'!$B$1:$BU$1),1)+1))","v":""},null,{"$f":"IF(OR(E7=\"\",N7=\"\"),\"\",VLOOKUP(N7,'Ecarts D&G'!$A$2:$BU$147,MATCH(F7,('Ecarts D&G'!$B$1:$BU$1),1)+1))","v":""},null,{"$f":"IF(OR(E7=\"\",P7=\"\"),\"\",VLOOKUP(P7,'Ecarts D&G'!$A$2:$BU$147,MATCH(F7,('Ecarts D&G'!$B$1:$BU$1),1)+1))","v":""},null,{"$f":"IF(OR(E7=\"\",R7=\"\"),\"\",VLOOKUP(R7,'Ecart facial'!$A$2:$BU$143,MATCH(F7,('Ecart facial'!$B$1:$BU$1),1)+1))","v":""},null,{"$f":"IF(OR(E7=\"\",T7=\"\"),\"\",VLOOKUP(T7,'Fermeture TJ'!$A$2:$BU$126,MATCH(F7,('Fermeture TJ'!$B$1:$BU$1),1)+1))","v":""},null,{"$f":"IF(OR(E7=\"\",V7=\"\"),\"\",VLOOKUP(V7,Pont!$A$2:$BU$188,MATCH(F7,(Pont!$B$1:$BU$1),1)+1))","v":""},null,{"$f":"IF(OR(E7=\"\",X7=\"\"),\"\",VLOOKUP(X7,Epaules!$A$2:$BU$76,MATCH(F7,(Epaules!$B$1:$BU$1),1)+1))","v":""},null,{"$f":"IF(OR(E7=\"\",Z7=\"\"),\"\",VLOOKUP(Z7,'pointe de pieds'!$A$2:$BU$110,MATCH(F7,('pointe de pieds'!$B$1:$BU$1),1)+1))","v":""},"",""]
[{"$f":"IF(D8=\"\",\"\",Accueil!$D$6)","v":""},{"$f":"IF(OR(Accueil!$D$6=\"\",C8=\"\",D8=\"\"),\"\",UPPER(LOOKUP(C8,Accueil!$C$30:$C$129,Accueil!$D$30:$D$129)))","v":""},{"$nulls":3},{"$f":"IF(OR(Accueil!$D$6=\"\",D8=\"\",E8=\"\"),\"\",DATEDIF(E8,LOOKUP(C8,Accueil!$C$30:$C$129,Accueil!$E$30:$E$129),\"m\"))","v":""},null,null,{"$f":"IF(OR(E8=\"\",H8=\"\"),\"\",VLOOKUP(H8,Détente!$A$2:$BU$157,MATCH(F8,(Détente!$B$1:$BU$1),1)+1))","v":""},null,{"$f":"IF(OR(E8=\"\",J8=\"\"),\"\",VLOOKUP(J8,Sautillers!$A$2:$BU$99,MATCH(F8,(Sautillers!$B$1:$BU$1),1)+1))","v":""},null,{"$f":"IF(OR(E8=\"\",L8=\"\"),\"\",VLOOKUP(L8,'Course 20 m'!$A$2:$BU$373,MATCH(F8,('Course 20 m'!$B$1:$BU$1),1)+1))","v":""},null,{"$f":"IF(OR(E8=\"\",N8=\"\"),\"\",VLOOKUP(N8,'Ecarts D&G'!$A$2:$BU$147,MATCH(F8,('Ecarts D&G'!$B$1:$BU$1),1)+1))","v":""},null,{"$f":"IF(OR(E8=\"\",P8=\"\"),\"\",VLOOKUP(P8,'Ecarts D&G'!$A$2:$BU$147,MATCH(F8,('Ecarts D&G'!$B$1:$BU$1),1)+1))","v":""},null,{"$f":"IF(OR(E8=\"\",R8=\"\"),\"\",VLOOKUP(R8,'Ecart facial'!$A$2:$BU$143,MATCH(F8,('Ecart facial'!$B$1:$BU$1),1)+1))","v":""},null,{"$f":"IF(OR(E8=\"\",T8=\"\"),\"\",VLOOKUP(T8,'Fermeture TJ'!$A$2:$BU$126,MATCH(F8,('Fermeture TJ'!$B$1:$BU$1),1)+1))","v":""},null,{"$f":"IF(OR(E8=\"\",V8=\"\"),\"\",VLOOKUP(V8,Pont!$A$2:$BU$188,MATCH(F8,(Pont!$B$1:$BU$1),1)+1))","v":""},null,{"$f":"IF(OR(E8=\"\",X8=\"\"),\"\",VLOOKUP(X8,Epaules!$A$2:$BU$76,MATCH(F8,(Epaules!$B$1:$BU$1),1)+1))","v":""},null,{"$f":"IF(OR(E8=\"\",Z8=\"\"),\"\",VLOOKUP(Z8,'pointe de pieds'!$A$2:$BU$110,MATCH(F8,('pointe de pieds'!$B$1:$BU$1),1)+1))","v":""},"",""]
[{"$f":"IF(D9=\"\",\"\",Accueil!$D$6)","v":""},{"$f":"IF(OR(Accueil!$D$6=\"\",C9=\"\",D9=\"\"),\"\",UPPER(LOOKUP(C9,Accueil!$C$30:$C$129,Accueil!$D$30:$D$129)))","v":""},{"$nulls":3},{"$f":"IF(OR(Accueil!$D$6=\"\",D9=\"\",E9=\"\"),\"\",DATEDIF(E9,LOOKUP(C9,Accueil!$C$30:$C$129,Accueil!$E$30:$E$129),\"m\"))","v":""},null,null,{"$f":"IF(OR(E9=\"\",H9=\"\"),\"\",VLOOKUP(H9,Détente!$A$2:$BU$157,MATCH(F9,(Détente!$B$1:$BU$1),1)+1))","v":""},null,{"$f":"IF(OR(E9=\"\",J9=\"\"),\"\",VLOOKUP(J9,Sautillers!$A$2:$BU$99,MATCH(F9,(Sautillers!$B$1:$BU$1),1)+1))","v":""},null,{"$f":"IF(OR(E9=\"\",L9=\"\"),\"\",VLOOKUP(L9,'Course 20 m'!$A$2:$BU$373,MATCH(F9,('Course 20 m'!$B$1:$BU$1),1)+1))","v":""},null,{"$f":"IF(OR(E9=\"\",N9=\"\"),\"\",VLOOKUP(N9,'Ecarts D&G'!$A$2:$BU$147,MATCH(F9,('Ecarts D&G'!$B$1:$BU$1),1)+1))","v":""},null,{"$f":"IF(OR(E9=\"\",P9=\"\"),\"\",VLOOKUP(P9,'Ecarts D&G'!$A$2:$BU$147,MATCH(F9,('Ecarts D&G'!$B$1:$BU$1),1)+1))","v":""},null,{"$f":"IF(OR(E9=\"\",R9=\"\"),\"\",VLOOKUP(R9,'Ecart facial'!$A$2:$BU$143,MATCH(F9,('Ecart facial'!$B$1:$BU$1),1)+1))","v":""},null,{"$f":"IF(OR(E9=\"\",T9=\"\"),\"\",VLOOKUP(T9,'Fermeture TJ'!$A$2:$BU$126,MATCH(F9,('Fermeture TJ'!$B$1:$BU$1),1)+1))","v":""},null,{"$f":"IF(OR(E9=\"\",V9=\"\"),\"\",VLOOKUP(V9,Pont!$A$2:$BU$188,MATCH(F9,(Pont!$B$1:$BU$1),1)+1))","v":""},null,{"$f":"IF(OR(E9=\"\",X9=\"\"),\"\",VLOOKUP(X9,Epaules!$A$2:$BU$76,MATCH(F9,(Epaules!$B$1:$BU$1),1)+1))","v":""},null,{"$f":"IF(OR(E9=\"\",Z9=\"\"),\"\",VLOOKUP(Z9,'pointe de pieds'!$A$2:$BU$110,MATCH(F9,('pointe de pieds'!$B$1:$BU$1),1)+1))","v":""},"",""]
[{"$f":"IF(D10=\"\",\"\",Accueil!$D$6)","v":""},{"$f":"IF(OR(Accueil!$D$6=\"\",C10=\"\",D10=\"\"),\"\",UPPER(LOOKUP(C10,Accueil!$C$30:$C$129,Accueil!$D$30:$D$129)))","v":""},{"$nulls":3},{"$f":"IF(OR(Accueil!$D$6=\"\",D10=\"\",E10=\"\"),\"\",DATEDIF(E10,LOOKUP(C10,Accueil!$C$30:$C$129,Accueil!$E$30:$E$129),\"m\"))","v":""},null,null,{"$f":"IF(OR(E10=\"\",H10=\"\"),\"\",VLOOKUP(H10,Détente!$A$2:$BU$157,MATCH(F10,(Détente!$B$1:$BU$1),1)+1))","v":""},null,{"$f":"IF(OR(E10=\"\",J10=\"\"),\"\",VLOOKUP(J10,Sautillers!$A$2:$BU$99,MATCH(F10,(Sautillers!$B$1:$BU$1),1)+1))","v":""},null,{"$f":"IF(OR(E10=\"\",L10=\"\"),\"\",VLOOKUP(L10,'Course 20 m'!$A$2:$BU$373,MATCH(F10,('Course 20 m'!$B$1:$BU$1),1)+1))","v":""},null,{"$f":"IF(OR(E10=\"\",N10=\"\"),\"\",VLOOKUP(N10,'Ecarts D&G'!$A$2:$BU$147,MATCH(F10,('Ecarts D&G'!$B$1:$BU$1),1)+1))","v":""},null,{"$f":"IF(OR(E10=\"\",P10=\"\"),\"\",VLOOKUP(P10,'Ecarts D&G'!$A$2:$BU$147,MATCH(F10,('Ecarts D&G'!$B$1:$BU$1),1)+1))","v":""},null,{"$f":"IF(OR(E10=\"\",R10=\"\"),\"\",VLOOKUP(R10,'Ecart facial'!$A$2:$BU$143,MATCH(F10,('Ecart facial'!$B$1:$BU$1),1)+1))","v":""},null,{"$f":"IF(OR(E10=\"\",T10=\"\"),\"\",VLOOKUP(T10,'Fermeture TJ'!$A$2:$BU$126,MATCH(F10,('Fermeture TJ'!$B$1:$BU$1),1)+1))","v":""},null,{"$f":"IF(OR(E10=\"\",V10=\"\"),\"\",VLOOKUP(V10,Pont!$A$2:$BU$188,MATCH(F10,(Pont!$B$1:$BU$1),1)+1))","v":""},null,{"$f":"IF(OR(E10=\"\",X10=\"\"),\"\",VLOOKUP(X10,Epaules!$A$2:$BU$76,MATCH(F10,(Epaules!$B$1:$BU$1),1)+1))","v":""},null,{"$f":"IF(OR(E10=\"\",Z10=\"\"),\"\",VLOOKUP(Z10,'pointe de pieds'!$A$2:$BU$110,MATCH(F10,('pointe de pieds'!$B$1:$BU$1),1)+1))","v":""},"",""]
[{"$f":"IF(D11=\"\",\"\",Accueil!$D$6)","v":""},{"$f":"IF(OR(Accueil!$D$6=\"\",C11=\"\",D11=\"\"),\"\",UPPER(LOOKUP(C11,Accueil!$C$30:$C$129,Accueil!$D$30:$D$129)))","v":""},{"$nulls":3},{"$f":"IF(OR(Accueil!$D$6=\"\",D11=\"\",E11=\"\"),\"\",DATEDIF(E11,LOOKUP(C11,Accueil!$C$30:$C$129,Accueil!$E$30:$E$129),\"m\"))","v":""},null,null,{"$f":"IF(OR(E11=\"\",H11=\"\"),\"\",VLOOKUP(H11,Détente!$A$2:$BU$157,MATCH(F11,(Détente!$B$1:$BU$1),1)+1))","v":""},null,{"$f":"IF(OR(E11=\"\",J11=\"\"),\"\",VLOOKUP(J11,Sautillers!$A$2:$BU$99,MATCH(F11,(Sautillers!$B$1:$BU$1),1)+1))","v":""},null,{"$f":"IF(OR(E11=\"\",L11=\"\"),\"\",VLOOKUP(L11,'Course 20 m'!$A$2:$BU$373,MATCH(F11,('Course 20 m'!$B$1:$BU$1),1)+1))","v":""},null,{"$f":"IF(OR(E11=\"\",N11=\"\"),\"\",VLOOKUP(N11,'Ecarts D&G'!$A$2:$BU$147,MATCH(F11,('Ecarts D&G'!$B$1:$BU$1),1)+1))","v":""},null,{"$f":"IF(OR(E11=\"\",P11=\"\"),\"\",VLOOKUP(P11,'Ecarts D&G'!$A$2:$BU$147,MATCH(F11,('Ecarts D&G'!$B$1:$BU$1),1)+1))","v":""},null,{"$f":"IF(OR(E11=\"\",R11=\"\"),\"\",VLOOKUP(R11,'Ecart facial'!$A$2:$BU$143,MATCH(F11,('Ecart facial'!$B$1:$BU$1),1)+1))","v":""},null,{"$f":"IF(OR(E11=\"\",T11=\"\"),\"\",VLOOKUP(T11,'Fermeture TJ'!$A$2:$BU$126,MATCH(F11,('Fermeture TJ'!$B$1:$BU$1),1)+1))","v":""},null,{"$f":"IF(OR(E11=\"\",V11=\"\"),\"\",VLOOKUP(V11,Pont!$A$2:$BU$188,MATCH(F11,(Pont!$B$1:$BU$1),1)+1))","v":""},null,{"$f":"IF(OR(E11=\"\",X11=\"\"),\"\",VLOOKUP(X11,Epaules!$A$2:$BU$76,MATCH(F11,(Epaules!$B$1:$BU$1),1)+1))","v":""},null,{"$f":"IF(OR(E11=\"\",Z11=\"\"),\"\",VLOOKUP(Z11,'pointe de pieds'!$A$2:$BU$110,MATCH(F11,('pointe de pieds'!$B$1:$BU$1),1)+1))","v":""},"",""]
[{"$f":"IF(D12=\"\",\"\",Accueil!$D$6)","v":""},{"$f":"IF(OR(Accueil!$D$6=\"\",C12=\"\",D12=\"\"),\"\",UPPER(LOOKUP(C12,Accueil!$C$30:$C$129,Accueil!$D$30:$D$129)))","v":""},{"$nulls":3},{"$f":"IF(OR(Accueil!$D$6=\"\",D12=\"\",E12=\"\"),\"\",DATEDIF(E12,LOOKUP(C12,Accueil!$C$30:$C$129,Accueil!$E$30:$E$129),\"m\"))","v":""},null,null,{"$f":"IF(OR(E12=\"\",H12=\"\"),\"\",VLOOKUP(H12,Détente!$A$2:$BU$157,MATCH(F12,(Détente!$B$1:$BU$1),1)+1))","v":""},null,{"$f":"IF(OR(E12=\"\",J12=\"\"),\"\",VLOOKUP(J12,Sautillers!$A$2:$BU$99,MATCH(F12,(Sautillers!$B$1:$BU$1),1)+1))","v":""},null,{"$f":"IF(OR(E12=\"\",L12=\"\"),\"\",VLOOKUP(L12,'Course 20 m'!$A$2:$BU$373,MATCH(F12,('Course 20 m'!$B$1:$BU$1),1)+1))","v":""},null,{"$f":"IF(OR(E12=\"\",N12=\"\"),\"\",VLOOKUP(N12,'Ecarts D&G'!$A$2:$BU$147,MATCH(F12,('Ecarts D&G'!$B$1:$BU$1),1)+1))","v":""},null,{"$f":"IF(OR(E12=\"\",P12=\"\"),\"\",VLOOKUP(P12,'Ecarts D&G'!$A$2:$BU$147,MATCH(F12,('Ecarts D&G'!$B$1:$BU$1),1)+1))","v":""},null,{"$f":"IF(OR(E12=\"\",R12=\"\"),\"\",VLOOKUP(R12,'Ecart facial'!$A$2:$BU$143,MATCH(F12,('Ecart facial'!$B$1:$BU$1),1)+1))","v":""},null,{"$f":"IF(OR(E12=\"\",T12=\"\"),\"\",VLOOKUP(T12,'Fermeture TJ'!$A$2:$BU$126,MATCH(F12,('Fermeture TJ'!$B$1:$BU$1),1)+1))","v":""},null,{"$f":"IF(OR(E12=\"\",V12=\"\"),\"\",VLOOKUP(V12,Pont!$A$2:$BU$188,MATCH(F12,(Pont!$B$1:$BU$1),1)+1))","v":""},null,{"$f":"IF(OR(E12=\"\",X12=\"\"),\"\",VLOOKUP(X12,Epaules!$A$2:$BU$76,MATCH(F12,(Epaules!$B$1:$BU$1),1)+1))","v":""},null,{"$f":"IF(OR(E12=\"\",Z12=\"\"),\"\",VLOOKUP(Z12,'pointe de pieds'!$A$2:$BU$110,MATCH(F12,('pointe de pieds'!$B$1:$BU$1),1)+1))","v":""},"",""]
[{"$f":"IF(D13=\"\",\"\",Accueil!$D$6)","v":""},{"$f":"IF(OR(Accueil!$D$6=\"\",C13=\"\",D13=\"\"),\"\",UPPER(LOOKUP(C13,Accueil!$C$30:$C$129,Accueil!$D$30:$D$129)))","v":""},{"$nulls":3},{"$f":"IF(OR(Accueil!$D$6=\"\",D13=\"\",E13=\"\"),\"\",DATEDIF(E13,LOOKUP(C13,Accueil!$C$30:$C$129,Accueil!$E$30:$E$129),\"m\"))","v":""},null,null,{"$f":"IF(OR(E13=\"\",H13=\"\"),\"\",VLOOKUP(H13,Détente!$A$2:$BU$157,MATCH(F13,(Détente!$B$1:$BU$1),1)+1))","v":""},null,{"$f":"IF(OR(E13=\"\",J13=\"\"),\"\",VLOOKUP(J13,Sautillers!$A$2:$BU$99,MATCH(F13,(Sautillers!$B$1:$BU$1),1)+1))","v":""},null,{"$f":"IF(OR(E13=\"\",L13=\"\"),\"\",VLOOKUP(L13,'Course 20 m'!$A$2:$BU$373,MATCH(F13,('Course 20 m'!$B$1:$BU$1),1)+1))","v":""},null,{"$f":"IF(OR(E13=\"\",N13=\"\"),\"\",VLOOKUP(N13,'Ecarts D&G'!$A$2:$BU$147,MATCH(F13,('Ecarts D&G'!$B$1:$BU$1),1)+1))","v":""},null,{"$f":"IF(OR(E13=\"\",P13=\"\"),\"\",VLOOKUP(P13,'Ecarts D&G'!$A$2:$BU$147,MATCH(F13,('Ecarts D&G'!$B$1:$BU$1),1)+1))","v":""},null,{"$f":"IF(OR(E13=\"\",R13=\"\"),\"\",VLOOKUP(R13,'Ecart facial'!$A$2:$BU$143,MATCH(F13,('Ecart facial'!$B$1:$BU$1),1)+1))","v":""},null,{"$f":"IF(OR(E13=\"\",T13=\"\"),\"\",VLOOKUP(T13,'Fermeture TJ'!$A$2:$BU$126,MATCH(F13,('Fermeture TJ'!$B$1:$BU$1),1)+1))","v":""},null,{"$f":"IF(OR(E13=\"\",V13=\"\"),\"\",VLOOKUP(V13,Pont!$A$2:$BU$188,MATCH(F13,(Pont!$B$1:$BU$1),1)+1))","v":""},null,{"$f":"IF(OR(E13=\"\",X13=\"\"),\"\",VLOOKUP(X13,Epaules!$A$2:$BU$76,MATCH(F13,(Epaules!$B$1:$BU$1),1)+1))","v":""},null,{"$f":"IF(OR(E13=\"\",Z13=\"\"),\"\",VLOOKUP(Z13,'pointe de pieds'!$A$2:$BU$110,MATCH(F13,('pointe de pieds'!$B$1:$BU$1),1)+1))","v":""},"",""]
[{"$f":"IF(D14=\"\",\"\",Accueil!$D$6)","v":""},{"$f":"IF(OR(Accueil!$D$6=\"\",C14=\"\",D14=\"\"),\"\",UPPER(LOOKUP(C14,Accueil!$C$30:$C$129,Accueil!$D$30:$D$129)))","v":""},{"$nulls":3},{"$f":"IF(OR(Accueil!$D$6=\"\",D14=\"\",E14=\"\"),\"\",DATEDIF(E14,LOOKUP(C14,Accueil!$C$30:$C$129,Accueil!$E$30:$E$129),\"m\"))","v":""},null,null,{"$f":"IF(OR(E14=\"\",H14=\"\"),\"\",VLOOKUP(H14,Détente!$A$2:$BU$157,MATCH(F14,(Détente!$B$1:$BU$1),1)+1))","v":""},null,{"$f":"IF(OR(E14=\"\",J14=\"\"),\"\",VLOOKUP(J14,Sautillers!$A$2:$BU$99,MATCH(F14,(Sautillers!$B$1:$BU$1),1)+1))","v":""},null,{"$f":"IF(OR(E14=\"\",L14=\"\"),\"\",VLOOKUP(L14,'Course 20 m'!$A$2:$BU$373,MATCH(F14,('Course 20 m'!$B$1:$BU$1),1)+1))","v":""},null,{"$f":"IF(OR(E14=\"\",N14=\"\"),\"\",VLOOKUP(N14,'Ecarts D&G'!$A$2:$BU$147,MATCH(F14,('Ecarts D&G'!$B$1:$BU$1),1)+1))","v":""},null,{"$f":"IF(OR(E14=\"\",P14=\"\"),\"\",VLOOKUP(P14,'Ecarts D&G'!$A$2:$BU$147,MATCH(F14,('Ecarts D&G'!$B$1:$BU$1),1)+1))","v":""},null,{"$f":"IF(OR(E14=\"\",R14=\"\"),\"\",VLOOKUP(R14,'Ecart facial'!$A$2:$BU$143,MATCH(F14,('Ecart facial'!$B$1:$BU$1),1)+1))","v":""},null,{"$f":"IF(OR(E14=\"\",T14=\"\"),\"\",VLOOKUP(T14,'Fermeture TJ'!$A$2:$BU$126,MATCH(F14,('Fermeture TJ'!$B$1:$BU$1),1)+1))","v":""},null,{"$f":"IF(OR(E14=\"\",V14=\"\"),\"\",VLOOKUP(V14,Pont!$A$2:$BU$188,MATCH(F14,(Pont!$B$1:$BU$1),1)+1))","v":""},null,{"$f":"IF(OR(E14=\"\",X14=\"\"),\"\",VLOOKUP(X14,Epaules!$A$2:$BU$76,MATCH(F14,(Epaules!$B$1:$BU$1),1)+1))","v":""},null,{"$f":"IF(OR(E14=\"\",Z14=\"\"),\"\",VLOOKUP(Z14,'pointe de pieds'!$A$2:$BU$110,MATCH(F14,('pointe de pieds'!$B$1:$BU$1),1)+1))","v":""},"",""]
[{"$f":"IF(D15=\"\",\"\",Accueil!$D$6)","v":""},{"$f":"IF(OR(Accueil!$D$6=\"\",C15=\"\",D15=\"\"),\"\",UPPER(LOOKUP(C15,Accueil!$C$30:$C$129,Accueil!$D$30:$D$129)))","v":""},{"$nulls":3},{"$f":"IF(OR(Accueil!$D$6=\"\",D15=\"\",E15=\"\"),\"\",DATEDIF(E15,LOOKUP(C15,Accueil!$C$30:$C$129,Accueil!$E$30:$E$129),\"m\"))","v":""},null,null,{"$f":"IF(OR(E15=\"\",H15=\"\"),\"\",VLOOKUP(H15,Détente!$A$2:$BU$157,MATCH(F15,(Détente!$B$1:$BU$1),1)+1))","v":""},null,{"$f":"IF(OR(E15=\"\",J15=\"\"),\"\",VLOOKUP(J15,Sautillers!$A$2:$BU$99,MATCH(F15,(Sautillers!$B$1:$BU$1),1)+1))","v":""},null,{"$f":"IF(OR(E15=\"\",L15=\"\"),\"\",VLOOKUP(L15,'Course 20 m'!$A$2:$BU$373,MATCH(F15,('Course 20 m'!$B$1:$BU$1),1)+1))","v":""},null,{"$f":"IF(OR(E15=\"\",N15=\"\"),\"\",VLOOKUP(N15,'Ecarts D&G'!$A$2:$BU$147,MATCH(F15,('Ecarts D&G'!$B$1:$BU$1),1)+1))","v":""},null,{"$f":"IF(OR(E15=\"\",P15=\"\"),\"\",VLOOKUP(P15,'Ecarts D&G'!$A$2:$BU$147,MATCH(F15,('Ecarts D&G'!$B$1:$BU$1),1)+1))","v":""},null,{"$f":"IF(OR(E15=\"\",R15=\"\"),\"\",VLOOKUP(R15,'Ecart facial'!$A$2:$BU$143,MATCH(F15,('Ecart facial'!$B$1:$BU$1),1)+1))","v":""},null,{"$f":"IF(OR(E15=\"\",T15=\"\"),\"\",VLOOKUP(T15,'Fermeture TJ'!$A$2:$BU$126,MATCH(F15,('Fermeture TJ'!$B$1:$BU$1),1)+1))","v":""},null,{"$f":"IF(OR(E15=\"\",V15=\"\"),\"\",VLOOKUP(V15,Pont!$A$2:$BU$188,MATCH(F15,(Pont!$B$1:$BU$1),1)+1))","v":""},null,{"$f":"IF(OR(E15=\"\",X15=\"\"),\"\",VLOOKUP(X15,Epaules!$A$2:$BU$76,MATCH(F15,(Epaules!$B$1:$BU$1),1)+1))","v":""},null,{"$f":"IF(OR(E15=\"\",Z15=\"\"),\"\",VLOOKUP(Z15,'pointe de pieds'!$A$2:$BU$110,MATCH(F15,('pointe de pieds'!$B$1:$BU$1),1)+1))","v":""},"",""]
[{"$f":"IF(D16=\"\",\"\",Accueil!$D$6)","v":""},{"$f":"IF(OR(Accueil!$D$6=\"\",C16=\"\",D16=\"\"),\"\",UPPER(LOOKUP(C16,Accueil!$C$30:$C$129,Accueil!$D$30:$D$129)))","v":""},{"$nulls":3},{"$f":"IF(OR(Accueil!$D$6=\"\",D16=\"\",E16=\"\"),\"\",DATEDIF(E16,LOOKUP(C16,Accueil!$C$30:$C$129,Accueil!$E$30:$E$129),\"m\"))","v":""},null,null,{"$f":"IF(OR(E16=\"\",H16=\"\"),\"\",VLOOKUP(H16,Détente!$A$2:$BU$157,MATCH(F16,(Détente!$B$1:$BU$1),1)+1))","v":""},null,{"$f":"IF(OR(E16=\"\",J16=\"\"),\"\",VLOOKUP(J16,Sautillers!$A$2:$BU$99,MATCH(F16,(Sautillers!$B$1:$BU$1),1)+1))","v":""},null,{"$f":"IF(OR(E16=\"\",L16=\"\"),\"\",VLOOKUP(L16,'Course 20 m'!$A$2:$BU$373,MATCH(F16,('Course 20 m'!$B$1:$BU$1),1)+1))","v":""},null,{"$f":"IF(OR(E16=\"\",N16=\"\"),\"\",VLOOKUP(N16,'Ecarts D&G'!$A$2:$BU$147,MATCH(F16,('Ecarts D&G'!$B$1:$BU$1),1)+1))","v":""},null,{"$f":"IF(OR(E16=\"\",P16=\"\"),\"\",VLOOKUP(P16,'Ecarts D&G'!$A$2:$BU$147,MATCH(F16,('Ecarts D&G'!$B$1:$BU$1),1)+1))","v":""},null,{"$f":"IF(OR(E16=\"\",R16=\"\"),\"\",VLOOKUP(R16,'Ecart facial'!$A$2:$BU$143,MATCH(F16,('Ecart facial'!$B$1:$BU$1),1)+1))","v":""},null,{"$f":"IF(OR(E16=\"\",T16=\"\"),\"\",VLOOKUP(T16,'Fermeture TJ'!$A$2:$BU$126,MATCH(F16,('Fermeture TJ'!$B$1:$BU$1),1)+1))","v":""},null,{"$f":"IF(OR(E16=\"\",V16=\"\"),\"\",VLOOKUP(V16,Pont!$A$2:$BU$188,MATCH(F16,(Pont!$B$1:$BU$1),1)+1))","v":""},null,{"$f":"IF(OR(E16=\"\",X16=\"\"),\"\",VLOOKUP(X16,Epaules!$A$2:$BU$76,MATCH(F16,(Epaules!$B$1:$BU$1),1)+1))","v":""},null,{"$f":"IF(OR(E16=\"\",Z16=\"\"),\"\",VLOOKUP(Z16,'pointe de pieds'!$A$2:$BU$110,MATCH(F16,('pointe de pieds'!$B$1:$BU$1),1)+1))","v":""},"",""]
[{"$f":"IF(D17=\"\",\"\",Accueil!$D$6)","v":""},{"$f":"IF(OR(Accueil!$D$6=\"\",C17=\"\",D17=\"\"),\"\",UPPER(LOOKUP(C17,Accueil!$C$30:$C$129,Accueil!$D$30:$D$129)))","v":""},{"$nulls":3},{"$f":"IF(OR(Accueil!$D$6=\"\",D17=\"\",E17=\"\"),\"\",DATEDIF(E17,LOOKUP(C17,Accueil!$C$30:$C$129,Accueil!$E$30:$E$129),\"m\"))","v":""},null,null,{"$f":"IF(OR(E17=\"\",H17=\"\"),\"\",VLOOKUP(H17,Détente!$A$2:$BU$157,MATCH(F17,(Détente!$B$1:$BU$1),1)+1))","v":""},null,{"$f":"IF(OR(E17=\"\",J17=\"\"),\"\",VLOOKUP(J17,Sautillers!$A$2:$BU$99,MATCH(F17,(Sautillers!$B$1:$BU$1),1)+1))","v":""},null,{"$f":"IF(OR(E17=\"\",L17=\"\"),\"\",VLOOKUP(L17,'Course 20 m'!$A$2:$BU$373,MATCH(F17,('Course 20 m'!$B$1:$BU$1),1)+1))","v":""},null,{"$f":"IF(OR(E17=\"\",N17=\"\"),\"\",VLOOKUP(N17,'Ecarts D&G'!$A$2:$BU$147,MATCH(F17,('Ecarts D&G'!$B$1:$BU$1),1)+1))","v":""},null,{"$f":"IF(OR(E17=\"\",P17=\"\"),\"\",VLOOKUP(P17,'Ecarts D&G'!$A$2:$BU$147,MATCH(F17,('Ecarts D&G'!$B$1:$BU$1),1)+1))","v":""},null,{"$f":"IF(OR(E17=\"\",R17=\"\"),\"\",VLOOKUP(R17,'Ecart facial'!$A$2:$BU$143,MATCH(F17,('Ecart facial'!$B$1:$BU$1),1)+1))","v":""},null,{"$f":"IF(OR(E17=\"\",T17=\"\"),\"\",VLOOKUP(T17,'Fermeture TJ'!$A$2:$BU$126,MATCH(F17,('Fermeture TJ'!$B$1:$BU$1),1)+1))","v":""},null,{"$f":"IF(OR(E17=\"\",V17=\"\"),\"\",VLOOKUP(V17,Pont!$A$2:$BU$188,MATCH(F17,(Pont!$B$1:$BU$1),1)+1))","v":""},null,{"$f":"IF(OR(E17=\"\",X17=\"\"),\"\",VLOOKUP(X17,Epaules!$A$2:$BU$76,MATCH(F17,(Epaules!$B$1:$BU$1),1)+1))","v":""},null,{"$f":"IF(OR(E17=\"\",Z17=\"\"),\"\",VLOOKUP(Z17,'pointe de pieds'!$A$2:$BU$110,MATCH(F17,('pointe de pieds'!$B$1:$BU$1),1)+1))","v":""},"",""]
[{"$f":"IF(D18=\"\",\"\",Accueil!$D$6)","v":""},{"$f":"IF(OR(Accueil!$D$6=\"\",C18=\"\",D18=\"\"),\"\",UPPER(LOOKUP(C18,Accueil!$C$30:$C$129,Accueil!$D$30:$D$129)))","v":""},{"$nulls":3},{"$f":"IF(OR(Accueil!$D$6=\"\",D18=\"\",E18=\"\"),\"\",DATEDIF(E18,LOOKUP(C18,Accueil!$C$30:$C$129,Accueil!$E$30:$E$129),\"m\"))","v":""},null,null,{"$f":"IF(OR(E18=\"\",H18=\"\"),\"\",VLOOKUP(H18,Détente!$A$2:$BU$157,MATCH(F18,(Détente!$B$1:$BU$1),1)+1))","v":""},null,{"$f":"IF(OR(E18=\"\",J18=\"\"),\"\",VLOOKUP(J18,Sautillers!$A$2:$BU$99,MATCH(F18,(Sautillers!$B$1:$BU$1),1)+1))","v":""},null,{"$f":"IF(OR(E18=\"\",L18=\"\"),\"\",VLOOKUP(L18,'Course 20 m'!$A$2:$BU$373,MATCH(F18,('Course 20 m'!$B$1:$BU$1),1)+1))","v":""},null,{"$f":"IF(OR(E18=\"\",N18=\"\"),\"\",VLOOKUP(N18,'Ecarts D&G'!$A$2:$BU$147,MATCH(F18,('Ecarts D&G'!$B$1:$BU$1),1)+1))","v":""},null,{"$f":"IF(OR(E18=\"\",P18=\"\"),\"\",VLOOKUP(P18,'Ecarts D&G'!$A$2:$BU$147,MATCH(F18,('Ecarts D&G'!$B$1:$BU$1),1)+1))","v":""},null,{"$f":"IF(OR(E18=\"\",R18=\"\"),\"\",VLOOKUP(R18,'Ecart facial'!$A$2:$BU$143,MATCH(F18,('Ecart facial'!$B$1:$BU$1),1)+1))","v":""},null,{"$f":"IF(OR(E18=\"\",T18=\"\"),\"\",VLOOKUP(T18,'Fermeture TJ'!$A$2:$BU$126,MATCH(F18,('Fermeture TJ'!$B$1:$BU$1),1)+1))","v":""},null,{"$f":"IF(OR(E18=\"\",V18=\"\"),\"\",VLOOKUP(V18,Pont!$A$2:$BU$188,MATCH(F18,(Pont!$B$1:$BU$1),1)+1))","v":""},null,{"$f":"IF(OR(E18=\"\",X18=\"\"),\"\",VLOOKUP(X18,Epaules!$A$2:$BU$76,MATCH(F18,(Epaules!$B$1:$BU$1),1)+1))","v":""},null,{"$f":"IF(OR(E18=\"\",Z18=\"\"),\"\",VLOOKUP(Z18,'pointe de pieds'!$A$2:$BU$110,MATCH(F18,('pointe de pieds'!$B$1:$BU$1),1)+1))","v":""},"",""]
[{"$f":"IF(D19=\"\",\"\",Accueil!$D$6)","v":""},{"$f":"IF(OR(Accueil!$D$6=\"\",C19=\"\",D19=\"\"),\"\",UPPER(LOOKUP(C19,Accueil!$C$30:$C$129,Accueil!$D$30:$D$129)))","v":""},{"$nulls":3},{"$f":"IF(OR(Accueil!$D$6=\"\",D19=\"\",E19=\"\"),\"\",DATEDIF(E19,LOOKUP(C19,Accueil!$C$30:$C$129,Accueil!$E$30:$E$129),\"m\"))","v":""},null,null,{"$f":"IF(OR(E19=\"\",H19=\"\"),\"\",VLOOKUP(H19,Détente!$A$2:$BU$157,MATCH(F19,(Détente!$B$1:$BU$1),1)+1))","v":""},null,{"$f":"IF(OR(E19=\"\",J19=\"\"),\"\",VLOOKUP(J19,Sautillers!$A$2:$BU$99,MATCH(F19,(Sautillers!$B$1:$BU$1),1)+1))","v":""},null,{"$f":"IF(OR(E19=\"\",L19=\"\"),\"\",VLOOKUP(L19,'Course 20 m'!$A$2:$BU$373,MATCH(F19,('Course 20 m'!$B$1:$BU$1),1)+1))","v":""},null,{"$f":"IF(OR(E19=\"\",N19=\"\"),\"\",VLOOKUP(N19,'Ecarts D&G'!$A$2:$BU$147,MATCH(F19,('Ecarts D&G'!$B$1:$BU$1),1)+1))","v":""},null,{"$f":"IF(OR(E19=\"\",P19=\"\"),\"\",VLOOKUP(P19,'Ecarts D&G'!$A$2:$BU$147,MATCH(F19,('Ecarts D&G'!$B$1:$BU$1),1)+1))","v":""},null,{"$f":"IF(OR(E19=\"\",R19=\"\"),\"\",VLOOKUP(R19,'Ecart facial'!$A$2:$BU$143,MATCH(F19,('Ecart facial'!$B$1:$BU$1),1)+1))","v":""},null,{"$f":"IF(OR(E19=\"\",T19=\"\"),\"\",VLOOKUP(T19,'Fermeture TJ'!$A$2:$BU$126,MATCH(F19,('Fermeture TJ'!$B$1:$BU$1),1)+1))","v":""},null,{"$f":"IF(OR(E19=\"\",V19=\"\"),\"\",VLOOKUP(V19,Pont!$A$2:$BU$188,MATCH(F19,(Pont!$B$1:$BU$1),1)+1))","v":""},null,{"$f":"IF(OR(E19=\"\",X19=\"\"),\"\",VLOOKUP(X19,Epaules!$A$2:$BU$76,MATCH(F19,(Epaules!$B$1:$BU$1),1)+1))","v":""},null,{"$f":"IF(OR(E19=\"\",Z19=\"\"),\"\",VLOOKUP(Z19,'pointe de pieds'!$A$2:$BU$110,MATCH(F19,('pointe de pieds'!$B$1:$BU$1),1)+1))","v":""},"",""]
[{"$f":"IF(D20=\"\",\"\",Accueil!$D$6)","v":""},{"$f":"IF(OR(Accueil!$D$6=\"\",C20=\"\",D20=\"\"),\"\",UPPER(LOOKUP(C20,Accueil!$C$30:$C$129,Accueil!$D$30:$D$129)))","v":""},{"$nulls":3},{"$f":"IF(OR(Accueil!$D$6=\"\",D20=\"\",E20=\"\"),\"\",DATEDIF(E20,LOOKUP(C20,Accueil!$C$30:$C$129,Accueil!$E$30:$E$129),\"m\"))","v":""},null,null,{"$f":"IF(OR(E20=\"\",H20=\"\"),\"\",VLOOKUP(H20,Détente!$A$2:$BU$157,MATCH(F20,(Détente!$B$1:$BU$1),1)+1))","v":""},null,{"$f":"IF(OR(E20=\"\",J20=\"\"),\"\",VLOOKUP(J20,Sautillers!$A$2:$BU$99,MATCH(F20,(Sautillers!$B$1:$BU$1),1)+1))","v":""},null,{"$f":"IF(OR(E20=\"\",L20=\"\"),\"\",VLOOKUP(L20,'Course 20 m'!$A$2:$BU$373,MATCH(F20,('Course 20 m'!$B$1:$BU$1),1)+1))","v":""},null,{"$f":"IF(OR(E20=\"\",N20=\"\"),\"\",VLOOKUP(N20,'Ecarts D&G'!$A$2:$BU$147,MATCH(F20,('Ecarts D&G'!$B$1:$BU$1),1)+1))","v":""},null,{"$f":"IF(OR(E20=\"\",P20=\"\"),\"\",VLOOKUP(P20,'Ecarts D&G'!$A$2:$BU$147,MATCH(F20,('Ecarts D&G'!$B$1:$BU$1),1)+1))","v":""},null,{"$f":"IF(OR(E20=\"\",R20=\"\"),\"\",VLOOKUP(R20,'Ecart facial'!$A$2:$BU$143,MATCH(F20,('Ecart facial'!$B$1:$BU$1),1)+1))","v":""},null,{"$f":"IF(OR(E20=\"\",T20=\"\"),\"\",VLOOKUP(T20,'Fermeture TJ'!$A$2:$BU$126,MATCH(F20,('Fermeture TJ'!$B$1:$BU$1),1)+1))","v":""},null,{"$f":"IF(OR(E20=\"\",V20=\"\"),\"\",VLOOKUP(V20,Pont!$A$2:$BU$188,MATCH(F20,(Pont!$B$1:$BU$1),1)+1))","v":""},null,{"$f":"IF(OR(E20=\"\",X20=\"\"),\"\",VLOOKUP(X20,Epaules!$A$2:$BU$76,MATCH(F20,(Epaules!$B$1:$BU$1),1)+1))","v":""},null,{"$f":"IF(OR(E20=\"\",Z20=\"\"),\"\",VLOOKUP(Z20,'pointe de pieds'!$A$2:$BU$110,MATCH(F20,('pointe de pieds'!$B$1:$BU$1),1)+1))","v":""},"",""]
[{"$f":"IF(D21=\"\",\"\",Accueil!$D$6)","v":""},{"$f":"IF(OR(Accueil!$D$6=\"\",C21=\"\",D21=\"\"),\"\",UPPER(LOOKUP(C21,Accueil!$C$30:$C$129,Accueil!$D$30:$D$129)))","v":""},{"$nulls":3},{"$f":"IF(OR(Accueil!$D$6=\"\",D21=\"\",E21=\"\"),\"\",DATEDIF(E21,LOOKUP(C21,Accueil!$C$30:$C$129,Accueil!$E$30:$E$129),\"m\"))","v":""},null,null,{"$f":"IF(OR(E21=\"\",H21=\"\"),\"\",VLOOKUP(H21,Détente!$A$2:$BU$157,MATCH(F21,(Détente!$B$1:$BU$1),1)+1))","v":""},null,{"$f":"IF(OR(E21=\"\",J21=\"\"),\"\",VLOOKUP(J21,Sautillers!$A$2:$BU$99,MATCH(F21,(Sautillers!$B$1:$BU$1),1)+1))","v":""},null,{"$f":"IF(OR(E21=\"\",L21=\"\"),\"\",VLOOKUP(L21,'Course 20 m'!$A$2:$BU$373,MATCH(F21,('Course 20 m'!$B$1:$BU$1),1)+1))","v":""},null,{"$f":"IF(OR(E21=\"\",N21=\"\"),\"\",VLOOKUP(N21,'Ecarts D&G'!$A$2:$BU$147,MATCH(F21,('Ecarts D&G'!$B$1:$BU$1),1)+1))","v":""},null,{"$f":"IF(OR(E21=\"\",P21=\"\"),\"\",VLOOKUP(P21,'Ecarts D&G'!$A$2:$BU$147,MATCH(F21,('Ecarts D&G'!$B$1:$BU$1),1)+1))","v":""},null,{"$f":"IF(OR(E21=\"\",R21=\"\"),\"\",VLOOKUP(R21,'Ecart facial'!$A$2:$BU$143,MATCH(F21,('Ecart facial'!$B$1:$BU$1),1)+1))","v":""},null,{"$f":"IF(OR(E21=\"\",T21=\"\"),\"\",VLOOKUP(T21,'Fermeture TJ'!$A$2:$BU$126,MATCH(F21,('Fermeture TJ'!$B$1:$BU$1),1)+1))","v":""},null,{"$f":"IF(OR(E21=\"\",V21=\"\"),\"\",VLOOKUP(V21,Pont!$A$2:$BU$188,MATCH(F21,(Pont!$B$1:$BU$1),1)+1))","v":""},null,{"$f":"IF(OR(E21=\"\",X21=\"\"),\"\",VLOOKUP(X21,Epaules!$A$2:$BU$76,MATCH(F21,(Epaules!$B$1:$BU$1),1)+1))","v":""},null,{"$f":"IF(OR(E21=\"\",Z21=\"\"),\"\",VLOOKUP(Z21,'pointe de pieds'!$A$2:$BU$110,MATCH(F21,('pointe de pieds'!$B$1:$BU$1),1)+1))","v":""},"",""]
[{"$f":"IF(D22=\"\",\"\",Accueil!$D$6)","v":""},{"$f":"IF(OR(Accueil!$D$6=\"\",C22=\"\",D22=\"\"),\"\",UPPER(LOOKUP(C22,Accueil!$C$30:$C$129,Accueil!$D$30:$D$129)))","v":""},{"$nulls":3},{"$f":"IF(OR(Accueil!$D$6=\"\",D22=\"\",E22=\"\"),\"\",DATEDIF(E22,LOOKUP(C22,Accueil!$C$30:$C$129,Accueil!$E$30:$E$129),\"m\"))","v":""},null,null,{"$f":"IF(OR(E22=\"\",H22=\"\"),\"\",VLOOKUP(H22,Détente!$A$2:$BU$157,MATCH(F22,(Détente!$B$1:$BU$1),1)+1))","v":""},null,{"$f":"IF(OR(E22=\"\",J22=\"\"),\"\",VLOOKUP(J22,Sautillers!$A$2:$BU$99,MATCH(F22,(Sautillers!$B$1:$BU$1),1)+1))","v":""},null,{"$f":"IF(OR(E22=\"\",L22=\"\"),\"\",VLOOKUP(L22,'Course 20 m'!$A$2:$BU$373,MATCH(F22,('Course 20 m'!$B$1:$BU$1),1)+1))","v":""},null,{"$f":"IF(OR(E22=\"\",N22=\"\"),\"\",VLOOKUP(N22,'Ecarts D&G'!$A$2:$BU$147,MATCH(F22,('Ecarts D&G'!$B$1:$BU$1),1)+1))","v":""},null,{"$f":"IF(OR(E22=\"\",P22=\"\"),\"\",VLOOKUP(P22,'Ecarts D&G'!$A$2:$BU$147,MATCH(F22,('Ecarts D&G'!$B$1:$BU$1),1)+1))","v":""},null,{"$f":"IF(OR(E22=\"\",R22=\"\"),\"\",VLOOKUP(R22,'Ecart facial'!$A$2:$BU$143,MATCH(F22,('Ecart facial'!$B$1:$BU$1),1)+1))","v":""},null,{"$f":"IF(OR(E22=\"\",T22=\"\"),\"\",VLOOKUP(T22,'Fermeture TJ'!$A$2:$BU$126,MATCH(F22,('Fermeture TJ'!$B$1:$BU$1),1)+1))","v":""},null,{"$f":"IF(OR(E22=\"\",V22=\"\"),\"\",VLOOKUP(V22,Pont!$A$2:$BU$188,MATCH(F22,(Pont!$B$1:$BU$1),1)+1))","v":""},null,{"$f":"IF(OR(E22=\"\",X22=\"\"),\"\",VLOOKUP(X22,Epaules!$A$2:$BU$76,MATCH(F22,(Epaules!$B$1:$BU$1),1)+1))","v":""},null,{"$f":"IF(OR(E22=\"\",Z22=\"\"),\"\",VLOOKUP(Z22,'pointe de pieds'!$A$2:$BU$110,MATCH(F22,('pointe de pieds'!$B$1:$BU$1),1)+1))","v":""},"",""]
[{"$f":"IF(D23=\"\",\"\",Accueil!$D$6)","v":""},{"$f":"IF(OR(Accueil!$D$6=\"\",C23=\"\",D23=\"\"),\"\",UPPER(LOOKUP(C23,Accueil!$C$30:$C$129,Accueil!$D$30:$D$129)))","v":""},{"$nulls":3},{"$f":"IF(OR(Accueil!$D$6=\"\",D23=\"\",E23=\"\"),\"\",DATEDIF(E23,LOOKUP(C23,Accueil!$C$30:$C$129,Accueil!$E$30:$E$129),\"m\"))","v":""},null,null,{"$f":"IF(OR(E23=\"\",H23=\"\"),\"\",VLOOKUP(H23,Détente!$A$2:$BU$157,MATCH(F23,(Détente!$B$1:$BU$1),1)+1))","v":""},null,{"$f":"IF(OR(E23=\"\",J23=\"\"),\"\",VLOOKUP(J23,Sautillers!$A$2:$BU$99,MATCH(F23,(Sautillers!$B$1:$BU$1),1)+1))","v":""},null,{"$f":"IF(OR(E23=\"\",L23=\"\"),\"\",VLOOKUP(L23,'Course 20 m'!$A$2:$BU$373,MATCH(F23,('Course 20 m'!$B$1:$BU$1),1)+1))","v":""},null,{"$f":"IF(OR(E23=\"\",N23=\"\"),\"\",VLOOKUP(N23,'Ecarts D&G'!$A$2:$BU$147,MATCH(F23,('Ecarts D&G'!$B$1:$BU$1),1)+1))","v":""},null,{"$f":"IF(OR(E23=\"\",P23=\"\"),\"\",VLOOKUP(P23,'Ecarts D&G'!$A$2:$BU$147,MATCH(F23,('Ecarts D&G'!$B$1:$BU$1),1)+1))","v":""},null,{"$f":"IF(OR(E23=\"\",R23=\"\"),\"\",VLOOKUP(R23,'Ecart facial'!$A$2:$BU$143,MATCH(F23,('Ecart facial'!$B$1:$BU$1),1)+1))","v":""},null,{"$f":"IF(OR(E23=\"\",T23=\"\"),\"\",VLOOKUP(T23,'Fermeture TJ'!$A$2:$BU$126,MATCH(F23,('Fermeture TJ'!$B$1:$BU$1),1)+1))","v":""},null,{"$f":"IF(OR(E23=\"\",V23=\"\"),\"\",VLOOKUP(V23,Pont!$A$2:$BU$188,MATCH(F23,(Pont!$B$1:$BU$1),1)+1))","v":""},null,{"$f":"IF(OR(E23=\"\",X23=\"\"),\"\",VLOOKUP(X23,Epaules!$A$2:$BU$76,MATCH(F23,(Epaules!$B$1:$BU$1),1)+1))","v":""},null,{"$f":"IF(OR(E23=\"\",Z23=\"\"),\"\",VLOOKUP(Z23,'pointe de pieds'!$A$2:$BU$110,MATCH(F23,('pointe de pieds'!$B$1:$BU$1),1)+1))","v":""},"",""]
[{"$f":"IF(D24=\"\",\"\",Accueil!$D$6)","v":""},{"$f":"IF(OR(Accueil!$D$6=\"\",C24=\"\",D24=\"\"),\"\",UPPER(LOOKUP(C24,Accueil!$C$30:$C$129,Accueil!$D$30:$D$129)))","v":""},{"$nulls":3},{"$f":"IF(OR(Accueil!$D$6=\"\",D24=\"\",E24=\"\"),\"\",DATEDIF(E24,LOOKUP(C24,Accueil!$C$30:$C$129,Accueil!$E$30:$E$129),\"m\"))","v":""},null,null,{"$f":"IF(OR(E24=\"\",H24=\"\"),\"\",VLOOKUP(H24,Détente!$A$2:$BU$157,MATCH(F24,(Détente!$B$1:$BU$1),1)+1))","v":""},null,{"$f":"IF(OR(E24=\"\",J24=\"\"),\"\",VLOOKUP(J24,Sautillers!$A$2:$BU$99,MATCH(F24,(Sautillers!$B$1:$BU$1),1)+1))","v":""},null,{"$f":"IF(OR(E24=\"\",L24=\"\"),\"\",VLOOKUP(L24,'Course 20 m'!$A$2:$BU$373,MATCH(F24,('Course 20 m'!$B$1:$BU$1),1)+1))","v":""},null,{"$f":"IF(OR(E24=\"\",N24=\"\"),\"\",VLOOKUP(N24,'Ecarts D&G'!$A$2:$BU$147,MATCH(F24,('Ecarts D&G'!$B$1:$BU$1),1)+1))","v":""},null,{"$f":"IF(OR(E24=\"\",P24=\"\"),\"\",VLOOKUP(P24,'Ecarts D&G'!$A$2:$BU$147,MATCH(F24,('Ecarts D&G'!$B$1:$BU$1),1)+1))","v":""},null,{"$f":"IF(OR(E24=\"\",R24=\"\"),\"\",VLOOKUP(R24,'Ecart facial'!$A$2:$BU$143,MATCH(F24,('Ecart facial'!$B$1:$BU$1),1)+1))","v":""},null,{"$f":"IF(OR(E24=\"\",T24=\"\"),\"\",VLOOKUP(T24,'Fermeture TJ'!$A$2:$BU$126,MATCH(F24,('Fermeture TJ'!$B$1:$BU$1),1)+1))","v":""},null,{"$f":"IF(OR(E24=\"\",V24=\"\"),\"\",VLOOKUP(V24,Pont!$A$2:$BU$188,MATCH(F24,(Pont!$B$1:$BU$1),1)+1))","v":""},null,{"$f":"IF(OR(E24=\"\",X24=\"\"),\"\",VLOOKUP(X24,Epaules!$A$2:$BU$76,MATCH(F24,(Epaules!$B$1:$BU$1),1)+1))","v":""},null,{"$f":"IF(OR(E24=\"\",Z24=\"\"),\"\",VLOOKUP(Z24,'pointe de pieds'!$A$2:$BU$110,MATCH(F24,('pointe de pieds'!$B$1:$BU$1),1)+1))","v":""},"",""]
[{"$f":"IF(D25=\"\",\"\",Accueil!$D$6)","v":""},{"$f":"IF(OR(Accueil!$D$6=\"\",C25=\"\",D25=\"\"),\"\",UPPER(LOOKUP(C25,Accueil!$C$30:$C$129,Accueil!$D$30:$D$129)))","v":""},{"$nulls":3},{"$f":"IF(OR(Accueil!$D$6=\"\",D25=\"\",E25=\"\"),\"\",DATEDIF(E25,LOOKUP(C25,Accueil!$C$30:$C$129,Accueil!$E$30:$E$129),\"m\"))","v":""},null,null,{"$f":"IF(OR(E25=\"\",H25=\"\"),\"\",VLOOKUP(H25,Détente!$A$2:$BU$157,MATCH(F25,(Détente!$B$1:$BU$1),1)+1))","v":""},null,{"$f":"IF(OR(E25=\"\",J25=\"\"),\"\",VLOOKUP(J25,Sautillers!$A$2:$BU$99,MATCH(F25,(Sautillers!$B$1:$BU$1),1)+1))","v":""},null,{"$f":"IF(OR(E25=\"\",L25=\"\"),\"\",VLOOKUP(L25,'Course 20 m'!$A$2:$BU$373,MATCH(F25,('Course 20 m'!$B$1:$BU$1),1)+1))","v":""},null,{"$f":"IF(OR(E25=\"\",N25=\"\"),\"\",VLOOKUP(N25,'Ecarts D&G'!$A$2:$BU$147,MATCH(F25,('Ecarts D&G'!$B$1:$BU$1),1)+1))","v":""},null,{"$f":"IF(OR(E25=\"\",P25=\"\"),\"\",VLOOKUP(P25,'Ecarts D&G'!$A$2:$BU$147,MATCH(F25,('Ecarts D&G'!$B$1:$BU$1),1)+1))","v":""},null,{"$f":"IF(OR(E25=\"\",R25=\"\"),\"\",VLOOKUP(R25,'Ecart facial'!$A$2:$BU$143,MATCH(F25,('Ecart facial'!$B$1:$BU$1),1)+1))","v":""},null,{"$f":"IF(OR(E25=\"\",T25=\"\"),\"\",VLOOKUP(T25,'Fermeture TJ'!$A$2:$BU$126,MATCH(F25,('Fermeture TJ'!$B$1:$BU$1),1)+1))","v":""},null,{"$f":"IF(OR(E25=\"\",V25=\"\"),\"\",VLOOKUP(V25,Pont!$A$2:$BU$188,MATCH(F25,(Pont!$B$1:$BU$1),1)+1))","v":""},null,{"$f":"IF(OR(E25=\"\",X25=\"\"),\"\",VLOOKUP(X25,Epaules!$A$2:$BU$76,MATCH(F25,(Epaules!$B$1:$BU$1),1)+1))","v":""},null,{"$f":"IF(OR(E25=\"\",Z25=\"\"),\"\",VLOOKUP(Z25,'pointe de pieds'!$A$2:$BU$110,MATCH(F25,('pointe de pieds'!$B$1:$BU$1),1)+1))","v":""},"",""]
[{"$f":"IF(D26=\"\",\"\",Accueil!$D$6)","v":""},{"$f":"IF(OR(Accueil!$D$6=\"\",C26=\"\",D26=\"\"),\"\",UPPER(LOOKUP(C26,Accueil!$C$30:$C$129,Accueil!$D$30:$D$129)))","v":""},{"$nulls":3},{"$f":"IF(OR(Accueil!$D$6=\"\",D26=\"\",E26=\"\"),\"\",DATEDIF(E26,LOOKUP(C26,Accueil!$C$30:$C$129,Accueil!$E$30:$E$129),\"m\"))","v":""},null,null,{"$f":"IF(OR(E26=\"\",H26=\"\"),\"\",VLOOKUP(H26,Détente!$A$2:$BU$157,MATCH(F26,(Détente!$B$1:$BU$1),1)+1))","v":""},null,{"$f":"IF(OR(E26=\"\",J26=\"\"),\"\",VLOOKUP(J26,Sautillers!$A$2:$BU$99,MATCH(F26,(Sautillers!$B$1:$BU$1),1)+1))","v":""},null,{"$f":"IF(OR(E26=\"\",L26=\"\"),\"\",VLOOKUP(L26,'Course 20 m'!$A$2:$BU$373,MATCH(F26,('Course 20 m'!$B$1:$BU$1),1)+1))","v":""},null,{"$f":"IF(OR(E26=\"\",N26=\"\"),\"\",VLOOKUP(N26,'Ecarts D&G'!$A$2:$BU$147,MATCH(F26,('Ecarts D&G'!$B$1:$BU$1),1)+1))","v":""},null,{"$f":"IF(OR(E26=\"\",P26=\"\"),\"\",VLOOKUP(P26,'Ecarts D&G'!$A$2:$BU$147,MATCH(F26,('Ecarts D&G'!$B$1:$BU$1),1)+1))","v":""},null,{"$f":"IF(OR(E26=\"\",R26=\"\"),\"\",VLOOKUP(R26,'Ecart facial'!$A$2:$BU$143,MATCH(F26,('Ecart facial'!$B$1:$BU$1),1)+1))","v":""},null,{"$f":"IF(OR(E26=\"\",T26=\"\"),\"\",VLOOKUP(T26,'Fermeture TJ'!$A$2:$BU$126,MATCH(F26,('Fermeture TJ'!$B$1:$BU$1),1)+1))","v":""},null,{"$f":"IF(OR(E26=\"\",V26=\"\"),\"\",VLOOKUP(V26,Pont!$A$2:$BU$188,MATCH(F26,(Pont!$B$1:$BU$1),1)+1))","v":""},null,{"$f":"IF(OR(E26=\"\",X26=\"\"),\"\",VLOOKUP(X26,Epaules!$A$2:$BU$76,MATCH(F26,(Epaules!$B$1:$BU$1),1)+1))","v":""},null,{"$f":"IF(OR(E26=\"\",Z26=\"\"),\"\",VLOOKUP(Z26,'pointe de pieds'!$A$2:$BU$110,MATCH(F26,('pointe de pieds'!$B$1:$BU$1),1)+1))","v":""},"",""]
[{"$f":"IF(D27=\"\",\"\",Accueil!$D$6)","v":""},{"$f":"IF(OR(Accueil!$D$6=\"\",C27=\"\",D27=\"\"),\"\",UPPER(LOOKUP(C27,Accueil!$C$30:$C$129,Accueil!$D$30:$D$129)))","v":""},{"$nulls":3},{"$f":"IF(OR(Accueil!$D$6=\"\",D27=\"\",E27=\"\"),\"\",DATEDIF(E27,LOOKUP(C27,Accueil!$C$30:$C$129,Accueil!$E$30:$E$129),\"m\"))","v":""},null,null,{"$f":"IF(OR(E27=\"\",H27=\"\"),\"\",VLOOKUP(H27,Détente!$A$2:$BU$157,MATCH(F27,(Détente!$B$1:$BU$1),1)+1))","v":""},null,{"$f":"IF(OR(E27=\"\",J27=\"\"),\"\",VLOOKUP(J27,Sautillers!$A$2:$BU$99,MATCH(F27,(Sautillers!$B$1:$BU$1),1)+1))","v":""},null,{"$f":"IF(OR(E27=\"\",L27=\"\"),\"\",VLOOKUP(L27,'Course 20 m'!$A$2:$BU$373,MATCH(F27,('Course 20 m'!$B$1:$BU$1),1)+1))","v":""},null,{"$f":"IF(OR(E27=\"\",N27=\"\"),\"\",VLOOKUP(N27,'Ecarts D&G'!$A$2:$BU$147,MATCH(F27,('Ecarts D&G'!$B$1:$BU$1),1)+1))","v":""},null,{"$f":"IF(OR(E27=\"\",P27=\"\"),\"\",VLOOKUP(P27,'Ecarts D&G'!$A$2:$BU$147,MATCH(F27,('Ecarts D&G'!$B$1:$BU$1),1)+1))","v":""},null,{"$f":"IF(OR(E27=\"\",R27=\"\"),\"\",VLOOKUP(R27,'Ecart facial'!$A$2:$BU$143,MATCH(F27,('Ecart facial'!$B$1:$BU$1),1)+1))","v":""},null,{"$f":"IF(OR(E27=\"\",T27=\"\"),\"\",VLOOKUP(T27,'Fermeture TJ'!$A$2:$BU$126,MATCH(F27,('Fermeture TJ'!$B$1:$BU$1),1)+1))","v":""},null,{"$f":"IF(OR(E27=\"\",V27=\"\"),\"\",VLOOKUP(V27,Pont!$A$2:$BU$188,MATCH(F27,(Pont!$B$1:$BU$1),1)+1))","v":""},null,{"$f":"IF(OR(E27=\"\",X27=\"\"),\"\",VLOOKUP(X27,Epaules!$A$2:$BU$76,MATCH(F27,(Epaules!$B$1:$BU$1),1)+1))","v":""},null,{"$f":"IF(OR(E27=\"\",Z27=\"\"),\"\",VLOOKUP(Z27,'pointe de pieds'!$A$2:$BU$110,MATCH(F27,('pointe de pieds'!$B$1:$BU$1),1)+1))","v":""},"",""]
[{"$f":"IF(D28=\"\",\"\",Accueil!$D$6)","v":""},{"$f":"IF(OR(Accueil!$D$6=\"\",C28=\"\",D28=\"\"),\"\",UPPER(LOOKUP(C28,Accueil!$C$30:$C$129,Accueil!$D$30:$D$129)))","v":""},{"$nulls":3},{"$f":"IF(OR(Accueil!$D$6=\"\",D28=\"\",E28=\"\"),\"\",DATEDIF(E28,LOOKUP(C28,Accueil!$C$30:$C$129,Accueil!$E$30:$E$129),\"m\"))","v":""},null,null,{"$f":"IF(OR(E28=\"\",H28=\"\"),\"\",VLOOKUP(H28,Détente!$A$2:$BU$157,MATCH(F28,(Détente!$B$1:$BU$1),1)+1))","v":""},null,{"$f":"IF(OR(E28=\"\",J28=\"\"),\"\",VLOOKUP(J28,Sautillers!$A$2:$BU$99,MATCH(F28,(Sautillers!$B$1:$BU$1),1)+1))","v":""},null,{"$f":"IF(OR(E28=\"\",L28=\"\"),\"\",VLOOKUP(L28,'Course 20 m'!$A$2:$BU$373,MATCH(F28,('Course 20 m'!$B$1:$BU$1),1)+1))","v":""},null,{"$f":"IF(OR(E28=\"\",N28=\"\"),\"\",VLOOKUP(N28,'Ecarts D&G'!$A$2:$BU$147,MATCH(F28,('Ecarts D&G'!$B$1:$BU$1),1)+1))","v":""},null,{"$f":"IF(OR(E28=\"\",P28=\"\"),\"\",VLOOKUP(P28,'Ecarts D&G'!$A$2:$BU$147,MATCH(F28,('Ecarts D&G'!$B$1:$BU$1),1)+1))","v":""},null,{"$f":"IF(OR(E28=\"\",R28=\"\"),\"\",VLOOKUP(R28,'Ecart facial'!$A$2:$BU$143,MATCH(F28,('Ecart facial'!$B$1:$BU$1),1)+1))","v":""},null,{"$f":"IF(OR(E28=\"\",T28=\"\"),\"\",VLOOKUP(T28,'Fermeture TJ'!$A$2:$BU$126,MATCH(F28,('Fermeture TJ'!$B$1:$BU$1),1)+1))","v":""},null,{"$f":"IF(OR(E28=\"\",V28=\"\"),\"\",VLOOKUP(V28,Pont!$A$2:$BU$188,MATCH(F28,(Pont!$B$1:$BU$1),1)+1))","v":""},null,{"$f":"IF(OR(E28=\"\",X28=\"\"),\"\",VLOOKUP(X28,Epaules!$A$2:$BU$76,MATCH(F28,(Epaules!$B$1:$BU$1),1)+1))","v":""},null,{"$f":"IF(OR(E28=\"\",Z28=\"\"),\"\",VLOOKUP(Z28,'pointe de pieds'!$A$2:$BU$110,MATCH(F28,('pointe de pieds'!$B$1:$BU$1),1)+1))","v":""},"",""]
[{"$f":"IF(D29=\"\",\"\",Accueil!$D$6)","v":""},{"$f":"IF(OR(Accueil!$D$6=\"\",C29=\"\",D29=\"\"),\"\",UPPER(LOOKUP(C29,Accueil!$C$30:$C$129,Accueil!$D$30:$D$129)))","v":""},{"$nulls":3},{"$f":"IF(OR(Accueil!$D$6=\"\",D29=\"\",E29=\"\"),\"\",DATEDIF(E29,LOOKUP(C29,Accueil!$C$30:$C$129,Accueil!$E$30:$E$129),\"m\"))","v":""},null,null,{"$f":"IF(OR(E29=\"\",H29=\"\"),\"\",VLOOKUP(H29,Détente!$A$2:$BU$157,MATCH(F29,(Détente!$B$1:$BU$1),1)+1))","v":""},null,{"$f":"IF(OR(E29=\"\",J29=\"\"),\"\",VLOOKUP(J29,Sautillers!$A$2:$BU$99,MATCH(F29,(Sautillers!$B$1:$BU$1),1)+1))","v":""},null,{"$f":"IF(OR(E29=\"\",L29=\"\"),\"\",VLOOKUP(L29,'Course 20 m'!$A$2:$BU$373,MATCH(F29,('Course 20 m'!$B$1:$BU$1),1)+1))","v":""},null,{"$f":"IF(OR(E29=\"\",N29=\"\"),\"\",VLOOKUP(N29,'Ecarts D&G'!$A$2:$BU$147,MATCH(F29,('Ecarts D&G'!$B$1:$BU$1),1)+1))","v":""},null,{"$f":"IF(OR(E29=\"\",P29=\"\"),\"\",VLOOKUP(P29,'Ecarts D&G'!$A$2:$BU$147,MATCH(F29,('Ecarts D&G'!$B$1:$BU$1),1)+1))","v":""},null,{"$f":"IF(OR(E29=\"\",R29=\"\"),\"\",VLOOKUP(R29,'Ecart facial'!$A$2:$BU$143,MATCH(F29,('Ecart facial'!$B$1:$BU$1),1)+1))","v":""},null,{"$f":"IF(OR(E29=\"\",T29=\"\"),\"\",VLOOKUP(T29,'Fermeture TJ'!$A$2:$BU$126,MATCH(F29,('Fermeture TJ'!$B$1:$BU$1),1)+1))","v":""},null,{"$f":"IF(OR(E29=\"\",V29=\"\"),\"\",VLOOKUP(V29,Pont!$A$2:$BU$188,MATCH(F29,(Pont!$B$1:$BU$1),1)+1))","v":""},null,{"$f":"IF(OR(E29=\"\",X29=\"\"),\"\",VLOOKUP(X29,Epaules!$A$2:$BU$76,MATCH(F29,(Epaules!$B$1:$BU$1),1)+1))","v":""},null,{"$f":"IF(OR(E29=\"\",Z29=\"\"),\"\",VLOOKUP(Z29,'pointe de pieds'!$A$2:$BU$110,MATCH(F29,('pointe de pieds'!$B$1:$BU$1),1)+1))","v":""},"",""]
[{"$f":"IF(D30=\"\",\"\",Accueil!$D$6)","v":""},{"$f":"IF(OR(Accueil!$D$6=\"\",C30=\"\",D30=\"\"),\"\",UPPER(LOOKUP(C30,Accueil!$C$30:$C$129,Accueil!$D$30:$D$129)))","v":""},{"$nulls":3},{"$f":"IF(OR(Accueil!$D$6=\"\",D30=\"\",E30=\"\"),\"\",DATEDIF(E30,LOOKUP(C30,Accueil!$C$30:$C$129,Accueil!$E$30:$E$129),\"m\"))","v":""},null,null,{"$f":"IF(OR(E30=\"\",H30=\"\"),\"\",VLOOKUP(H30,Détente!$A$2:$BU$157,MATCH(F30,(Détente!$B$1:$BU$1),1)+1))","v":""},null,{"$f":"IF(OR(E30=\"\",J30=\"\"),\"\",VLOOKUP(J30,Sautillers!$A$2:$BU$99,MATCH(F30,(Sautillers!$B$1:$BU$1),1)+1))","v":""},null,{"$f":"IF(OR(E30=\"\",L30=\"\"),\"\",VLOOKUP(L30,'Course 20 m'!$A$2:$BU$373,MATCH(F30,('Course 20 m'!$B$1:$BU$1),1)+1))","v":""},null,{"$f":"IF(OR(E30=\"\",N30=\"\"),\"\",VLOOKUP(N30,'Ecarts D&G'!$A$2:$BU$147,MATCH(F30,('Ecarts D&G'!$B$1:$BU$1),1)+1))","v":""},null,{"$f":"IF(OR(E30=\"\",P30=\"\"),\"\",VLOOKUP(P30,'Ecarts D&G'!$A$2:$BU$147,MATCH(F30,('Ecarts D&G'!$B$1:$BU$1),1)+1))","v":""},null,{"$f":"IF(OR(E30=\"\",R30=\"\"),\"\",VLOOKUP(R30,'Ecart facial'!$A$2:$BU$143,MATCH(F30,('Ecart facial'!$B$1:$BU$1),1)+1))","v":""},null,{"$f":"IF(OR(E30=\"\",T30=\"\"),\"\",VLOOKUP(T30,'Fermeture TJ'!$A$2:$BU$126,MATCH(F30,('Fermeture TJ'!$B$1:$BU$1),1)+1))","v":""},null,{"$f":"IF(OR(E30=\"\",V30=\"\"),\"\",VLOOKUP(V30,Pont!$A$2:$BU$188,MATCH(F30,(Pont!$B$1:$BU$1),1)+1))","v":""},null,{"$f":"IF(OR(E30=\"\",X30=\"\"),\"\",VLOOKUP(X30,Epaules!$A$2:$BU$76,MATCH(F30,(Epaules!$B$1:$BU$1),1)+1))","v":""},null,{"$f":"IF(OR(E30=\"\",Z30=\"\"),\"\",VLOOKUP(Z30,'pointe de pieds'!$A$2:$BU$110,MATCH(F30,('pointe de pieds'!$B$1:$BU$1),1)+1))","v":""},"",""]
[{"$f":"IF(D31=\"\",\"\",Accueil!$D$6)","v":""},{"$f":"IF(OR(Accueil!$D$6=\"\",C31=\"\",D31=\"\"),\"\",UPPER(LOOKUP(C31,Accueil!$C$30:$C$129,Accueil!$D$30:$D$129)))","v":""},{"$nulls":3},{"$f":"IF(OR(Accueil!$D$6=\"\",D31=\"\",E31=\"\"),\"\",DATEDIF(E31,LOOKUP(C31,Accueil!$C$30:$C$129,Accueil!$E$30:$E$129),\"m\"))","v":""},null,null,{"$f":"IF(OR(E31=\"\",H31=\"\"),\"\",VLOOKUP(H31,Détente!$A$2:$BU$157,MATCH(F31,(Détente!$B$1:$BU$1),1)+1))","v":""},null,{"$f":"IF(OR(E31=\"\",J31=\"\"),\"\",VLOOKUP(J31,Sautillers!$A$2:$BU$99,MATCH(F31,(Sautillers!$B$1:$BU$1),1)+1))","v":""},null,{"$f":"IF(OR(E31=\"\",L31=\"\"),\"\",VLOOKUP(L31,'Course 20 m'!$A$2:$BU$373,MATCH(F31,('Course 20 m'!$B$1:$BU$1),1)+1))","v":""},null,{"$f":"IF(OR(E31=\"\",N31=\"\"),\"\",VLOOKUP(N31,'Ecarts D&G'!$A$2:$BU$147,MATCH(F31,('Ecarts D&G'!$B$1:$BU$1),1)+1))","v":""},null,{"$f":"IF(OR(E31=\"\",P31=\"\"),\"\",VLOOKUP(P31,'Ecarts D&G'!$A$2:$BU$147,MATCH(F31,('Ecarts D&G'!$B$1:$BU$1),1)+1))","v":""},null,{"$f":"IF(OR(E31=\"\",R31=\"\"),\"\",VLOOKUP(R31,'Ecart facial'!$A$2:$BU$143,MATCH(F31,('Ecart facial'!$B$1:$BU$1),1)+1))","v":""},null,{"$f":"IF(OR(E31=\"\",T31=\"\"),\"\",VLOOKUP(T31,'Fermeture TJ'!$A$2:$BU$126,MATCH(F31,('Fermeture TJ'!$B$1:$BU$1),1)+1))","v":""},null,{"$f":"IF(OR(E31=\"\",V31=\"\"),\"\",VLOOKUP(V31,Pont!$A$2:$BU$188,MATCH(F31,(Pont!$B$1:$BU$1),1)+1))","v":""},null,{"$f":"IF(OR(E31=\"\",X31=\"\"),\"\",VLOOKUP(X31,Epaules!$A$2:$BU$76,MATCH(F31,(Epaules!$B$1:$BU$1),1)+1))","v":""},null,{"$f":"IF(OR(E31=\"\",Z31=\"\"),\"\",VLOOKUP(Z31,'pointe de pieds'!$A$2:$BU$110,MATCH(F31,('pointe de pieds'!$B$1:$BU$1),1)+1))","v":""},"",""]
[{"$f":"IF(D32=\"\",\"\",Accueil!$D$6)","v":""},{"$f":"IF(OR(Accueil!$D$6=\"\",C32=\"\",D32=\"\"),\"\",UPPER(LOOKUP(C32,Accueil!$C$30:$C$129,Accueil!$D$30:$D$129)))","v":""},{"$nulls":3},{"$f":"IF(OR(Accueil!$D$6=\"\",D32=\"\",E32=\"\"),\"\",DATEDIF(E32,LOOKUP(C32,Accueil!$C$30:$C$129,Accueil!$E$30:$E$129),\"m\"))","v":""},null,null,{"$f":"IF(OR(E32=\"\",H32=\"\"),\"\",VLOOKUP(H32,Détente!$A$2:$BU$157,MATCH(F32,(Détente!$B$1:$BU$1),1)+1))","v":""},null,{"$f":"IF(OR(E32=\"\",J32=\"\"),\"\",VLOOKUP(J32,Sautillers!$A$2:$BU$99,MATCH(F32,(Sautillers!$B$1:$BU$1),1)+1))","v":""},null,{"$f":"IF(OR(E32=\"\",L32=\"\"),\"\",VLOOKUP(L32,'Course 20 m'!$A$2:$BU$373,MATCH(F32,('Course 20 m'!$B$1:$BU$1),1)+1))","v":""},null,{"$f":"IF(OR(E32=\"\",N32=\"\"),\"\",VLOOKUP(N32,'Ecarts D&G'!$A$2:$BU$147,MATCH(F32,('Ecarts D&G'!$B$1:$BU$1),1)+1))","v":""},null,{"$f":"IF(OR(E32=\"\",P32=\"\"),\"\",VLOOKUP(P32,'Ecarts D&G'!$A$2:$BU$147,MATCH(F32,('Ecarts D&G'!$B$1:$BU$1),1)+1))","v":""},null,{"$f":"IF(OR(E32=\"\",R32=\"\"),\"\",VLOOKUP(R32,'Ecart facial'!$A$2:$BU$143,MATCH(F32,('Ecart facial'!$B$1:$BU$1),1)+1))","v":""},null,{"$f":"IF(OR(E32=\"\",T32=\"\"),\"\",VLOOKUP(T32,'Fermeture TJ'!$A$2:$BU$126,MATCH(F32,('Fermeture TJ'!$B$1:$BU$1),1)+1))","v":""},null,{"$f":"IF(OR(E32=\"\",V32=\"\"),\"\",VLOOKUP(V32,Pont!$A$2:$BU$188,MATCH(F32,(Pont!$B$1:$BU$1),1)+1))","v":""},null,{"$f":"IF(OR(E32=\"\",X32=\"\"),\"\",VLOOKUP(X32,Epaules!$A$2:$BU$76,MATCH(F32,(Epaules!$B$1:$BU$1),1)+1))","v":""},null,{"$f":"IF(OR(E32=\"\",Z32=\"\"),\"\",VLOOKUP(Z32,'pointe de pieds'!$A$2:$BU$110,MATCH(F32,('pointe de pieds'!$B$1:$BU$1),1)+1))","v":""},"",""]
[{"$f":"IF(D33=\"\",\"\",Accueil!$D$6)","v":""},{"$f":"IF(OR(Accueil!$D$6=\"\",C33=\"\",D33=\"\"),\"\",UPPER(LOOKUP(C33,Accueil!$C$30:$C$129,Accueil!$D$30:$D$129)))","v":""},{"$nulls":3},{"$f":"IF(OR(Accueil!$D$6=\"\",D33=\"\",E33=\"\"),\"\",DATEDIF(E33,LOOKUP(C33,Accueil!$C$30:$C$129,Accueil!$E$30:$E$129),\"m\"))","v":""},null,null,{"$f":"IF(OR(E33=\"\",H33=\"\"),\"\",VLOOKUP(H33,Détente!$A$2:$BU$157,MATCH(F33,(Détente!$B$1:$BU$1),1)+1))","v":""},null,{"$f":"IF(OR(E33=\"\",J33=\"\"),\"\",VLOOKUP(J33,Sautillers!$A$2:$BU$99,MATCH(F33,(Sautillers!$B$1:$BU$1),1)+1))","v":""},null,{"$f":"IF(OR(E33=\"\",L33=\"\"),\"\",VLOOKUP(L33,'Course 20 m'!$A$2:$BU$373,MATCH(F33,('Course 20 m'!$B$1:$BU$1),1)+1))","v":""},null,{"$f":"IF(OR(E33=\"\",N33=\"\"),\"\",VLOOKUP(N33,'Ecarts D&G'!$A$2:$BU$147,MATCH(F33,('Ecarts D&G'!$B$1:$BU$1),1)+1))","v":""},null,{"$f":"IF(OR(E33=\"\",P33=\"\"),\"\",VLOOKUP(P33,'Ecarts D&G'!$A$2:$BU$147,MATCH(F33,('Ecarts D&G'!$B$1:$BU$1),1)+1))","v":""},null,{"$f":"IF(OR(E33=\"\",R33=\"\"),\"\",VLOOKUP(R33,'Ecart facial'!$A$2:$BU$143,MATCH(F33,('Ecart facial'!$B$1:$BU$1),1)+1))","v":""},null,{"$f":"IF(OR(E33=\"\",T33=\"\"),\"\",VLOOKUP(T33,'Fermeture TJ'!$A$2:$BU$126,MATCH(F33,('Fermeture TJ'!$B$1:$BU$1),1)+1))","v":""},null,{"$f":"IF(OR(E33=\"\",V33=\"\"),\"\",VLOOKUP(V33,Pont!$A$2:$BU$188,MATCH(F33,(Pont!$B$1:$BU$1),1)+1))","v":""},null,{"$f":"IF(OR(E33=\"\",X33=\"\"),\"\",VLOOKUP(X33,Epaules!$A$2:$BU$76,MATCH(F33,(Epaules!$B$1:$BU$1),1)+1))","v":""},null,{"$f":"IF(OR(E33=\"\",Z33=\"\"),\"\",VLOOKUP(Z33,'pointe de pieds'!$A$2:$BU$110,MATCH(F33,('pointe de pieds'!$B$1:$BU$1),1)+1))","v":""},"",""]
[{"$f":"IF(D34=\"\",\"\",Accueil!$D$6)","v":""},{"$f":"IF(OR(Accueil!$D$6=\"\",C34=\"\",D34=\"\"),\"\",UPPER(LOOKUP(C34,Accueil!$C$30:$C$129,Accueil!$D$30:$D$129)))","v":""},{"$nulls":3},{"$f":"IF(OR(Accueil!$D$6=\"\",D34=\"\",E34=\"\"),\"\",DATEDIF(E34,LOOKUP(C34,Accueil!$C$30:$C$129,Accueil!$E$30:$E$129),\"m\"))","v":""},null,null,{"$f":"IF(OR(E34=\"\",H34=\"\"),\"\",VLOOKUP(H34,Détente!$A$2:$BU$157,MATCH(F34,(Détente!$B$1:$BU$1),1)+1))","v":""},null,{"$f":"IF(OR(E34=\"\",J34=\"\"),\"\",VLOOKUP(J34,Sautillers!$A$2:$BU$99,MATCH(F34,(Sautillers!$B$1:$BU$1),1)+1))","v":""},null,{"$f":"IF(OR(E34=\"\",L34=\"\"),\"\",VLOOKUP(L34,'Course 20 m'!$A$2:$BU$373,MATCH(F34,('Course 20 m'!$B$1:$BU$1),1)+1))","v":""},null,{"$f":"IF(OR(E34=\"\",N34=\"\"),\"\",VLOOKUP(N34,'Ecarts D&G'!$A$2:$BU$147,MATCH(F34,('Ecarts D&G'!$B$1:$BU$1),1)+1))","v":""},null,{"$f":"IF(OR(E34=\"\",P34=\"\"),\"\",VLOOKUP(P34,'Ecarts D&G'!$A$2:$BU$147,MATCH(F34,('Ecarts D&G'!$B$1:$BU$1),1)+1))","v":""},null,{"$f":"IF(OR(E34=\"\",R34=\"\"),\"\",VLOOKUP(R34,'Ecart facial'!$A$2:$BU$143,MATCH(F34,('Ecart facial'!$B$1:$BU$1),1)+1))","v":""},null,{"$f":"IF(OR(E34=\"\",T34=\"\"),\"\",VLOOKUP(T34,'Fermeture TJ'!$A$2:$BU$126,MATCH(F34,('Fermeture TJ'!$B$1:$BU$1),1)+1))","v":""},null,{"$f":"IF(OR(E34=\"\",V34=\"\"),\"\",VLOOKUP(V34,Pont!$A$2:$BU$188,MATCH(F34,(Pont!$B$1:$BU$1),1)+1))","v":""},null,{"$f":"IF(OR(E34=\"\",X34=\"\"),\"\",VLOOKUP(X34,Epaules!$A$2:$BU$76,MATCH(F34,(Epaules!$B$1:$BU$1),1)+1))","v":""},null,{"$f":"IF(OR(E34=\"\",Z34=\"\"),\"\",VLOOKUP(Z34,'pointe de pieds'!$A$2:$BU$110,MATCH(F34,('pointe de pieds'!$B$1:$BU$1),1)+1))","v":""},"",""]
[{"$f":"IF(D35=\"\",\"\",Accueil!$D$6)","v":""},{"$f":"IF(OR(Accueil!$D$6=\"\",C35=\"\",D35=\"\"),\"\",UPPER(LOOKUP(C35,Accueil!$C$30:$C$129,Accueil!$D$30:$D$129)))","v":""},{"$nulls":3},{"$f":"IF(OR(Accueil!$D$6=\"\",D35=\"\",E35=\"\"),\"\",DATEDIF(E35,LOOKUP(C35,Accueil!$C$30:$C$129,Accueil!$E$30:$E$129),\"m\"))","v":""},null,null,{"$f":"IF(OR(E35=\"\",H35=\"\"),\"\",VLOOKUP(H35,Détente!$A$2:$BU$157,MATCH(F35,(Détente!$B$1:$BU$1),1)+1))","v":""},null,{"$f":"IF(OR(E35=\"\",J35=\"\"),\"\",VLOOKUP(J35,Sautillers!$A$2:$BU$99,MATCH(F35,(Sautillers!$B$1:$BU$1),1)+1))","v":""},null,{"$f":"IF(OR(E35=\"\",L35=\"\"),\"\",VLOOKUP(L35,'Course 20 m'!$A$2:$BU$373,MATCH(F35,('Course 20 m'!$B$1:$BU$1),1)+1))","v":""},null,{"$f":"IF(OR(E35=\"\",N35=\"\"),\"\",VLOOKUP(N35,'Ecarts D&G'!$A$2:$BU$147,MATCH(F35,('Ecarts D&G'!$B$1:$BU$1),1)+1))","v":""},null,{"$f":"IF(OR(E35=\"\",P35=\"\"),\"\",VLOOKUP(P35,'Ecarts D&G'!$A$2:$BU$147,MATCH(F35,('Ecarts D&G'!$B$1:$BU$1),1)+1))","v":""},null,{"$f":"IF(OR(E35=\"\",R35=\"\"),\"\",VLOOKUP(R35,'Ecart facial'!$A$2:$BU$143,MATCH(F35,('Ecart facial'!$B$1:$BU$1),1)+1))","v":""},null,{"$f":"IF(OR(E35=\"\",T35=\"\"),\"\",VLOOKUP(T35,'Fermeture TJ'!$A$2:$BU$126,MATCH(F35,('Fermeture TJ'!$B$1:$BU$1),1)+1))","v":""},null,{"$f":"IF(OR(E35=\"\",V35=\"\"),\"\",VLOOKUP(V35,Pont!$A$2:$BU$188,MATCH(F35,(Pont!$B$1:$BU$1),1)+1))","v":""},null,{"$f":"IF(OR(E35=\"\",X35=\"\"),\"\",VLOOKUP(X35,Epaules!$A$2:$BU$76,MATCH(F35,(Epaules!$B$1:$BU$1),1)+1))","v":""},null,{"$f":"IF(OR(E35=\"\",Z35=\"\"),\"\",VLOOKUP(Z35,'pointe de pieds'!$A$2:$BU$110,MATCH(F35,('pointe de pieds'!$B$1:$BU$1),1)+1))","v":""},"",""]
[{"$f":"IF(D36=\"\",\"\",Accueil!$D$6)","v":""},{"$f":"IF(OR(Accueil!$D$6=\"\",C36=\"\",D36=\"\"),\"\",UPPER(LOOKUP(C36,Accueil!$C$30:$C$129,Accueil!$D$30:$D$129)))","v":""},{"$nulls":3},{"$f":"IF(OR(Accueil!$D$6=\"\",D36=\"\",E36=\"\"),\"\",DATEDIF(E36,LOOKUP(C36,Accueil!$C$30:$C$129,Accueil!$E$30:$E$129),\"m\"))","v":""},null,null,{"$f":"IF(OR(E36=\"\",H36=\"\"),\"\",VLOOKUP(H36,Détente!$A$2:$BU$157,MATCH(F36,(Détente!$B$1:$BU$1),1)+1))","v":""},null,{"$f":"IF(OR(E36=\"\",J36=\"\"),\"\",VLOOKUP(J36,Sautillers!$A$2:$BU$99,MATCH(F36,(Sautillers!$B$1:$BU$1),1)+1))","v":""},null,{"$f":"IF(OR(E36=\"\",L36=\"\"),\"\",VLOOKUP(L36,'Course 20 m'!$A$2:$BU$373,MATCH(F36,('Course 20 m'!$B$1:$BU$1),1)+1))","v":""},null,{"$f":"IF(OR(E36=\"\",N36=\"\"),\"\",VLOOKUP(N36,'Ecarts D&G'!$A$2:$BU$147,MATCH(F36,('Ecarts D&G'!$B$1:$BU$1),1)+1))","v":""},null,{"$f":"IF(OR(E36=\"\",P36=\"\"),\"\",VLOOKUP(P36,'Ecarts D&G'!$A$2:$BU$147,MATCH(F36,('Ecarts D&G'!$B$1:$BU$1),1)+1))","v":""},null,{"$f":"IF(OR(E36=\"\",R36=\"\"),\"\",VLOOKUP(R36,'Ecart facial'!$A$2:$BU$143,MATCH(F36,('Ecart facial'!$B$1:$BU$1),1)+1))","v":""},null,{"$f":"IF(OR(E36=\"\",T36=\"\"),\"\",VLOOKUP(T36,'Fermeture TJ'!$A$2:$BU$126,MATCH(F36,('Fermeture TJ'!$B$1:$BU$1),1)+1))","v":""},null,{"$f":"IF(OR(E36=\"\",V36=\"\"),\"\",VLOOKUP(V36,Pont!$A$2:$BU$188,MATCH(F36,(Pont!$B$1:$BU$1),1)+1))","v":""},null,{"$f":"IF(OR(E36=\"\",X36=\"\"),\"\",VLOOKUP(X36,Epaules!$A$2:$BU$76,MATCH(F36,(Epaules!$B$1:$BU$1),1)+1))","v":""},null,{"$f":"IF(OR(E36=\"\",Z36=\"\"),\"\",VLOOKUP(Z36,'pointe de pieds'!$A$2:$BU$110,MATCH(F36,('pointe de pieds'!$B$1:$BU$1),1)+1))","v":""},"",""]
[{"$f":"IF(D37=\"\",\"\",Accueil!$D$6)","v":""},{"$f":"IF(OR(Accueil!$D$6=\"\",C37=\"\",D37=\"\"),\"\",UPPER(LOOKUP(C37,Accueil!$C$30:$C$129,Accueil!$D$30:$D$129)))","v":""},{"$nulls":3},{"$f":"IF(OR(Accueil!$D$6=\"\",D37=\"\",E37=\"\"),\"\",DATEDIF(E37,LOOKUP(C37,Accueil!$C$30:$C$129,Accueil!$E$30:$E$129),\"m\"))","v":""},null,null,{"$f":"IF(OR(E37=\"\",H37=\"\"),\"\",VLOOKUP(H37,Détente!$A$2:$BU$157,MATCH(F37,(Détente!$B$1:$BU$1),1)+1))","v":""},null,{"$f":"IF(OR(E37=\"\",J37=\"\"),\"\",VLOOKUP(J37,Sautillers!$A$2:$BU$99,MATCH(F37,(Sautillers!$B$1:$BU$1),1)+1))","v":""},null,{"$f":"IF(OR(E37=\"\",L37=\"\"),\"\",VLOOKUP(L37,'Course 20 m'!$A$2:$BU$373,MATCH(F37,('Course 20 m'!$B$1:$BU$1),1)+1))","v":""},null,{"$f":"IF(OR(E37=\"\",N37=\"\"),\"\",VLOOKUP(N37,'Ecarts D&G'!$A$2:$BU$147,MATCH(F37,('Ecarts D&G'!$B$1:$BU$1),1)+1))","v":""},null,{"$f":"IF(OR(E37=\"\",P37=\"\"),\"\",VLOOKUP(P37,'Ecarts D&G'!$A$2:$BU$147,MATCH(F37,('Ecarts D&G'!$B$1:$BU$1),1)+1))","v":""},null,{"$f":"IF(OR(E37=\"\",R37=\"\"),\"\",VLOOKUP(R37,'Ecart facial'!$A$2:$BU$143,MATCH(F37,('Ecart facial'!$B$1:$BU$1),1)+1))","v":""},null,{"$f":"IF(OR(E37=\"\",T37=\"\"),\"\",VLOOKUP(T37,'Fermeture TJ'!$A$2:$BU$126,MATCH(F37,('Fermeture TJ'!$B$1:$BU$1),1)+1))","v":""},null,{"$f":"IF(OR(E37=\"\",V37=\"\"),\"\",VLOOKUP(V37,Pont!$A$2:$BU$188,MATCH(F37,(Pont!$B$1:$BU$1),1)+1))","v":""},null,{"$f":"IF(OR(E37=\"\",X37=\"\"),\"\",VLOOKUP(X37,Epaules!$A$2:$BU$76,MATCH(F37,(Epaules!$B$1:$BU$1),1)+1))","v":""},null,{"$f":"IF(OR(E37=\"\",Z37=\"\"),\"\",VLOOKUP(Z37,'pointe de pieds'!$A$2:$BU$110,MATCH(F37,('pointe de pieds'!$B$1:$BU$1),1)+1))","v":""},"",""]
[{"$f":"IF(D38=\"\",\"\",Accueil!$D$6)","v":""},{"$f":"IF(OR(Accueil!$D$6=\"\",C38=\"\",D38=\"\"),\"\",UPPER(LOOKUP(C38,Accueil!$C$30:$C$129,Accueil!$D$30:$D$129)))","v":""},{"$nulls":3},{"$f":"IF(OR(Accueil!$D$6=\"\",D38=\"\",E38=\"\"),\"\",DATEDIF(E38,LOOKUP(C38,Accueil!$C$30:$C$129,Accueil!$E$30:$E$129),\"m\"))","v":""},null,null,{"$f":"IF(OR(E38=\"\",H38=\"\"),\"\",VLOOKUP(H38,Détente!$A$2:$BU$157,MATCH(F38,(Détente!$B$1:$BU$1),1)+1))","v":""},null,{"$f":"IF(OR(E38=\"\",J38=\"\"),\"\",VLOOKUP(J38,Sautillers!$A$2:$BU$99,MATCH(F38,(Sautillers!$B$1:$BU$1),1)+1))","v":""},null,{"$f":"IF(OR(E38=\"\",L38=\"\"),\"\",VLOOKUP(L38,'Course 20 m'!$A$2:$BU$373,MATCH(F38,('Course 20 m'!$B$1:$BU$1),1)+1))","v":""},null,{"$f":"IF(OR(E38=\"\",N38=\"\"),\"\",VLOOKUP(N38,'Ecarts D&G'!$A$2:$BU$147,MATCH(F38,('Ecarts D&G'!$B$1:$BU$1),1)+1))","v":""},null,{"$f":"IF(OR(E38=\"\",P38=\"\"),\"\",VLOOKUP(P38,'Ecarts D&G'!$A$2:$BU$147,MATCH(F38,('Ecarts D&G'!$B$1:$BU$1),1)+1))","v":""},null,{"$f":"IF(OR(E38=\"\",R38=\"\"),\"\",VLOOKUP(R38,'Ecart facial'!$A$2:$BU$143,MATCH(F38,('Ecart facial'!$B$1:$BU$1),1)+1))","v":""},null,{"$f":"IF(OR(E38=\"\",T38=\"\"),\"\",VLOOKUP(T38,'Fermeture TJ'!$A$2:$BU$126,MATCH(F38,('Fermeture TJ'!$B$1:$BU$1),1)+1))","v":""},null,{"$f":"IF(OR(E38=\"\",V38=\"\"),\"\",VLOOKUP(V38,Pont!$A$2:$BU$188,MATCH(F38,(Pont!$B$1:$BU$1),1)+1))","v":""},null,{"$f":"IF(OR(E38=\"\",X38=\"\"),\"\",VLOOKUP(X38,Epaules!$A$2:$BU$76,MATCH(F38,(Epaules!$B$1:$BU$1),1)+1))","v":""},null,{"$f":"IF(OR(E38=\"\",Z38=\"\"),\"\",VLOOKUP(Z38,'pointe de pieds'!$A$2:$BU$110,MATCH(F38,('pointe de pieds'!$B$1:$BU$1),1)+1))","v":""},"",""]
[{"$f":"IF(D39=\"\",\"\",Accueil!$D$6)","v":""},{"$f":"IF(OR(Accueil!$D$6=\"\",C39=\"\",D39=\"\"),\"\",UPPER(LOOKUP(C39,Accueil!$C$30:$C$129,Accueil!$D$30:$D$129)))","v":""},{"$nulls":3},{"$f":"IF(OR(Accueil!$D$6=\"\",D39=\"\",E39=\"\"),\"\",DATEDIF(E39,LOOKUP(C39,Accueil!$C$30:$C$129,Accueil!$E$30:$E$129),\"m\"))","v":""},null,null,{"$f":"IF(OR(E39=\"\",H39=\"\"),\"\",VLOOKUP(H39,Détente!$A$2:$BU$157,MATCH(F39,(Détente!$B$1:$BU$1),1)+1))","v":""},null,{"$f":"IF(OR(E39=\"\",J39=\"\"),\"\",VLOOKUP(J39,Sautillers!$A$2:$BU$99,MATCH(F39,(Sautillers!$B$1:$BU$1),1)+1))","v":""},null,{"$f":"IF(OR(E39=\"\",L39=\"\"),\"\",VLOOKUP(L39,'Course 20 m'!$A$2:$BU$373,MATCH(F39,('Course 20 m'!$B$1:$BU$1),1)+1))","v":""},null,{"$f":"IF(OR(E39=\"\",N39=\"\"),\"\",VLOOKUP(N39,'Ecarts D&G'!$A$2:$BU$147,MATCH(F39,('Ecarts D&G'!$B$1:$BU$1),1)+1))","v":""},null,{"$f":"IF(OR(E39=\"\",P39=\"\"),\"\",VLOOKUP(P39,'Ecarts D&G'!$A$2:$BU$147,MATCH(F39,('Ecarts D&G'!$B$1:$BU$1),1)+1))","v":""},null,{"$f":"IF(OR(E39=\"\",R39=\"\"),\"\",VLOOKUP(R39,'Ecart facial'!$A$2:$BU$143,MATCH(F39,('Ecart facial'!$B$1:$BU$1),1)+1))","v":""},null,{"$f":"IF(OR(E39=\"\",T39=\"\"),\"\",VLOOKUP(T39,'Fermeture TJ'!$A$2:$BU$126,MATCH(F39,('Fermeture TJ'!$B$1:$BU$1),1)+1))","v":""},null,{"$f":"IF(OR(E39=\"\",V39=\"\"),\"\",VLOOKUP(V39,Pont!$A$2:$BU$188,MATCH(F39,(Pont!$B$1:$BU$1),1)+1))","v":""},null,{"$f":"IF(OR(E39=\"\",X39=\"\"),\"\",VLOOKUP(X39,Epaules!$A$2:$BU$76,MATCH(F39,(Epaules!$B$1:$BU$1),1)+1))","v":""},null,{"$f":"IF(OR(E39=\"\",Z39=\"\"),\"\",VLOOKUP(Z39,'pointe de pieds'!$A$2:$BU$110,MATCH(F39,('pointe de pieds'!$B$1:$BU$1),1)+1))","v":""},"",""]
[{"$f":"IF(D40=\"\",\"\",Accueil!$D$6)","v":""},{"$f":"IF(OR(Accueil!$D$6=\"\",C40=\"\",D40=\"\"),\"\",UPPER(LOOKUP(C40,Accueil!$C$30:$C$129,Accueil!$D$30:$D$129)))","v":""},{"$nulls":3},{"$f":"IF(OR(Accueil!$D$6=\"\",D40=\"\",E40=\"\"),\"\",DATEDIF(E40,LOOKUP(C40,Accueil!$C$30:$C$129,Accueil!$E$30:$E$129),\"m\"))","v":""},null,null,{"$f":"IF(OR(E40=\"\",H40=\"\"),\"\",VLOOKUP(H40,Détente!$A$2:$BU$157,MATCH(F40,(Détente!$B$1:$BU$1),1)+1))","v":""},null,{"$f":"IF(OR(E40=\"\",J40=\"\"),\"\",VLOOKUP(J40,Sautillers!$A$2:$BU$99,MATCH(F40,(Sautillers!$B$1:$BU$1),1)+1))","v":""},null,{"$f":"IF(OR(E40=\"\",L40=\"\"),\"\",VLOOKUP(L40,'Course 20 m'!$A$2:$BU$373,MATCH(F40,('Course 20 m'!$B$1:$BU$1),1)+1))","v":""},null,{"$f":"IF(OR(E40=\"\",N40=\"\"),\"\",VLOOKUP(N40,'Ecarts D&G'!$A$2:$BU$147,MATCH(F40,('Ecarts D&G'!$B$1:$BU$1),1)+1))","v":""},null,{"$f":"IF(OR(E40=\"\",P40=\"\"),\"\",VLOOKUP(P40,'Ecarts D&G'!$A$2:$BU$147,MATCH(F40,('Ecarts D&G'!$B$1:$BU$1),1)+1))","v":""},null,{"$f":"IF(OR(E40=\"\",R40=\"\"),\"\",VLOOKUP(R40,'Ecart facial'!$A$2:$BU$143,MATCH(F40,('Ecart facial'!$B$1:$BU$1),1)+1))","v":""},null,{"$f":"IF(OR(E40=\"\",T40=\"\"),\"\",VLOOKUP(T40,'Fermeture TJ'!$A$2:$BU$126,MATCH(F40,('Fermeture TJ'!$B$1:$BU$1),1)+1))","v":""},null,{"$f":"IF(OR(E40=\"\",V40=\"\"),\"\",VLOOKUP(V40,Pont!$A$2:$BU$188,MATCH(F40,(Pont!$B$1:$BU$1),1)+1))","v":""},null,{"$f":"IF(OR(E40=\"\",X40=\"\"),\"\",VLOOKUP(X40,Epaules!$A$2:$BU$76,MATCH(F40,(Epaules!$B$1:$BU$1),1)+1))","v":""},null,{"$f":"IF(OR(E40=\"\",Z40=\"\"),\"\",VLOOKUP(Z40,'pointe de pieds'!$A$2:$BU$110,MATCH(F40,('pointe de pieds'!$B$1:$BU$1),1)+1))","v":""},"",""]
[{"$f":"IF(D41=\"\",\"\",Accueil!$D$6)","v":""},{"$f":"IF(OR(Accueil!$D$6=\"\",C41=\"\",D41=\"\"),\"\",UPPER(LOOKUP(C41,Accueil!$C$30:$C$129,Accueil!$D$30:$D$129)))","v":""},{"$nulls":3},{"$f":"IF(OR(Accueil!$D$6=\"\",D41=\"\",E41=\"\"),\"\",DATEDIF(E41,LOOKUP(C41,Accueil!$C$30:$C$129,Accueil!$E$30:$E$129),\"m\"))","v":""},null,null,{"$f":"IF(OR(E41=\"\",H41=\"\"),\"\",VLOOKUP(H41,Détente!$A$2:$BU$157,MATCH(F41,(Détente!$B$1:$BU$1),1)+1))","v":""},null,{"$f":"IF(OR(E41=\"\",J41=\"\"),\"\",VLOOKUP(J41,Sautillers!$A$2:$BU$99,MATCH(F41,(Sautillers!$B$1:$BU$1),1)+1))","v":""},null,{"$f":"IF(OR(E41=\"\",L41=\"\"),\"\",VLOOKUP(L41,'Course 20 m'!$A$2:$BU$373,MATCH(F41,('Course 20 m'!$B$1:$BU$1),1)+1))","v":""},null,{"$f":"IF(OR(E41=\"\",N41=\"\"),\"\",VLOOKUP(N41,'Ecarts D&G'!$A$2:$BU$147,MATCH(F41,('Ecarts D&G'!$B$1:$BU$1),1)+1))","v":""},null,{"$f":"IF(OR(E41=\"\",P41=\"\"),\"\",VLOOKUP(P41,'Ecarts D&G'!$A$2:$BU$147,MATCH(F41,('Ecarts D&G'!$B$1:$BU$1),1)+1))","v":""},null,{"$f":"IF(OR(E41=\"\",R41=\"\"),\"\",VLOOKUP(R41,'Ecart facial'!$A$2:$BU$143,MATCH(F41,('Ecart facial'!$B$1:$BU$1),1)+1))","v":""},null,{"$f":"IF(OR(E41=\"\",T41=\"\"),\"\",VLOOKUP(T41,'Fermeture TJ'!$A$2:$BU$126,MATCH(F41,('Fermeture TJ'!$B$1:$BU$1),1)+1))","v":""},null,{"$f":"IF(OR(E41=\"\",V41=\"\"),\"\",VLOOKUP(V41,Pont!$A$2:$BU$188,MATCH(F41,(Pont!$B$1:$BU$1),1)+1))","v":""},null,{"$f":"IF(OR(E41=\"\",X41=\"\"),\"\",VLOOKUP(X41,Epaules!$A$2:$BU$76,MATCH(F41,(Epaules!$B$1:$BU$1),1)+1))","v":""},null,{"$f":"IF(OR(E41=\"\",Z41=\"\"),\"\",VLOOKUP(Z41,'pointe de pieds'!$A$2:$BU$110,MATCH(F41,('pointe de pieds'!$B$1:$BU$1),1)+1))","v":""},"",""]
[{"$f":"IF(D42=\"\",\"\",Accueil!$D$6)","v":""},{"$f":"IF(OR(Accueil!$D$6=\"\",C42=\"\",D42=\"\"),\"\",UPPER(LOOKUP(C42,Accueil!$C$30:$C$129,Accueil!$D$30:$D$129)))","v":""},{"$nulls":3},{"$f":"IF(OR(Accueil!$D$6=\"\",D42=\"\",E42=\"\"),\"\",DATEDIF(E42,LOOKUP(C42,Accueil!$C$30:$C$129,Accueil!$E$30:$E$129),\"m\"))","v":""},null,null,{"$f":"IF(OR(E42=\"\",H42=\"\"),\"\",VLOOKUP(H42,Détente!$A$2:$BU$157,MATCH(F42,(Détente!$B$1:$BU$1),1)+1))","v":""},null,{"$f":"IF(OR(E42=\"\",J42=\"\"),\"\",VLOOKUP(J42,Sautillers!$A$2:$BU$99,MATCH(F42,(Sautillers!$B$1:$BU$1),1)+1))","v":""},null,{"$f":"IF(OR(E42=\"\",L42=\"\"),\"\",VLOOKUP(L42,'Course 20 m'!$A$2:$BU$373,MATCH(F42,('Course 20 m'!$B$1:$BU$1),1)+1))","v":""},null,{"$f":"IF(OR(E42=\"\",N42=\"\"),\"\",VLOOKUP(N42,'Ecarts D&G'!$A$2:$BU$147,MATCH(F42,('Ecarts D&G'!$B$1:$BU$1),1)+1))","v":""},null,{"$f":"IF(OR(E42=\"\",P42=\"\"),\"\",VLOOKUP(P42,'Ecarts D&G'!$A$2:$BU$147,MATCH(F42,('Ecarts D&G'!$B$1:$BU$1),1)+1))","v":""},null,{"$f":"IF(OR(E42=\"\",R42=\"\"),\"\",VLOOKUP(R42,'Ecart facial'!$A$2:$BU$143,MATCH(F42,('Ecart facial'!$B$1:$BU$1),1)+1))","v":""},null,{"$f":"IF(OR(E42=\"\",T42=\"\"),\"\",VLOOKUP(T42,'Fermeture TJ'!$A$2:$BU$126,MATCH(F42,('Fermeture TJ'!$B$1:$BU$1),1)+1))","v":""},null,{"$f":"IF(OR(E42=\"\",V42=\"\"),\"\",VLOOKUP(V42,Pont!$A$2:$BU$188,MATCH(F42,(Pont!$B$1:$BU$1),1)+1))","v":""},null,{"$f":"IF(OR(E42=\"\",X42=\"\"),\"\",VLOOKUP(X42,Epaules!$A$2:$BU$76,MATCH(F42,(Epaules!$B$1:$BU$1),1)+1))","v":""},null,{"$f":"IF(OR(E42=\"\",Z42=\"\"),\"\",VLOOKUP(Z42,'pointe de pieds'!$A$2:$BU$110,MATCH(F42,('pointe de pieds'!$B$1:$BU$1),1)+1))","v":""},"",""]
[{"$f":"IF(D43=\"\",\"\",Accueil!$D$6)","v":""},{"$f":"IF(OR(Accueil!$D$6=\"\",C43=\"\",D43=\"\"),\"\",UPPER(LOOKUP(C43,Accueil!$C$30:$C$129,Accueil!$D$30:$D$129)))","v":""},{"$nulls":3},{"$f":"IF(OR(Accueil!$D$6=\"\",D43=\"\",E43=\"\"),\"\",DATEDIF(E43,LOOKUP(C43,Accueil!$C$30:$C$129,Accueil!$E$30:$E$129),\"m\"))","v":""},null,null,{"$f":"IF(OR(E43=\"\",H43=\"\"),\"\",VLOOKUP(H43,Détente!$A$2:$BU$157,MATCH(F43,(Détente!$B$1:$BU$1),1)+1))","v":""},null,{"$f":"IF(OR(E43=\"\",J43=\"\"),\"\",VLOOKUP(J43,Sautillers!$A$2:$BU$99,MATCH(F43,(Sautillers!$B$1:$BU$1),1)+1))","v":""},null,{"$f":"IF(OR(E43=\"\",L43=\"\"),\"\",VLOOKUP(L43,'Course 20 m'!$A$2:$BU$373,MATCH(F43,('Course 20 m'!$B$1:$BU$1),1)+1))","v":""},null,{"$f":"IF(OR(E43=\"\",N43=\"\"),\"\",VLOOKUP(N43,'Ecarts D&G'!$A$2:$BU$147,MATCH(F43,('Ecarts D&G'!$B$1:$BU$1),1)+1))","v":""},null,{"$f":"IF(OR(E43=\"\",P43=\"\"),\"\",VLOOKUP(P43,'Ecarts D&G'!$A$2:$BU$147,MATCH(F43,('Ecarts D&G'!$B$1:$BU$1),1)+1))","v":""},null,{"$f":"IF(OR(E43=\"\",R43=\"\"),\"\",VLOOKUP(R43,'Ecart facial'!$A$2:$BU$143,MATCH(F43,('Ecart facial'!$B$1:$BU$1),1)+1))","v":""},null,{"$f":"IF(OR(E43=\"\",T43=\"\"),\"\",VLOOKUP(T43,'Fermeture TJ'!$A$2:$BU$126,MATCH(F43,('Fermeture TJ'!$B$1:$BU$1),1)+1))","v":""},null,{"$f":"IF(OR(E43=\"\",V43=\"\"),\"\",VLOOKUP(V43,Pont!$A$2:$BU$188,MATCH(F43,(Pont!$B$1:$BU$1),1)+1))","v":""},null,{"$f":"IF(OR(E43=\"\",X43=\"\"),\"\",VLOOKUP(X43,Epaules!$A$2:$BU$76,MATCH(F43,(Epaules!$B$1:$BU$1),1)+1))","v":""},null,{"$f":"IF(OR(E43=\"\",Z43=\"\"),\"\",VLOOKUP(Z43,'pointe de pieds'!$A$2:$BU$110,MATCH(F43,('pointe de pieds'!$B$1:$BU$1),1)+1))","v":""},"",""]
[{"$f":"IF(D44=\"\",\"\",Accueil!$D$6)","v":""},{"$f":"IF(OR(Accueil!$D$6=\"\",C44=\"\",D44=\"\"),\"\",UPPER(LOOKUP(C44,Accueil!$C$30:$C$129,Accueil!$D$30:$D$129)))","v":""},{"$nulls":3},{"$f":"IF(OR(Accueil!$D$6=\"\",D44=\"\",E44=\"\"),\"\",DATEDIF(E44,LOOKUP(C44,Accueil!$C$30:$C$129,Accueil!$E$30:$E$129),\"m\"))","v":""},null,null,{"$f":"IF(OR(E44=\"\",H44=\"\"),\"\",VLOOKUP(H44,Détente!$A$2:$BU$157,MATCH(F44,(Détente!$B$1:$BU$1),1)+1))","v":""},null,{"$f":"IF(OR(E44=\"\",J44=\"\"),\"\",VLOOKUP(J44,Sautillers!$A$2:$BU$99,MATCH(F44,(Sautillers!$B$1:$BU$1),1)+1))","v":""},null,{"$f":"IF(OR(E44=\"\",L44=\"\"),\"\",VLOOKUP(L44,'Course 20 m'!$A$2:$BU$373,MATCH(F44,('Course 20 m'!$B$1:$BU$1),1)+1))","v":""},null,{"$f":"IF(OR(E44=\"\",N44=\"\"),\"\",VLOOKUP(N44,'Ecarts D&G'!$A$2:$BU$147,MATCH(F44,('Ecarts D&G'!$B$1:$BU$1),1)+1))","v":""},null,{"$f":"IF(OR(E44=\"\",P44=\"\"),\"\",VLOOKUP(P44,'Ecarts D&G'!$A$2:$BU$147,MATCH(F44,('Ecarts D&G'!$B$1:$BU$1),1)+1))","v":""},null,{"$f":"IF(OR(E44=\"\",R44=\"\"),\"\",VLOOKUP(R44,'Ecart facial'!$A$2:$BU$143,MATCH(F44,('Ecart facial'!$B$1:$BU$1),1)+1))","v":""},null,{"$f":"IF(OR(E44=\"\",T44=\"\"),\"\",VLOOKUP(T44,'Fermeture TJ'!$A$2:$BU$126,MATCH(F44,('Fermeture TJ'!$B$1:$BU$1),1)+1))","v":""},null,{"$f":"IF(OR(E44=\"\",V44=\"\"),\"\",VLOOKUP(V44,Pont!$A$2:$BU$188,MATCH(F44,(Pont!$B$1:$BU$1),1)+1))","v":""},null,{"$f":"IF(OR(E44=\"\",X44=\"\"),\"\",VLOOKUP(X44,Epaules!$A$2:$BU$76,MATCH(F44,(Epaules!$B$1:$BU$1),1)+1))","v":""},null,{"$f":"IF(OR(E44=\"\",Z44=\"\"),\"\",VLOOKUP(Z44,'pointe de pieds'!$A$2:$BU$110,MATCH(F44,('pointe de pieds'!$B$1:$BU$1),1)+1))","v":""},"",""]
[{"$f":"IF(D45=\"\",\"\",Accueil!$D$6)","v":""},{"$f":"IF(OR(Accueil!$D$6=\"\",C45=\"\",D45=\"\"),\"\",UPPER(LOOKUP(C45,Accueil!$C$30:$C$129,Accueil!$D$30:$D$129)))","v":""},{"$nulls":3},{"$f":"IF(OR(Accueil!$D$6=\"\",D45=\"\",E45=\"\"),\"\",DATEDIF(E45,LOOKUP(C45,Accueil!$C$30:$C$129,Accueil!$E$30:$E$129),\"m\"))","v":""},null,null,{"$f":"IF(OR(E45=\"\",H45=\"\"),\"\",VLOOKUP(H45,Détente!$A$2:$BU$157,MATCH(F45,(Détente!$B$1:$BU$1),1)+1))","v":""},null,{"$f":"IF(OR(E45=\"\",J45=\"\"),\"\",VLOOKUP(J45,Sautillers!$A$2:$BU$99,MATCH(F45,(Sautillers!$B$1:$BU$1),1)+1))","v":""},null,{"$f":"IF(OR(E45=\"\",L45=\"\"),\"\",VLOOKUP(L45,'Course 20 m'!$A$2:$BU$373,MATCH(F45,('Course 20 m'!$B$1:$BU$1),1)+1))","v":""},null,{"$f":"IF(OR(E45=\"\",N45=\"\"),\"\",VLOOKUP(N45,'Ecarts D&G'!$A$2:$BU$147,MATCH(F45,('Ecarts D&G'!$B$1:$BU$1),1)+1))","v":""},null,{"$f":"IF(OR(E45=\"\",P45=\"\"),\"\",VLOOKUP(P45,'Ecarts D&G'!$A$2:$BU$147,MATCH(F45,('Ecarts D&G'!$B$1:$BU$1),1)+1))","v":""},null,{"$f":"IF(OR(E45=\"\",R45=\"\"),\"\",VLOOKUP(R45,'Ecart facial'!$A$2:$BU$143,MATCH(F45,('Ecart facial'!$B$1:$BU$1),1)+1))","v":""},null,{"$f":"IF(OR(E45=\"\",T45=\"\"),\"\",VLOOKUP(T45,'Fermeture TJ'!$A$2:$BU$126,MATCH(F45,('Fermeture TJ'!$B$1:$BU$1),1)+1))","v":""},null,{"$f":"IF(OR(E45=\"\",V45=\"\"),\"\",VLOOKUP(V45,Pont!$A$2:$BU$188,MATCH(F45,(Pont!$B$1:$BU$1),1)+1))","v":""},null,{"$f":"IF(OR(E45=\"\",X45=\"\"),\"\",VLOOKUP(X45,Epaules!$A$2:$BU$76,MATCH(F45,(Epaules!$B$1:$BU$1),1)+1))","v":""},null,{"$f":"IF(OR(E45=\"\",Z45=\"\"),\"\",VLOOKUP(Z45,'pointe de pieds'!$A$2:$BU$110,MATCH(F45,('pointe de pieds'!$B$1:$BU$1),1)+1))","v":""},"",""]
[{"$f":"IF(D46=\"\",\"\",Accueil!$D$6)","v":""},{"$f":"IF(OR(Accueil!$D$6=\"\",C46=\"\",D46=\"\"),\"\",UPPER(LOOKUP(C46,Accueil!$C$30:$C$129,Accueil!$D$30:$D$129)))","v":""},{"$nulls":3},{"$f":"IF(OR(Accueil!$D$6=\"\",D46=\"\",E46=\"\"),\"\",DATEDIF(E46,LOOKUP(C46,Accueil!$C$30:$C$129,Accueil!$E$30:$E$129),\"m\"))","v":""},null,null,{"$f":"IF(OR(E46=\"\",H46=\"\"),\"\",VLOOKUP(H46,Détente!$A$2:$BU$157,MATCH(F46,(Détente!$B$1:$BU$1),1)+1))","v":""},null,{"$f":"IF(OR(E46=\"\",J46=\"\"),\"\",VLOOKUP(J46,Sautillers!$A$2:$BU$99,MATCH(F46,(Sautillers!$B$1:$BU$1),1)+1))","v":""},null,{"$f":"IF(OR(E46=\"\",L46=\"\"),\"\",VLOOKUP(L46,'Course 20 m'!$A$2:$BU$373,MATCH(F46,('Course 20 m'!$B$1:$BU$1),1)+1))","v":""},null,{"$f":"IF(OR(E46=\"\",N46=\"\"),\"\",VLOOKUP(N46,'Ecarts D&G'!$A$2:$BU$147,MATCH(F46,('Ecarts D&G'!$B$1:$BU$1),1)+1))","v":""},null,{"$f":"IF(OR(E46=\"\",P46=\"\"),\"\",VLOOKUP(P46,'Ecarts D&G'!$A$2:$BU$147,MATCH(F46,('Ecarts D&G'!$B$1:$BU$1),1)+1))","v":""},null,{"$f":"IF(OR(E46=\"\",R46=\"\"),\"\",VLOOKUP(R46,'Ecart facial'!$A$2:$BU$143,MATCH(F46,('Ecart facial'!$B$1:$BU$1),1)+1))","v":""},null,{"$f":"IF(OR(E46=\"\",T46=\"\"),\"\",VLOOKUP(T46,'Fermeture TJ'!$A$2:$BU$126,MATCH(F46,('Fermeture TJ'!$B$1:$BU$1),1)+1))","v":""},null,{"$f":"IF(OR(E46=\"\",V46=\"\"),\"\",VLOOKUP(V46,Pont!$A$2:$BU$188,MATCH(F46,(Pont!$B$1:$BU$1),1)+1))","v":""},null,{"$f":"IF(OR(E46=\"\",X46=\"\"),\"\",VLOOKUP(X46,Epaules!$A$2:$BU$76,MATCH(F46,(Epaules!$B$1:$BU$1),1)+1))","v":""},null,{"$f":"IF(OR(E46=\"\",Z46=\"\"),\"\",VLOOKUP(Z46,'pointe de pieds'!$A$2:$BU$110,MATCH(F46,('pointe de pieds'!$B$1:$BU$1),1)+1))","v":""},"",""]
[{"$f":"IF(D47=\"\",\"\",Accueil!$D$6)","v":""},{"$f":"IF(OR(Accueil!$D$6=\"\",C47=\"\",D47=\"\"),\"\",UPPER(LOOKUP(C47,Accueil!$C$30:$C$129,Accueil!$D$30:$D$129)))","v":""},{"$nulls":3},{"$f":"IF(OR(Accueil!$D$6=\"\",D47=\"\",E47=\"\"),\"\",DATEDIF(E47,LOOKUP(C47,Accueil!$C$30:$C$129,Accueil!$E$30:$E$129),\"m\"))","v":""},null,null,{"$f":"IF(OR(E47=\"\",H47=\"\"),\"\",VLOOKUP(H47,Détente!$A$2:$BU$157,MATCH(F47,(Détente!$B$1:$BU$1),1)+1))","v":""},null,{"$f":"IF(OR(E47=\"\",J47=\"\"),\"\",VLOOKUP(J47,Sautillers!$A$2:$BU$99,MATCH(F47,(Sautillers!$B$1:$BU$1),1)+1))","v":""},null,{"$f":"IF(OR(E47=\"\",L47=\"\"),\"\",VLOOKUP(L47,'Course 20 m'!$A$2:$BU$373,MATCH(F47,('Course 20 m'!$B$1:$BU$1),1)+1))","v":""},null,{"$f":"IF(OR(E47=\"\",N47=\"\"),\"\",VLOOKUP(N47,'Ecarts D&G'!$A$2:$BU$147,MATCH(F47,('Ecarts D&G'!$B$1:$BU$1),1)+1))","v":""},null,{"$f":"IF(OR(E47=\"\",P47=\"\"),\"\",VLOOKUP(P47,'Ecarts D&G'!$A$2:$BU$147,MATCH(F47,('Ecarts D&G'!$B$1:$BU$1),1)+1))","v":""},null,{"$f":"IF(OR(E47=\"\",R47=\"\"),\"\",VLOOKUP(R47,'Ecart facial'!$A$2:$BU$143,MATCH(F47,('Ecart facial'!$B$1:$BU$1),1)+1))","v":""},null,{"$f":"IF(OR(E47=\"\",T47=\"\"),\"\",VLOOKUP(T47,'Fermeture TJ'!$A$2:$BU$126,MATCH(F47,('Fermeture TJ'!$B$1:$BU$1),1)+1))","v":""},null,{"$f":"IF(OR(E47=\"\",V47=\"\"),\"\",VLOOKUP(V47,Pont!$A$2:$BU$188,MATCH(F47,(Pont!$B$1:$BU$1),1)+1))","v":""},null,{"$f":"IF(OR(E47=\"\",X47=\"\"),\"\",VLOOKUP(X47,Epaules!$A$2:$BU$76,MATCH(F47,(Epaules!$B$1:$BU$1),1)+1))","v":""},null,{"$f":"IF(OR(E47=\"\",Z47=\"\"),\"\",VLOOKUP(Z47,'pointe de pieds'!$A$2:$BU$110,MATCH(F47,('pointe de pieds'!$B$1:$BU$1),1)+1))","v":""},"",""]
[{"$f":"IF(D48=\"\",\"\",Accueil!$D$6)","v":""},{"$f":"IF(OR(Accueil!$D$6=\"\",C48=\"\",D48=\"\"),\"\",UPPER(LOOKUP(C48,Accueil!$C$30:$C$129,Accueil!$D$30:$D$129)))","v":""},{"$nulls":3},{"$f":"IF(OR(Accueil!$D$6=\"\",D48=\"\",E48=\"\"),\"\",DATEDIF(E48,LOOKUP(C48,Accueil!$C$30:$C$129,Accueil!$E$30:$E$129),\"m\"))","v":""},null,null,{"$f":"IF(OR(E48=\"\",H48=\"\"),\"\",VLOOKUP(H48,Détente!$A$2:$BU$157,MATCH(F48,(Détente!$B$1:$BU$1),1)+1))","v":""},null,{"$f":"IF(OR(E48=\"\",J48=\"\"),\"\",VLOOKUP(J48,Sautillers!$A$2:$BU$99,MATCH(F48,(Sautillers!$B$1:$BU$1),1)+1))","v":""},null,{"$f":"IF(OR(E48=\"\",L48=\"\"),\"\",VLOOKUP(L48,'Course 20 m'!$A$2:$BU$373,MATCH(F48,('Course 20 m'!$B$1:$BU$1),1)+1))","v":""},null,{"$f":"IF(OR(E48=\"\",N48=\"\"),\"\",VLOOKUP(N48,'Ecarts D&G'!$A$2:$BU$147,MATCH(F48,('Ecarts D&G'!$B$1:$BU$1),1)+1))","v":""},null,{"$f":"IF(OR(E48=\"\",P48=\"\"),\"\",VLOOKUP(P48,'Ecarts D&G'!$A$2:$BU$147,MATCH(F48,('Ecarts D&G'!$B$1:$BU$1),1)+1))","v":""},null,{"$f":"IF(OR(E48=\"\",R48=\"\"),\"\",VLOOKUP(R48,'Ecart facial'!$A$2:$BU$143,MATCH(F48,('Ecart facial'!$B$1:$BU$1),1)+1))","v":""},null,{"$f":"IF(OR(E48=\"\",T48=\"\"),\"\",VLOOKUP(T48,'Fermeture TJ'!$A$2:$BU$126,MATCH(F48,('Fermeture TJ'!$B$1:$BU$1),1)+1))","v":""},null,{"$f":"IF(OR(E48=\"\",V48=\"\"),\"\",VLOOKUP(V48,Pont!$A$2:$BU$188,MATCH(F48,(Pont!$B$1:$BU$1),1)+1))","v":""},null,{"$f":"IF(OR(E48=\"\",X48=\"\"),\"\",VLOOKUP(X48,Epaules!$A$2:$BU$76,MATCH(F48,(Epaules!$B$1:$BU$1),1)+1))","v":""},null,{"$f":"IF(OR(E48=\"\",Z48=\"\"),\"\",VLOOKUP(Z48,'pointe de pieds'!$A$2:$BU$110,MATCH(F48,('pointe de pieds'!$B$1:$BU$1),1)+1))","v":""},"",""]
[{"$f":"IF(D49=\"\",\"\",Accueil!$D$6)","v":""},{"$f":"IF(OR(Accueil!$D$6=\"\",C49=\"\",D49=\"\"),\"\",UPPER(LOOKUP(C49,Accueil!$C$30:$C$129,Accueil!$D$30:$D$129)))","v":""},{"$nulls":3},{"$f":"IF(OR(Accueil!$D$6=\"\",D49=\"\",E49=\"\"),\"\",DATEDIF(E49,LOOKUP(C49,Accueil!$C$30:$C$129,Accueil!$E$30:$E$129),\"m\"))","v":""},null,null,{"$f":"IF(OR(E49=\"\",H49=\"\"),\"\",VLOOKUP(H49,Détente!$A$2:$BU$157,MATCH(F49,(Détente!$B$1:$BU$1),1)+1))","v":""},null,{"$f":"IF(OR(E49=\"\",J49=\"\"),\"\",VLOOKUP(J49,Sautillers!$A$2:$BU$99,MATCH(F49,(Sautillers!$B$1:$BU$1),1)+1))","v":""},null,{"$f":"IF(OR(E49=\"\",L49=\"\"),\"\",VLOOKUP(L49,'Course 20 m'!$A$2:$BU$373,MATCH(F49,('Course 20 m'!$B$1:$BU$1),1)+1))","v":""},null,{"$f":"IF(OR(E49=\"\",N49=\"\"),\"\",VLOOKUP(N49,'Ecarts D&G'!$A$2:$BU$147,MATCH(F49,('Ecarts D&G'!$B$1:$BU$1),1)+1))","v":""},null,{"$f":"IF(OR(E49=\"\",P49=\"\"),\"\",VLOOKUP(P49,'Ecarts D&G'!$A$2:$BU$147,MATCH(F49,('Ecarts D&G'!$B$1:$BU$1),1)+1))","v":""},null,{"$f":"IF(OR(E49=\"\",R49=\"\"),\"\",VLOOKUP(R49,'Ecart facial'!$A$2:$BU$143,MATCH(F49,('Ecart facial'!$B$1:$BU$1),1)+1))","v":""},null,{"$f":"IF(OR(E49=\"\",T49=\"\"),\"\",VLOOKUP(T49,'Fermeture TJ'!$A$2:$BU$126,MATCH(F49,('Fermeture TJ'!$B$1:$BU$1),1)+1))","v":""},null,{"$f":"IF(OR(E49=\"\",V49=\"\"),\"\",VLOOKUP(V49,Pont!$A$2:$BU$188,MATCH(F49,(Pont!$B$1:$BU$1),1)+1))","v":""},null,{"$f":"IF(OR(E49=\"\",X49=\"\"),\"\",VLOOKUP(X49,Epaules!$A$2:$BU$76,MATCH(F49,(Epaules!$B$1:$BU$1),1)+1))","v":""},null,{"$f":"IF(OR(E49=\"\",Z49=\"\"),\"\",VLOOKUP(Z49,'pointe de pieds'!$A$2:$BU$110,MATCH(F49,('pointe de pieds'!$B$1:$BU$1),1)+1))","v":""},"",""]
[{"$f":"IF(D50=\"\",\"\",Accueil!$D$6)","v":""},{"$f":"IF(OR(Accueil!$D$6=\"\",C50=\"\",D50=\"\"),\"\",UPPER(LOOKUP(C50,Accueil!$C$30:$C$129,Accueil!$D$30:$D$129)))","v":""},{"$nulls":3},{"$f":"IF(OR(Accueil!$D$6=\"\",D50=\"\",E50=\"\"),\"\",DATEDIF(E50,LOOKUP(C50,Accueil!$C$30:$C$129,Accueil!$E$30:$E$129),\"m\"))","v":""},null,null,{"$f":"IF(OR(E50=\"\",H50=\"\"),\"\",VLOOKUP(H50,Détente!$A$2:$BU$157,MATCH(F50,(Détente!$B$1:$BU$1),1)+1))","v":""},null,{"$f":"IF(OR(E50=\"\",J50=\"\"),\"\",VLOOKUP(J50,Sautillers!$A$2:$BU$99,MATCH(F50,(Sautillers!$B$1:$BU$1),1)+1))","v":""},null,{"$f":"IF(OR(E50=\"\",L50=\"\"),\"\",VLOOKUP(L50,'Course 20 m'!$A$2:$BU$373,MATCH(F50,('Course 20 m'!$B$1:$BU$1),1)+1))","v":""},null,{"$f":"IF(OR(E50=\"\",N50=\"\"),\"\",VLOOKUP(N50,'Ecarts D&G'!$A$2:$BU$147,MATCH(F50,('Ecarts D&G'!$B$1:$BU$1),1)+1))","v":""},null,{"$f":"IF(OR(E50=\"\",P50=\"\"),\"\",VLOOKUP(P50,'Ecarts D&G'!$A$2:$BU$147,MATCH(F50,('Ecarts D&G'!$B$1:$BU$1),1)+1))","v":""},null,{"$f":"IF(OR(E50=\"\",R50=\"\"),\"\",VLOOKUP(R50,'Ecart facial'!$A$2:$BU$143,MATCH(F50,('Ecart facial'!$B$1:$BU$1),1)+1))","v":""},null,{"$f":"IF(OR(E50=\"\",T50=\"\"),\"\",VLOOKUP(T50,'Fermeture TJ'!$A$2:$BU$126,MATCH(F50,('Fermeture TJ'!$B$1:$BU$1),1)+1))","v":""},null,{"$f":"IF(OR(E50=\"\",V50=\"\"),\"\",VLOOKUP(V50,Pont!$A$2:$BU$188,MATCH(F50,(Pont!$B$1:$BU$1),1)+1))","v":""},null,{"$f":"IF(OR(E50=\"\",X50=\"\"),\"\",VLOOKUP(X50,Epaules!$A$2:$BU$76,MATCH(F50,(Epaules!$B$1:$BU$1),1)+1))","v":""},null,{"$f":"IF(OR(E50=\"\",Z50=\"\"),\"\",VLOOKUP(Z50,'pointe de pieds'!$A$2:$BU$110,MATCH(F50,('pointe de pieds'!$B$1:$BU$1),1)+1))","v":""},"",""]
[{"$f":"IF(D51=\"\",\"\",Accueil!$D$6)","v":""},{"$f":"IF(OR(Accueil!$D$6=\"\",C51=\"\",D51=\"\"),\"\",UPPER(LOOKUP(C51,Accueil!$C$30:$C$129,Accueil!$D$30:$D$129)))","v":""},{"$nulls":3},{"$f":"IF(OR(Accueil!$D$6=\"\",D51=\"\",E51=\"\"),\"\",DATEDIF(E51,LOOKUP(C51,Accueil!$C$30:$C$129,Accueil!$E$30:$E$129),\"m\"))","v":""},null,null,{"$f":"IF(OR(E51=\"\",H51=\"\"),\"\",VLOOKUP(H51,Détente!$A$2:$BU$157,MATCH(F51,(Détente!$B$1:$BU$1),1)+1))","v":""},null,{"$f":"IF(OR(E51=\"\",J51=\"\"),\"\",VLOOKUP(J51,Sautillers!$A$2:$BU$99,MATCH(F51,(Sautillers!$B$1:$BU$1),1)+1))","v":""},null,{"$f":"IF(OR(E51=\"\",L51=\"\"),\"\",VLOOKUP(L51,'Course 20 m'!$A$2:$BU$373,MATCH(F51,('Course 20 m'!$B$1:$BU$1),1)+1))","v":""},null,{"$f":"IF(OR(E51=\"\",N51=\"\"),\"\",VLOOKUP(N51,'Ecarts D&G'!$A$2:$BU$147,MATCH(F51,('Ecarts D&G'!$B$1:$BU$1),1)+1))","v":""},null,{"$f":"IF(OR(E51=\"\",P51=\"\"),\"\",VLOOKUP(P51,'Ecarts D&G'!$A$2:$BU$147,MATCH(F51,('Ecarts D&G'!$B$1:$BU$1),1)+1))","v":""},null,{"$f":"IF(OR(E51=\"\",R51=\"\"),\"\",VLOOKUP(R51,'Ecart facial'!$A$2:$BU$143,MATCH(F51,('Ecart facial'!$B$1:$BU$1),1)+1))","v":""},null,{"$f":"IF(OR(E51=\"\",T51=\"\"),\"\",VLOOKUP(T51,'Fermeture TJ'!$A$2:$BU$126,MATCH(F51,('Fermeture TJ'!$B$1:$BU$1),1)+1))","v":""},null,{"$f":"IF(OR(E51=\"\",V51=\"\"),\"\",VLOOKUP(V51,Pont!$A$2:$BU$188,MATCH(F51,(Pont!$B$1:$BU$1),1)+1))","v":""},null,{"$f":"IF(OR(E51=\"\",X51=\"\"),\"\",VLOOKUP(X51,Epaules!$A$2:$BU$76,MATCH(F51,(Epaules!$B$1:$BU$1),1)+1))","v":""},null,{"$f":"IF(OR(E51=\"\",Z51=\"\"),\"\",VLOOKUP(Z51,'pointe de pieds'!$A$2:$BU$110,MATCH(F51,('pointe de pieds'!$B$1:$BU$1),1)+1))","v":""},"",""]
[{"$f":"IF(D52=\"\",\"\",Accueil!$D$6)","v":""},{"$f":"IF(OR(Accueil!$D$6=\"\",C52=\"\",D52=\"\"),\"\",UPPER(LOOKUP(C52,Accueil!$C$30:$C$129,Accueil!$D$30:$D$129)))","v":""},{"$nulls":3},{"$f":"IF(OR(Accueil!$D$6=\"\",D52=\"\",E52=\"\"),\"\",DATEDIF(E52,LOOKUP(C52,Accueil!$C$30:$C$129,Accueil!$E$30:$E$129),\"m\"))","v":""},null,null,{"$f":"IF(OR(E52=\"\",H52=\"\"),\"\",VLOOKUP(H52,Détente!$A$2:$BU$157,MATCH(F52,(Détente!$B$1:$BU$1),1)+1))","v":""},null,{"$f":"IF(OR(E52=\"\",J52=\"\"),\"\",VLOOKUP(J52,Sautillers!$A$2:$BU$99,MATCH(F52,(Sautillers!$B$1:$BU$1),1)+1))","v":""},null,{"$f":"IF(OR(E52=\"\",L52=\"\"),\"\",VLOOKUP(L52,'Course 20 m'!$A$2:$BU$373,MATCH(F52,('Course 20 m'!$B$1:$BU$1),1)+1))","v":""},null,{"$f":"IF(OR(E52=\"\",N52=\"\"),\"\",VLOOKUP(N52,'Ecarts D&G'!$A$2:$BU$147,MATCH(F52,('Ecarts D&G'!$B$1:$BU$1),1)+1))","v":""},null,{"$f":"IF(OR(E52=\"\",P52=\"\"),\"\",VLOOKUP(P52,'Ecarts D&G'!$A$2:$BU$147,MATCH(F52,('Ecarts D&G'!$B$1:$BU$1),1)+1))","v":""},null,{"$f":"IF(OR(E52=\"\",R52=\"\"),\"\",VLOOKUP(R52,'Ecart facial'!$A$2:$BU$143,MATCH(F52,('Ecart facial'!$B$1:$BU$1),1)+1))","v":""},null,{"$f":"IF(OR(E52=\"\",T52=\"\"),\"\",VLOOKUP(T52,'Fermeture TJ'!$A$2:$BU$126,MATCH(F52,('Fermeture TJ'!$B$1:$BU$1),1)+1))","v":""},null,{"$f":"IF(OR(E52=\"\",V52=\"\"),\"\",VLOOKUP(V52,Pont!$A$2:$BU$188,MATCH(F52,(Pont!$B$1:$BU$1),1)+1))","v":""},null,{"$f":"IF(OR(E52=\"\",X52=\"\"),\"\",VLOOKUP(X52,Epaules!$A$2:$BU$76,MATCH(F52,(Epaules!$B$1:$BU$1),1)+1))","v":""},null,{"$f":"IF(OR(E52=\"\",Z52=\"\"),\"\",VLOOKUP(Z52,'pointe de pieds'!$A$2:$BU$110,MATCH(F52,('pointe de pieds'!$B$1:$BU$1),1)+1))","v":""},"",""]
[{"$f":"IF(D53=\"\",\"\",Accueil!$D$6)","v":""},{"$f":"IF(OR(Accueil!$D$6=\"\",C53=\"\",D53=\"\"),\"\",UPPER(LOOKUP(C53,Accueil!$C$30:$C$129,Accueil!$D$30:$D$129)))","v":""},{"$nulls":3},{"$f":"IF(OR(Accueil!$D$6=\"\",D53=\"\",E53=\"\"),\"\",DATEDIF(E53,LOOKUP(C53,Accueil!$C$30:$C$129,Accueil!$E$30:$E$129),\"m\"))","v":""},null,null,{"$f":"IF(OR(E53=\"\",H53=\"\"),\"\",VLOOKUP(H53,Détente!$A$2:$BU$157,MATCH(F53,(Détente!$B$1:$BU$1),1)+1))","v":""},null,{"$f":"IF(OR(E53=\"\",J53=\"\"),\"\",VLOOKUP(J53,Sautillers!$A$2:$BU$99,MATCH(F53,(Sautillers!$B$1:$BU$1),1)+1))","v":""},null,{"$f":"IF(OR(E53=\"\",L53=\"\"),\"\",VLOOKUP(L53,'Course 20 m'!$A$2:$BU$373,MATCH(F53,('Course 20 m'!$B$1:$BU$1),1)+1))","v":""},null,{"$f":"IF(OR(E53=\"\",N53=\"\"),\"\",VLOOKUP(N53,'Ecarts D&G'!$A$2:$BU$147,MATCH(F53,('Ecarts D&G'!$B$1:$BU$1),1)+1))","v":""},null,{"$f":"IF(OR(E53=\"\",P53=\"\"),\"\",VLOOKUP(P53,'Ecarts D&G'!$A$2:$BU$147,MATCH(F53,('Ecarts D&G'!$B$1:$BU$1),1)+1))","v":""},null,{"$f":"IF(OR(E53=\"\",R53=\"\"),\"\",VLOOKUP(R53,'Ecart facial'!$A$2:$BU$143,MATCH(F53,('Ecart facial'!$B$1:$BU$1),1)+1))","v":""},null,{"$f":"IF(OR(E53=\"\",T53=\"\"),\"\",VLOOKUP(T53,'Fermeture TJ'!$A$2:$BU$126,MATCH(F53,('Fermeture TJ'!$B$1:$BU$1),1)+1))","v":""},null,{"$f":"IF(OR(E53=\"\",V53=\"\"),\"\",VLOOKUP(V53,Pont!$A$2:$BU$188,MATCH(F53,(Pont!$B$1:$BU$1),1)+1))","v":""},null,{"$f":"IF(OR(E53=\"\",X53=\"\"),\"\",VLOOKUP(X53,Epaules!$A$2:$BU$76,MATCH(F53,(Epaules!$B$1:$BU$1),1)+1))","v":""},null,{"$f":"IF(OR(E53=\"\",Z53=\"\"),\"\",VLOOKUP(Z53,'pointe de pieds'!$A$2:$BU$110,MATCH(F53,('pointe de pieds'!$B$1:$BU$1),1)+1))","v":""},"",""]
[{"$f":"IF(D54=\"\",\"\",Accueil!$D$6)","v":""},{"$f":"IF(OR(Accueil!$D$6=\"\",C54=\"\",D54=\"\"),\"\",UPPER(LOOKUP(C54,Accueil!$C$30:$C$129,Accueil!$D$30:$D$129)))","v":""},{"$nulls":3},{"$f":"IF(OR(Accueil!$D$6=\"\",D54=\"\",E54=\"\"),\"\",DATEDIF(E54,LOOKUP(C54,Accueil!$C$30:$C$129,Accueil!$E$30:$E$129),\"m\"))","v":""},null,null,{"$f":"IF(OR(E54=\"\",H54=\"\"),\"\",VLOOKUP(H54,Détente!$A$2:$BU$157,MATCH(F54,(Détente!$B$1:$BU$1),1)+1))","v":""},null,{"$f":"IF(OR(E54=\"\",J54=\"\"),\"\",VLOOKUP(J54,Sautillers!$A$2:$BU$99,MATCH(F54,(Sautillers!$B$1:$BU$1),1)+1))","v":""},null,{"$f":"IF(OR(E54=\"\",L54=\"\"),\"\",VLOOKUP(L54,'Course 20 m'!$A$2:$BU$373,MATCH(F54,('Course 20 m'!$B$1:$BU$1),1)+1))","v":""},null,{"$f":"IF(OR(E54=\"\",N54=\"\"),\"\",VLOOKUP(N54,'Ecarts D&G'!$A$2:$BU$147,MATCH(F54,('Ecarts D&G'!$B$1:$BU$1),1)+1))","v":""},null,{"$f":"IF(OR(E54=\"\",P54=\"\"),\"\",VLOOKUP(P54,'Ecarts D&G'!$A$2:$BU$147,MATCH(F54,('Ecarts D&G'!$B$1:$BU$1),1)+1))","v":""},null,{"$f":"IF(OR(E54=\"\",R54=\"\"),\"\",VLOOKUP(R54,'Ecart facial'!$A$2:$BU$143,MATCH(F54,('Ecart facial'!$B$1:$BU$1),1)+1))","v":""},null,{"$f":"IF(OR(E54=\"\",T54=\"\"),\"\",VLOOKUP(T54,'Fermeture TJ'!$A$2:$BU$126,MATCH(F54,('Fermeture TJ'!$B$1:$BU$1),1)+1))","v":""},null,{"$f":"IF(OR(E54=\"\",V54=\"\"),\"\",VLOOKUP(V54,Pont!$A$2:$BU$188,MATCH(F54,(Pont!$B$1:$BU$1),1)+1))","v":""},null,{"$f":"IF(OR(E54=\"\",X54=\"\"),\"\",VLOOKUP(X54,Epaules!$A$2:$BU$76,MATCH(F54,(Epaules!$B$1:$BU$1),1)+1))","v":""},null,{"$f":"IF(OR(E54=\"\",Z54=\"\"),\"\",VLOOKUP(Z54,'pointe de pieds'!$A$2:$BU$110,MATCH(F54,('pointe de pieds'!$B$1:$BU$1),1)+1))","v":""},"",""]
[{"$f":"IF(D55=\"\",\"\",Accueil!$D$6)","v":""},{"$f":"IF(OR(Accueil!$D$6=\"\",C55=\"\",D55=\"\"),\"\",UPPER(LOOKUP(C55,Accueil!$C$30:$C$129,Accueil!$D$30:$D$129)))","v":""},{"$nulls":3},{"$f":"IF(OR(Accueil!$D$6=\"\",D55=\"\",E55=\"\"),\"\",DATEDIF(E55,LOOKUP(C55,Accueil!$C$30:$C$129,Accueil!$E$30:$E$129),\"m\"))","v":""},null,null,{"$f":"IF(OR(E55=\"\",H55=\"\"),\"\",VLOOKUP(H55,Détente!$A$2:$BU$157,MATCH(F55,(Détente!$B$1:$BU$1),1)+1))","v":""},null,{"$f":"IF(OR(E55=\"\",J55=\"\"),\"\",VLOOKUP(J55,Sautillers!$A$2:$BU$99,MATCH(F55,(Sautillers!$B$1:$BU$1),1)+1))","v":""},null,{"$f":"IF(OR(E55=\"\",L55=\"\"),\"\",VLOOKUP(L55,'Course 20 m'!$A$2:$BU$373,MATCH(F55,('Course 20 m'!$B$1:$BU$1),1)+1))","v":""},null,{"$f":"IF(OR(E55=\"\",N55=\"\"),\"\",VLOOKUP(N55,'Ecarts D&G'!$A$2:$BU$147,MATCH(F55,('Ecarts D&G'!$B$1:$BU$1),1)+1))","v":""},null,{"$f":"IF(OR(E55=\"\",P55=\"\"),\"\",VLOOKUP(P55,'Ecarts D&G'!$A$2:$BU$147,MATCH(F55,('Ecarts D&G'!$B$1:$BU$1),1)+1))","v":""},null,{"$f":"IF(OR(E55=\"\",R55=\"\"),\"\",VLOOKUP(R55,'Ecart facial'!$A$2:$BU$143,MATCH(F55,('Ecart facial'!$B$1:$BU$1),1)+1))","v":""},null,{"$f":"IF(OR(E55=\"\",T55=\"\"),\"\",VLOOKUP(T55,'Fermeture TJ'!$A$2:$BU$126,MATCH(F55,('Fermeture TJ'!$B$1:$BU$1),1)+1))","v":""},null,{"$f":"IF(OR(E55=\"\",V55=\"\"),\"\",VLOOKUP(V55,Pont!$A$2:$BU$188,MATCH(F55,(Pont!$B$1:$BU$1),1)+1))","v":""},null,{"$f":"IF(OR(E55=\"\",X55=\"\"),\"\",VLOOKUP(X55,Epaules!$A$2:$BU$76,MATCH(F55,(Epaules!$B$1:$BU$1),1)+1))","v":""},null,{"$f":"IF(OR(E55=\"\",Z55=\"\"),\"\",VLOOKUP(Z55,'pointe de pieds'!$A$2:$BU$110,MATCH(F55,('pointe de pieds'!$B$1:$BU$1),1)+1))","v":""},"",""]
[{"$f":"IF(D56=\"\",\"\",Accueil!$D$6)","v":""},{"$f":"IF(OR(Accueil!$D$6=\"\",C56=\"\",D56=\"\"),\"\",UPPER(LOOKUP(C56,Accueil!$C$30:$C$129,Accueil!$D$30:$D$129)))","v":""},{"$nulls":3},{"$f":"IF(OR(Accueil!$D$6=\"\",D56=\"\",E56=\"\"),\"\",DATEDIF(E56,LOOKUP(C56,Accueil!$C$30:$C$129,Accueil!$E$30:$E$129),\"m\"))","v":""},null,null,{"$f":"IF(OR(E56=\"\",H56=\"\"),\"\",VLOOKUP(H56,Détente!$A$2:$BU$157,MATCH(F56,(Détente!$B$1:$BU$1),1)+1))","v":""},null,{"$f":"IF(OR(E56=\"\",J56=\"\"),\"\",VLOOKUP(J56,Sautillers!$A$2:$BU$99,MATCH(F56,(Sautillers!$B$1:$BU$1),1)+1))","v":""},null,{"$f":"IF(OR(E56=\"\",L56=\"\"),\"\",VLOOKUP(L56,'Course 20 m'!$A$2:$BU$373,MATCH(F56,('Course 20 m'!$B$1:$BU$1),1)+1))","v":""},null,{"$f":"IF(OR(E56=\"\",N56=\"\"),\"\",VLOOKUP(N56,'Ecarts D&G'!$A$2:$BU$147,MATCH(F56,('Ecarts D&G'!$B$1:$BU$1),1)+1))","v":""},null,{"$f":"IF(OR(E56=\"\",P56=\"\"),\"\",VLOOKUP(P56,'Ecarts D&G'!$A$2:$BU$147,MATCH(F56,('Ecarts D&G'!$B$1:$BU$1),1)+1))","v":""},null,{"$f":"IF(OR(E56=\"\",R56=\"\"),\"\",VLOOKUP(R56,'Ecart facial'!$A$2:$BU$143,MATCH(F56,('Ecart facial'!$B$1:$BU$1),1)+1))","v":""},null,{"$f":"IF(OR(E56=\"\",T56=\"\"),\"\",VLOOKUP(T56,'Fermeture TJ'!$A$2:$BU$126,MATCH(F56,('Fermeture TJ'!$B$1:$BU$1),1)+1))","v":""},null,{"$f":"IF(OR(E56=\"\",V56=\"\"),\"\",VLOOKUP(V56,Pont!$A$2:$BU$188,MATCH(F56,(Pont!$B$1:$BU$1),1)+1))","v":""},null,{"$f":"IF(OR(E56=\"\",X56=\"\"),\"\",VLOOKUP(X56,Epaules!$A$2:$BU$76,MATCH(F56,(Epaules!$B$1:$BU$1),1)+1))","v":""},null,{"$f":"IF(OR(E56=\"\",Z56=\"\"),\"\",VLOOKUP(Z56,'pointe de pieds'!$A$2:$BU$110,MATCH(F56,('pointe de pieds'!$B$1:$BU$1),1)+1))","v":""},"",""]
[{"$f":"IF(D57=\"\",\"\",Accueil!$D$6)","v":""},{"$f":"IF(OR(Accueil!$D$6=\"\",C57=\"\",D57=\"\"),\"\",UPPER(LOOKUP(C57,Accueil!$C$30:$C$129,Accueil!$D$30:$D$129)))","v":""},{"$nulls":3},{"$f":"IF(OR(Accueil!$D$6=\"\",D57=\"\",E57=\"\"),\"\",DATEDIF(E57,LOOKUP(C57,Accueil!$C$30:$C$129,Accueil!$E$30:$E$129),\"m\"))","v":""},null,null,{"$f":"IF(OR(E57=\"\",H57=\"\"),\"\",VLOOKUP(H57,Détente!$A$2:$BU$157,MATCH(F57,(Détente!$B$1:$BU$1),1)+1))","v":""},null,{"$f":"IF(OR(E57=\"\",J57=\"\"),\"\",VLOOKUP(J57,Sautillers!$A$2:$BU$99,MATCH(F57,(Sautillers!$B$1:$BU$1),1)+1))","v":""},null,{"$f":"IF(OR(E57=\"\",L57=\"\"),\"\",VLOOKUP(L57,'Course 20 m'!$A$2:$BU$373,MATCH(F57,('Course 20 m'!$B$1:$BU$1),1)+1))","v":""},null,{"$f":"IF(OR(E57=\"\",N57=\"\"),\"\",VLOOKUP(N57,'Ecarts D&G'!$A$2:$BU$147,MATCH(F57,('Ecarts D&G'!$B$1:$BU$1),1)+1))","v":""},null,{"$f":"IF(OR(E57=\"\",P57=\"\"),\"\",VLOOKUP(P57,'Ecarts D&G'!$A$2:$BU$147,MATCH(F57,('Ecarts D&G'!$B$1:$BU$1),1)+1))","v":""},null,{"$f":"IF(OR(E57=\"\",R57=\"\"),\"\",VLOOKUP(R57,'Ecart facial'!$A$2:$BU$143,MATCH(F57,('Ecart facial'!$B$1:$BU$1),1)+1))","v":""},null,{"$f":"IF(OR(E57=\"\",T57=\"\"),\"\",VLOOKUP(T57,'Fermeture TJ'!$A$2:$BU$126,MATCH(F57,('Fermeture TJ'!$B$1:$BU$1),1)+1))","v":""},null,{"$f":"IF(OR(E57=\"\",V57=\"\"),\"\",VLOOKUP(V57,Pont!$A$2:$BU$188,MATCH(F57,(Pont!$B$1:$BU$1),1)+1))","v":""},null,{"$f":"IF(OR(E57=\"\",X57=\"\"),\"\",VLOOKUP(X57,Epaules!$A$2:$BU$76,MATCH(F57,(Epaules!$B$1:$BU$1),1)+1))","v":""},null,{"$f":"IF(OR(E57=\"\",Z57=\"\"),\"\",VLOOKUP(Z57,'pointe de pieds'!$A$2:$BU$110,MATCH(F57,('pointe de pieds'!$B$1:$BU$1),1)+1))","v":""},"",""]
[{"$f":"IF(D58=\"\",\"\",Accueil!$D$6)","v":""},{"$f":"IF(OR(Accueil!$D$6=\"\",C58=\"\",D58=\"\"),\"\",UPPER(LOOKUP(C58,Accueil!$C$30:$C$129,Accueil!$D$30:$D$129)))","v":""},{"$nulls":3},{"$f":"IF(OR(Accueil!$D$6=\"\",D58=\"\",E58=\"\"),\"\",DATEDIF(E58,LOOKUP(C58,Accueil!$C$30:$C$129,Accueil!$E$30:$E$129),\"m\"))","v":""},null,null,{"$f":"IF(OR(E58=\"\",H58=\"\"),\"\",VLOOKUP(H58,Détente!$A$2:$BU$157,MATCH(F58,(Détente!$B$1:$BU$1),1)+1))","v":""},null,{"$f":"IF(OR(E58=\"\",J58=\"\"),\"\",VLOOKUP(J58,Sautillers!$A$2:$BU$99,MATCH(F58,(Sautillers!$B$1:$BU$1),1)+1))","v":""},null,{"$f":"IF(OR(E58=\"\",L58=\"\"),\"\",VLOOKUP(L58,'Course 20 m'!$A$2:$BU$373,MATCH(F58,('Course 20 m'!$B$1:$BU$1),1)+1))","v":""},null,{"$f":"IF(OR(E58=\"\",N58=\"\"),\"\",VLOOKUP(N58,'Ecarts D&G'!$A$2:$BU$147,MATCH(F58,('Ecarts D&G'!$B$1:$BU$1),1)+1))","v":""},null,{"$f":"IF(OR(E58=\"\",P58=\"\"),\"\",VLOOKUP(P58,'Ecarts D&G'!$A$2:$BU$147,MATCH(F58,('Ecarts D&G'!$B$1:$BU$1),1)+1))","v":""},null,{"$f":"IF(OR(E58=\"\",R58=\"\"),\"\",VLOOKUP(R58,'Ecart facial'!$A$2:$BU$143,MATCH(F58,('Ecart facial'!$B$1:$BU$1),1)+1))","v":""},null,{"$f":"IF(OR(E58=\"\",T58=\"\"),\"\",VLOOKUP(T58,'Fermeture TJ'!$A$2:$BU$126,MATCH(F58,('Fermeture TJ'!$B$1:$BU$1),1)+1))","v":""},null,{"$f":"IF(OR(E58=\"\",V58=\"\"),\"\",VLOOKUP(V58,Pont!$A$2:$BU$188,MATCH(F58,(Pont!$B$1:$BU$1),1)+1))","v":""},null,{"$f":"IF(OR(E58=\"\",X58=\"\"),\"\",VLOOKUP(X58,Epaules!$A$2:$BU$76,MATCH(F58,(Epaules!$B$1:$BU$1),1)+1))","v":""},null,{"$f":"IF(OR(E58=\"\",Z58=\"\"),\"\",VLOOKUP(Z58,'pointe de pieds'!$A$2:$BU$110,MATCH(F58,('pointe de pieds'!$B$1:$BU$1),1)+1))","v":""},"",""]
[{"$f":"IF(D59=\"\",\"\",Accueil!$D$6)","v":""},{"$f":"IF(OR(Accueil!$D$6=\"\",C59=\"\",D59=\"\"),\"\",UPPER(LOOKUP(C59,Accueil!$C$30:$C$129,Accueil!$D$30:$D$129)))","v":""},{"$nulls":3},{"$f":"IF(OR(Accueil!$D$6=\"\",D59=\"\",E59=\"\"),\"\",DATEDIF(E59,LOOKUP(C59,Accueil!$C$30:$C$129,Accueil!$E$30:$E$129),\"m\"))","v":""},null,null,{"$f":"IF(OR(E59=\"\",H59=\"\"),\"\",VLOOKUP(H59,Détente!$A$2:$BU$157,MATCH(F59,(Détente!$B$1:$BU$1),1)+1))","v":""},null,{"$f":"IF(OR(E59=\"\",J59=\"\"),\"\",VLOOKUP(J59,Sautillers!$A$2:$BU$99,MATCH(F59,(Sautillers!$B$1:$BU$1),1)+1))","v":""},null,{"$f":"IF(OR(E59=\"\",L59=\"\"),\"\",VLOOKUP(L59,'Course 20 m'!$A$2:$BU$373,MATCH(F59,('Course 20 m'!$B$1:$BU$1),1)+1))","v":""},null,{"$f":"IF(OR(E59=\"\",N59=\"\"),\"\",VLOOKUP(N59,'Ecarts D&G'!$A$2:$BU$147,MATCH(F59,('Ecarts D&G'!$B$1:$BU$1),1)+1))","v":""},null,{"$f":"IF(OR(E59=\"\",P59=\"\"),\"\",VLOOKUP(P59,'Ecarts D&G'!$A$2:$BU$147,MATCH(F59,('Ecarts D&G'!$B$1:$BU$1),1)+1))","v":""},null,{"$f":"IF(OR(E59=\"\",R59=\"\"),\"\",VLOOKUP(R59,'Ecart facial'!$A$2:$BU$143,MATCH(F59,('Ecart facial'!$B$1:$BU$1),1)+1))","v":""},null,{"$f":"IF(OR(E59=\"\",T59=\"\"),\"\",VLOOKUP(T59,'Fermeture TJ'!$A$2:$BU$126,MATCH(F59,('Fermeture TJ'!$B$1:$BU$1),1)+1))","v":""},null,{"$f":"IF(OR(E59=\"\",V59=\"\"),\"\",VLOOKUP(V59,Pont!$A$2:$BU$188,MATCH(F59,(Pont!$B$1:$BU$1),1)+1))","v":""},null,{"$f":"IF(OR(E59=\"\",X59=\"\"),\"\",VLOOKUP(X59,Epaules!$A$2:$BU$76,MATCH(F59,(Epaules!$B$1:$BU$1),1)+1))","v":""},null,{"$f":"IF(OR(E59=\"\",Z59=\"\"),\"\",VLOOKUP(Z59,'pointe de pieds'!$A$2:$BU$110,MATCH(F59,('pointe de pieds'!$B$1:$BU$1),1)+1))","v":""},"",""]
[{"$f":"IF(D60=\"\",\"\",Accueil!$D$6)","v":""},{"$f":"IF(OR(Accueil!$D$6=\"\",C60=\"\",D60=\"\"),\"\",UPPER(LOOKUP(C60,Accueil!$C$30:$C$129,Accueil!$D$30:$D$129)))","v":""},{"$nulls":3},{"$f":"IF(OR(Accueil!$D$6=\"\",D60=\"\",E60=\"\"),\"\",DATEDIF(E60,LOOKUP(C60,Accueil!$C$30:$C$129,Accueil!$E$30:$E$129),\"m\"))","v":""},null,null,{"$f":"IF(OR(E60=\"\",H60=\"\"),\"\",VLOOKUP(H60,Détente!$A$2:$BU$157,MATCH(F60,(Détente!$B$1:$BU$1),1)+1))","v":""},null,{"$f":"IF(OR(E60=\"\",J60=\"\"),\"\",VLOOKUP(J60,Sautillers!$A$2:$BU$99,MATCH(F60,(Sautillers!$B$1:$BU$1),1)+1))","v":""},null,{"$f":"IF(OR(E60=\"\",L60=\"\"),\"\",VLOOKUP(L60,'Course 20 m'!$A$2:$BU$373,MATCH(F60,('Course 20 m'!$B$1:$BU$1),1)+1))","v":""},null,{"$f":"IF(OR(E60=\"\",N60=\"\"),\"\",VLOOKUP(N60,'Ecarts D&G'!$A$2:$BU$147,MATCH(F60,('Ecarts D&G'!$B$1:$BU$1),1)+1))","v":""},null,{"$f":"IF(OR(E60=\"\",P60=\"\"),\"\",VLOOKUP(P60,'Ecarts D&G'!$A$2:$BU$147,MATCH(F60,('Ecarts D&G'!$B$1:$BU$1),1)+1))","v":""},null,{"$f":"IF(OR(E60=\"\",R60=\"\"),\"\",VLOOKUP(R60,'Ecart facial'!$A$2:$BU$143,MATCH(F60,('Ecart facial'!$B$1:$BU$1),1)+1))","v":""},null,{"$f":"IF(OR(E60=\"\",T60=\"\"),\"\",VLOOKUP(T60,'Fermeture TJ'!$A$2:$BU$126,MATCH(F60,('Fermeture TJ'!$B$1:$BU$1),1)+1))","v":""},null,{"$f":"IF(OR(E60=\"\",V60=\"\"),\"\",VLOOKUP(V60,Pont!$A$2:$BU$188,MATCH(F60,(Pont!$B$1:$BU$1),1)+1))","v":""},null,{"$f":"IF(OR(E60=\"\",X60=\"\"),\"\",VLOOKUP(X60,Epaules!$A$2:$BU$76,MATCH(F60,(Epaules!$B$1:$BU$1),1)+1))","v":""},null,{"$f":"IF(OR(E60=\"\",Z60=\"\"),\"\",VLOOKUP(Z60,'pointe de pieds'!$A$2:$BU$110,MATCH(F60,('pointe de pieds'!$B$1:$BU$1),1)+1))","v":""},"",""]
[{"$f":"IF(D61=\"\",\"\",Accueil!$D$6)","v":""},{"$f":"IF(OR(Accueil!$D$6=\"\",C61=\"\",D61=\"\"),\"\",UPPER(LOOKUP(C61,Accueil!$C$30:$C$129,Accueil!$D$30:$D$129)))","v":""},{"$nulls":3},{"$f":"IF(OR(Accueil!$D$6=\"\",D61=\"\",E61=\"\"),\"\",DATEDIF(E61,LOOKUP(C61,Accueil!$C$30:$C$129,Accueil!$E$30:$E$129),\"m\"))","v":""},null,null,{"$f":"IF(OR(E61=\"\",H61=\"\"),\"\",VLOOKUP(H61,Détente!$A$2:$BU$157,MATCH(F61,(Détente!$B$1:$BU$1),1)+1))","v":""},null,{"$f":"IF(OR(E61=\"\",J61=\"\"),\"\",VLOOKUP(J61,Sautillers!$A$2:$BU$99,MATCH(F61,(Sautillers!$B$1:$BU$1),1)+1))","v":""},null,{"$f":"IF(OR(E61=\"\",L61=\"\"),\"\",VLOOKUP(L61,'Course 20 m'!$A$2:$BU$373,MATCH(F61,('Course 20 m'!$B$1:$BU$1),1)+1))","v":""},null,{"$f":"IF(OR(E61=\"\",N61=\"\"),\"\",VLOOKUP(N61,'Ecarts D&G'!$A$2:$BU$147,MATCH(F61,('Ecarts D&G'!$B$1:$BU$1),1)+1))","v":""},null,{"$f":"IF(OR(E61=\"\",P61=\"\"),\"\",VLOOKUP(P61,'Ecarts D&G'!$A$2:$BU$147,MATCH(F61,('Ecarts D&G'!$B$1:$BU$1),1)+1))","v":""},null,{"$f":"IF(OR(E61=\"\",R61=\"\"),\"\",VLOOKUP(R61,'Ecart facial'!$A$2:$BU$143,MATCH(F61,('Ecart facial'!$B$1:$BU$1),1)+1))","v":""},null,{"$f":"IF(OR(E61=\"\",T61=\"\"),\"\",VLOOKUP(T61,'Fermeture TJ'!$A$2:$BU$126,MATCH(F61,('Fermeture TJ'!$B$1:$BU$1),1)+1))","v":""},null,{"$f":"IF(OR(E61=\"\",V61=\"\"),\"\",VLOOKUP(V61,Pont!$A$2:$BU$188,MATCH(F61,(Pont!$B$1:$BU$1),1)+1))","v":""},null,{"$f":"IF(OR(E61=\"\",X61=\"\"),\"\",VLOOKUP(X61,Epaules!$A$2:$BU$76,MATCH(F61,(Epaules!$B$1:$BU$1),1)+1))","v":""},null,{"$f":"IF(OR(E61=\"\",Z61=\"\"),\"\",VLOOKUP(Z61,'pointe de pieds'!$A$2:$BU$110,MATCH(F61,('pointe de pieds'!$B$1:$BU$1),1)+1))","v":""},"",""]
[{"$f":"IF(D62=\"\",\"\",Accueil!$D$6)","v":""},{"$f":"IF(OR(Accueil!$D$6=\"\",C62=\"\",D62=\"\"),\"\",UPPER(LOOKUP(C62,Accueil!$C$30:$C$129,Accueil!$D$30:$D$129)))","v":""},{"$nulls":3},{"$f":"IF(OR(Accueil!$D$6=\"\",D62=\"\",E62=\"\"),\"\",DATEDIF(E62,LOOKUP(C62,Accueil!$C$30:$C$129,Accueil!$E$30:$E$129),\"m\"))","v":""},null,null,{"$f":"IF(OR(E62=\"\",H62=\"\"),\"\",VLOOKUP(H62,Détente!$A$2:$BU$157,MATCH(F62,(Détente!$B$1:$BU$1),1)+1))","v":""},null,{"$f":"IF(OR(E62=\"\",J62=\"\"),\"\",VLOOKUP(J62,Sautillers!$A$2:$BU$99,MATCH(F62,(Sautillers!$B$1:$BU$1),1)+1))","v":""},null,{"$f":"IF(OR(E62=\"\",L62=\"\"),\"\",VLOOKUP(L62,'Course 20 m'!$A$2:$BU$373,MATCH(F62,('Course 20 m'!$B$1:$BU$1),1)+1))","v":""},null,{"$f":"IF(OR(E62=\"\",N62=\"\"),\"\",VLOOKUP(N62,'Ecarts D&G'!$A$2:$BU$147,MATCH(F62,('Ecarts D&G'!$B$1:$BU$1),1)+1))","v":""},null,{"$f":"IF(OR(E62=\"\",P62=\"\"),\"\",VLOOKUP(P62,'Ecarts D&G'!$A$2:$BU$147,MATCH(F62,('Ecarts D&G'!$B$1:$BU$1),1)+1))","v":""},null,{"$f":"IF(OR(E62=\"\",R62=\"\"),\"\",VLOOKUP(R62,'Ecart facial'!$A$2:$BU$143,MATCH(F62,('Ecart facial'!$B$1:$BU$1),1)+1))","v":""},null,{"$f":"IF(OR(E62=\"\",T62=\"\"),\"\",VLOOKUP(T62,'Fermeture TJ'!$A$2:$BU$126,MATCH(F62,('Fermeture TJ'!$B$1:$BU$1),1)+1))","v":""},null,{"$f":"IF(OR(E62=\"\",V62=\"\"),\"\",VLOOKUP(V62,Pont!$A$2:$BU$188,MATCH(F62,(Pont!$B$1:$BU$1),1)+1))","v":""},null,{"$f":"IF(OR(E62=\"\",X62=\"\"),\"\",VLOOKUP(X62,Epaules!$A$2:$BU$76,MATCH(F62,(Epaules!$B$1:$BU$1),1)+1))","v":""},null,{"$f":"IF(OR(E62=\"\",Z62=\"\"),\"\",VLOOKUP(Z62,'pointe de pieds'!$A$2:$BU$110,MATCH(F62,('pointe de pieds'!$B$1:$BU$1),1)+1))","v":""},"",""]
[{"$f":"IF(D63=\"\",\"\",Accueil!$D$6)","v":""},{"$f":"IF(OR(Accueil!$D$6=\"\",C63=\"\",D63=\"\"),\"\",UPPER(LOOKUP(C63,Accueil!$C$30:$C$129,Accueil!$D$30:$D$129)))","v":""},{"$nulls":3},{"$f":"IF(OR(Accueil!$D$6=\"\",D63=\"\",E63=\"\"),\"\",DATEDIF(E63,LOOKUP(C63,Accueil!$C$30:$C$129,Accueil!$E$30:$E$129),\"m\"))","v":""},null,null,{"$f":"IF(OR(E63=\"\",H63=\"\"),\"\",VLOOKUP(H63,Détente!$A$2:$BU$157,MATCH(F63,(Détente!$B$1:$BU$1),1)+1))","v":""},null,{"$f":"IF(OR(E63=\"\",J63=\"\"),\"\",VLOOKUP(J63,Sautillers!$A$2:$BU$99,MATCH(F63,(Sautillers!$B$1:$BU$1),1)+1))","v":""},null,{"$f":"IF(OR(E63=\"\",L63=\"\"),\"\",VLOOKUP(L63,'Course 20 m'!$A$2:$BU$373,MATCH(F63,('Course 20 m'!$B$1:$BU$1),1)+1))","v":""},null,{"$f":"IF(OR(E63=\"\",N63=\"\"),\"\",VLOOKUP(N63,'Ecarts D&G'!$A$2:$BU$147,MATCH(F63,('Ecarts D&G'!$B$1:$BU$1),1)+1))","v":""},null,{"$f":"IF(OR(E63=\"\",P63=\"\"),\"\",VLOOKUP(P63,'Ecarts D&G'!$A$2:$BU$147,MATCH(F63,('Ecarts D&G'!$B$1:$BU$1),1)+1))","v":""},null,{"$f":"IF(OR(E63=\"\",R63=\"\"),\"\",VLOOKUP(R63,'Ecart facial'!$A$2:$BU$143,MATCH(F63,('Ecart facial'!$B$1:$BU$1),1)+1))","v":""},null,{"$f":"IF(OR(E63=\"\",T63=\"\"),\"\",VLOOKUP(T63,'Fermeture TJ'!$A$2:$BU$126,MATCH(F63,('Fermeture TJ'!$B$1:$BU$1),1)+1))","v":""},null,{"$f":"IF(OR(E63=\"\",V63=\"\"),\"\",VLOOKUP(V63,Pont!$A$2:$BU$188,MATCH(F63,(Pont!$B$1:$BU$1),1)+1))","v":""},null,{"$f":"IF(OR(E63=\"\",X63=\"\"),\"\",VLOOKUP(X63,Epaules!$A$2:$BU$76,MATCH(F63,(Epaules!$B$1:$BU$1),1)+1))","v":""},null,{"$f":"IF(OR(E63=\"\",Z63=\"\"),\"\",VLOOKUP(Z63,'pointe de pieds'!$A$2:$BU$110,MATCH(F63,('pointe de pieds'!$B$1:$BU$1),1)+1))","v":""},"",""]
[{"$f":"IF(D64=\"\",\"\",Accueil!$D$6)","v":""},{"$f":"IF(OR(Accueil!$D$6=\"\",C64=\"\",D64=\"\"),\"\",UPPER(LOOKUP(C64,Accueil!$C$30:$C$129,Accueil!$D$30:$D$129)))","v":""},{"$nulls":3},{"$f":"IF(OR(Accueil!$D$6=\"\",D64=\"\",E64=\"\"),\"\",DATEDIF(E64,LOOKUP(C64,Accueil!$C$30:$C$129,Accueil!$E$30:$E$129),\"m\"))","v":""},null,null,{"$f":"IF(OR(E64=\"\",H64=\"\"),\"\",VLOOKUP(H64,Détente!$A$2:$BU$157,MATCH(F64,(Détente!$B$1:$BU$1),1)+1))","v":""},null,{"$f":"IF(OR(E64=\"\",J64=\"\"),\"\",VLOOKUP(J64,Sautillers!$A$2:$BU$99,MATCH(F64,(Sautillers!$B$1:$BU$1),1)+1))","v":""},null,{"$f":"IF(OR(E64=\"\",L64=\"\"),\"\",VLOOKUP(L64,'Course 20 m'!$A$2:$BU$373,MATCH(F64,('Course 20 m'!$B$1:$BU$1),1)+1))","v":""},null,{"$f":"IF(OR(E64=\"\",N64=\"\"),\"\",VLOOKUP(N64,'Ecarts D&G'!$A$2:$BU$147,MATCH(F64,('Ecarts D&G'!$B$1:$BU$1),1)+1))","v":""},null,{"$f":"IF(OR(E64=\"\",P64=\"\"),\"\",VLOOKUP(P64,'Ecarts D&G'!$A$2:$BU$147,MATCH(F64,('Ecarts D&G'!$B$1:$BU$1),1)+1))","v":""},null,{"$f":"IF(OR(E64=\"\",R64=\"\"),\"\",VLOOKUP(R64,'Ecart facial'!$A$2:$BU$143,MATCH(F64,('Ecart facial'!$B$1:$BU$1),1)+1))","v":""},null,{"$f":"IF(OR(E64=\"\",T64=\"\"),\"\",VLOOKUP(T64,'Fermeture TJ'!$A$2:$BU$126,MATCH(F64,('Fermeture TJ'!$B$1:$BU$1),1)+1))","v":""},null,{"$f":"IF(OR(E64=\"\",V64=\"\"),\"\",VLOOKUP(V64,Pont!$A$2:$BU$188,MATCH(F64,(Pont!$B$1:$BU$1),1)+1))","v":""},null,{"$f":"IF(OR(E64=\"\",X64=\"\"),\"\",VLOOKUP(X64,Epaules!$A$2:$BU$76,MATCH(F64,(Epaules!$B$1:$BU$1),1)+1))","v":""},null,{"$f":"IF(OR(E64=\"\",Z64=\"\"),\"\",VLOOKUP(Z64,'pointe de pieds'!$A$2:$BU$110,MATCH(F64,('pointe de pieds'!$B$1:$BU$1),1)+1))","v":""},"",""]
[{"$f":"IF(D65=\"\",\"\",Accueil!$D$6)","v":""},{"$f":"IF(OR(Accueil!$D$6=\"\",C65=\"\",D65=\"\"),\"\",UPPER(LOOKUP(C65,Accueil!$C$30:$C$129,Accueil!$D$30:$D$129)))","v":""},{"$nulls":3},{"$f":"IF(OR(Accueil!$D$6=\"\",D65=\"\",E65=\"\"),\"\",DATEDIF(E65,LOOKUP(C65,Accueil!$C$30:$C$129,Accueil!$E$30:$E$129),\"m\"))","v":""},null,null,{"$f":"IF(OR(E65=\"\",H65=\"\"),\"\",VLOOKUP(H65,Détente!$A$2:$BU$157,MATCH(F65,(Détente!$B$1:$BU$1),1)+1))","v":""},null,{"$f":"IF(OR(E65=\"\",J65=\"\"),\"\",VLOOKUP(J65,Sautillers!$A$2:$BU$99,MATCH(F65,(Sautillers!$B$1:$BU$1),1)+1))","v":""},null,{"$f":"IF(OR(E65=\"\",L65=\"\"),\"\",VLOOKUP(L65,'Course 20 m'!$A$2:$BU$373,MATCH(F65,('Course 20 m'!$B$1:$BU$1),1)+1))","v":""},null,{"$f":"IF(OR(E65=\"\",N65=\"\"),\"\",VLOOKUP(N65,'Ecarts D&G'!$A$2:$BU$147,MATCH(F65,('Ecarts D&G'!$B$1:$BU$1),1)+1))","v":""},null,{"$f":"IF(OR(E65=\"\",P65=\"\"),\"\",VLOOKUP(P65,'Ecarts D&G'!$A$2:$BU$147,MATCH(F65,('Ecarts D&G'!$B$1:$BU$1),1)+1))","v":""},null,{"$f":"IF(OR(E65=\"\",R65=\"\"),\"\",VLOOKUP(R65,'Ecart facial'!$A$2:$BU$143,MATCH(F65,('Ecart facial'!$B$1:$BU$1),1)+1))","v":""},null,{"$f":"IF(OR(E65=\"\",T65=\"\"),\"\",VLOOKUP(T65,'Fermeture TJ'!$A$2:$BU$126,MATCH(F65,('Fermeture TJ'!$B$1:$BU$1),1)+1))","v":""},null,{"$f":"IF(OR(E65=\"\",V65=\"\"),\"\",VLOOKUP(V65,Pont!$A$2:$BU$188,MATCH(F65,(Pont!$B$1:$BU$1),1)+1))","v":""},null,{"$f":"IF(OR(E65=\"\",X65=\"\"),\"\",VLOOKUP(X65,Epaules!$A$2:$BU$76,MATCH(F65,(Epaules!$B$1:$BU$1),1)+1))","v":""},null,{"$f":"IF(OR(E65=\"\",Z65=\"\"),\"\",VLOOKUP(Z65,'pointe de pieds'!$A$2:$BU$110,MATCH(F65,('pointe de pieds'!$B$1:$BU$1),1)+1))","v":""},"",""]
[{"$f":"IF(D66=\"\",\"\",Accueil!$D$6)","v":""},{"$f":"IF(OR(Accueil!$D$6=\"\",C66=\"\",D66=\"\"),\"\",UPPER(LOOKUP(C66,Accueil!$C$30:$C$129,Accueil!$D$30:$D$129)))","v":""},{"$nulls":3},{"$f":"IF(OR(Accueil!$D$6=\"\",D66=\"\",E66=\"\"),\"\",DATEDIF(E66,LOOKUP(C66,Accueil!$C$30:$C$129,Accueil!$E$30:$E$129),\"m\"))","v":""},null,null,{"$f":"IF(OR(E66=\"\",H66=\"\"),\"\",VLOOKUP(H66,Détente!$A$2:$BU$157,MATCH(F66,(Détente!$B$1:$BU$1),1)+1))","v":""},null,{"$f":"IF(OR(E66=\"\",J66=\"\"),\"\",VLOOKUP(J66,Sautillers!$A$2:$BU$99,MATCH(F66,(Sautillers!$B$1:$BU$1),1)+1))","v":""},null,{"$f":"IF(OR(E66=\"\",L66=\"\"),\"\",VLOOKUP(L66,'Course 20 m'!$A$2:$BU$373,MATCH(F66,('Course 20 m'!$B$1:$BU$1),1)+1))","v":""},null,{"$f":"IF(OR(E66=\"\",N66=\"\"),\"\",VLOOKUP(N66,'Ecarts D&G'!$A$2:$BU$147,MATCH(F66,('Ecarts D&G'!$B$1:$BU$1),1)+1))","v":""},null,{"$f":"IF(OR(E66=\"\",P66=\"\"),\"\",VLOOKUP(P66,'Ecarts D&G'!$A$2:$BU$147,MATCH(F66,('Ecarts D&G'!$B$1:$BU$1),1)+1))","v":""},null,{"$f":"IF(OR(E66=\"\",R66=\"\"),\"\",VLOOKUP(R66,'Ecart facial'!$A$2:$BU$143,MATCH(F66,('Ecart facial'!$B$1:$BU$1),1)+1))","v":""},null,{"$f":"IF(OR(E66=\"\",T66=\"\"),\"\",VLOOKUP(T66,'Fermeture TJ'!$A$2:$BU$126,MATCH(F66,('Fermeture TJ'!$B$1:$BU$1),1)+1))","v":""},null,{"$f":"IF(OR(E66=\"\",V66=\"\"),\"\",VLOOKUP(V66,Pont!$A$2:$BU$188,MATCH(F66,(Pont!$B$1:$BU$1),1)+1))","v":""},null,{"$f":"IF(OR(E66=\"\",X66=\"\"),\"\",VLOOKUP(X66,Epaules!$A$2:$BU$76,MATCH(F66,(Epaules!$B$1:$BU$1),1)+1))","v":""},null,{"$f":"IF(OR(E66=\"\",Z66=\"\"),\"\",VLOOKUP(Z66,'pointe de pieds'!$A$2:$BU$110,MATCH(F66,('pointe de pieds'!$B$1:$BU$1),1)+1))","v":""},"",""]
[{"$f":"IF(D67=\"\",\"\",Accueil!$D$6)","v":""},{"$f":"IF(OR(Accueil!$D$6=\"\",C67=\"\",D67=\"\"),\"\",UPPER(LOOKUP(C67,Accueil!$C$30:$C$129,Accueil!$D$30:$D$129)))","v":""},{"$nulls":3},{"$f":"IF(OR(Accueil!$D$6=\"\",D67=\"\",E67=\"\"),\"\",DATEDIF(E67,LOOKUP(C67,Accueil!$C$30:$C$129,Accueil!$E$30:$E$129),\"m\"))","v":""},null,null,{"$f":"IF(OR(E67=\"\",H67=\"\"),\"\",VLOOKUP(H67,Détente!$A$2:$BU$157,MATCH(F67,(Détente!$B$1:$BU$1),1)+1))","v":""},null,{"$f":"IF(OR(E67=\"\",J67=\"\"),\"\",VLOOKUP(J67,Sautillers!$A$2:$BU$99,MATCH(F67,(Sautillers!$B$1:$BU$1),1)+1))","v":""},null,{"$f":"IF(OR(E67=\"\",L67=\"\"),\"\",VLOOKUP(L67,'Course 20 m'!$A$2:$BU$373,MATCH(F67,('Course 20 m'!$B$1:$BU$1),1)+1))","v":""},null,{"$f":"IF(OR(E67=\"\",N67=\"\"),\"\",VLOOKUP(N67,'Ecarts D&G'!$A$2:$BU$147,MATCH(F67,('Ecarts D&G'!$B$1:$BU$1),1)+1))","v":""},null,{"$f":"IF(OR(E67=\"\",P67=\"\"),\"\",VLOOKUP(P67,'Ecarts D&G'!$A$2:$BU$147,MATCH(F67,('Ecarts D&G'!$B$1:$BU$1),1)+1))","v":""},null,{"$f":"IF(OR(E67=\"\",R67=\"\"),\"\",VLOOKUP(R67,'Ecart facial'!$A$2:$BU$143,MATCH(F67,('Ecart facial'!$B$1:$BU$1),1)+1))","v":""},null,{"$f":"IF(OR(E67=\"\",T67=\"\"),\"\",VLOOKUP(T67,'Fermeture TJ'!$A$2:$BU$126,MATCH(F67,('Fermeture TJ'!$B$1:$BU$1),1)+1))","v":""},null,{"$f":"IF(OR(E67=\"\",V67=\"\"),\"\",VLOOKUP(V67,Pont!$A$2:$BU$188,MATCH(F67,(Pont!$B$1:$BU$1),1)+1))","v":""},null,{"$f":"IF(OR(E67=\"\",X67=\"\"),\"\",VLOOKUP(X67,Epaules!$A$2:$BU$76,MATCH(F67,(Epaules!$B$1:$BU$1),1)+1))","v":""},null,{"$f":"IF(OR(E67=\"\",Z67=\"\"),\"\",VLOOKUP(Z67,'pointe de pieds'!$A$2:$BU$110,MATCH(F67,('pointe de pieds'!$B$1:$BU$1),1)+1))","v":""},"",""]
[{"$f":"IF(D68=\"\",\"\",Accueil!$D$6)","v":""},{"$f":"IF(OR(Accueil!$D$6=\"\",C68=\"\",D68=\"\"),\"\",UPPER(LOOKUP(C68,Accueil!$C$30:$C$129,Accueil!$D$30:$D$129)))","v":""},{"$nulls":3},{"$f":"IF(OR(Accueil!$D$6=\"\",D68=\"\",E68=\"\"),\"\",DATEDIF(E68,LOOKUP(C68,Accueil!$C$30:$C$129,Accueil!$E$30:$E$129),\"m\"))","v":""},null,null,{"$f":"IF(OR(E68=\"\",H68=\"\"),\"\",VLOOKUP(H68,Détente!$A$2:$BU$157,MATCH(F68,(Détente!$B$1:$BU$1),1)+1))","v":""},null,{"$f":"IF(OR(E68=\"\",J68=\"\"),\"\",VLOOKUP(J68,Sautillers!$A$2:$BU$99,MATCH(F68,(Sautillers!$B$1:$BU$1),1)+1))","v":""},null,{"$f":"IF(OR(E68=\"\",L68=\"\"),\"\",VLOOKUP(L68,'Course 20 m'!$A$2:$BU$373,MATCH(F68,('Course 20 m'!$B$1:$BU$1),1)+1))","v":""},null,{"$f":"IF(OR(E68=\"\",N68=\"\"),\"\",VLOOKUP(N68,'Ecarts D&G'!$A$2:$BU$147,MATCH(F68,('Ecarts D&G'!$B$1:$BU$1),1)+1))","v":""},null,{"$f":"IF(OR(E68=\"\",P68=\"\"),\"\",VLOOKUP(P68,'Ecarts D&G'!$A$2:$BU$147,MATCH(F68,('Ecarts D&G'!$B$1:$BU$1),1)+1))","v":""},null,{"$f":"IF(OR(E68=\"\",R68=\"\"),\"\",VLOOKUP(R68,'Ecart facial'!$A$2:$BU$143,MATCH(F68,('Ecart facial'!$B$1:$BU$1),1)+1))","v":""},null,{"$f":"IF(OR(E68=\"\",T68=\"\"),\"\",VLOOKUP(T68,'Fermeture TJ'!$A$2:$BU$126,MATCH(F68,('Fermeture TJ'!$B$1:$BU$1),1)+1))","v":""},null,{"$f":"IF(OR(E68=\"\",V68=\"\"),\"\",VLOOKUP(V68,Pont!$A$2:$BU$188,MATCH(F68,(Pont!$B$1:$BU$1),1)+1))","v":""},null,{"$f":"IF(OR(E68=\"\",X68=\"\"),\"\",VLOOKUP(X68,Epaules!$A$2:$BU$76,MATCH(F68,(Epaules!$B$1:$BU$1),1)+1))","v":""},null,{"$f":"IF(OR(E68=\"\",Z68=\"\"),\"\",VLOOKUP(Z68,'pointe de pieds'!$A$2:$BU$110,MATCH(F68,('pointe de pieds'!$B$1:$BU$1),1)+1))","v":""},"",""]
[{"$f":"IF(D69=\"\",\"\",Accueil!$D$6)","v":""},{"$f":"IF(OR(Accueil!$D$6=\"\",C69=\"\",D69=\"\"),\"\",UPPER(LOOKUP(C69,Accueil!$C$30:$C$129,Accueil!$D$30:$D$129)))","v":""},{"$nulls":3},{"$f":"IF(OR(Accueil!$D$6=\"\",D69=\"\",E69=\"\"),\"\",DATEDIF(E69,LOOKUP(C69,Accueil!$C$30:$C$129,Accueil!$E$30:$E$129),\"m\"))","v":""},null,null,{"$f":"IF(OR(E69=\"\",H69=\"\"),\"\",VLOOKUP(H69,Détente!$A$2:$BU$157,MATCH(F69,(Détente!$B$1:$BU$1),1)+1))","v":""},null,{"$f":"IF(OR(E69=\"\",J69=\"\"),\"\",VLOOKUP(J69,Sautillers!$A$2:$BU$99,MATCH(F69,(Sautillers!$B$1:$BU$1),1)+1))","v":""},null,{"$f":"IF(OR(E69=\"\",L69=\"\"),\"\",VLOOKUP(L69,'Course 20 m'!$A$2:$BU$373,MATCH(F69,('Course 20 m'!$B$1:$BU$1),1)+1))","v":""},null,{"$f":"IF(OR(E69=\"\",N69=\"\"),\"\",VLOOKUP(N69,'Ecarts D&G'!$A$2:$BU$147,MATCH(F69,('Ecarts D&G'!$B$1:$BU$1),1)+1))","v":""},null,{"$f":"IF(OR(E69=\"\",P69=\"\"),\"\",VLOOKUP(P69,'Ecarts D&G'!$A$2:$BU$147,MATCH(F69,('Ecarts D&G'!$B$1:$BU$1),1)+1))","v":""},null,{"$f":"IF(OR(E69=\"\",R69=\"\"),\"\",VLOOKUP(R69,'Ecart facial'!$A$2:$BU$143,MATCH(F69,('Ecart facial'!$B$1:$BU$1),1)+1))","v":""},null,{"$f":"IF(OR(E69=\"\",T69=\"\"),\"\",VLOOKUP(T69,'Fermeture TJ'!$A$2:$BU$126,MATCH(F69,('Fermeture TJ'!$B$1:$BU$1),1)+1))","v":""},null,{"$f":"IF(OR(E69=\"\",V69=\"\"),\"\",VLOOKUP(V69,Pont!$A$2:$BU$188,MATCH(F69,(Pont!$B$1:$BU$1),1)+1))","v":""},null,{"$f":"IF(OR(E69=\"\",X69=\"\"),\"\",VLOOKUP(X69,Epaules!$A$2:$BU$76,MATCH(F69,(Epaules!$B$1:$BU$1),1)+1))","v":""},null,{"$f":"IF(OR(E69=\"\",Z69=\"\"),\"\",VLOOKUP(Z69,'pointe de pieds'!$A$2:$BU$110,MATCH(F69,('pointe de pieds'!$B$1:$BU$1),1)+1))","v":""},{"$f":"IF(OR(H69=\"\",J69=\"\",L69=\"\",N69=\"\",P69=\"\",R69=\"\",T69=\"\",V69=\"\",X69=\"\",Z69=\"\"),\"\",SUM(I69,K69,M69,O69,Q69,S69,U69,W69,Y69,AA69))","v":""},{"$f":"IF(OR(H69=\"\",J69=\"\",L69=\"\",N69=\"\",P69=\"\",R69=\"\",T69=\"\",V69=\"\",X69=\"\",Z69=\"\"),\"\",AVERAGE(I69,K69,M69,O69,Q69,S69,U69,W69,Y69,AA69))","v":""}]
[{"$f":"IF(D70=\"\",\"\",Accueil!$D$6)","v":""},{"$f":"IF(OR(Accueil!$D$6=\"\",C70=\"\",D70=\"\"),\"\",UPPER(LOOKUP(C70,Accueil!$C$30:$C$129,Accueil!$D$30:$D$129)))","v":""},{"$nulls":3},{"$f":"IF(OR(Accueil!$D$6=\"\",D70=\"\",E70=\"\"),\"\",DATEDIF(E70,LOOKUP(C70,Accueil!$C$30:$C$129,Accueil!$E$30:$E$129),\"m\"))","v":""},null,null,{"$f":"IF(OR(E70=\"\",H70=\"\"),\"\",VLOOKUP(H70,Détente!$A$2:$BU$157,MATCH(F70,(Détente!$B$1:$BU$1),1)+1))","v":""},null,{"$f":"IF(OR(E70=\"\",J70=\"\"),\"\",VLOOKUP(J70,Sautillers!$A$2:$BU$99,MATCH(F70,(Sautillers!$B$1:$BU$1),1)+1))","v":""},null,{"$f":"IF(OR(E70=\"\",L70=\"\"),\"\",VLOOKUP(L70,'Course 20 m'!$A$2:$BU$373,MATCH(F70,('Course 20 m'!$B$1:$BU$1),1)+1))","v":""},null,{"$f":"IF(OR(E70=\"\",N70=\"\"),\"\",VLOOKUP(N70,'Ecarts D&G'!$A$2:$BU$147,MATCH(F70,('Ecarts D&G'!$B$1:$BU$1),1)+1))","v":""},null,{"$f":"IF(OR(E70=\"\",P70=\"\"),\"\",VLOOKUP(P70,'Ecarts D&G'!$A$2:$BU$147,MATCH(F70,('Ecarts D&G'!$B$1:$BU$1),1)+1))","v":""},null,{"$f":"IF(OR(E70=\"\",R70=\"\"),\"\",VLOOKUP(R70,'Ecart facial'!$A$2:$BU$143,MATCH(F70,('Ecart facial'!$B$1:$BU$1),1)+1))","v":""},null,{"$f":"IF(OR(E70=\"\",T70=\"\"),\"\",VLOOKUP(T70,'Fermeture TJ'!$A$2:$BU$126,MATCH(F70,('Fermeture TJ'!$B$1:$BU$1),1)+1))","v":""},null,{"$f":"IF(OR(E70=\"\",V70=\"\"),\"\",VLOOKUP(V70,Pont!$A$2:$BU$188,MATCH(F70,(Pont!$B$1:$BU$1),1)+1))","v":""},null,{"$f":"IF(OR(E70=\"\",X70=\"\"),\"\",VLOOKUP(X70,Epaules!$A$2:$BU$76,MATCH(F70,(Epaules!$B$1:$BU$1),1)+1))","v":""},null,{"$f":"IF(OR(E70=\"\",Z70=\"\"),\"\",VLOOKUP(Z70,'pointe de pieds'!$A$2:$BU$110,MATCH(F70,('pointe de pieds'!$B$1:$BU$1),1)+1))","v":""},"",""]
[{"$f":"IF(D71=\"\",\"\",Accueil!$D$6)","v":""},{"$f":"IF(OR(Accueil!$D$6=\"\",C71=\"\",D71=\"\"),\"\",UPPER(LOOKUP(C71,Accueil!$C$30:$C$129,Accueil!$D$30:$D$129)))","v":""},{"$nulls":3},{"$f":"IF(OR(Accueil!$D$6=\"\",D71=\"\",E71=\"\"),\"\",DATEDIF(E71,LOOKUP(C71,Accueil!$C$30:$C$129,Accueil!$E$30:$E$129),\"m\"))","v":""},null,null,{"$f":"IF(OR(E71=\"\",H71=\"\"),\"\",VLOOKUP(H71,Détente!$A$2:$BU$157,MATCH(F71,(Détente!$B$1:$BU$1),1)+1))","v":""},null,{"$f":"IF(OR(E71=\"\",J71=\"\"),\"\",VLOOKUP(J71,Sautillers!$A$2:$BU$99,MATCH(F71,(Sautillers!$B$1:$BU$1),1)+1))","v":""},null,{"$f":"IF(OR(E71=\"\",L71=\"\"),\"\",VLOOKUP(L71,'Course 20 m'!$A$2:$BU$373,MATCH(F71,('Course 20 m'!$B$1:$BU$1),1)+1))","v":""},null,{"$f":"IF(OR(E71=\"\",N71=\"\"),\"\",VLOOKUP(N71,'Ecarts D&G'!$A$2:$BU$147,MATCH(F71,('Ecarts D&G'!$B$1:$BU$1),1)+1))","v":""},null,{"$f":"IF(OR(E71=\"\",P71=\"\"),\"\",VLOOKUP(P71,'Ecarts D&G'!$A$2:$BU$147,MATCH(F71,('Ecarts D&G'!$B$1:$BU$1),1)+1))","v":""},null,{"$f":"IF(OR(E71=\"\",R71=\"\"),\"\",VLOOKUP(R71,'Ecart facial'!$A$2:$BU$143,MATCH(F71,('Ecart facial'!$B$1:$BU$1),1)+1))","v":""},null,{"$f":"IF(OR(E71=\"\",T71=\"\"),\"\",VLOOKUP(T71,'Fermeture TJ'!$A$2:$BU$126,MATCH(F71,('Fermeture TJ'!$B$1:$BU$1),1)+1))","v":""},null,{"$f":"IF(OR(E71=\"\",V71=\"\"),\"\",VLOOKUP(V71,Pont!$A$2:$BU$188,MATCH(F71,(Pont!$B$1:$BU$1),1)+1))","v":""},null,{"$f":"IF(OR(E71=\"\",X71=\"\"),\"\",VLOOKUP(X71,Epaules!$A$2:$BU$76,MATCH(F71,(Epaules!$B$1:$BU$1),1)+1))","v":""},null,{"$f":"IF(OR(E71=\"\",Z71=\"\"),\"\",VLOOKUP(Z71,'pointe de pieds'!$A$2:$BU$110,MATCH(F71,('pointe de pieds'!$B$1:$BU$1),1)+1))","v":""},"",""]
[{"$f":"IF(D72=\"\",\"\",Accueil!$D$6)","v":""},{"$f":"IF(OR(Accueil!$D$6=\"\",C72=\"\",D72=\"\"),\"\",UPPER(LOOKUP(C72,Accueil!$C$30:$C$129,Accueil!$D$30:$D$129)))","v":""},{"$nulls":3},{"$f":"IF(OR(Accueil!$D$6=\"\",D72=\"\",E72=\"\"),\"\",DATEDIF(E72,LOOKUP(C72,Accueil!$C$30:$C$129,Accueil!$E$30:$E$129),\"m\"))","v":""},null,null,{"$f":"IF(OR(E72=\"\",H72=\"\"),\"\",VLOOKUP(H72,Détente!$A$2:$BU$157,MATCH(F72,(Détente!$B$1:$BU$1),1)+1))","v":""},null,{"$f":"IF(OR(E72=\"\",J72=\"\"),\"\",VLOOKUP(J72,Sautillers!$A$2:$BU$99,MATCH(F72,(Sautillers!$B$1:$BU$1),1)+1))","v":""},null,{"$f":"IF(OR(E72=\"\",L72=\"\"),\"\",VLOOKUP(L72,'Course 20 m'!$A$2:$BU$373,MATCH(F72,('Course 20 m'!$B$1:$BU$1),1)+1))","v":""},null,{"$f":"IF(OR(E72=\"\",N72=\"\"),\"\",VLOOKUP(N72,'Ecarts D&G'!$A$2:$BU$147,MATCH(F72,('Ecarts D&G'!$B$1:$BU$1),1)+1))","v":""},null,{"$f":"IF(OR(E72=\"\",P72=\"\"),\"\",VLOOKUP(P72,'Ecarts D&G'!$A$2:$BU$147,MATCH(F72,('Ecarts D&G'!$B$1:$BU$1),1)+1))","v":""},null,{"$f":"IF(OR(E72=\"\",R72=\"\"),\"\",VLOOKUP(R72,'Ecart facial'!$A$2:$BU$143,MATCH(F72,('Ecart facial'!$B$1:$BU$1),1)+1))","v":""},null,{"$f":"IF(OR(E72=\"\",T72=\"\"),\"\",VLOOKUP(T72,'Fermeture TJ'!$A$2:$BU$126,MATCH(F72,('Fermeture TJ'!$B$1:$BU$1),1)+1))","v":""},null,{"$f":"IF(OR(E72=\"\",V72=\"\"),\"\",VLOOKUP(V72,Pont!$A$2:$BU$188,MATCH(F72,(Pont!$B$1:$BU$1),1)+1))","v":""},null,{"$f":"IF(OR(E72=\"\",X72=\"\"),\"\",VLOOKUP(X72,Epaules!$A$2:$BU$76,MATCH(F72,(Epaules!$B$1:$BU$1),1)+1))","v":""},null,{"$f":"IF(OR(E72=\"\",Z72=\"\"),\"\",VLOOKUP(Z72,'pointe de pieds'!$A$2:$BU$110,MATCH(F72,('pointe de pieds'!$B$1:$BU$1),1)+1))","v":""},"",""]
[{"$f":"IF(D73=\"\",\"\",Accueil!$D$6)","v":""},{"$f":"IF(OR(Accueil!$D$6=\"\",C73=\"\",D73=\"\"),\"\",UPPER(LOOKUP(C73,Accueil!$C$30:$C$129,Accueil!$D$30:$D$129)))","v":""},{"$nulls":3},{"$f":"IF(OR(Accueil!$D$6=\"\",D73=\"\",E73=\"\"),\"\",DATEDIF(E73,LOOKUP(C73,Accueil!$C$30:$C$129,Accueil!$E$30:$E$129),\"m\"))","v":""},null,null,{"$f":"IF(OR(E73=\"\",H73=\"\"),\"\",VLOOKUP(H73,Détente!$A$2:$BU$157,MATCH(F73,(Détente!$B$1:$BU$1),1)+1))","v":""},null,{"$f":"IF(OR(E73=\"\",J73=\"\"),\"\",VLOOKUP(J73,Sautillers!$A$2:$BU$99,MATCH(F73,(Sautillers!$B$1:$BU$1),1)+1))","v":""},null,{"$f":"IF(OR(E73=\"\",L73=\"\"),\"\",VLOOKUP(L73,'Course 20 m'!$A$2:$BU$373,MATCH(F73,('Course 20 m'!$B$1:$BU$1),1)+1))","v":""},null,{"$f":"IF(OR(E73=\"\",N73=\"\"),\"\",VLOOKUP(N73,'Ecarts D&G'!$A$2:$BU$147,MATCH(F73,('Ecarts D&G'!$B$1:$BU$1),1)+1))","v":""},null,{"$f":"IF(OR(E73=\"\",P73=\"\"),\"\",VLOOKUP(P73,'Ecarts D&G'!$A$2:$BU$147,MATCH(F73,('Ecarts D&G'!$B$1:$BU$1),1)+1))","v":""},null,{"$f":"IF(OR(E73=\"\",R73=\"\"),\"\",VLOOKUP(R73,'Ecart facial'!$A$2:$BU$143,MATCH(F73,('Ecart facial'!$B$1:$BU$1),1)+1))","v":""},null,{"$f":"IF(OR(E73=\"\",T73=\"\"),\"\",VLOOKUP(T73,'Fermeture TJ'!$A$2:$BU$126,MATCH(F73,('Fermeture TJ'!$B$1:$BU$1),1)+1))","v":""},null,{"$f":"IF(OR(E73=\"\",V73=\"\"),\"\",VLOOKUP(V73,Pont!$A$2:$BU$188,MATCH(F73,(Pont!$B$1:$BU$1),1)+1))","v":""},null,{"$f":"IF(OR(E73=\"\",X73=\"\"),\"\",VLOOKUP(X73,Epaules!$A$2:$BU$76,MATCH(F73,(Epaules!$B$1:$BU$1),1)+1))","v":""},null,{"$f":"IF(OR(E73=\"\",Z73=\"\"),\"\",VLOOKUP(Z73,'pointe de pieds'!$A$2:$BU$110,MATCH(F73,('pointe de pieds'!$B$1:$BU$1),1)+1))","v":""},"",""]
[{"$f":"IF(D74=\"\",\"\",Accueil!$D$6)","v":""},{"$f":"IF(OR(Accueil!$D$6=\"\",C74=\"\",D74=\"\"),\"\",UPPER(LOOKUP(C74,Accueil!$C$30:$C$129,Accueil!$D$30:$D$129)))","v":""},{"$nulls":3},{"$f":"IF(OR(Accueil!$D$6=\"\",D74=\"\",E74=\"\"),\"\",DATEDIF(E74,LOOKUP(C74,Accueil!$C$30:$C$129,Accueil!$E$30:$E$129),\"m\"))","v":""},null,null,{"$f":"IF(OR(E74=\"\",H74=\"\"),\"\",VLOOKUP(H74,Détente!$A$2:$BU$157,MATCH(F74,(Détente!$B$1:$BU$1),1)+1))","v":""},null,{"$f":"IF(OR(E74=\"\",J74=\"\"),\"\",VLOOKUP(J74,Sautillers!$A$2:$BU$99,MATCH(F74,(Sautillers!$B$1:$BU$1),1)+1))","v":""},null,{"$f":"IF(OR(E74=\"\",L74=\"\"),\"\",VLOOKUP(L74,'Course 20 m'!$A$2:$BU$373,MATCH(F74,('Course 20 m'!$B$1:$BU$1),1)+1))","v":""},null,{"$f":"IF(OR(E74=\"\",N74=\"\"),\"\",VLOOKUP(N74,'Ecarts D&G'!$A$2:$BU$147,MATCH(F74,('Ecarts D&G'!$B$1:$BU$1),1)+1))","v":""},null,{"$f":"IF(OR(E74=\"\",P74=\"\"),\"\",VLOOKUP(P74,'Ecarts D&G'!$A$2:$BU$147,MATCH(F74,('Ecarts D&G'!$B$1:$BU$1),1)+1))","v":""},null,{"$f":"IF(OR(E74=\"\",R74=\"\"),\"\",VLOOKUP(R74,'Ecart facial'!$A$2:$BU$143,MATCH(F74,('Ecart facial'!$B$1:$BU$1),1)+1))","v":""},null,{"$f":"IF(OR(E74=\"\",T74=\"\"),\"\",VLOOKUP(T74,'Fermeture TJ'!$A$2:$BU$126,MATCH(F74,('Fermeture TJ'!$B$1:$BU$1),1)+1))","v":""},null,{"$f":"IF(OR(E74=\"\",V74=\"\"),\"\",VLOOKUP(V74,Pont!$A$2:$BU$188,MATCH(F74,(Pont!$B$1:$BU$1),1)+1))","v":""},null,{"$f":"IF(OR(E74=\"\",X74=\"\"),\"\",VLOOKUP(X74,Epaules!$A$2:$BU$76,MATCH(F74,(Epaules!$B$1:$BU$1),1)+1))","v":""},null,{"$f":"IF(OR(E74=\"\",Z74=\"\"),\"\",VLOOKUP(Z74,'pointe de pieds'!$A$2:$BU$110,MATCH(F74,('pointe de pieds'!$B$1:$BU$1),1)+1))","v":""},"",""]
[{"$f":"IF(D75=\"\",\"\",Accueil!$D$6)","v":""},{"$f":"IF(OR(Accueil!$D$6=\"\",C75=\"\",D75=\"\"),\"\",UPPER(LOOKUP(C75,Accueil!$C$30:$C$129,Accueil!$D$30:$D$129)))","v":""},{"$nulls":3},{"$f":"IF(OR(Accueil!$D$6=\"\",D75=\"\",E75=\"\"),\"\",DATEDIF(E75,LOOKUP(C75,Accueil!$C$30:$C$129,Accueil!$E$30:$E$129),\"m\"))","v":""},null,null,{"$f":"IF(OR(E75=\"\",H75=\"\"),\"\",VLOOKUP(H75,Détente!$A$2:$BU$157,MATCH(F75,(Détente!$B$1:$BU$1),1)+1))","v":""},null,{"$f":"IF(OR(E75=\"\",J75=\"\"),\"\",VLOOKUP(J75,Sautillers!$A$2:$BU$99,MATCH(F75,(Sautillers!$B$1:$BU$1),1)+1))","v":""},null,{"$f":"IF(OR(E75=\"\",L75=\"\"),\"\",VLOOKUP(L75,'Course 20 m'!$A$2:$BU$373,MATCH(F75,('Course 20 m'!$B$1:$BU$1),1)+1))","v":""},null,{"$f":"IF(OR(E75=\"\",N75=\"\"),\"\",VLOOKUP(N75,'Ecarts D&G'!$A$2:$BU$147,MATCH(F75,('Ecarts D&G'!$B$1:$BU$1),1)+1))","v":""},null,{"$f":"IF(OR(E75=\"\",P75=\"\"),\"\",VLOOKUP(P75,'Ecarts D&G'!$A$2:$BU$147,MATCH(F75,('Ecarts D&G'!$B$1:$BU$1),1)+1))","v":""},null,{"$f":"IF(OR(E75=\"\",R75=\"\"),\"\",VLOOKUP(R75,'Ecart facial'!$A$2:$BU$143,MATCH(F75,('Ecart facial'!$B$1:$BU$1),1)+1))","v":""},null,{"$f":"IF(OR(E75=\"\",T75=\"\"),\"\",VLOOKUP(T75,'Fermeture TJ'!$A$2:$BU$126,MATCH(F75,('Fermeture TJ'!$B$1:$BU$1),1)+1))","v":""},null,{"$f":"IF(OR(E75=\"\",V75=\"\"),\"\",VLOOKUP(V75,Pont!$A$2:$BU$188,MATCH(F75,(Pont!$B$1:$BU$1),1)+1))","v":""},null,{"$f":"IF(OR(E75=\"\",X75=\"\"),\"\",VLOOKUP(X75,Epaules!$A$2:$BU$76,MATCH(F75,(Epaules!$B$1:$BU$1),1)+1))","v":""},null,{"$f":"IF(OR(E75=\"\",Z75=\"\"),\"\",VLOOKUP(Z75,'pointe de pieds'!$A$2:$BU$110,MATCH(F75,('pointe de pieds'!$B$1:$BU$1),1)+1))","v":""},"",""]
[{"$f":"IF(D76=\"\",\"\",Accueil!$D$6)","v":""},{"$f":"IF(OR(Accueil!$D$6=\"\",C76=\"\",D76=\"\"),\"\",UPPER(LOOKUP(C76,Accueil!$C$30:$C$129,Accueil!$D$30:$D$129)))","v":""},{"$nulls":3},{"$f":"IF(OR(Accueil!$D$6=\"\",D76=\"\",E76=\"\"),\"\",DATEDIF(E76,LOOKUP(C76,Accueil!$C$30:$C$129,Accueil!$E$30:$E$129),\"m\"))","v":""},null,null,{"$f":"IF(OR(E76=\"\",H76=\"\"),\"\",VLOOKUP(H76,Détente!$A$2:$BU$157,MATCH(F76,(Détente!$B$1:$BU$1),1)+1))","v":""},null,{"$f":"IF(OR(E76=\"\",J76=\"\"),\"\",VLOOKUP(J76,Sautillers!$A$2:$BU$99,MATCH(F76,(Sautillers!$B$1:$BU$1),1)+1))","v":""},null,{"$f":"IF(OR(E76=\"\",L76=\"\"),\"\",VLOOKUP(L76,'Course 20 m'!$A$2:$BU$373,MATCH(F76,('Course 20 m'!$B$1:$BU$1),1)+1))","v":""},null,{"$f":"IF(OR(E76=\"\",N76=\"\"),\"\",VLOOKUP(N76,'Ecarts D&G'!$A$2:$BU$147,MATCH(F76,('Ecarts D&G'!$B$1:$BU$1),1)+1))","v":""},null,{"$f":"IF(OR(E76=\"\",P76=\"\"),\"\",VLOOKUP(P76,'Ecarts D&G'!$A$2:$BU$147,MATCH(F76,('Ecarts D&G'!$B$1:$BU$1),1)+1))","v":""},null,{"$f":"IF(OR(E76=\"\",R76=\"\"),\"\",VLOOKUP(R76,'Ecart facial'!$A$2:$BU$143,MATCH(F76,('Ecart facial'!$B$1:$BU$1),1)+1))","v":""},null,{"$f":"IF(OR(E76=\"\",T76=\"\"),\"\",VLOOKUP(T76,'Fermeture TJ'!$A$2:$BU$126,MATCH(F76,('Fermeture TJ'!$B$1:$BU$1),1)+1))","v":""},null,{"$f":"IF(OR(E76=\"\",V76=\"\"),\"\",VLOOKUP(V76,Pont!$A$2:$BU$188,MATCH(F76,(Pont!$B$1:$BU$1),1)+1))","v":""},null,{"$f":"IF(OR(E76=\"\",X76=\"\"),\"\",VLOOKUP(X76,Epaules!$A$2:$BU$76,MATCH(F76,(Epaules!$B$1:$BU$1),1)+1))","v":""},null,{"$f":"IF(OR(E76=\"\",Z76=\"\"),\"\",VLOOKUP(Z76,'pointe de pieds'!$A$2:$BU$110,MATCH(F76,('pointe de pieds'!$B$1:$BU$1),1)+1))","v":""},"",""]
[{"$f":"IF(D77=\"\",\"\",Accueil!$D$6)","v":""},{"$f":"IF(OR(Accueil!$D$6=\"\",C77=\"\",D77=\"\"),\"\",UPPER(LOOKUP(C77,Accueil!$C$30:$C$129,Accueil!$D$30:$D$129)))","v":""},{"$nulls":3},{"$f":"IF(OR(Accueil!$D$6=\"\",D77=\"\",E77=\"\"),\"\",DATEDIF(E77,LOOKUP(C77,Accueil!$C$30:$C$129,Accueil!$E$30:$E$129),\"m\"))","v":""},null,null,{"$f":"IF(OR(E77=\"\",H77=\"\"),\"\",VLOOKUP(H77,Détente!$A$2:$BU$157,MATCH(F77,(Détente!$B$1:$BU$1),1)+1))","v":""},null,{"$f":"IF(OR(E77=\"\",J77=\"\"),\"\",VLOOKUP(J77,Sautillers!$A$2:$BU$99,MATCH(F77,(Sautillers!$B$1:$BU$1),1)+1))","v":""},null,{"$f":"IF(OR(E77=\"\",L77=\"\"),\"\",VLOOKUP(L77,'Course 20 m'!$A$2:$BU$373,MATCH(F77,('Course 20 m'!$B$1:$BU$1),1)+1))","v":""},null,{"$f":"IF(OR(E77=\"\",N77=\"\"),\"\",VLOOKUP(N77,'Ecarts D&G'!$A$2:$BU$147,MATCH(F77,('Ecarts D&G'!$B$1:$BU$1),1)+1))","v":""},null,{"$f":"IF(OR(E77=\"\",P77=\"\"),\"\",VLOOKUP(P77,'Ecarts D&G'!$A$2:$BU$147,MATCH(F77,('Ecarts D&G'!$B$1:$BU$1),1)+1))","v":""},null,{"$f":"IF(OR(E77=\"\",R77=\"\"),\"\",VLOOKUP(R77,'Ecart facial'!$A$2:$BU$143,MATCH(F77,('Ecart facial'!$B$1:$BU$1),1)+1))","v":""},null,{"$f":"IF(OR(E77=\"\",T77=\"\"),\"\",VLOOKUP(T77,'Fermeture TJ'!$A$2:$BU$126,MATCH(F77,('Fermeture TJ'!$B$1:$BU$1),1)+1))","v":""},null,{"$f":"IF(OR(E77=\"\",V77=\"\"),\"\",VLOOKUP(V77,Pont!$A$2:$BU$188,MATCH(F77,(Pont!$B$1:$BU$1),1)+1))","v":""},null,{"$f":"IF(OR(E77=\"\",X77=\"\"),\"\",VLOOKUP(X77,Epaules!$A$2:$BU$76,MATCH(F77,(Epaules!$B$1:$BU$1),1)+1))","v":""},null,{"$f":"IF(OR(E77=\"\",Z77=\"\"),\"\",VLOOKUP(Z77,'pointe de pieds'!$A$2:$BU$110,MATCH(F77,('pointe de pieds'!$B$1:$BU$1),1)+1))","v":""},"",""]
[{"$f":"IF(D78=\"\",\"\",Accueil!$D$6)","v":""},{"$f":"IF(OR(Accueil!$D$6=\"\",C78=\"\",D78=\"\"),\"\",UPPER(LOOKUP(C78,Accueil!$C$30:$C$129,Accueil!$D$30:$D$129)))","v":""},{"$nulls":3},{"$f":"IF(OR(Accueil!$D$6=\"\",D78=\"\",E78=\"\"),\"\",DATEDIF(E78,LOOKUP(C78,Accueil!$C$30:$C$129,Accueil!$E$30:$E$129),\"m\"))","v":""},null,null,{"$f":"IF(OR(E78=\"\",H78=\"\"),\"\",VLOOKUP(H78,Détente!$A$2:$BU$157,MATCH(F78,(Détente!$B$1:$BU$1),1)+1))","v":""},null,{"$f":"IF(OR(E78=\"\",J78=\"\"),\"\",VLOOKUP(J78,Sautillers!$A$2:$BU$99,MATCH(F78,(Sautillers!$B$1:$BU$1),1)+1))","v":""},null,{"$f":"IF(OR(E78=\"\",L78=\"\"),\"\",VLOOKUP(L78,'Course 20 m'!$A$2:$BU$373,MATCH(F78,('Course 20 m'!$B$1:$BU$1),1)+1))","v":""},null,{"$f":"IF(OR(E78=\"\",N78=\"\"),\"\",VLOOKUP(N78,'Ecarts D&G'!$A$2:$BU$147,MATCH(F78,('Ecarts D&G'!$B$1:$BU$1),1)+1))","v":""},null,{"$f":"IF(OR(E78=\"\",P78=\"\"),\"\",VLOOKUP(P78,'Ecarts D&G'!$A$2:$BU$147,MATCH(F78,('Ecarts D&G'!$B$1:$BU$1),1)+1))","v":""},null,{"$f":"IF(OR(E78=\"\",R78=\"\"),\"\",VLOOKUP(R78,'Ecart facial'!$A$2:$BU$143,MATCH(F78,('Ecart facial'!$B$1:$BU$1),1)+1))","v":""},null,{"$f":"IF(OR(E78=\"\",T78=\"\"),\"\",VLOOKUP(T78,'Fermeture TJ'!$A$2:$BU$126,MATCH(F78,('Fermeture TJ'!$B$1:$BU$1),1)+1))","v":""},null,{"$f":"IF(OR(E78=\"\",V78=\"\"),\"\",VLOOKUP(V78,Pont!$A$2:$BU$188,MATCH(F78,(Pont!$B$1:$BU$1),1)+1))","v":""},null,{"$f":"IF(OR(E78=\"\",X78=\"\"),\"\",VLOOKUP(X78,Epaules!$A$2:$BU$76,MATCH(F78,(Epaules!$B$1:$BU$1),1)+1))","v":""},null,{"$f":"IF(OR(E78=\"\",Z78=\"\"),\"\",VLOOKUP(Z78,'pointe de pieds'!$A$2:$BU$110,MATCH(F78,('pointe de pieds'!$B$1:$BU$1),1)+1))","v":""},"",""]
[{"$f":"IF(D79=\"\",\"\",Accueil!$D$6)","v":""},{"$f":"IF(OR(Accueil!$D$6=\"\",C79=\"\",D79=\"\"),\"\",UPPER(LOOKUP(C79,Accueil!$C$30:$C$129,Accueil!$D$30:$D$129)))","v":""},{"$nulls":3},{"$f":"IF(OR(Accueil!$D$6=\"\",D79=\"\",E79=\"\"),\"\",DATEDIF(E79,LOOKUP(C79,Accueil!$C$30:$C$129,Accueil!$E$30:$E$129),\"m\"))","v":""},null,null,{"$f":"IF(OR(E79=\"\",H79=\"\"),\"\",VLOOKUP(H79,Détente!$A$2:$BU$157,MATCH(F79,(Détente!$B$1:$BU$1),1)+1))","v":""},null,{"$f":"IF(OR(E79=\"\",J79=\"\"),\"\",VLOOKUP(J79,Sautillers!$A$2:$BU$99,MATCH(F79,(Sautillers!$B$1:$BU$1),1)+1))","v":""},null,{"$f":"IF(OR(E79=\"\",L79=\"\"),\"\",VLOOKUP(L79,'Course 20 m'!$A$2:$BU$373,MATCH(F79,('Course 20 m'!$B$1:$BU$1),1)+1))","v":""},null,{"$f":"IF(OR(E79=\"\",N79=\"\"),\"\",VLOOKUP(N79,'Ecarts D&G'!$A$2:$BU$147,MATCH(F79,('Ecarts D&G'!$B$1:$BU$1),1)+1))","v":""},null,{"$f":"IF(OR(E79=\"\",P79=\"\"),\"\",VLOOKUP(P79,'Ecarts D&G'!$A$2:$BU$147,MATCH(F79,('Ecarts D&G'!$B$1:$BU$1),1)+1))","v":""},null,{"$f":"IF(OR(E79=\"\",R79=\"\"),\"\",VLOOKUP(R79,'Ecart facial'!$A$2:$BU$143,MATCH(F79,('Ecart facial'!$B$1:$BU$1),1)+1))","v":""},null,{"$f":"IF(OR(E79=\"\",T79=\"\"),\"\",VLOOKUP(T79,'Fermeture TJ'!$A$2:$BU$126,MATCH(F79,('Fermeture TJ'!$B$1:$BU$1),1)+1))","v":""},null,{"$f":"IF(OR(E79=\"\",V79=\"\"),\"\",VLOOKUP(V79,Pont!$A$2:$BU$188,MATCH(F79,(Pont!$B$1:$BU$1),1)+1))","v":""},null,{"$f":"IF(OR(E79=\"\",X79=\"\"),\"\",VLOOKUP(X79,Epaules!$A$2:$BU$76,MATCH(F79,(Epaules!$B$1:$BU$1),1)+1))","v":""},null,{"$f":"IF(OR(E79=\"\",Z79=\"\"),\"\",VLOOKUP(Z79,'pointe de pieds'!$A$2:$BU$110,MATCH(F79,('pointe de pieds'!$B$1:$BU$1),1)+1))","v":""},"",""]
[{"$f":"IF(D80=\"\",\"\",Accueil!$D$6)","v":""},{"$f":"IF(OR(Accueil!$D$6=\"\",C80=\"\",D80=\"\"),\"\",UPPER(LOOKUP(C80,Accueil!$C$30:$C$129,Accueil!$D$30:$D$129)))","v":""},{"$nulls":3},{"$f":"IF(OR(Accueil!$D$6=\"\",D80=\"\",E80=\"\"),\"\",DATEDIF(E80,LOOKUP(C80,Accueil!$C$30:$C$129,Accueil!$E$30:$E$129),\"m\"))","v":""},null,null,{"$f":"IF(OR(E80=\"\",H80=\"\"),\"\",VLOOKUP(H80,Détente!$A$2:$BU$157,MATCH(F80,(Détente!$B$1:$BU$1),1)+1))","v":""},null,{"$f":"IF(OR(E80=\"\",J80=\"\"),\"\",VLOOKUP(J80,Sautillers!$A$2:$BU$99,MATCH(F80,(Sautillers!$B$1:$BU$1),1)+1))","v":""},null,{"$f":"IF(OR(E80=\"\",L80=\"\"),\"\",VLOOKUP(L80,'Course 20 m'!$A$2:$BU$373,MATCH(F80,('Course 20 m'!$B$1:$BU$1),1)+1))","v":""},null,{"$f":"IF(OR(E80=\"\",N80=\"\"),\"\",VLOOKUP(N80,'Ecarts D&G'!$A$2:$BU$147,MATCH(F80,('Ecarts D&G'!$B$1:$BU$1),1)+1))","v":""},null,{"$f":"IF(OR(E80=\"\",P80=\"\"),\"\",VLOOKUP(P80,'Ecarts D&G'!$A$2:$BU$147,MATCH(F80,('Ecarts D&G'!$B$1:$BU$1),1)+1))","v":""},null,{"$f":"IF(OR(E80=\"\",R80=\"\"),\"\",VLOOKUP(R80,'Ecart facial'!$A$2:$BU$143,MATCH(F80,('Ecart facial'!$B$1:$BU$1),1)+1))","v":""},null,{"$f":"IF(OR(E80=\"\",T80=\"\"),\"\",VLOOKUP(T80,'Fermeture TJ'!$A$2:$BU$126,MATCH(F80,('Fermeture TJ'!$B$1:$BU$1),1)+1))","v":""},null,{"$f":"IF(OR(E80=\"\",V80=\"\"),\"\",VLOOKUP(V80,Pont!$A$2:$BU$188,MATCH(F80,(Pont!$B$1:$BU$1),1)+1))","v":""},null,{"$f":"IF(OR(E80=\"\",X80=\"\"),\"\",VLOOKUP(X80,Epaules!$A$2:$BU$76,MATCH(F80,(Epaules!$B$1:$BU$1),1)+1))","v":""},null,{"$f":"IF(OR(E80=\"\",Z80=\"\"),\"\",VLOOKUP(Z80,'pointe de pieds'!$A$2:$BU$110,MATCH(F80,('pointe de pieds'!$B$1:$BU$1),1)+1))","v":""},"",""]
[{"$f":"IF(D81=\"\",\"\",Accueil!$D$6)","v":""},{"$f":"IF(OR(Accueil!$D$6=\"\",C81=\"\",D81=\"\"),\"\",UPPER(LOOKUP(C81,Accueil!$C$30:$C$129,Accueil!$D$30:$D$129)))","v":""},{"$nulls":3},{"$f":"IF(OR(Accueil!$D$6=\"\",D81=\"\",E81=\"\"),\"\",DATEDIF(E81,LOOKUP(C81,Accueil!$C$30:$C$129,Accueil!$E$30:$E$129),\"m\"))","v":""},null,null,{"$f":"IF(OR(E81=\"\",H81=\"\"),\"\",VLOOKUP(H81,Détente!$A$2:$BU$157,MATCH(F81,(Détente!$B$1:$BU$1),1)+1))","v":""},null,{"$f":"IF(OR(E81=\"\",J81=\"\"),\"\",VLOOKUP(J81,Sautillers!$A$2:$BU$99,MATCH(F81,(Sautillers!$B$1:$BU$1),1)+1))","v":""},null,{"$f":"IF(OR(E81=\"\",L81=\"\"),\"\",VLOOKUP(L81,'Course 20 m'!$A$2:$BU$373,MATCH(F81,('Course 20 m'!$B$1:$BU$1),1)+1))","v":""},null,{"$f":"IF(OR(E81=\"\",N81=\"\"),\"\",VLOOKUP(N81,'Ecarts D&G'!$A$2:$BU$147,MATCH(F81,('Ecarts D&G'!$B$1:$BU$1),1)+1))","v":""},null,{"$f":"IF(OR(E81=\"\",P81=\"\"),\"\",VLOOKUP(P81,'Ecarts D&G'!$A$2:$BU$147,MATCH(F81,('Ecarts D&G'!$B$1:$BU$1),1)+1))","v":""},null,{"$f":"IF(OR(E81=\"\",R81=\"\"),\"\",VLOOKUP(R81,'Ecart facial'!$A$2:$BU$143,MATCH(F81,('Ecart facial'!$B$1:$BU$1),1)+1))","v":""},null,{"$f":"IF(OR(E81=\"\",T81=\"\"),\"\",VLOOKUP(T81,'Fermeture TJ'!$A$2:$BU$126,MATCH(F81,('Fermeture TJ'!$B$1:$BU$1),1)+1))","v":""},null,{"$f":"IF(OR(E81=\"\",V81=\"\"),\"\",VLOOKUP(V81,Pont!$A$2:$BU$188,MATCH(F81,(Pont!$B$1:$BU$1),1)+1))","v":""},null,{"$f":"IF(OR(E81=\"\",X81=\"\"),\"\",VLOOKUP(X81,Epaules!$A$2:$BU$76,MATCH(F81,(Epaules!$B$1:$BU$1),1)+1))","v":""},null,{"$f":"IF(OR(E81=\"\",Z81=\"\"),\"\",VLOOKUP(Z81,'pointe de pieds'!$A$2:$BU$110,MATCH(F81,('pointe de pieds'!$B$1:$BU$1),1)+1))","v":""},"",""]
[{"$f":"IF(D82=\"\",\"\",Accueil!$D$6)","v":""},{"$f":"IF(OR(Accueil!$D$6=\"\",C82=\"\",D82=\"\"),\"\",UPPER(LOOKUP(C82,Accueil!$C$30:$C$129,Accueil!$D$30:$D$129)))","v":""},{"$nulls":3},{"$f":"IF(OR(Accueil!$D$6=\"\",D82=\"\",E82=\"\"),\"\",DATEDIF(E82,LOOKUP(C82,Accueil!$C$30:$C$129,Accueil!$E$30:$E$129),\"m\"))","v":""},null,null,{"$f":"IF(OR(E82=\"\",H82=\"\"),\"\",VLOOKUP(H82,Détente!$A$2:$BU$157,MATCH(F82,(Détente!$B$1:$BU$1),1)+1))","v":""},null,{"$f":"IF(OR(E82=\"\",J82=\"\"),\"\",VLOOKUP(J82,Sautillers!$A$2:$BU$99,MATCH(F82,(Sautillers!$B$1:$BU$1),1)+1))","v":""},null,{"$f":"IF(OR(E82=\"\",L82=\"\"),\"\",VLOOKUP(L82,'Course 20 m'!$A$2:$BU$373,MATCH(F82,('Course 20 m'!$B$1:$BU$1),1)+1))","v":""},null,{"$f":"IF(OR(E82=\"\",N82=\"\"),\"\",VLOOKUP(N82,'Ecarts D&G'!$A$2:$BU$147,MATCH(F82,('Ecarts D&G'!$B$1:$BU$1),1)+1))","v":""},null,{"$f":"IF(OR(E82=\"\",P82=\"\"),\"\",VLOOKUP(P82,'Ecarts D&G'!$A$2:$BU$147,MATCH(F82,('Ecarts D&G'!$B$1:$BU$1),1)+1))","v":""},null,{"$f":"IF(OR(E82=\"\",R82=\"\"),\"\",VLOOKUP(R82,'Ecart facial'!$A$2:$BU$143,MATCH(F82,('Ecart facial'!$B$1:$BU$1),1)+1))","v":""},null,{"$f":"IF(OR(E82=\"\",T82=\"\"),\"\",VLOOKUP(T82,'Fermeture TJ'!$A$2:$BU$126,MATCH(F82,('Fermeture TJ'!$B$1:$BU$1),1)+1))","v":""},null,{"$f":"IF(OR(E82=\"\",V82=\"\"),\"\",VLOOKUP(V82,Pont!$A$2:$BU$188,MATCH(F82,(Pont!$B$1:$BU$1),1)+1))","v":""},null,{"$f":"IF(OR(E82=\"\",X82=\"\"),\"\",VLOOKUP(X82,Epaules!$A$2:$BU$76,MATCH(F82,(Epaules!$B$1:$BU$1),1)+1))","v":""},null,{"$f":"IF(OR(E82=\"\",Z82=\"\"),\"\",VLOOKUP(Z82,'pointe de pieds'!$A$2:$BU$110,MATCH(F82,('pointe de pieds'!$B$1:$BU$1),1)+1))","v":""},"",""]
[{"$f":"IF(D83=\"\",\"\",Accueil!$D$6)","v":""},{"$f":"IF(OR(Accueil!$D$6=\"\",C83=\"\",D83=\"\"),\"\",UPPER(LOOKUP(C83,Accueil!$C$30:$C$129,Accueil!$D$30:$D$129)))","v":""},{"$nulls":3},{"$f":"IF(OR(Accueil!$D$6=\"\",D83=\"\",E83=\"\"),\"\",DATEDIF(E83,LOOKUP(C83,Accueil!$C$30:$C$129,Accueil!$E$30:$E$129),\"m\"))","v":""},null,null,{"$f":"IF(OR(E83=\"\",H83=\"\"),\"\",VLOOKUP(H83,Détente!$A$2:$BU$157,MATCH(F83,(Détente!$B$1:$BU$1),1)+1))","v":""},null,{"$f":"IF(OR(E83=\"\",J83=\"\"),\"\",VLOOKUP(J83,Sautillers!$A$2:$BU$99,MATCH(F83,(Sautillers!$B$1:$BU$1),1)+1))","v":""},null,{"$f":"IF(OR(E83=\"\",L83=\"\"),\"\",VLOOKUP(L83,'Course 20 m'!$A$2:$BU$373,MATCH(F83,('Course 20 m'!$B$1:$BU$1),1)+1))","v":""},null,{"$f":"IF(OR(E83=\"\",N83=\"\"),\"\",VLOOKUP(N83,'Ecarts D&G'!$A$2:$BU$147,MATCH(F83,('Ecarts D&G'!$B$1:$BU$1),1)+1))","v":""},null,{"$f":"IF(OR(E83=\"\",P83=\"\"),\"\",VLOOKUP(P83,'Ecarts D&G'!$A$2:$BU$147,MATCH(F83,('Ecarts D&G'!$B$1:$BU$1),1)+1))","v":""},null,{"$f":"IF(OR(E83=\"\",R83=\"\"),\"\",VLOOKUP(R83,'Ecart facial'!$A$2:$BU$143,MATCH(F83,('Ecart facial'!$B$1:$BU$1),1)+1))","v":""},null,{"$f":"IF(OR(E83=\"\",T83=\"\"),\"\",VLOOKUP(T83,'Fermeture TJ'!$A$2:$BU$126,MATCH(F83,('Fermeture TJ'!$B$1:$BU$1),1)+1))","v":""},null,{"$f":"IF(OR(E83=\"\",V83=\"\"),\"\",VLOOKUP(V83,Pont!$A$2:$BU$188,MATCH(F83,(Pont!$B$1:$BU$1),1)+1))","v":""},null,{"$f":"IF(OR(E83=\"\",X83=\"\"),\"\",VLOOKUP(X83,Epaules!$A$2:$BU$76,MATCH(F83,(Epaules!$B$1:$BU$1),1)+1))","v":""},null,{"$f":"IF(OR(E83=\"\",Z83=\"\"),\"\",VLOOKUP(Z83,'pointe de pieds'!$A$2:$BU$110,MATCH(F83,('pointe de pieds'!$B$1:$BU$1),1)+1))","v":""},"",""]
[{"$f":"IF(D84=\"\",\"\",Accueil!$D$6)","v":""},{"$f":"IF(OR(Accueil!$D$6=\"\",C84=\"\",D84=\"\"),\"\",UPPER(LOOKUP(C84,Accueil!$C$30:$C$129,Accueil!$D$30:$D$129)))","v":""},{"$nulls":3},{"$f":"IF(OR(Accueil!$D$6=\"\",D84=\"\",E84=\"\"),\"\",DATEDIF(E84,LOOKUP(C84,Accueil!$C$30:$C$129,Accueil!$E$30:$E$129),\"m\"))","v":""},null,null,{"$f":"IF(OR(E84=\"\",H84=\"\"),\"\",VLOOKUP(H84,Détente!$A$2:$BU$157,MATCH(F84,(Détente!$B$1:$BU$1),1)+1))","v":""},null,{"$f":"IF(OR(E84=\"\",J84=\"\"),\"\",VLOOKUP(J84,Sautillers!$A$2:$BU$99,MATCH(F84,(Sautillers!$B$1:$BU$1),1)+1))","v":""},null,{"$f":"IF(OR(E84=\"\",L84=\"\"),\"\",VLOOKUP(L84,'Course 20 m'!$A$2:$BU$373,MATCH(F84,('Course 20 m'!$B$1:$BU$1),1)+1))","v":""},null,{"$f":"IF(OR(E84=\"\",N84=\"\"),\"\",VLOOKUP(N84,'Ecarts D&G'!$A$2:$BU$147,MATCH(F84,('Ecarts D&G'!$B$1:$BU$1),1)+1))","v":""},null,{"$f":"IF(OR(E84=\"\",P84=\"\"),\"\",VLOOKUP(P84,'Ecarts D&G'!$A$2:$BU$147,MATCH(F84,('Ecarts D&G'!$B$1:$BU$1),1)+1))","v":""},null,{"$f":"IF(OR(E84=\"\",R84=\"\"),\"\",VLOOKUP(R84,'Ecart facial'!$A$2:$BU$143,MATCH(F84,('Ecart facial'!$B$1:$BU$1),1)+1))","v":""},null,{"$f":"IF(OR(E84=\"\",T84=\"\"),\"\",VLOOKUP(T84,'Fermeture TJ'!$A$2:$BU$126,MATCH(F84,('Fermeture TJ'!$B$1:$BU$1),1)+1))","v":""},null,{"$f":"IF(OR(E84=\"\",V84=\"\"),\"\",VLOOKUP(V84,Pont!$A$2:$BU$188,MATCH(F84,(Pont!$B$1:$BU$1),1)+1))","v":""},null,{"$f":"IF(OR(E84=\"\",X84=\"\"),\"\",VLOOKUP(X84,Epaules!$A$2:$BU$76,MATCH(F84,(Epaules!$B$1:$BU$1),1)+1))","v":""},null,{"$f":"IF(OR(E84=\"\",Z84=\"\"),\"\",VLOOKUP(Z84,'pointe de pieds'!$A$2:$BU$110,MATCH(F84,('pointe de pieds'!$B$1:$BU$1),1)+1))","v":""},"",""]
[{"$f":"IF(D85=\"\",\"\",Accueil!$D$6)","v":""},{"$f":"IF(OR(Accueil!$D$6=\"\",C85=\"\",D85=\"\"),\"\",UPPER(LOOKUP(C85,Accueil!$C$30:$C$129,Accueil!$D$30:$D$129)))","v":""},{"$nulls":3},{"$f":"IF(OR(Accueil!$D$6=\"\",D85=\"\",E85=\"\"),\"\",DATEDIF(E85,LOOKUP(C85,Accueil!$C$30:$C$129,Accueil!$E$30:$E$129),\"m\"))","v":""},null,null,{"$f":"IF(OR(E85=\"\",H85=\"\"),\"\",VLOOKUP(H85,Détente!$A$2:$BU$157,MATCH(F85,(Détente!$B$1:$BU$1),1)+1))","v":""},null,{"$f":"IF(OR(E85=\"\",J85=\"\"),\"\",VLOOKUP(J85,Sautillers!$A$2:$BU$99,MATCH(F85,(Sautillers!$B$1:$BU$1),1)+1))","v":""},null,{"$f":"IF(OR(E85=\"\",L85=\"\"),\"\",VLOOKUP(L85,'Course 20 m'!$A$2:$BU$373,MATCH(F85,('Course 20 m'!$B$1:$BU$1),1)+1))","v":""},null,{"$f":"IF(OR(E85=\"\",N85=\"\"),\"\",VLOOKUP(N85,'Ecarts D&G'!$A$2:$BU$147,MATCH(F85,('Ecarts D&G'!$B$1:$BU$1),1)+1))","v":""},null,{"$f":"IF(OR(E85=\"\",P85=\"\"),\"\",VLOOKUP(P85,'Ecarts D&G'!$A$2:$BU$147,MATCH(F85,('Ecarts D&G'!$B$1:$BU$1),1)+1))","v":""},null,{"$f":"IF(OR(E85=\"\",R85=\"\"),\"\",VLOOKUP(R85,'Ecart facial'!$A$2:$BU$143,MATCH(F85,('Ecart facial'!$B$1:$BU$1),1)+1))","v":""},null,{"$f":"IF(OR(E85=\"\",T85=\"\"),\"\",VLOOKUP(T85,'Fermeture TJ'!$A$2:$BU$126,MATCH(F85,('Fermeture TJ'!$B$1:$BU$1),1)+1))","v":""},null,{"$f":"IF(OR(E85=\"\",V85=\"\"),\"\",VLOOKUP(V85,Pont!$A$2:$BU$188,MATCH(F85,(Pont!$B$1:$BU$1),1)+1))","v":""},null,{"$f":"IF(OR(E85=\"\",X85=\"\"),\"\",VLOOKUP(X85,Epaules!$A$2:$BU$76,MATCH(F85,(Epaules!$B$1:$BU$1),1)+1))","v":""},null,{"$f":"IF(OR(E85=\"\",Z85=\"\"),\"\",VLOOKUP(Z85,'pointe de pieds'!$A$2:$BU$110,MATCH(F85,('pointe de pieds'!$B$1:$BU$1),1)+1))","v":""},"",""]
[{"$f":"IF(D86=\"\",\"\",Accueil!$D$6)","v":""},{"$f":"IF(OR(Accueil!$D$6=\"\",C86=\"\",D86=\"\"),\"\",UPPER(LOOKUP(C86,Accueil!$C$30:$C$129,Accueil!$D$30:$D$129)))","v":""},{"$nulls":3},{"$f":"IF(OR(Accueil!$D$6=\"\",D86=\"\",E86=\"\"),\"\",DATEDIF(E86,LOOKUP(C86,Accueil!$C$30:$C$129,Accueil!$E$30:$E$129),\"m\"))","v":""},null,null,{"$f":"IF(OR(E86=\"\",H86=\"\"),\"\",VLOOKUP(H86,Détente!$A$2:$BU$157,MATCH(F86,(Détente!$B$1:$BU$1),1)+1))","v":""},null,{"$f":"IF(OR(E86=\"\",J86=\"\"),\"\",VLOOKUP(J86,Sautillers!$A$2:$BU$99,MATCH(F86,(Sautillers!$B$1:$BU$1),1)+1))","v":""},null,{"$f":"IF(OR(E86=\"\",L86=\"\"),\"\",VLOOKUP(L86,'Course 20 m'!$A$2:$BU$373,MATCH(F86,('Course 20 m'!$B$1:$BU$1),1)+1))","v":""},null,{"$f":"IF(OR(E86=\"\",N86=\"\"),\"\",VLOOKUP(N86,'Ecarts D&G'!$A$2:$BU$147,MATCH(F86,('Ecarts D&G'!$B$1:$BU$1),1)+1))","v":""},null,{"$f":"IF(OR(E86=\"\",P86=\"\"),\"\",VLOOKUP(P86,'Ecarts D&G'!$A$2:$BU$147,MATCH(F86,('Ecarts D&G'!$B$1:$BU$1),1)+1))","v":""},null,{"$f":"IF(OR(E86=\"\",R86=\"\"),\"\",VLOOKUP(R86,'Ecart facial'!$A$2:$BU$143,MATCH(F86,('Ecart facial'!$B$1:$BU$1),1)+1))","v":""},null,{"$f":"IF(OR(E86=\"\",T86=\"\"),\"\",VLOOKUP(T86,'Fermeture TJ'!$A$2:$BU$126,MATCH(F86,('Fermeture TJ'!$B$1:$BU$1),1)+1))","v":""},null,{"$f":"IF(OR(E86=\"\",V86=\"\"),\"\",VLOOKUP(V86,Pont!$A$2:$BU$188,MATCH(F86,(Pont!$B$1:$BU$1),1)+1))","v":""},null,{"$f":"IF(OR(E86=\"\",X86=\"\"),\"\",VLOOKUP(X86,Epaules!$A$2:$BU$76,MATCH(F86,(Epaules!$B$1:$BU$1),1)+1))","v":""},null,{"$f":"IF(OR(E86=\"\",Z86=\"\"),\"\",VLOOKUP(Z86,'pointe de pieds'!$A$2:$BU$110,MATCH(F86,('pointe de pieds'!$B$1:$BU$1),1)+1))","v":""},"",""]
[{"$f":"IF(D87=\"\",\"\",Accueil!$D$6)","v":""},{"$f":"IF(OR(Accueil!$D$6=\"\",C87=\"\",D87=\"\"),\"\",UPPER(LOOKUP(C87,Accueil!$C$30:$C$129,Accueil!$D$30:$D$129)))","v":""},{"$nulls":3},{"$f":"IF(OR(Accueil!$D$6=\"\",D87=\"\",E87=\"\"),\"\",DATEDIF(E87,LOOKUP(C87,Accueil!$C$30:$C$129,Accueil!$E$30:$E$129),\"m\"))","v":""},null,null,{"$f":"IF(OR(E87=\"\",H87=\"\"),\"\",VLOOKUP(H87,Détente!$A$2:$BU$157,MATCH(F87,(Détente!$B$1:$BU$1),1)+1))","v":""},null,{"$f":"IF(OR(E87=\"\",J87=\"\"),\"\",VLOOKUP(J87,Sautillers!$A$2:$BU$99,MATCH(F87,(Sautillers!$B$1:$BU$1),1)+1))","v":""},null,{"$f":"IF(OR(E87=\"\",L87=\"\"),\"\",VLOOKUP(L87,'Course 20 m'!$A$2:$BU$373,MATCH(F87,('Course 20 m'!$B$1:$BU$1),1)+1))","v":""},null,{"$f":"IF(OR(E87=\"\",N87=\"\"),\"\",VLOOKUP(N87,'Ecarts D&G'!$A$2:$BU$147,MATCH(F87,('Ecarts D&G'!$B$1:$BU$1),1)+1))","v":""},null,{"$f":"IF(OR(E87=\"\",P87=\"\"),\"\",VLOOKUP(P87,'Ecarts D&G'!$A$2:$BU$147,MATCH(F87,('Ecarts D&G'!$B$1:$BU$1),1)+1))","v":""},null,{"$f":"IF(OR(E87=\"\",R87=\"\"),\"\",VLOOKUP(R87,'Ecart facial'!$A$2:$BU$143,MATCH(F87,('Ecart facial'!$B$1:$BU$1),1)+1))","v":""},null,{"$f":"IF(OR(E87=\"\",T87=\"\"),\"\",VLOOKUP(T87,'Fermeture TJ'!$A$2:$BU$126,MATCH(F87,('Fermeture TJ'!$B$1:$BU$1),1)+1))","v":""},null,{"$f":"IF(OR(E87=\"\",V87=\"\"),\"\",VLOOKUP(V87,Pont!$A$2:$BU$188,MATCH(F87,(Pont!$B$1:$BU$1),1)+1))","v":""},null,{"$f":"IF(OR(E87=\"\",X87=\"\"),\"\",VLOOKUP(X87,Epaules!$A$2:$BU$76,MATCH(F87,(Epaules!$B$1:$BU$1),1)+1))","v":""},null,{"$f":"IF(OR(E87=\"\",Z87=\"\"),\"\",VLOOKUP(Z87,'pointe de pieds'!$A$2:$BU$110,MATCH(F87,('pointe de pieds'!$B$1:$BU$1),1)+1))","v":""},"",""]
[{"$f":"IF(D88=\"\",\"\",Accueil!$D$6)","v":""},{"$f":"IF(OR(Accueil!$D$6=\"\",C88=\"\",D88=\"\"),\"\",UPPER(LOOKUP(C88,Accueil!$C$30:$C$129,Accueil!$D$30:$D$129)))","v":""},{"$nulls":3},{"$f":"IF(OR(Accueil!$D$6=\"\",D88=\"\",E88=\"\"),\"\",DATEDIF(E88,LOOKUP(C88,Accueil!$C$30:$C$129,Accueil!$E$30:$E$129),\"m\"))","v":""},null,null,{"$f":"IF(OR(E88=\"\",H88=\"\"),\"\",VLOOKUP(H88,Détente!$A$2:$BU$157,MATCH(F88,(Détente!$B$1:$BU$1),1)+1))","v":""},null,{"$f":"IF(OR(E88=\"\",J88=\"\"),\"\",VLOOKUP(J88,Sautillers!$A$2:$BU$99,MATCH(F88,(Sautillers!$B$1:$BU$1),1)+1))","v":""},null,{"$f":"IF(OR(E88=\"\",L88=\"\"),\"\",VLOOKUP(L88,'Course 20 m'!$A$2:$BU$373,MATCH(F88,('Course 20 m'!$B$1:$BU$1),1)+1))","v":""},null,{"$f":"IF(OR(E88=\"\",N88=\"\"),\"\",VLOOKUP(N88,'Ecarts D&G'!$A$2:$BU$147,MATCH(F88,('Ecarts D&G'!$B$1:$BU$1),1)+1))","v":""},null,{"$f":"IF(OR(E88=\"\",P88=\"\"),\"\",VLOOKUP(P88,'Ecarts D&G'!$A$2:$BU$147,MATCH(F88,('Ecarts D&G'!$B$1:$BU$1),1)+1))","v":""},null,{"$f":"IF(OR(E88=\"\",R88=\"\"),\"\",VLOOKUP(R88,'Ecart facial'!$A$2:$BU$143,MATCH(F88,('Ecart facial'!$B$1:$BU$1),1)+1))","v":""},null,{"$f":"IF(OR(E88=\"\",T88=\"\"),\"\",VLOOKUP(T88,'Fermeture TJ'!$A$2:$BU$126,MATCH(F88,('Fermeture TJ'!$B$1:$BU$1),1)+1))","v":""},null,{"$f":"IF(OR(E88=\"\",V88=\"\"),\"\",VLOOKUP(V88,Pont!$A$2:$BU$188,MATCH(F88,(Pont!$B$1:$BU$1),1)+1))","v":""},null,{"$f":"IF(OR(E88=\"\",X88=\"\"),\"\",VLOOKUP(X88,Epaules!$A$2:$BU$76,MATCH(F88,(Epaules!$B$1:$BU$1),1)+1))","v":""},null,{"$f":"IF(OR(E88=\"\",Z88=\"\"),\"\",VLOOKUP(Z88,'pointe de pieds'!$A$2:$BU$110,MATCH(F88,('pointe de pieds'!$B$1:$BU$1),1)+1))","v":""},"",""]
[{"$f":"IF(D89=\"\",\"\",Accueil!$D$6)","v":""},{"$f":"IF(OR(Accueil!$D$6=\"\",C89=\"\",D89=\"\"),\"\",UPPER(LOOKUP(C89,Accueil!$C$30:$C$129,Accueil!$D$30:$D$129)))","v":""},{"$nulls":3},{"$f":"IF(OR(Accueil!$D$6=\"\",D89=\"\",E89=\"\"),\"\",DATEDIF(E89,LOOKUP(C89,Accueil!$C$30:$C$129,Accueil!$E$30:$E$129),\"m\"))","v":""},null,null,{"$f":"IF(OR(E89=\"\",H89=\"\"),\"\",VLOOKUP(H89,Détente!$A$2:$BU$157,MATCH(F89,(Détente!$B$1:$BU$1),1)+1))","v":""},null,{"$f":"IF(OR(E89=\"\",J89=\"\"),\"\",VLOOKUP(J89,Sautillers!$A$2:$BU$99,MATCH(F89,(Sautillers!$B$1:$BU$1),1)+1))","v":""},null,{"$f":"IF(OR(E89=\"\",L89=\"\"),\"\",VLOOKUP(L89,'Course 20 m'!$A$2:$BU$373,MATCH(F89,('Course 20 m'!$B$1:$BU$1),1)+1))","v":""},null,{"$f":"IF(OR(E89=\"\",N89=\"\"),\"\",VLOOKUP(N89,'Ecarts D&G'!$A$2:$BU$147,MATCH(F89,('Ecarts D&G'!$B$1:$BU$1),1)+1))","v":""},null,{"$f":"IF(OR(E89=\"\",P89=\"\"),\"\",VLOOKUP(P89,'Ecarts D&G'!$A$2:$BU$147,MATCH(F89,('Ecarts D&G'!$B$1:$BU$1),1)+1))","v":""},null,{"$f":"IF(OR(E89=\"\",R89=\"\"),\"\",VLOOKUP(R89,'Ecart facial'!$A$2:$BU$143,MATCH(F89,('Ecart facial'!$B$1:$BU$1),1)+1))","v":""},null,{"$f":"IF(OR(E89=\"\",T89=\"\"),\"\",VLOOKUP(T89,'Fermeture TJ'!$A$2:$BU$126,MATCH(F89,('Fermeture TJ'!$B$1:$BU$1),1)+1))","v":""},null,{"$f":"IF(OR(E89=\"\",V89=\"\"),\"\",VLOOKUP(V89,Pont!$A$2:$BU$188,MATCH(F89,(Pont!$B$1:$BU$1),1)+1))","v":""},null,{"$f":"IF(OR(E89=\"\",X89=\"\"),\"\",VLOOKUP(X89,Epaules!$A$2:$BU$76,MATCH(F89,(Epaules!$B$1:$BU$1),1)+1))","v":""},null,{"$f":"IF(OR(E89=\"\",Z89=\"\"),\"\",VLOOKUP(Z89,'pointe de pieds'!$A$2:$BU$110,MATCH(F89,('pointe de pieds'!$B$1:$BU$1),1)+1))","v":""},"",""]
[{"$f":"IF(D90=\"\",\"\",Accueil!$D$6)","v":""},{"$f":"IF(OR(Accueil!$D$6=\"\",C90=\"\",D90=\"\"),\"\",UPPER(LOOKUP(C90,Accueil!$C$30:$C$129,Accueil!$D$30:$D$129)))","v":""},{"$nulls":3},{"$f":"IF(OR(Accueil!$D$6=\"\",D90=\"\",E90=\"\"),\"\",DATEDIF(E90,LOOKUP(C90,Accueil!$C$30:$C$129,Accueil!$E$30:$E$129),\"m\"))","v":""},null,null,{"$f":"IF(OR(E90=\"\",H90=\"\"),\"\",VLOOKUP(H90,Détente!$A$2:$BU$157,MATCH(F90,(Détente!$B$1:$BU$1),1)+1))","v":""},null,{"$f":"IF(OR(E90=\"\",J90=\"\"),\"\",VLOOKUP(J90,Sautillers!$A$2:$BU$99,MATCH(F90,(Sautillers!$B$1:$BU$1),1)+1))","v":""},null,{"$f":"IF(OR(E90=\"\",L90=\"\"),\"\",VLOOKUP(L90,'Course 20 m'!$A$2:$BU$373,MATCH(F90,('Course 20 m'!$B$1:$BU$1),1)+1))","v":""},null,{"$f":"IF(OR(E90=\"\",N90=\"\"),\"\",VLOOKUP(N90,'Ecarts D&G'!$A$2:$BU$147,MATCH(F90,('Ecarts D&G'!$B$1:$BU$1),1)+1))","v":""},null,{"$f":"IF(OR(E90=\"\",P90=\"\"),\"\",VLOOKUP(P90,'Ecarts D&G'!$A$2:$BU$147,MATCH(F90,('Ecarts D&G'!$B$1:$BU$1),1)+1))","v":""},null,{"$f":"IF(OR(E90=\"\",R90=\"\"),\"\",VLOOKUP(R90,'Ecart facial'!$A$2:$BU$143,MATCH(F90,('Ecart facial'!$B$1:$BU$1),1)+1))","v":""},null,{"$f":"IF(OR(E90=\"\",T90=\"\"),\"\",VLOOKUP(T90,'Fermeture TJ'!$A$2:$BU$126,MATCH(F90,('Fermeture TJ'!$B$1:$BU$1),1)+1))","v":""},null,{"$f":"IF(OR(E90=\"\",V90=\"\"),\"\",VLOOKUP(V90,Pont!$A$2:$BU$188,MATCH(F90,(Pont!$B$1:$BU$1),1)+1))","v":""},null,{"$f":"IF(OR(E90=\"\",X90=\"\"),\"\",VLOOKUP(X90,Epaules!$A$2:$BU$76,MATCH(F90,(Epaules!$B$1:$BU$1),1)+1))","v":""},null,{"$f":"IF(OR(E90=\"\",Z90=\"\"),\"\",VLOOKUP(Z90,'pointe de pieds'!$A$2:$BU$110,MATCH(F90,('pointe de pieds'!$B$1:$BU$1),1)+1))","v":""},"",""]
[{"$f":"IF(D91=\"\",\"\",Accueil!$D$6)","v":""},{"$f":"IF(OR(Accueil!$D$6=\"\",C91=\"\",D91=\"\"),\"\",UPPER(LOOKUP(C91,Accueil!$C$30:$C$129,Accueil!$D$30:$D$129)))","v":""},{"$nulls":3},{"$f":"IF(OR(Accueil!$D$6=\"\",D91=\"\",E91=\"\"),\"\",DATEDIF(E91,LOOKUP(C91,Accueil!$C$30:$C$129,Accueil!$E$30:$E$129),\"m\"))","v":""},null,null,{"$f":"IF(OR(E91=\"\",H91=\"\"),\"\",VLOOKUP(H91,Détente!$A$2:$BU$157,MATCH(F91,(Détente!$B$1:$BU$1),1)+1))","v":""},null,{"$f":"IF(OR(E91=\"\",J91=\"\"),\"\",VLOOKUP(J91,Sautillers!$A$2:$BU$99,MATCH(F91,(Sautillers!$B$1:$BU$1),1)+1))","v":""},null,{"$f":"IF(OR(E91=\"\",L91=\"\"),\"\",VLOOKUP(L91,'Course 20 m'!$A$2:$BU$373,MATCH(F91,('Course 20 m'!$B$1:$BU$1),1)+1))","v":""},null,{"$f":"IF(OR(E91=\"\",N91=\"\"),\"\",VLOOKUP(N91,'Ecarts D&G'!$A$2:$BU$147,MATCH(F91,('Ecarts D&G'!$B$1:$BU$1),1)+1))","v":""},null,{"$f":"IF(OR(E91=\"\",P91=\"\"),\"\",VLOOKUP(P91,'Ecarts D&G'!$A$2:$BU$147,MATCH(F91,('Ecarts D&G'!$B$1:$BU$1),1)+1))","v":""},null,{"$f":"IF(OR(E91=\"\",R91=\"\"),\"\",VLOOKUP(R91,'Ecart facial'!$A$2:$BU$143,MATCH(F91,('Ecart facial'!$B$1:$BU$1),1)+1))","v":""},null,{"$f":"IF(OR(E91=\"\",T91=\"\"),\"\",VLOOKUP(T91,'Fermeture TJ'!$A$2:$BU$126,MATCH(F91,('Fermeture TJ'!$B$1:$BU$1),1)+1))","v":""},null,{"$f":"IF(OR(E91=\"\",V91=\"\"),\"\",VLOOKUP(V91,Pont!$A$2:$BU$188,MATCH(F91,(Pont!$B$1:$BU$1),1)+1))","v":""},null,{"$f":"IF(OR(E91=\"\",X91=\"\"),\"\",VLOOKUP(X91,Epaules!$A$2:$BU$76,MATCH(F91,(Epaules!$B$1:$BU$1),1)+1))","v":""},null,{"$f":"IF(OR(E91=\"\",Z91=\"\"),\"\",VLOOKUP(Z91,'pointe de pieds'!$A$2:$BU$110,MATCH(F91,('pointe de pieds'!$B$1:$BU$1),1)+1))","v":""},"",""]
[{"$f":"IF(D92=\"\",\"\",Accueil!$D$6)","v":""},{"$f":"IF(OR(Accueil!$D$6=\"\",C92=\"\",D92=\"\"),\"\",UPPER(LOOKUP(C92,Accueil!$C$30:$C$129,Accueil!$D$30:$D$129)))","v":""},{"$nulls":3},{"$f":"IF(OR(Accueil!$D$6=\"\",D92=\"\",E92=\"\"),\"\",DATEDIF(E92,LOOKUP(C92,Accueil!$C$30:$C$129,Accueil!$E$30:$E$129),\"m\"))","v":""},null,null,{"$f":"IF(OR(E92=\"\",H92=\"\"),\"\",VLOOKUP(H92,Détente!$A$2:$BU$157,MATCH(F92,(Détente!$B$1:$BU$1),1)+1))","v":""},null,{"$f":"IF(OR(E92=\"\",J92=\"\"),\"\",VLOOKUP(J92,Sautillers!$A$2:$BU$99,MATCH(F92,(Sautillers!$B$1:$BU$1),1)+1))","v":""},null,{"$f":"IF(OR(E92=\"\",L92=\"\"),\"\",VLOOKUP(L92,'Course 20 m'!$A$2:$BU$373,MATCH(F92,('Course 20 m'!$B$1:$BU$1),1)+1))","v":""},null,{"$f":"IF(OR(E92=\"\",N92=\"\"),\"\",VLOOKUP(N92,'Ecarts D&G'!$A$2:$BU$147,MATCH(F92,('Ecarts D&G'!$B$1:$BU$1),1)+1))","v":""},null,{"$f":"IF(OR(E92=\"\",P92=\"\"),\"\",VLOOKUP(P92,'Ecarts D&G'!$A$2:$BU$147,MATCH(F92,('Ecarts D&G'!$B$1:$BU$1),1)+1))","v":""},null,{"$f":"IF(OR(E92=\"\",R92=\"\"),\"\",VLOOKUP(R92,'Ecart facial'!$A$2:$BU$143,MATCH(F92,('Ecart facial'!$B$1:$BU$1),1)+1))","v":""},null,{"$f":"IF(OR(E92=\"\",T92=\"\"),\"\",VLOOKUP(T92,'Fermeture TJ'!$A$2:$BU$126,MATCH(F92,('Fermeture TJ'!$B$1:$BU$1),1)+1))","v":""},null,{"$f":"IF(OR(E92=\"\",V92=\"\"),\"\",VLOOKUP(V92,Pont!$A$2:$BU$188,MATCH(F92,(Pont!$B$1:$BU$1),1)+1))","v":""},null,{"$f":"IF(OR(E92=\"\",X92=\"\"),\"\",VLOOKUP(X92,Epaules!$A$2:$BU$76,MATCH(F92,(Epaules!$B$1:$BU$1),1)+1))","v":""},null,{"$f":"IF(OR(E92=\"\",Z92=\"\"),\"\",VLOOKUP(Z92,'pointe de pieds'!$A$2:$BU$110,MATCH(F92,('pointe de pieds'!$B$1:$BU$1),1)+1))","v":""},"",""]
[{"$f":"IF(D93=\"\",\"\",Accueil!$D$6)","v":""},{"$f":"IF(OR(Accueil!$D$6=\"\",C93=\"\",D93=\"\"),\"\",UPPER(LOOKUP(C93,Accueil!$C$30:$C$129,Accueil!$D$30:$D$129)))","v":""},{"$nulls":3},{"$f":"IF(OR(Accueil!$D$6=\"\",D93=\"\",E93=\"\"),\"\",DATEDIF(E93,LOOKUP(C93,Accueil!$C$30:$C$129,Accueil!$E$30:$E$129),\"m\"))","v":""},null,null,{"$f":"IF(OR(E93=\"\",H93=\"\"),\"\",VLOOKUP(H93,Détente!$A$2:$BU$157,MATCH(F93,(Détente!$B$1:$BU$1),1)+1))","v":""},null,{"$f":"IF(OR(E93=\"\",J93=\"\"),\"\",VLOOKUP(J93,Sautillers!$A$2:$BU$99,MATCH(F93,(Sautillers!$B$1:$BU$1),1)+1))","v":""},null,{"$f":"IF(OR(E93=\"\",L93=\"\"),\"\",VLOOKUP(L93,'Course 20 m'!$A$2:$BU$373,MATCH(F93,('Course 20 m'!$B$1:$BU$1),1)+1))","v":""},null,{"$f":"IF(OR(E93=\"\",N93=\"\"),\"\",VLOOKUP(N93,'Ecarts D&G'!$A$2:$BU$147,MATCH(F93,('Ecarts D&G'!$B$1:$BU$1),1)+1))","v":""},null,{"$f":"IF(OR(E93=\"\",P93=\"\"),\"\",VLOOKUP(P93,'Ecarts D&G'!$A$2:$BU$147,MATCH(F93,('Ecarts D&G'!$B$1:$BU$1),1)+1))","v":""},null,{"$f":"IF(OR(E93=\"\",R93=\"\"),\"\",VLOOKUP(R93,'Ecart facial'!$A$2:$BU$143,MATCH(F93,('Ecart facial'!$B$1:$BU$1),1)+1))","v":""},null,{"$f":"IF(OR(E93=\"\",T93=\"\"),\"\",VLOOKUP(T93,'Fermeture TJ'!$A$2:$BU$126,MATCH(F93,('Fermeture TJ'!$B$1:$BU$1),1)+1))","v":""},null,{"$f":"IF(OR(E93=\"\",V93=\"\"),\"\",VLOOKUP(V93,Pont!$A$2:$BU$188,MATCH(F93,(Pont!$B$1:$BU$1),1)+1))","v":""},null,{"$f":"IF(OR(E93=\"\",X93=\"\"),\"\",VLOOKUP(X93,Epaules!$A$2:$BU$76,MATCH(F93,(Epaules!$B$1:$BU$1),1)+1))","v":""},null,{"$f":"IF(OR(E93=\"\",Z93=\"\"),\"\",VLOOKUP(Z93,'pointe de pieds'!$A$2:$BU$110,MATCH(F93,('pointe de pieds'!$B$1:$BU$1),1)+1))","v":""},"",""]
[{"$f":"IF(D94=\"\",\"\",Accueil!$D$6)","v":""},{"$f":"IF(OR(Accueil!$D$6=\"\",C94=\"\",D94=\"\"),\"\",UPPER(LOOKUP(C94,Accueil!$C$30:$C$129,Accueil!$D$30:$D$129)))","v":""},{"$nulls":3},{"$f":"IF(OR(Accueil!$D$6=\"\",D94=\"\",E94=\"\"),\"\",DATEDIF(E94,LOOKUP(C94,Accueil!$C$30:$C$129,Accueil!$E$30:$E$129),\"m\"))","v":""},null,null,{"$f":"IF(OR(E94=\"\",H94=\"\"),\"\",VLOOKUP(H94,Détente!$A$2:$BU$157,MATCH(F94,(Détente!$B$1:$BU$1),1)+1))","v":""},null,{"$f":"IF(OR(E94=\"\",J94=\"\"),\"\",VLOOKUP(J94,Sautillers!$A$2:$BU$99,MATCH(F94,(Sautillers!$B$1:$BU$1),1)+1))","v":""},null,{"$f":"IF(OR(E94=\"\",L94=\"\"),\"\",VLOOKUP(L94,'Course 20 m'!$A$2:$BU$373,MATCH(F94,('Course 20 m'!$B$1:$BU$1),1)+1))","v":""},null,{"$f":"IF(OR(E94=\"\",N94=\"\"),\"\",VLOOKUP(N94,'Ecarts D&G'!$A$2:$BU$147,MATCH(F94,('Ecarts D&G'!$B$1:$BU$1),1)+1))","v":""},null,{"$f":"IF(OR(E94=\"\",P94=\"\"),\"\",VLOOKUP(P94,'Ecarts D&G'!$A$2:$BU$147,MATCH(F94,('Ecarts D&G'!$B$1:$BU$1),1)+1))","v":""},null,{"$f":"IF(OR(E94=\"\",R94=\"\"),\"\",VLOOKUP(R94,'Ecart facial'!$A$2:$BU$143,MATCH(F94,('Ecart facial'!$B$1:$BU$1),1)+1))","v":""},null,{"$f":"IF(OR(E94=\"\",T94=\"\"),\"\",VLOOKUP(T94,'Fermeture TJ'!$A$2:$BU$126,MATCH(F94,('Fermeture TJ'!$B$1:$BU$1),1)+1))","v":""},null,{"$f":"IF(OR(E94=\"\",V94=\"\"),\"\",VLOOKUP(V94,Pont!$A$2:$BU$188,MATCH(F94,(Pont!$B$1:$BU$1),1)+1))","v":""},null,{"$f":"IF(OR(E94=\"\",X94=\"\"),\"\",VLOOKUP(X94,Epaules!$A$2:$BU$76,MATCH(F94,(Epaules!$B$1:$BU$1),1)+1))","v":""},null,{"$f":"IF(OR(E94=\"\",Z94=\"\"),\"\",VLOOKUP(Z94,'pointe de pieds'!$A$2:$BU$110,MATCH(F94,('pointe de pieds'!$B$1:$BU$1),1)+1))","v":""},"",""]
[{"$f":"IF(D95=\"\",\"\",Accueil!$D$6)","v":""},{"$f":"IF(OR(Accueil!$D$6=\"\",C95=\"\",D95=\"\"),\"\",UPPER(LOOKUP(C95,Accueil!$C$30:$C$129,Accueil!$D$30:$D$129)))","v":""},{"$nulls":3},{"$f":"IF(OR(Accueil!$D$6=\"\",D95=\"\",E95=\"\"),\"\",DATEDIF(E95,LOOKUP(C95,Accueil!$C$30:$C$129,Accueil!$E$30:$E$129),\"m\"))","v":""},null,null,{"$f":"IF(OR(E95=\"\",H95=\"\"),\"\",VLOOKUP(H95,Détente!$A$2:$BU$157,MATCH(F95,(Détente!$B$1:$BU$1),1)+1))","v":""},null,{"$f":"IF(OR(E95=\"\",J95=\"\"),\"\",VLOOKUP(J95,Sautillers!$A$2:$BU$99,MATCH(F95,(Sautillers!$B$1:$BU$1),1)+1))","v":""},null,{"$f":"IF(OR(E95=\"\",L95=\"\"),\"\",VLOOKUP(L95,'Course 20 m'!$A$2:$BU$373,MATCH(F95,('Course 20 m'!$B$1:$BU$1),1)+1))","v":""},null,{"$f":"IF(OR(E95=\"\",N95=\"\"),\"\",VLOOKUP(N95,'Ecarts D&G'!$A$2:$BU$147,MATCH(F95,('Ecarts D&G'!$B$1:$BU$1),1)+1))","v":""},null,{"$f":"IF(OR(E95=\"\",P95=\"\"),\"\",VLOOKUP(P95,'Ecarts D&G'!$A$2:$BU$147,MATCH(F95,('Ecarts D&G'!$B$1:$BU$1),1)+1))","v":""},null,{"$f":"IF(OR(E95=\"\",R95=\"\"),\"\",VLOOKUP(R95,'Ecart facial'!$A$2:$BU$143,MATCH(F95,('Ecart facial'!$B$1:$BU$1),1)+1))","v":""},null,{"$f":"IF(OR(E95=\"\",T95=\"\"),\"\",VLOOKUP(T95,'Fermeture TJ'!$A$2:$BU$126,MATCH(F95,('Fermeture TJ'!$B$1:$BU$1),1)+1))","v":""},null,{"$f":"IF(OR(E95=\"\",V95=\"\"),\"\",VLOOKUP(V95,Pont!$A$2:$BU$188,MATCH(F95,(Pont!$B$1:$BU$1),1)+1))","v":""},null,{"$f":"IF(OR(E95=\"\",X95=\"\"),\"\",VLOOKUP(X95,Epaules!$A$2:$BU$76,MATCH(F95,(Epaules!$B$1:$BU$1),1)+1))","v":""},null,{"$f":"IF(OR(E95=\"\",Z95=\"\"),\"\",VLOOKUP(Z95,'pointe de pieds'!$A$2:$BU$110,MATCH(F95,('pointe de pieds'!$B$1:$BU$1),1)+1))","v":""},"",""]
[{"$f":"IF(D96=\"\",\"\",Accueil!$D$6)","v":""},{"$f":"IF(OR(Accueil!$D$6=\"\",C96=\"\",D96=\"\"),\"\",UPPER(LOOKUP(C96,Accueil!$C$30:$C$129,Accueil!$D$30:$D$129)))","v":""},{"$nulls":3},{"$f":"IF(OR(Accueil!$D$6=\"\",D96=\"\",E96=\"\"),\"\",DATEDIF(E96,LOOKUP(C96,Accueil!$C$30:$C$129,Accueil!$E$30:$E$129),\"m\"))","v":""},null,null,{"$f":"IF(OR(E96=\"\",H96=\"\"),\"\",VLOOKUP(H96,Détente!$A$2:$BU$157,MATCH(F96,(Détente!$B$1:$BU$1),1)+1))","v":""},null,{"$f":"IF(OR(E96=\"\",J96=\"\"),\"\",VLOOKUP(J96,Sautillers!$A$2:$BU$99,MATCH(F96,(Sautillers!$B$1:$BU$1),1)+1))","v":""},null,{"$f":"IF(OR(E96=\"\",L96=\"\"),\"\",VLOOKUP(L96,'Course 20 m'!$A$2:$BU$373,MATCH(F96,('Course 20 m'!$B$1:$BU$1),1)+1))","v":""},null,{"$f":"IF(OR(E96=\"\",N96=\"\"),\"\",VLOOKUP(N96,'Ecarts D&G'!$A$2:$BU$147,MATCH(F96,('Ecarts D&G'!$B$1:$BU$1),1)+1))","v":""},null,{"$f":"IF(OR(E96=\"\",P96=\"\"),\"\",VLOOKUP(P96,'Ecarts D&G'!$A$2:$BU$147,MATCH(F96,('Ecarts D&G'!$B$1:$BU$1),1)+1))","v":""},null,{"$f":"IF(OR(E96=\"\",R96=\"\"),\"\",VLOOKUP(R96,'Ecart facial'!$A$2:$BU$143,MATCH(F96,('Ecart facial'!$B$1:$BU$1),1)+1))","v":""},null,{"$f":"IF(OR(E96=\"\",T96=\"\"),\"\",VLOOKUP(T96,'Fermeture TJ'!$A$2:$BU$126,MATCH(F96,('Fermeture TJ'!$B$1:$BU$1),1)+1))","v":""},null,{"$f":"IF(OR(E96=\"\",V96=\"\"),\"\",VLOOKUP(V96,Pont!$A$2:$BU$188,MATCH(F96,(Pont!$B$1:$BU$1),1)+1))","v":""},null,{"$f":"IF(OR(E96=\"\",X96=\"\"),\"\",VLOOKUP(X96,Epaules!$A$2:$BU$76,MATCH(F96,(Epaules!$B$1:$BU$1),1)+1))","v":""},null,{"$f":"IF(OR(E96=\"\",Z96=\"\"),\"\",VLOOKUP(Z96,'pointe de pieds'!$A$2:$BU$110,MATCH(F96,('pointe de pieds'!$B$1:$BU$1),1)+1))","v":""},"",""]
[{"$f":"IF(D97=\"\",\"\",Accueil!$D$6)","v":""},{"$f":"IF(OR(Accueil!$D$6=\"\",C97=\"\",D97=\"\"),\"\",UPPER(LOOKUP(C97,Accueil!$C$30:$C$129,Accueil!$D$30:$D$129)))","v":""},{"$nulls":3},{"$f":"IF(OR(Accueil!$D$6=\"\",D97=\"\",E97=\"\"),\"\",DATEDIF(E97,LOOKUP(C97,Accueil!$C$30:$C$129,Accueil!$E$30:$E$129),\"m\"))","v":""},null,null,{"$f":"IF(OR(E97=\"\",H97=\"\"),\"\",VLOOKUP(H97,Détente!$A$2:$BU$157,MATCH(F97,(Détente!$B$1:$BU$1),1)+1))","v":""},null,{"$f":"IF(OR(E97=\"\",J97=\"\"),\"\",VLOOKUP(J97,Sautillers!$A$2:$BU$99,MATCH(F97,(Sautillers!$B$1:$BU$1),1)+1))","v":""},null,{"$f":"IF(OR(E97=\"\",L97=\"\"),\"\",VLOOKUP(L97,'Course 20 m'!$A$2:$BU$373,MATCH(F97,('Course 20 m'!$B$1:$BU$1),1)+1))","v":""},null,{"$f":"IF(OR(E97=\"\",N97=\"\"),\"\",VLOOKUP(N97,'Ecarts D&G'!$A$2:$BU$147,MATCH(F97,('Ecarts D&G'!$B$1:$BU$1),1)+1))","v":""},null,{"$f":"IF(OR(E97=\"\",P97=\"\"),\"\",VLOOKUP(P97,'Ecarts D&G'!$A$2:$BU$147,MATCH(F97,('Ecarts D&G'!$B$1:$BU$1),1)+1))","v":""},null,{"$f":"IF(OR(E97=\"\",R97=\"\"),\"\",VLOOKUP(R97,'Ecart facial'!$A$2:$BU$143,MATCH(F97,('Ecart facial'!$B$1:$BU$1),1)+1))","v":""},null,{"$f":"IF(OR(E97=\"\",T97=\"\"),\"\",VLOOKUP(T97,'Fermeture TJ'!$A$2:$BU$126,MATCH(F97,('Fermeture TJ'!$B$1:$BU$1),1)+1))","v":""},null,{"$f":"IF(OR(E97=\"\",V97=\"\"),\"\",VLOOKUP(V97,Pont!$A$2:$BU$188,MATCH(F97,(Pont!$B$1:$BU$1),1)+1))","v":""},null,{"$f":"IF(OR(E97=\"\",X97=\"\"),\"\",VLOOKUP(X97,Epaules!$A$2:$BU$76,MATCH(F97,(Epaules!$B$1:$BU$1),1)+1))","v":""},null,{"$f":"IF(OR(E97=\"\",Z97=\"\"),\"\",VLOOKUP(Z97,'pointe de pieds'!$A$2:$BU$110,MATCH(F97,('pointe de pieds'!$B$1:$BU$1),1)+1))","v":""},"",""]
[{"$f":"IF(D98=\"\",\"\",Accueil!$D$6)","v":""},{"$f":"IF(OR(Accueil!$D$6=\"\",C98=\"\",D98=\"\"),\"\",UPPER(LOOKUP(C98,Accueil!$C$30:$C$129,Accueil!$D$30:$D$129)))","v":""},{"$nulls":3},{"$f":"IF(OR(Accueil!$D$6=\"\",D98=\"\",E98=\"\"),\"\",DATEDIF(E98,LOOKUP(C98,Accueil!$C$30:$C$129,Accueil!$E$30:$E$129),\"m\"))","v":""},null,null,{"$f":"IF(OR(E98=\"\",H98=\"\"),\"\",VLOOKUP(H98,Détente!$A$2:$BU$157,MATCH(F98,(Détente!$B$1:$BU$1),1)+1))","v":""},null,{"$f":"IF(OR(E98=\"\",J98=\"\"),\"\",VLOOKUP(J98,Sautillers!$A$2:$BU$99,MATCH(F98,(Sautillers!$B$1:$BU$1),1)+1))","v":""},null,{"$f":"IF(OR(E98=\"\",L98=\"\"),\"\",VLOOKUP(L98,'Course 20 m'!$A$2:$BU$373,MATCH(F98,('Course 20 m'!$B$1:$BU$1),1)+1))","v":""},null,{"$f":"IF(OR(E98=\"\",N98=\"\"),\"\",VLOOKUP(N98,'Ecarts D&G'!$A$2:$BU$147,MATCH(F98,('Ecarts D&G'!$B$1:$BU$1),1)+1))","v":""},null,{"$f":"IF(OR(E98=\"\",P98=\"\"),\"\",VLOOKUP(P98,'Ecarts D&G'!$A$2:$BU$147,MATCH(F98,('Ecarts D&G'!$B$1:$BU$1),1)+1))","v":""},null,{"$f":"IF(OR(E98=\"\",R98=\"\"),\"\",VLOOKUP(R98,'Ecart facial'!$A$2:$BU$143,MATCH(F98,('Ecart facial'!$B$1:$BU$1),1)+1))","v":""},null,{"$f":"IF(OR(E98=\"\",T98=\"\"),\"\",VLOOKUP(T98,'Fermeture TJ'!$A$2:$BU$126,MATCH(F98,('Fermeture TJ'!$B$1:$BU$1),1)+1))","v":""},null,{"$f":"IF(OR(E98=\"\",V98=\"\"),\"\",VLOOKUP(V98,Pont!$A$2:$BU$188,MATCH(F98,(Pont!$B$1:$BU$1),1)+1))","v":""},null,{"$f":"IF(OR(E98=\"\",X98=\"\"),\"\",VLOOKUP(X98,Epaules!$A$2:$BU$76,MATCH(F98,(Epaules!$B$1:$BU$1),1)+1))","v":""},null,{"$f":"IF(OR(E98=\"\",Z98=\"\"),\"\",VLOOKUP(Z98,'pointe de pieds'!$A$2:$BU$110,MATCH(F98,('pointe de pieds'!$B$1:$BU$1),1)+1))","v":""},"",""]
[{"$f":"IF(D99=\"\",\"\",Accueil!$D$6)","v":""},{"$f":"IF(OR(Accueil!$D$6=\"\",C99=\"\",D99=\"\"),\"\",UPPER(LOOKUP(C99,Accueil!$C$30:$C$129,Accueil!$D$30:$D$129)))","v":""},{"$nulls":3},{"$f":"IF(OR(Accueil!$D$6=\"\",D99=\"\",E99=\"\"),\"\",DATEDIF(E99,LOOKUP(C99,Accueil!$C$30:$C$129,Accueil!$E$30:$E$129),\"m\"))","v":""},null,null,{"$f":"IF(OR(E99=\"\",H99=\"\"),\"\",VLOOKUP(H99,Détente!$A$2:$BU$157,MATCH(F99,(Détente!$B$1:$BU$1),1)+1))","v":""},null,{"$f":"IF(OR(E99=\"\",J99=\"\"),\"\",VLOOKUP(J99,Sautillers!$A$2:$BU$99,MATCH(F99,(Sautillers!$B$1:$BU$1),1)+1))","v":""},null,{"$f":"IF(OR(E99=\"\",L99=\"\"),\"\",VLOOKUP(L99,'Course 20 m'!$A$2:$BU$373,MATCH(F99,('Course 20 m'!$B$1:$BU$1),1)+1))","v":""},null,{"$f":"IF(OR(E99=\"\",N99=\"\"),\"\",VLOOKUP(N99,'Ecarts D&G'!$A$2:$BU$147,MATCH(F99,('Ecarts D&G'!$B$1:$BU$1),1)+1))","v":""},null,{"$f":"IF(OR(E99=\"\",P99=\"\"),\"\",VLOOKUP(P99,'Ecarts D&G'!$A$2:$BU$147,MATCH(F99,('Ecarts D&G'!$B$1:$BU$1),1)+1))","v":""},null,{"$f":"IF(OR(E99=\"\",R99=\"\"),\"\",VLOOKUP(R99,'Ecart facial'!$A$2:$BU$143,MATCH(F99,('Ecart facial'!$B$1:$BU$1),1)+1))","v":""},null,{"$f":"IF(OR(E99=\"\",T99=\"\"),\"\",VLOOKUP(T99,'Fermeture TJ'!$A$2:$BU$126,MATCH(F99,('Fermeture TJ'!$B$1:$BU$1),1)+1))","v":""},null,{"$f":"IF(OR(E99=\"\",V99=\"\"),\"\",VLOOKUP(V99,Pont!$A$2:$BU$188,MATCH(F99,(Pont!$B$1:$BU$1),1)+1))","v":""},null,{"$f":"IF(OR(E99=\"\",X99=\"\"),\"\",VLOOKUP(X99,Epaules!$A$2:$BU$76,MATCH(F99,(Epaules!$B$1:$BU$1),1)+1))","v":""},null,{"$f":"IF(OR(E99=\"\",Z99=\"\"),\"\",VLOOKUP(Z99,'pointe de pieds'!$A$2:$BU$110,MATCH(F99,('pointe de pieds'!$B$1:$BU$1),1)+1))","v":""},"",""]
[{"$f":"IF(D100=\"\",\"\",Accueil!$D$6)","v":""},{"$f":"IF(OR(Accueil!$D$6=\"\",C100=\"\",D100=\"\"),\"\",UPPER(LOOKUP(C100,Accueil!$C$30:$C$129,Accueil!$D$30:$D$129)))","v":""},{"$nulls":3},{"$f":"IF(OR(Accueil!$D$6=\"\",D100=\"\",E100=\"\"),\"\",DATEDIF(E100,LOOKUP(C100,Accueil!$C$30:$C$129,Accueil!$E$30:$E$129),\"m\"))","v":""},null,null,{"$f":"IF(OR(E100=\"\",H100=\"\"),\"\",VLOOKUP(H100,Détente!$A$2:$BU$157,MATCH(F100,(Détente!$B$1:$BU$1),1)+1))","v":""},null,{"$f":"IF(OR(E100=\"\",J100=\"\"),\"\",VLOOKUP(J100,Sautillers!$A$2:$BU$99,MATCH(F100,(Sautillers!$B$1:$BU$1),1)+1))","v":""},null,{"$f":"IF(OR(E100=\"\",L100=\"\"),\"\",VLOOKUP(L100,'Course 20 m'!$A$2:$BU$373,MATCH(F100,('Course 20 m'!$B$1:$BU$1),1)+1))","v":""},null,{"$f":"IF(OR(E100=\"\",N100=\"\"),\"\",VLOOKUP(N100,'Ecarts D&G'!$A$2:$BU$147,MATCH(F100,('Ecarts D&G'!$B$1:$BU$1),1)+1))","v":""},null,{"$f":"IF(OR(E100=\"\",P100=\"\"),\"\",VLOOKUP(P100,'Ecarts D&G'!$A$2:$BU$147,MATCH(F100,('Ecarts D&G'!$B$1:$BU$1),1)+1))","v":""},null,{"$f":"IF(OR(E100=\"\",R100=\"\"),\"\",VLOOKUP(R100,'Ecart facial'!$A$2:$BU$143,MATCH(F100,('Ecart facial'!$B$1:$BU$1),1)+1))","v":""},null,{"$f":"IF(OR(E100=\"\",T100=\"\"),\"\",VLOOKUP(T100,'Fermeture TJ'!$A$2:$BU$126,MATCH(F100,('Fermeture TJ'!$B$1:$BU$1),1)+1))","v":""},null,{"$f":"IF(OR(E100=\"\",V100=\"\"),\"\",VLOOKUP(V100,Pont!$A$2:$BU$188,MATCH(F100,(Pont!$B$1:$BU$1),1)+1))","v":""},null,{"$f":"IF(OR(E100=\"\",X100=\"\"),\"\",VLOOKUP(X100,Epaules!$A$2:$BU$76,MATCH(F100,(Epaules!$B$1:$BU$1),1)+1))","v":""},null,{"$f":"IF(OR(E100=\"\",Z100=\"\"),\"\",VLOOKUP(Z100,'pointe de pieds'!$A$2:$BU$110,MATCH(F100,('pointe de pieds'!$B$1:$BU$1),1)+1))","v":""},"",""]
[{"$f":"IF(D101=\"\",\"\",Accueil!$D$6)","v":""},{"$f":"IF(OR(Accueil!$D$6=\"\",C101=\"\",D101=\"\"),\"\",UPPER(LOOKUP(C101,Accueil!$C$30:$C$129,Accueil!$D$30:$D$129)))","v":""},{"$nulls":3},{"$f":"IF(OR(Accueil!$D$6=\"\",D101=\"\",E101=\"\"),\"\",DATEDIF(E101,LOOKUP(C101,Accueil!$C$30:$C$129,Accueil!$E$30:$E$129),\"m\"))","v":""},null,null,{"$f":"IF(OR(E101=\"\",H101=\"\"),\"\",VLOOKUP(H101,Détente!$A$2:$BU$157,MATCH(F101,(Détente!$B$1:$BU$1),1)+1))","v":""},null,{"$f":"IF(OR(E101=\"\",J101=\"\"),\"\",VLOOKUP(J101,Sautillers!$A$2:$BU$99,MATCH(F101,(Sautillers!$B$1:$BU$1),1)+1))","v":""},null,{"$f":"IF(OR(E101=\"\",L101=\"\"),\"\",VLOOKUP(L101,'Course 20 m'!$A$2:$BU$373,MATCH(F101,('Course 20 m'!$B$1:$BU$1),1)+1))","v":""},null,{"$f":"IF(OR(E101=\"\",N101=\"\"),\"\",VLOOKUP(N101,'Ecarts D&G'!$A$2:$BU$147,MATCH(F101,('Ecarts D&G'!$B$1:$BU$1),1)+1))","v":""},null,{"$f":"IF(OR(E101=\"\",P101=\"\"),\"\",VLOOKUP(P101,'Ecarts D&G'!$A$2:$BU$147,MATCH(F101,('Ecarts D&G'!$B$1:$BU$1),1)+1))","v":""},null,{"$f":"IF(OR(E101=\"\",R101=\"\"),\"\",VLOOKUP(R101,'Ecart facial'!$A$2:$BU$143,MATCH(F101,('Ecart facial'!$B$1:$BU$1),1)+1))","v":""},null,{"$f":"IF(OR(E101=\"\",T101=\"\"),\"\",VLOOKUP(T101,'Fermeture TJ'!$A$2:$BU$126,MATCH(F101,('Fermeture TJ'!$B$1:$BU$1),1)+1))","v":""},null,{"$f":"IF(OR(E101=\"\",V101=\"\"),\"\",VLOOKUP(V101,Pont!$A$2:$BU$188,MATCH(F101,(Pont!$B$1:$BU$1),1)+1))","v":""},null,{"$f":"IF(OR(E101=\"\",X101=\"\"),\"\",VLOOKUP(X101,Epaules!$A$2:$BU$76,MATCH(F101,(Epaules!$B$1:$BU$1),1)+1))","v":""},null,{"$f":"IF(OR(E101=\"\",Z101=\"\"),\"\",VLOOKUP(Z101,'pointe de pieds'!$A$2:$BU$110,MATCH(F101,('pointe de pieds'!$B$1:$BU$1),1)+1))","v":""},"",""]
[{"$f":"IF(D102=\"\",\"\",Accueil!$D$6)","v":""},{"$f":"IF(OR(Accueil!$D$6=\"\",C102=\"\",D102=\"\"),\"\",UPPER(LOOKUP(C102,Accueil!$C$30:$C$129,Accueil!$D$30:$D$129)))","v":""},{"$nulls":3},{"$f":"IF(OR(Accueil!$D$6=\"\",D102=\"\",E102=\"\"),\"\",DATEDIF(E102,LOOKUP(C102,Accueil!$C$30:$C$129,Accueil!$E$30:$E$129),\"m\"))","v":""},null,null,{"$f":"IF(OR(E102=\"\",H102=\"\"),\"\",VLOOKUP(H102,Détente!$A$2:$BU$157,MATCH(F102,(Détente!$B$1:$BU$1),1)+1))","v":""},null,{"$f":"IF(OR(E102=\"\",J102=\"\"),\"\",VLOOKUP(J102,Sautillers!$A$2:$BU$99,MATCH(F102,(Sautillers!$B$1:$BU$1),1)+1))","v":""},null,{"$f":"IF(OR(E102=\"\",L102=\"\"),\"\",VLOOKUP(L102,'Course 20 m'!$A$2:$BU$373,MATCH(F102,('Course 20 m'!$B$1:$BU$1),1)+1))","v":""},null,{"$f":"IF(OR(E102=\"\",N102=\"\"),\"\",VLOOKUP(N102,'Ecarts D&G'!$A$2:$BU$147,MATCH(F102,('Ecarts D&G'!$B$1:$BU$1),1)+1))","v":""},null,{"$f":"IF(OR(E102=\"\",P102=\"\"),\"\",VLOOKUP(P102,'Ecarts D&G'!$A$2:$BU$147,MATCH(F102,('Ecarts D&G'!$B$1:$BU$1),1)+1))","v":""},null,{"$f":"IF(OR(E102=\"\",R102=\"\"),\"\",VLOOKUP(R102,'Ecart facial'!$A$2:$BU$143,MATCH(F102,('Ecart facial'!$B$1:$BU$1),1)+1))","v":""},null,{"$f":"IF(OR(E102=\"\",T102=\"\"),\"\",VLOOKUP(T102,'Fermeture TJ'!$A$2:$BU$126,MATCH(F102,('Fermeture TJ'!$B$1:$BU$1),1)+1))","v":""},null,{"$f":"IF(OR(E102=\"\",V102=\"\"),\"\",VLOOKUP(V102,Pont!$A$2:$BU$188,MATCH(F102,(Pont!$B$1:$BU$1),1)+1))","v":""},null,{"$f":"IF(OR(E102=\"\",X102=\"\"),\"\",VLOOKUP(X102,Epaules!$A$2:$BU$76,MATCH(F102,(Epaules!$B$1:$BU$1),1)+1))","v":""},null,{"$f":"IF(OR(E102=\"\",Z102=\"\"),\"\",VLOOKUP(Z102,'pointe de pieds'!$A$2:$BU$110,MATCH(F102,('pointe de pieds'!$B$1:$BU$1),1)+1))","v":""},"",""]
[{"$f":"IF(D103=\"\",\"\",Accueil!$D$6)","v":""},{"$f":"IF(OR(Accueil!$D$6=\"\",C103=\"\",D103=\"\"),\"\",UPPER(LOOKUP(C103,Accueil!$C$30:$C$129,Accueil!$D$30:$D$129)))","v":""},{"$nulls":3},{"$f":"IF(OR(Accueil!$D$6=\"\",D103=\"\",E103=\"\"),\"\",DATEDIF(E103,LOOKUP(C103,Accueil!$C$30:$C$129,Accueil!$E$30:$E$129),\"m\"))","v":""},null,null,{"$f":"IF(OR(E103=\"\",H103=\"\"),\"\",VLOOKUP(H103,Détente!$A$2:$BU$157,MATCH(F103,(Détente!$B$1:$BU$1),1)+1))","v":""},null,{"$f":"IF(OR(E103=\"\",J103=\"\"),\"\",VLOOKUP(J103,Sautillers!$A$2:$BU$99,MATCH(F103,(Sautillers!$B$1:$BU$1),1)+1))","v":""},null,{"$f":"IF(OR(E103=\"\",L103=\"\"),\"\",VLOOKUP(L103,'Course 20 m'!$A$2:$BU$373,MATCH(F103,('Course 20 m'!$B$1:$BU$1),1)+1))","v":""},null,{"$f":"IF(OR(E103=\"\",N103=\"\"),\"\",VLOOKUP(N103,'Ecarts D&G'!$A$2:$BU$147,MATCH(F103,('Ecarts D&G'!$B$1:$BU$1),1)+1))","v":""},null,{"$f":"IF(OR(E103=\"\",P103=\"\"),\"\",VLOOKUP(P103,'Ecarts D&G'!$A$2:$BU$147,MATCH(F103,('Ecarts D&G'!$B$1:$BU$1),1)+1))","v":""},null,{"$f":"IF(OR(E103=\"\",R103=\"\"),\"\",VLOOKUP(R103,'Ecart facial'!$A$2:$BU$143,MATCH(F103,('Ecart facial'!$B$1:$BU$1),1)+1))","v":""},null,{"$f":"IF(OR(E103=\"\",T103=\"\"),\"\",VLOOKUP(T103,'Fermeture TJ'!$A$2:$BU$126,MATCH(F103,('Fermeture TJ'!$B$1:$BU$1),1)+1))","v":""},null,{"$f":"IF(OR(E103=\"\",V103=\"\"),\"\",VLOOKUP(V103,Pont!$A$2:$BU$188,MATCH(F103,(Pont!$B$1:$BU$1),1)+1))","v":""},null,{"$f":"IF(OR(E103=\"\",X103=\"\"),\"\",VLOOKUP(X103,Epaules!$A$2:$BU$76,MATCH(F103,(Epaules!$B$1:$BU$1),1)+1))","v":""},null,{"$f":"IF(OR(E103=\"\",Z103=\"\"),\"\",VLOOKUP(Z103,'pointe de pieds'!$A$2:$BU$110,MATCH(F103,('pointe de pieds'!$B$1:$BU$1),1)+1))","v":""},"",""]

{"sheet":"CR CF4","index":11,"n_rows":103,"n_cols":27,"rows_kept":103,"merged":[[0,0,0,4],[0,5,0,26],[1,0,2,0],[1,1,2,1],[1,2,2,2],[1,3,2,3],[1,4,2,4],[1,5,1,6],[1,7,1,8],[1,9,1,10],[1,11,1,12],[1,13,1,14],[1,15,1,16],[1,17,1,18],[1,19,1,20],[1,21,1,22],[1,23,1,24],[1,25,2,25],[1,26,2,26]]}
[{"$nulls":5},"MODULE TESTS PHYSIQUES"]
["Nom du club","Nom Prénom","Date de Naissance","Nb de mois","N° de licence","Détente horiz",null,"Sautillés",null,"Course 20m",null,"Ecart droit",null,"Ecart gauche",null,"Ecart facial",null,"Fermeture",null,"Pont",null,"Epaules",null,"Pointes de pieds",null,"Total\nPhys.\n/200","Total Phys.\n/20"]
[{"$nulls":5},"Perf.","Note\n/20","Perf.","Note\n/20","Perf","Note\n/20","Perf.","Note\n/20","Perf.","Note\n/20","Perf.","Note\n/20","Perf.","Note\n/20","Perf.","Note\n/20","Perf.","Note\n/20","Perf.","Note\n/20"]
[{"$f":"IF('CF4 TestsPhys'!B4=\"\",\"\",'CF4 TestsPhys'!B4)","v":""},{"$f":"IF('CF4 TestsPhys'!D4=\"\",\"\",'CF4 TestsPhys'!D4)","v":""},{"$f":"IF('CF4 TestsPhys'!E4=\"\",\"\",'CF4 TestsPhys'!E4)","v":""},{"$f":"IF('CF4 TestsPhys'!F4=\"\",\"\",'CF4 TestsPhys'!F4)","v":""},{"$f":"IF('CF4 TestsPhys'!G4=\"\",\"\",'CF4 TestsPhys'!G4)","v":""},{"$f":"IF('CF4 TestsPhys'!H4=\"\",\"\",'CF4 TestsPhys'!H4)","v":""},{"$f":"IF('CF4 TestsPhys'!I4=\"\",\"\",'CF4 TestsPhys'!I4)","v":""},{"$f":"IF('CF4 TestsPhys'!J4=\"\",\"\",'CF4 TestsPhys'!J4)","v":""},{"$f":"IF('CF4 TestsPhys'!K4=\"\",\"\",'CF4 TestsPhys'!K4)","v":""},{"$f":"IF('CF4 TestsPhys'!L4=\"\",\"\",'CF4 TestsPhys'!L4)","v":""},{"$f":"IF('CF4 TestsPhys'!M4=\"\",\"\",'CF4 TestsPhys'!M4)","v":""},{"$f":"IF('CF4 TestsPhys'!N4=\"\",\"\",'CF4 TestsPhys'!N4)","v":""},{"$f":"IF('CF4 TestsPhys'!O4=\"\",\"\",'CF4 TestsPhys'!O4)","v":""},{"$f":"IF('CF4 TestsPhys'!P4=\"\",\"\",'CF4 TestsPhys'!P4)","v":""},{"$f":"IF('CF4 TestsPhys'!Q4=\"\",\"\",'CF4 TestsPhys'!Q4)","v":""},{"$f":"IF('CF4 TestsPhys'!R4=\"\",\"\",'CF4 TestsPhys'!R4)","v":""},{"$f":"IF('CF4 TestsPhys'!S4=\"\",\"\",'CF4 TestsPhys'!S4)","v":""},{"$f":"IF('CF4 TestsPhys'!T4=\"\",\"\",'CF4 TestsPhys'!T4)","v":""},{"$f":"IF('CF4 TestsPhys'!U4=\"\",\"\",'CF4 TestsPhys'!U4)","v":""},{"$f":"IF('CF4 TestsPhys'!V4=\"\",\"\",'CF4 TestsPhys'!V4)","v":""},{"$f":"IF('CF4 TestsPhys'!W4=\"\",\"\",'CF4 TestsPhys'!W4)","v":""},{"$f":"IF('CF4 TestsPhys'!X4=\"\",\"\",'CF4 TestsPhys'!X4)","v":""},{"$f":"IF('CF4 TestsPhys'!Y4=\"\",\"\",'CF4 TestsPhys'!Y4)","v":""},{"$f":"IF('CF4 TestsPhys'!Z4=\"\",\"\",'CF4 TestsPhys'!Z4)","v":""},{"$f":"IF('CF4 TestsPhys'!AA4=\"\",\"\",'CF4 TestsPhys'!AA4)","v":""},{"$f":"IF('CF4 TestsPhys'!AB4=\"\",\"\",'CF4 TestsPhys'!AB4)","v":""},{"$f":"IF('CF4 TestsPhys'!AC4=\"\",\"\",'CF4 TestsPhys'!AC4)","v":""}]
[{"$f":"IF('CF4 TestsPhys'!B5=\"\",\"\",'CF4 TestsPhys'!B5)","v":""},{"$f":"IF('CF4 TestsPhys'!D5=\"\",\"\",'CF4 TestsPhys'!D5)","v":""},{"$f":"IF('CF4 TestsPhys'!E5=\"\",\"\",'CF4 TestsPhys'!E5)","v":""},{"$f":"IF('CF4 TestsPhys'!F5=\"\",\"\",'CF4 TestsPhys'!F5)","v":""},{"$f":"IF('CF4 TestsPhys'!G5=\"\",\"\",'CF4 TestsPhys'!G5)","v":""},{"$f":"IF('CF4 TestsPhys'!H5=\"\",\"\",'CF4 TestsPhys'!H5)","v":""},{"$f":"IF('CF4 TestsPhys'!I5=\"\",\"\",'CF4 TestsPhys'!I5)","v":""},{"$f":"IF('CF4 TestsPhys'!J5=\"\",\"\",'CF4 TestsPhys'!J5)","v":""},{"$f":"IF('CF4 TestsPhys'!K5=\"\",\"\",'CF4 TestsPhys'!K5)","v":""},{"$f":"IF('CF4 TestsPhys'!L5=\"\",\"\",'CF4 TestsPhys'!L5)","v":""},{"$f":"IF('CF4 TestsPhys'!M5=\"\",\"\",'CF4 TestsPhys'!M5)","v":""},{"$f":"IF('CF4 TestsPhys'!N5=\"\",\"\",'CF4 TestsPhys'!N5)","v":""},{"$f":"IF('CF4 TestsPhys'!O5=\"\",\"\",'CF4 TestsPhys'!O5)","v":""},{"$f":"IF('CF4 TestsPhys'!P5=\"\",\"\",'CF4 TestsPhys'!P5)","v":""},{"$f":"IF('CF4 TestsPhys'!Q5=\"\",\"\",'CF4 TestsPhys'!Q5)","v":""},{"$f":"IF('CF4 TestsPhys'!R5=\"\",\"\",'CF4 TestsPhys'!R5)","v":""},{"$f":"IF('CF4 TestsPhys'!S5=\"\",\"\",'CF4 TestsPhys'!S5)","v":""},{"$f":"IF('CF4 TestsPhys'!T5=\"\",\"\",'CF4 TestsPhys'!T5)","v":""},{"$f":"IF('CF4 TestsPhys'!U5=\"\",\"\",'CF4 TestsPhys'!U5)","v":""},{"$f":"IF('CF4 TestsPhys'!V5=\"\",\"\",'CF4 TestsPhys'!V5)","v":""},{"$f":"IF('CF4 TestsPhys'!W5=\"\",\"\",'CF4 TestsPhys'!W5)","v":""},{"$f":"IF('CF4 TestsPhys'!X5=\"\",\"\",'CF4 TestsPhys'!X5)","v":""},{"$f":"IF('CF4 TestsPhys'!Y5=\"\",\"\",'CF4 TestsPhys'!Y5)","v":""},{"$f":"IF('CF4 TestsPhys'!Z5=\"\",\"\",'CF4 TestsPhys'!Z5)","v":""},{"$f":"IF('CF4 TestsPhys'!AA5=\"\",\"\",'CF4 TestsPhys'!AA5)","v":""},{"$f":"IF('CF4 TestsPhys'!AB5=\"\",\"\",'CF4 TestsPhys'!AB5)","v":""},{"$f":"IF('CF4 TestsPhys'!AC5=\"\",\"\",'CF4 TestsPhys'!AC5)","v":""}]
[{"$f":"IF('CF4 TestsPhys'!B6=\"\",\"\",'CF4 TestsPhys'!B6)","v":""},{"$f":"IF('CF4 TestsPhys'!D6=\"\",\"\",'CF4 TestsPhys'!D6)","v":""},{"$f":"IF('CF4 TestsPhys'!E6=\"\",\"\",'CF4 TestsPhys'!E6)","v":""},{"$f":"IF('CF4 TestsPhys'!F6=\"\",\"\",'CF4 TestsPhys'!F6)","v":""},{"$f":"IF('CF4 TestsPhys'!G6=\"\",\"\",'CF4 TestsPhys'!G6)","v":""},{"$f":"IF('CF4 TestsPhys'!H6=\"\",\"\",'CF4 TestsPhys'!H6)","v":""},{"$f":"IF('CF4 TestsPhys'!I6=\"\",\"\",'CF4 TestsPhys'!I6)","v":""},{"$f":"IF('CF4 TestsPhys'!J6=\"\",\"\",'CF4 TestsPhys'!J6)","v":""},{"$f":"IF('CF4 TestsPhys'!K6=\"\",\"\",'CF4 TestsPhys'!K6)","v":""},{"$f":"IF('CF4 TestsPhys'!L6=\"\",\"\",'CF4 TestsPhys'!L6)","v":""},{"$f":"IF('CF4 TestsPhys'!M6=\"\",\"\",'CF4 TestsPhys'!M6)","v":""},{"$f":"IF('CF4 TestsPhys'!N6=\"\",\"\",'CF4 TestsPhys'!N6)","v":""},{"$f":"IF('CF4 TestsPhys'!O6=\"\",\"\",'CF4 TestsPhys'!O6)","v":""},{"$f":"IF('CF4 TestsPhys'!P6=\"\",\"\",'CF4 TestsPhys'!P6)","v":""},{"$f":"IF('CF4 TestsPhys'!Q6=\"\",\"\",'CF4 TestsPhys'!Q6)","v":""},{"$f":"IF('CF4 TestsPhys'!R6=\"\",\"\",'CF4 TestsPhys'!R6)","v":""},{"$f":"IF('CF4 TestsPhys'!S6=\"\",\"\",'CF4 TestsPhys'!S6)","v":""},{"$f":"IF('CF4 TestsPhys'!T6=\"\",\"\",'CF4 TestsPhys'!T6)","v":""},{"$f":"IF('CF4 TestsPhys'!U6=\"\",\"\",'CF4 TestsPhys'!U6)","v":""},{"$f":"IF('CF4 TestsPhys'!V6=\"\",\"\",'CF4 TestsPhys'!V6)","v":""},{"$f":"IF('CF4 TestsPhys'!W6=\"\",\"\",'CF4 TestsPhys'!W6)","v":""},{"$f":"IF('CF4 TestsPhys'!X6=\"\",\"\",'CF4 TestsPhys'!X6)","v":""},{"$f":"IF('CF4 TestsPhys'!Y6=\"\",\"\",'CF4 TestsPhys'!Y6)","v":""},{"$f":"IF('CF4 TestsPhys'!Z6=\"\",\"\",'CF4 TestsPhys'!Z6)","v":""},{"$f":"IF('CF4 TestsPhys'!AA6=\"\",\"\",'CF4 TestsPhys'!AA6)","v":""},{"$f":"IF('CF4 TestsPhys'!AB6=\"\",\"\",'CF4 TestsPhys'!AB6)","v":""},{"$f":"IF('CF4 TestsPhys'!AC6=\"\",\"\",'CF4 TestsPhys'!AC6)","v":""}]
[{"$f":"IF('CF4 TestsPhys'!B7=\"\",\"\",'CF4 TestsPhys'!B7)","v":""},{"$f":"IF('CF4 TestsPhys'!D7=\"\",\"\",'CF4 TestsPhys'!D7)","v":""},{"$f":"IF('CF4 TestsPhys'!E7=\"\",\"\",'CF4 TestsPhys'!E7)","v":""},{"$f":"IF('CF4 TestsPhys'!F7=\"\",\"\",'CF4 TestsPhys'!F7)","v":""},{"$f":"IF('CF4 TestsPhys'!G7=\"\",\"\",'CF4 TestsPhys'!G7)","v":""},{"$f":"IF('CF4 TestsPhys'!H7=\"\",\"\",'CF4 TestsPhys'!H7)","v":""},{"$f":"IF('CF4 TestsPhys'!I7=\"\",\"\",'CF4 TestsPhys'!I7)","v":""},{"$f":"IF('CF4 TestsPhys'!J7=\"\",\"\",'CF4 TestsPhys'!J7)","v":""},{"$f":"IF('CF4 TestsPhys'!K7=\"\",\"\",'CF4 TestsPhys'!K7)","v":""},{"$f":"IF('CF4 TestsPhys'!L7=\"\",\"\",'CF4 TestsPhys'!L7)","v":""},{"$f":"IF('CF4 TestsPhys'!M7=\"\",\"\",'CF4 TestsPhys'!M7)","v":""},{"$f":"IF('CF4 TestsPhys'!N7=\"\",\"\",'CF4 TestsPhys'!N7)","v":""},{"$f":"IF('CF4 TestsPhys'!O7=\"\",\"\",'CF4 TestsPhys'!O7)","v":""},{"$f":"IF('CF4 TestsPhys'!P7=\"\",\"\",'CF4 TestsPhys'!P7)","v":""},{"$f":"IF('CF4 TestsPhys'!Q7=\"\",\"\",'CF4 TestsPhys'!Q7)","v":""},{"$f":"IF('CF4 TestsPhys'!R7=\"\",\"\",'CF4 TestsPhys'!R7)","v":""},{"$f":"IF('CF4 TestsPhys'!S7=\"\",\"\",'CF4 TestsPhys'!S7)","v":""},{"$f":"IF('CF4 TestsPhys'!T7=\"\",\"\",'CF4 TestsPhys'!T7)","v":""},{"$f":"IF('CF4 TestsPhys'!U7=\"\",\"\",'CF4 TestsPhys'!U7)","v":""},{"$f":"IF('CF4 TestsPhys'!V7=\"\",\"\",'CF4 TestsPhys'!V7)","v":""},{"$f":"IF('CF4 TestsPhys'!W7=\"\",\"\",'CF4 TestsPhys'!W7)","v":""},{"$f":"IF('CF4 TestsPhys'!X7=\"\",\"\",'CF4 TestsPhys'!X7)","v":""},{"$f":"IF('CF4 TestsPhys'!Y7=\"\",\"\",'CF4 TestsPhys'!Y7)","v":""},{"$f":"IF('CF4 TestsPhys'!Z7=\"\",\"\",'CF4 TestsPhys'!Z7)","v":""},{"$f":"IF('CF4 TestsPhys'!AA7=\"\",\"\",'CF4 TestsPhys'!AA7)","v":""},{"$f":"IF('CF4 TestsPhys'!AB7=\"\",\"\",'CF4 TestsPhys'!AB7)","v":""},{"$f":"IF('CF4 TestsPhys'!AC7=\"\",\"\",'CF4 TestsPhys'!AC7)","v":""}]
[{"$f":"IF('CF4 TestsPhys'!B8=\"\",\"\",'CF4 TestsPhys'!B8)","v":""},{"$f":"IF('CF4 TestsPhys'!D8=\"\",\"\",'CF4 TestsPhys'!D8)","v":""},{"$f":"IF('CF4 TestsPhys'!E8=\"\",\"\",'CF4 TestsPhys'!E8)","v":""},{"$f":"IF('CF4 TestsPhys'!F8=\"\",\"\",'CF4 TestsPhys'!F8)","v":""},{"$f":"IF('CF4 TestsPhys'!G8=\"\",\"\",'CF4 TestsPhys'!G8)","v":""},{"$f":"IF('CF4 TestsPhys'!H8=\"\",\"\",'CF4 TestsPhys'!H8)","v":""},{"$f":"IF('CF4 TestsPhys'!I8=\"\",\"\",'CF4 TestsPhys'!I8)","v":""},{"$f":"IF('CF4 TestsPhys'!J8=\"\",\"\",'CF4 TestsPhys'!J8)","v":""},{"$f":"IF('CF4 TestsPhys'!K8=\"\",\"\",'CF4 TestsPhys'!K8)","v":""},{"$f":"IF('CF4 TestsPhys'!L8=\"\",\"\",'CF4 TestsPhys'!L8)","v":""},{"$f":"IF('CF4 TestsPhys'!M8=\"\",\"\",'CF4 TestsPhys'!M8)","v":""},{"$f":"IF('CF4 TestsPhys'!N8=\"\",\"\",'CF4 TestsPhys'!N8)","v":""},{"$f":"IF('CF4 TestsPhys'!O8=\"\",\"\",'CF4 TestsPhys'!O8)","v":""},{"$f":"IF('CF4 TestsPhys'!P8=\"\",\"\",'CF4 TestsPhys'!P8)","v":""},{"$f":"IF('CF4 TestsPhys'!Q8=\"\",\"\",'CF4 TestsPhys'!Q8)","v":""},{"$f":"IF('CF4 TestsPhys'!R8=\"\",\"\",'CF4 TestsPhys'!R8)","v":""},{"$f":"IF('CF4 TestsPhys'!S8=\"\",\"\",'CF4 TestsPhys'!S8)","v":""},{"$f":"IF('CF4 TestsPhys'!T8=\"\",\"\",'CF4 TestsPhys'!T8)","v":""},{"$f":"IF('CF4 TestsPhys'!U8=\"\",\"\",'CF4 TestsPhys'!U8)","v":""},{"$f":"IF('CF4 TestsPhys'!V8=\"\",\"\",'CF4 TestsPhys'!V8)","v":""},{"$f":"IF('CF4 TestsPhys'!W8=\"\",\"\",'CF4 TestsPhys'!W8)","v":""},{"$f":"IF('CF4 TestsPhys'!X8=\"\",\"\",'CF4 TestsPhys'!X8)","v":""},{"$f":"IF('CF4 TestsPhys'!Y8=\"\",\"\",'CF4 TestsPhys'!Y8)","v":""},{"$f":"IF('CF4 TestsPhys'!Z8=\"\",\"\",'CF4 TestsPhys'!Z8)","v":""},{"$f":"IF('CF4 TestsPhys'!AA8=\"\",\"\",'CF4 TestsPhys'!AA8)","v":""},{"$f":"IF('CF4 TestsPhys'!AB8=\"\",\"\",'CF4 TestsPhys'!AB8)","v":""},{"$f":"IF('CF4 TestsPhys'!AC8=\"\",\"\",'CF4 TestsPhys'!AC8)","v":""}]
[{"$f":"IF('CF4 TestsPhys'!B9=\"\",\"\",'CF4 TestsPhys'!B9)","v":""},{"$f":"IF('CF4 TestsPhys'!D9=\"\",\"\",'CF4 TestsPhys'!D9)","v":""},{"$f":"IF('CF4 TestsPhys'!E9=\"\",\"\",'CF4 TestsPhys'!E9)","v":""},{"$f":"IF('CF4 TestsPhys'!F9=\"\",\"\",'CF4 TestsPhys'!F9)","v":""},{"$f":"IF('CF4 TestsPhys'!G9=\"\",\"\",'CF4 TestsPhys'!G9)","v":""},{"$f":"IF('CF4 TestsPhys'!H9=\"\",\"\",'CF4 TestsPhys'!H9)","v":""},{"$f":"IF('CF4 TestsPhys'!I9=\"\",\"\",'CF4 TestsPhys'!I9)","v":""},{"$f":"IF('CF4 TestsPhys'!J9=\"\",\"\",'CF4 TestsPhys'!J9)","v":""},{"$f":"IF('CF4 TestsPhys'!K9=\"\",\"\",'CF4 TestsPhys'!K9)","v":""},{"$f":"IF('CF4 TestsPhys'!L9=\"\",\"\",'CF4 TestsPhys'!L9)","v":""},{"$f":"IF('CF4 TestsPhys'!M9=\"\",\"\",'CF4 TestsPhys'!M9)","v":""},{"$f":"IF('CF4 TestsPhys'!N9=\"\",\"\",'CF4 TestsPhys'!N9)","v":""},{"$f":"IF('CF4 TestsPhys'!O9=\"\",\"\",'CF4 TestsPhys'!O9)","v":""},{"$f":"IF('CF4 TestsPhys'!P9=\"\",\"\",'CF4 TestsPhys'!P9)","v":""},{"$f":"IF('CF4 TestsPhys'!Q9=\"\",\"\",'CF4 TestsPhys'!Q9)","v":""},{"$f":"IF('CF4 TestsPhys'!R9=\"\",\"\",'CF4 TestsPhys'!R9)","v":""},{"$f":"IF('CF4 TestsPhys'!S9=\"\",\"\",'CF4 TestsPhys'!S9)","v":""},{"$f":"IF('CF4 TestsPhys'!T9=\"\",\"\",'CF4 TestsPhys'!T9)","v":""},{"$f":"IF('CF4 TestsPhys'!U9=\"\",\"\",'CF4 TestsPhys'!U9)","v":""},{"$f":"IF('CF4 TestsPhys'!V9=\"\",\"\",'CF4 TestsPhys'!V9)","v":""},{"$f":"IF('CF4 TestsPhys'!W9=\"\",\"\",'CF4 TestsPhys'!W9)","v":""},{"$f":"IF('CF4 TestsPhys'!X9=\"\",\"\",'CF4 TestsPhys'!X9)","v":""},{"$f":"IF('CF4 TestsPhys'!Y9=\"\",\"\",'CF4 TestsPhys'!Y9)","v":""},{"$f":"IF('CF4 TestsPhys'!Z9=\"\",\"\",'CF4 TestsPhys'!Z9)","v":""},{"$f":"IF('CF4 TestsPhys'!AA9=\"\",\"\",'CF4 TestsPhys'!AA9)","v":""},{"$f":"IF('CF4 TestsPhys'!AB9=\"\",\"\",'CF4 TestsPhys'!AB9)","v":""},{"$f":"IF('CF4 TestsPhys'!AC9=\"\",\"\",'CF4 TestsPhys'!AC9)","v":""}]
[{"$f":"IF('CF4 TestsPhys'!B10=\"\",\"\",'CF4 TestsPhys'!B10)","v":""},{"$f":"IF('CF4 TestsPhys'!D10=\"\",\"\",'CF4 TestsPhys'!D10)","v":""},{"$f":"IF('CF4 TestsPhys'!E10=\"\",\"\",'CF4 TestsPhys'!E10)","v":""},{"$f":"IF('CF4 TestsPhys'!F10=\"\",\"\",'CF4 TestsPhys'!F10)","v":""},{"$f":"IF('CF4 TestsPhys'!G10=\"\",\"\",'CF4 TestsPhys'!G10)","v":""},{"$f":"IF('CF4 TestsPhys'!H10=\"\",\"\",'CF4 TestsPhys'!H10)","v":""},{"$f":"IF('CF4 TestsPhys'!I10=\"\",\"\",'CF4 TestsPhys'!I10)","v":""},{"$f":"IF('CF4 TestsPhys'!J10=\"\",\"\",'CF4 TestsPhys'!J10)","v":""},{"$f":"IF('CF4 TestsPhys'!K10=\"\",\"\",'CF4 TestsPhys'!K10)","v":""},{"$f":"IF('CF4 TestsPhys'!L10=\"\",\"\",'CF4 TestsPhys'!L10)","v":""},{"$f":"IF('CF4 TestsPhys'!M10=\"\",\"\",'CF4 TestsPhys'!M10)","v":""},{"$f":"IF('CF4 TestsPhys'!N10=\"\",\"\",'CF4 TestsPhys'!N10)","v":""},{"$f":"IF('CF4 TestsPhys'!O10=\"\",\"\",'CF4 TestsPhys'!O10)","v":""},{"$f":"IF('CF4 TestsPhys'!P10=\"\",\"\",'CF4 TestsPhys'!P10)","v":""},{"$f":"IF('CF4 TestsPhys'!Q10=\"\",\"\",'CF4 TestsPhys'!Q10)","v":""},{"$f":"IF('CF4 TestsPhys'!R10=\"\",\"\",'CF4 TestsPhys'!R10)","v":""},{"$f":"IF('CF4 TestsPhys'!S10=\"\",\"\",'CF4 TestsPhys'!S10)","v":""},{"$f":"IF('CF4 TestsPhys'!T10=\"\",\"\",'CF4 TestsPhys'!T10)","v":""},{"$f":"IF('CF4 TestsPhys'!U10=\"\",\"\",'CF4 TestsPhys'!U10)","v":""},{"$f":"IF('CF4 TestsPhys'!V10=\"\",\"\",'CF4 TestsPhys'!V10)","v":""},{"$f":"IF('CF4 TestsPhys'!W10=\"\",\"\",'CF4 TestsPhys'!W10)","v":""},{"$f":"IF('CF4 TestsPhys'!X10=\"\",\"\",'CF4 TestsPhys'!X10)","v":""},{"$f":"IF('CF4 TestsPhys'!Y10=\"\",\"\",'CF4 TestsPhys'!Y10)","v":""},{"$f":"IF('CF4 TestsPhys'!Z10=\"\",\"\",'CF4 TestsPhys'!Z10)","v":""},{"$f":"IF('CF4 TestsPhys'!AA10=\"\",\"\",'CF4 TestsPhys'!AA10)","v":""},{"$f":"IF('CF4 TestsPhys'!AB10=\"\",\"\",'CF4 TestsPhys'!AB10)","v":""},{"$f":"IF('CF4 TestsPhys'!AC10=\"\",\"\",'CF4 TestsPhys'!AC10)","v":""}]
[{"$f":"IF('CF4 TestsPhys'!B11=\"\",\"\",'CF4 TestsPhys'!B11)","v":""},{"$f":"IF('CF4 TestsPhys'!D11=\"\",\"\",'CF4 TestsPhys'!D11)","v":""},{"$f":"IF('CF4 TestsPhys'!E11=\"\",\"\",'CF4 TestsPhys'!E11)","v":""},{"$f":"IF('CF4 TestsPhys'!F11=\"\",\"\",'CF4 TestsPhys'!F11)","v":""},{"$f":"IF('CF4 TestsPhys'!G11=\"\",\"\",'CF4 TestsPhys'!G11)","v":""},{"$f":"IF('CF4 TestsPhys'!H11=\"\",\"\",'CF4 TestsPhys'!H11)","v":""},{"$f":"IF('CF4 TestsPhys'!I11=\"\",\"\",'CF4 TestsPhys'!I11)","v":""},{"$f":"IF('CF4 TestsPhys'!J11=\"\",\"\",'CF4 TestsPhys'!J11)","v":""},{"$f":"IF('CF4 TestsPhys'!K11=\"\",\"\",'CF4 TestsPhys'!K11)","v":""},{"$f":"IF('CF4 TestsPhys'!L11=\"\",\"\",'CF4 TestsPhys'!L11)","v":""},{"$f":"IF('CF4 TestsPhys'!M11=\"\",\"\",'CF4 TestsPhys'!M11)","v":""},{"$f":"IF('CF4 TestsPhys'!N11=\"\",\"\",'CF4 TestsPhys'!N11)","v":""},{"$f":"IF('CF4 TestsPhys'!O11=\"\",\"\",'CF4 TestsPhys'!O11)","v":""},{"$f":"IF('CF4 TestsPhys'!P11=\"\",\"\",'CF4 TestsPhys'!P11)","v":""},{"$f":"IF('CF4 TestsPhys'!Q11=\"\",\"\",'CF4 TestsPhys'!Q11)","v":""},{"$f":"IF('CF4 TestsPhys'!R11=\"\",\"\",'CF4 TestsPhys'!R11)","v":""},{"$f":"IF('CF4 TestsPhys'!S11=\"\",\"\",'CF4 TestsPhys'!S11)","v":""},{"$f":"IF('CF4 TestsPhys'!T11=\"\",\"\",'CF4 TestsPhys'!T11)","v":""},{"$f":"IF('CF4 TestsPhys'!U11=\"\",\"\",'CF4 TestsPhys'!U11)","v":""},{"$f":"IF('CF4 TestsPhys'!V11=\"\",\"\",'CF4 TestsPhys'!V11)","v":""},{"$f":"IF('CF4 TestsPhys'!W11=\"\",\"\",'CF4 TestsPhys'!W11)","v":""},{"$f":"IF('CF4 TestsPhys'!X11=\"\",\"\",'CF4 TestsPhys'!X11)","v":""},{"$f":"IF('CF4 TestsPhys'!Y11=\"\",\"\",'CF4 TestsPhys'!Y11)","v":""},{"$f":"IF('CF4 TestsPhys'!Z11=\"\",\"\",'CF4 TestsPhys'!Z11)","v":""},{"$f":"IF('CF4 TestsPhys'!AA11=\"\",\"\",'CF4 TestsPhys'!AA11)","v":""},{"$f":"IF('CF4 TestsPhys'!AB11=\"\",\"\",'CF4 TestsPhys'!AB11)","v":""},{"$f":"IF('CF4 TestsPhys'!AC11=\"\",\"\",'CF4 TestsPhys'!AC11)","v":""}]
[{"$f":"IF('CF4 TestsPhys'!B12=\"\",\"\",'CF4 TestsPhys'!B12)","v":""},{"$f":"IF('CF4 TestsPhys'!D12=\"\",\"\",'CF4 TestsPhys'!D12)","v":""},{"$f":"IF('CF4 TestsPhys'!E12=\"\",\"\",'CF4 TestsPhys'!E12)","v":""},{"$f":"IF('CF4 TestsPhys'!F12=\"\",\"\",'CF4 TestsPhys'!F12)","v":""},{"$f":"IF('CF4 TestsPhys'!G12=\"\",\"\",'CF4 TestsPhys'!G12)","v":""},{"$f":"IF('CF4 TestsPhys'!H12=\"\",\"\",'CF4 TestsPhys'!H12)","v":""},{"$f":"IF('CF4 TestsPhys'!I12=\"\",\"\",'CF4 TestsPhys'!I12)","v":""},{"$f":"IF('CF4 TestsPhys'!J12=\"\",\"\",'CF4 TestsPhys'!J12)","v":""},{"$f":"IF('CF4 TestsPhys'!K12=\"\",\"\",'CF4 TestsPhys'!K12)","v":""},{"$f":"IF('CF4 TestsPhys'!L12=\"\",\"\",'CF4 TestsPhys'!L12)","v":""},{"$f":"IF('CF4 TestsPhys'!M12=\"\",\"\",'CF4 TestsPhys'!M12)","v":""},{"$f":"IF('CF4 TestsPhys'!N12=\"\",\"\",'CF4 TestsPhys'!N12)","v":""},{"$f":"IF('CF4 TestsPhys'!O12=\"\",\"\",'CF4 TestsPhys'!O12)","v":""},{"$f":"IF('CF4 TestsPhys'!P12=\"\",\"\",'CF4 TestsPhys'!P12)","v":""},{"$f":"IF('CF4 TestsPhys'!Q12=\"\",\"\",'CF4 TestsPhys'!Q12)","v":""},{"$f":"IF('CF4 TestsPhys'!R12=\"\",\"\",'CF4 TestsPhys'!R12)","v":""},{"$f":"IF('CF4 TestsPhys'!S12=\"\",\"\",'CF4 TestsPhys'!S12)","v":""},{"$f":"IF('CF4 TestsPhys'!T12=\"\",\"\",'CF4 TestsPhys'!T12)","v":""},{"$f":"IF('CF4 TestsPhys'!U12=\"\",\"\",'CF4 TestsPhys'!U12)","v":""},{"$f":"IF('CF4 TestsPhys'!V12=\"\",\"\",'CF4 TestsPhys'!V12)","v":""},{"$f":"IF('CF4 TestsPhys'!W12=\"\",\"\",'CF4 TestsPhys'!W12)","v":""},{"$f":"IF('CF4 TestsPhys'!X12=\"\",\"\",'CF4 TestsPhys'!X12)","v":""},{"$f":"IF('CF4 TestsPhys'!Y12=\"\",\"\",'CF4 TestsPhys'!Y12)","v":""},{"$f":"IF('CF4 TestsPhys'!Z12=\"\",\"\",'CF4 TestsPhys'!Z12)","v":""},{"$f":"IF('CF4 TestsPhys'!AA12=\"\",\"\",'CF4 TestsPhys'!AA12)","v":""},{"$f":"IF('CF4 TestsPhys'!AB12=\"\",\"\",'CF4 TestsPhys'!AB12)","v":""},{"$f":"IF('CF4 TestsPhys'!AC12=\"\",\"\",'CF4 TestsPhys'!AC12)","v":""}]
[{"$f":"IF('CF4 TestsPhys'!B13=\"\",\"\",'CF4 TestsPhys'!B13)","v":""},{"$f":"IF('CF4 TestsPhys'!D13=\"\",\"\",'CF4 TestsPhys'!D13)","v":""},{"$f":"IF('CF4 TestsPhys'!E13=\"\",\"\",'CF4 TestsPhys'!E13)","v":""},{"$f":"IF('CF4 TestsPhys'!F13=\"\",\"\",'CF4 TestsPhys'!F13)","v":""},{"$f":"IF('CF4 TestsPhys'!G13=\"\",\"\",'CF4 TestsPhys'!G13)","v":""},{"$f":"IF('CF4 TestsPhys'!H13=\"\",\"\",'CF4 TestsPhys'!H13)","v":""},{"$f":"IF('CF4 TestsPhys'!I13=\"\",\"\",'CF4 TestsPhys'!I13)","v":""},{"$f":"IF('CF4 TestsPhys'!J13=\"\",\"\",'CF4 TestsPhys'!J13)","v":""},{"$f":"IF('CF4 TestsPhys'!K13=\"\",\"\",'CF4 TestsPhys'!K13)","v":""},{"$f":"IF('CF4 TestsPhys'!L13=\"\",\"\",'CF4 TestsPhys'!L13)","v":""},{"$f":"IF('CF4 TestsPhys'!M13=\"\",\"\",'CF4 TestsPhys'!M13)","v":""},{"$f":"IF('CF4 TestsPhys'!N13=\"\",\"\",'CF4 TestsPhys'!N13)","v":""},{"$f":"IF('CF4 TestsPhys'!O13=\"\",\"\",'CF4 TestsPhys'!O13)","v":""},{"$f":"IF('CF4 TestsPhys'!P13=\"\",\"\",'CF4 TestsPhys'!P13)","v":""},{"$f":"IF('CF4 TestsPhys'!Q13=\"\",\"\",'CF4 TestsPhys'!Q13)","v":""},{"$f":"IF('CF4 TestsPhys'!R13=\"\",\"\",'CF4 TestsPhys'!R13)","v":""},{"$f":"IF('CF4 TestsPhys'!S13=\"\",\"\",'CF4 TestsPhys'!S13)","v":""},{"$f":"IF('CF4 TestsPhys'!T13=\"\",\"\",'CF4 TestsPhys'!T13)","v":""},{"$f":"IF('CF4 TestsPhys'!U13=\"\",\"\",'CF4 TestsPhys'!U13)","v":""},{"$f":"IF('CF4 TestsPhys'!V13=\"\",\"\",'CF4 TestsPhys'!V13)","v":""},{"$f":"IF('CF4 TestsPhys'!W13=\"\",\"\",'CF4 TestsPhys'!W13)","v":""},{"$f":"IF('CF4 TestsPhys'!X13=\"\",\"\",'CF4 TestsPhys'!X13)","v":""},{"$f":"IF('CF4 TestsPhys'!Y13=\"\",\"\",'CF4 TestsPhys'!Y13)","v":""},{"$f":"IF('CF4 TestsPhys'!Z13=\"\",\"\",'CF4 TestsPhys'!Z13)","v":""},{"$f":"IF('CF4 TestsPhys'!AA13=\"\",\"\",'CF4 TestsPhys'!AA13)","v":""},{"$f":"IF('CF4 TestsPhys'!AB13=\"\",\"\",'CF4 TestsPhys'!AB13)","v":""},{"$f":"IF('CF4 TestsPhys'!AC13=\"\",\"\",'CF4 TestsPhys'!AC13)","v":""}]
[{"$f":"IF('CF4 TestsPhys'!B14=\"\",\"\",'CF4 TestsPhys'!B14)","v":""},{"$f":"IF('CF4 TestsPhys'!D14=\"\",\"\",'CF4 TestsPhys'!D14)","v":""},{"$f":"IF('CF4 TestsPhys'!E14=\"\",\"\",'CF4 TestsPhys'!E14)","v":""},{"$f":"IF('CF4 TestsPhys'!F14=\"\",\"\",'CF4 TestsPhys'!F14)","v":""},{"$f":"IF('CF4 TestsPhys'!G14=\"\",\"\",'CF4 TestsPhys'!G14)","v":""},{"$f":"IF('CF4 TestsPhys'!H14=\"\",\"\",'CF4 TestsPhys'!H14)","v":""},{"$f":"IF('CF4 TestsPhys'!I14=\"\",\"\",'CF4 TestsPhys'!I14)","v":""},{"$f":"IF('CF4 TestsPhys'!J14=\"\",\"\",'CF4 TestsPhys'!J14)","v":""},{"$f":"IF('CF4 TestsPhys'!K14=\"\",\"\",'CF4 TestsPhys'!K14)","v":""},{"$f":"IF('CF4 TestsPhys'!L14=\"\",\"\",'CF4 TestsPhys'!L14)","v":""},{"$f":"IF('CF4 TestsPhys'!M14=\"\",\"\",'CF4 TestsPhys'!M14)","v":""},{"$f":"IF('CF4 TestsPhys'!N14=\"\",\"\",'CF4 TestsPhys'!N14)","v":""},{"$f":"IF('CF4 TestsPhys'!O14=\"\",\"\",'CF4 TestsPhys'!O14)","v":""},{"$f":"IF('CF4 TestsPhys'!P14=\"\",\"\",'CF4 TestsPhys'!P14)","v":""},{"$f":"IF('CF4 TestsPhys'!Q14=\"\",\"\",'CF4 TestsPhys'!Q14)","v":""},{"$f":"IF('CF4 TestsPhys'!R14=\"\",\"\",'CF4 TestsPhys'!R14)","v":""},{"$f":"IF('CF4 TestsPhys'!S14=\"\",\"\",'CF4 TestsPhys'!S14)","v":""},{"$f":"IF('CF4 TestsPhys'!T14=\"\",\"\",'CF4 TestsPhys'!T14)","v":""},{"$f":"IF('CF4 TestsPhys'!U14=\"\",\"\",'CF4 TestsPhys'!U14)","v":""},{"$f":"IF('CF4 TestsPhys'!V14=\"\",\"\",'CF4 TestsPhys'!V14)","v":""},{"$f":"IF('CF4 TestsPhys'!W14=\"\",\"\",'CF4 TestsPhys'!W14)","v":""},{"$f":"IF('CF4 TestsPhys'!X14=\"\",\"\",'CF4 TestsPhys'!X14)","v":""},{"$f":"IF('CF4 TestsPhys'!Y14=\"\",\"\",'CF4 TestsPhys'!Y14)","v":""},{"$f":"IF('CF4 TestsPhys'!Z14=\"\",\"\",'CF4 TestsPhys'!Z14)","v":""},{"$f":"IF('CF4 TestsPhys'!AA14=\"\",\"\",'CF4 TestsPhys'!AA14)","v":""},{"$f":"IF('CF4 TestsPhys'!AB14=\"\",\"\",'CF4 TestsPhys'!AB14)","v":""},{"$f":"IF('CF4 TestsPhys'!AC14=\"\",\"\",'CF4 TestsPhys'!AC14)","v":""}]
[{"$f":"IF('CF4 TestsPhys'!B15=\"\",\"\",'CF4 TestsPhys'!B15)","v":""},{"$f":"IF('CF4 TestsPhys'!D15=\"\",\"\",'CF4 TestsPhys'!D15)","v":""},{"$f":"IF('CF4 TestsPhys'!E15=\"\",\"\",'CF4 TestsPhys'!E15)","v":""},{"$f":"IF('CF4 TestsPhys'!F15=\"\",\"\",'CF4 TestsPhys'!F15)","v":""},{"$f":"IF('CF4 TestsPhys'!G15=\"\",\"\",'CF4 TestsPhys'!G15)","v":""},{"$f":"IF('CF4 TestsPhys'!H15=\"\",\"\",'CF4 TestsPhys'!H15)","v":""},{"$f":"IF('CF4 TestsPhys'!I15=\"\",\"\",'CF4 TestsPhys'!I15)","v":""},{"$f":"IF('CF4 TestsPhys'!J15=\"\",\"\",'CF4 TestsPhys'!J15)","v":""},{"$f":"IF('CF4 TestsPhys'!K15=\"\",\"\",'CF4 TestsPhys'!K15)","v":""},{"$f":"IF('CF4 TestsPhys'!L15=\"\",\"\",'CF4 TestsPhys'!L15)","v":""},{"$f":"IF('CF4 TestsPhys'!M15=\"\",\"\",'CF4 TestsPhys'!M15)","v":""},{"$f":"IF('CF4 TestsPhys'!N15=\"\",\"\",'CF4 TestsPhys'!N15)","v":""},{"$f":"IF('CF4 TestsPhys'!O15=\"\",\"\",'CF4 TestsPhys'!O15)","v":""},{"$f":"IF('CF4 TestsPhys'!P15=\"\",\"\",'CF4 TestsPhys'!P15)","v":""},{"$f":"IF('CF4 TestsPhys'!Q15=\"\",\"\",'CF4 TestsPhys'!Q15)","v":""},{"$f":"IF('CF4 TestsPhys'!R15=\"\",\"\",'CF4 TestsPhys'!R15)","v":""},{"$f":"IF('CF4 TestsPhys'!S15=\"\",\"\",'CF4 TestsPhys'!S15)","v":""},{"$f":"IF('CF4 TestsPhys'!T15=\"\",\"\",'CF4 TestsPhys'!T15)","v":""},{"$f":"IF('CF4 TestsPhys'!U15=\"\",\"\",'CF4 TestsPhys'!U15)","v":""},{"$f":"IF('CF4 TestsPhys'!V15=\"\",\"\",'CF4 TestsPhys'!V15)","v":""},{"$f":"IF('CF4 TestsPhys'!W15=\"\",\"\",'CF4 TestsPhys'!W15)","v":""},{"$f":"IF('CF4 TestsPhys'!X15=\"\",\"\",'CF4 TestsPhys'!X15)","v":""},{"$f":"IF('CF4 TestsPhys'!Y15=\"\",\"\",'CF4 TestsPhys'!Y15)","v":""},{"$f":"IF('CF4 TestsPhys'!Z15=\"\",\"\",'CF4 TestsPhys'!Z15)","v":""},{"$f":"IF('CF4 TestsPhys'!AA15=\"\",\"\",'CF4 TestsPhys'!AA15)","v":""},{"$f":"IF('CF4 TestsPhys'!AB15=\"\",\"\",'CF4 TestsPhys'!AB15)","v":""},{"$f":"IF('CF4 TestsPhys'!AC15=\"\",\"\",'CF4 TestsPhys'!AC15)","v":""}]
[{"$f":"IF('CF4 TestsPhys'!B16=\"\",\"\",'CF4 TestsPhys'!B16)","v":""},{"$f":"IF('CF4 TestsPhys'!D16=\"\",\"\",'CF4 TestsPhys'!D16)","v":""},{"$f":"IF('CF4 TestsPhys'!E16=\"\",\"\",'CF4 TestsPhys'!E16)","v":""},{"$f":"IF('CF4 TestsPhys'!F16=\"\",\"\",'CF4 TestsPhys'!F16)","v":""},{"$f":"IF('CF4 TestsPhys'!G16=\"\",\"\",'CF4 TestsPhys'!G16)","v":""},{"$f":"IF('CF4 TestsPhys'!H16=\"\",\"\",'CF4 TestsPhys'!H16)","v":""},{"$f":"IF('CF4 TestsPhys'!I16=\"\",\"\",'CF4 TestsPhys'!I16)","v":""},{"$f":"IF('CF4 TestsPhys'!J16=\"\",\"\",'CF4 TestsPhys'!J16)","v":""},{"$f":"IF('CF4 TestsPhys'!K16=\"\",\"\",'CF4 TestsPhys'!K16)","v":""},{"$f":"IF('CF4 TestsPhys'!L16=\"\",\"\",'CF4 TestsPhys'!L16)","v":""},{"$f":"IF('CF4 TestsPhys'!M16=\"\",\"\",'CF4 TestsPhys'!M16)","v":""},{"$f":"IF('CF4 TestsPhys'!N16=\"\",\"\",'CF4 TestsPhys'!N16)","v":""},{"$f":"IF('CF4 TestsPhys'!O16=\"\",\"\",'CF4 TestsPhys'!O16)","v":""},{"$f":"IF('CF4 TestsPhys'!P16=\"\",\"\",'CF4 TestsPhys'!P16)","v":""},{"$f":"IF('CF4 TestsPhys'!Q16=\"\",\"\",'CF4 TestsPhys'!Q16)","v":""},{"$f":"IF('CF4 TestsPhys'!R16=\"\",\"\",'CF4 TestsPhys'!R16)","v":""},{"$f":"IF('CF4 TestsPhys'!S16=\"\",\"\",'CF4 TestsPhys'!S16)","v":""},{"$f":"IF('CF4 TestsPhys'!T16=\"\",\"\",'CF4 TestsPhys'!T16)","v":""},{"$f":"IF('CF4 TestsPhys'!U16=\"\",\"\",'CF4 TestsPhys'!U16)","v":""},{"$f":"IF('CF4 TestsPhys'!V16=\"\",\"\",'CF4 TestsPhys'!V16)","v":""},{"$f":"IF('CF4 TestsPhys'!W16=\"\",\"\",'CF4 TestsPhys'!W16)","v":""},{"$f":"IF('CF4 TestsPhys'!X16=\"\",\"\",'CF4 TestsPhys'!X16)","v":""},{"$f":"IF('CF4 TestsPhys'!Y16=\"\",\"\",'CF4 TestsPhys'!Y16)","v":""},{"$f":"IF('CF4 TestsPhys'!Z16=\"\",\"\",'CF4 TestsPhys'!Z16)","v":""},{"$f":"IF('CF4 TestsPhys'!AA16=\"\",\"\",'CF4 TestsPhys'!AA16)","v":""},{"$f":"IF('CF4 TestsPhys'!AB16=\"\",\"\",'CF4 TestsPhys'!AB16)","v":""},{"$f":"IF('CF4 TestsPhys'!AC16=\"\",\"\",'CF4 TestsPhys'!AC16)","v":""}]
[{"$f":"IF('CF4 TestsPhys'!B17=\"\",\"\",'CF4 TestsPhys'!B17)","v":""},{"$f":"IF('CF4 TestsPhys'!D17=\"\",\"\",'CF4 TestsPhys'!D17)","v":""},{"$f":"IF('CF4 TestsPhys'!E17=\"\",\"\",'CF4 TestsPhys'!E17)","v":""},{"$f":"IF('CF4 TestsPhys'!F17=\"\",\"\",'CF4 TestsPhys'!F17)","v":""},{"$f":"IF('CF4 TestsPhys'!G17=\"\",\"\",'CF4 TestsPhys'!G17)","v":""},{"$f":"IF('CF4 TestsPhys'!H17=\"\",\"\",'CF4 TestsPhys'!H17)","v":""},{"$f":"IF('CF4 TestsPhys'!I17=\"\",\"\",'CF4 TestsPhys'!I17)","v":""},{"$f":"IF('CF4 TestsPhys'!J17=\"\",\"\",'CF4 TestsPhys'!J17)","v":""},{"$f":"IF('CF4 TestsPhys'!K17=\"\",\"\",'CF4 TestsPhys'!K17)","v":""},{"$f":"IF('CF4 TestsPhys'!L17=\"\",\"\",'CF4 TestsPhys'!L17)","v":""},{"$f":"IF('CF4 TestsPhys'!M17=\"\",\"\",'CF4 TestsPhys'!M17)","v":""},{"$f":"IF('CF4 TestsPhys'!N17=\"\",\"\",'CF4 TestsPhys'!N17)","v":""},{"$f":"IF('CF4 TestsPhys'!O17=\"\",\"\",'CF4 TestsPhys'!O17)","v":""},{"$f":"IF('CF4 TestsPhys'!P17=\"\",\"\",'CF4 TestsPhys'!P17)","v":""},{"$f":"IF('CF4 TestsPhys'!Q17=\"\",\"\",'CF4 TestsPhys'!Q17)","v":""},{"$f":"IF('CF4 TestsPhys'!R17=\"\",\"\",'CF4 TestsPhys'!R17)","v":""},{"$f":"IF('CF4 TestsPhys'!S17=\"\",\"\",'CF4 TestsPhys'!S17)","v":""},{"$f":"IF('CF4 TestsPhys'!T17=\"\",\"\",'CF4 TestsPhys'!T17)","v":""},{"$f":"IF('CF4 TestsPhys'!U17=\"\",\"\",'CF4 TestsPhys'!U17)","v":""},{"$f":"IF('CF4 TestsPhys'!V17=\"\",\"\",'CF4 TestsPhys'!V17)","v":""},{"$f":"IF('CF4 TestsPhys'!W17=\"\",\"\",'CF4 TestsPhys'!W17)","v":""},{"$f":"IF('CF4 TestsPhys'!X17=\"\",\"\",'CF4 TestsPhys'!X17)","v":""},{"$f":"IF('CF4 TestsPhys'!Y17=\"\",\"\",'CF4 TestsPhys'!Y17)","v":""},{"$f":"IF('CF4 TestsPhys'!Z17=\"\",\"\",'CF4 TestsPhys'!Z17)","v":""},{"$f":"IF('CF4 TestsPhys'!AA17=\"\",\"\",'CF4 TestsPhys'!AA17)","v":""},{"$f":"IF('CF4 TestsPhys'!AB17=\"\",\"\",'CF4 TestsPhys'!AB17)","v":""},{"$f":"IF('CF4 TestsPhys'!AC17=\"\",\"\",'CF4 TestsPhys'!AC17)","v":""}]
[{"$f":"IF('CF4 TestsPhys'!B18=\"\",\"\",'CF4 TestsPhys'!B18)","v":""},{"$f":"IF('CF4 TestsPhys'!D18=\"\",\"\",'CF4 TestsPhys'!D18)","v":""},{"$f":"IF('CF4 TestsPhys'!E18=\"\",\"\",'CF4 TestsPhys'!E18)","v":""},{"$f":"IF('CF4 TestsPhys'!F18=\"\",\"\",'CF4 TestsPhys'!F18)","v":""},{"$f":"IF('CF4 TestsPhys'!G18=\"\",\"\",'CF4 TestsPhys'!G18)","v":""},{"$f":"IF('CF4 TestsPhys'!H18=\"\",\"\",'CF4 TestsPhys'!H18)","v":""},{"$f":"IF('CF4 TestsPhys'!I18=\"\",\"\",'CF4 TestsPhys'!I18)","v":""},{"$f":"IF('CF4 TestsPhys'!J18=\"\",\"\",'CF4 TestsPhys'!J18)","v":""},{"$f":"IF('CF4 TestsPhys'!K18=\"\",\"\",'CF4 TestsPhys'!K18)","v":""},{"$f":"IF('CF4 TestsPhys'!L18=\"\",\"\",'CF4 TestsPhys'!L18)","v":""},{"$f":"IF('CF4 TestsPhys'!M18=\"\",\"\",'CF4 TestsPhys'!M18)","v":""},{"$f":"IF('CF4 TestsPhys'!N18=\"\",\"\",'CF4 TestsPhys'!N18)","v":""},{"$f":"IF('CF4 TestsPhys'!O18=\"\",\"\",'CF4 TestsPhys'!O18)","v":""},{"$f":"IF('CF4 TestsPhys'!P18=\"\",\"\",'CF4 TestsPhys'!P18)","v":""},{"$f":"IF('CF4 TestsPhys'!Q18=\"\",\"\",'CF4 TestsPhys'!Q18)","v":""},{"$f":"IF('CF4 TestsPhys'!R18=\"\",\"\",'CF4 TestsPhys'!R18)","v":""},{"$f":"IF('CF4 TestsPhys'!S18=\"\",\"\",'CF4 TestsPhys'!S18)","v":""},{"$f":"IF('CF4 TestsPhys'!T18=\"\",\"\",'CF4 TestsPhys'!T18)","v":""},{"$f":"IF('CF4 TestsPhys'!U18=\"\",\"\",'CF4 TestsPhys'!U18)","v":""},{"$f":"IF('CF4 TestsPhys'!V18=\"\",\"\",'CF4 TestsPhys'!V18)","v":""},{"$f":"IF('CF4 TestsPhys'!W18=\"\",\"\",'CF4 TestsPhys'!W18)","v":""},{"$f":"IF('CF4 TestsPhys'!X18=\"\",\"\",'CF4 TestsPhys'!X18)","v":""},{"$f":"IF('CF4 TestsPhys'!Y18=\"\",\"\",'CF4 TestsPhys'!Y18)","v":""},{"$f":"IF('CF4 TestsPhys'!Z18=\"\",\"\",'CF4 TestsPhys'!Z18)","v":""},{"$f":"IF('CF4 TestsPhys'!AA18=\"\",\"\",'CF4 TestsPhys'!AA18)","v":""},{"$f":"IF('CF4 TestsPhys'!AB18=\"\",\"\",'CF4 TestsPhys'!AB18)","v":""},{"$f":"IF('CF4 TestsPhys'!AC18=\"\",\"\",'CF4 TestsPhys'!AC18)","v":""}]
[{"$f":"IF('CF4 TestsPhys'!B19=\"\",\"\",'CF4 TestsPhys'!B19)","v":""},{"$f":"IF('CF4 TestsPhys'!D19=\"\",\"\",'CF4 TestsPhys'!D19)","v":""},{"$f":"IF('CF4 TestsPhys'!E19=\"\",\"\",'CF4 TestsPhys'!E19)","v":""},{"$f":"IF('CF4 TestsPhys'!F19=\"\",\"\",'CF4 TestsPhys'!F19)","v":""},{"$f":"IF('CF4 TestsPhys'!G19=\"\",\"\",'CF4 TestsPhys'!G19)","v":""},{"$f":"IF('CF4 TestsPhys'!H19=\"\",\"\",'CF4 TestsPhys'!H19)","v":""},{"$f":"IF('CF4 TestsPhys'!I19=\"\",\"\",'CF4 TestsPhys'!I19)","v":""},{"$f":"IF('CF4 TestsPhys'!J19=\"\",\"\",'CF4 TestsPhys'!J19)","v":""},{"$f":"IF('CF4 TestsPhys'!K19=\"\",\"\",'CF4 TestsPhys'!K19)","v":""},{"$f":"IF('CF4 TestsPhys'!L19=\"\",\"\",'CF4 TestsPhys'!L19)","v":""},{"$f":"IF('CF4 TestsPhys'!M19=\"\",\"\",'CF4 TestsPhys'!M19)","v":""},{"$f":"IF('CF4 TestsPhys'!N19=\"\",\"\",'CF4 TestsPhys'!N19)","v":""},{"$f":"IF('CF4 TestsPhys'!O19=\"\",\"\",'CF4 TestsPhys'!O19)","v":""},{"$f":"IF('CF4 TestsPhys'!P19=\"\",\"\",'CF4 TestsPhys'!P19)","v":""},{"$f":"IF('CF4 TestsPhys'!Q19=\"\",\"\",'CF4 TestsPhys'!Q19)","v":""},{"$f":"IF('CF4 TestsPhys'!R19=\"\",\"\",'CF4 TestsPhys'!R19)","v":""},{"$f":"IF('CF4 TestsPhys'!S19=\"\",\"\",'CF4 TestsPhys'!S19)","v":""},{"$f":"IF('CF4 TestsPhys'!T19=\"\",\"\",'CF4 TestsPhys'!T19)","v":""},{"$f":"IF('CF4 TestsPhys'!U19=\"\",\"\",'CF4 TestsPhys'!U19)","v":""},{"$f":"IF('CF4 TestsPhys'!V19=\"\",\"\",'CF4 TestsPhys'!V19)","v":""},{"$f":"IF('CF4 TestsPhys'!W19=\"\",\"\",'CF4 TestsPhys'!W19)","v":""},{"$f":"IF('CF4 TestsPhys'!X19=\"\",\"\",'CF4 TestsPhys'!X19)","v":""},{"$f":"IF('CF4 TestsPhys'!Y19=\"\",\"\",'CF4 TestsPhys'!Y19)","v":""},{"$f":"IF('CF4 TestsPhys'!Z19=\"\",\"\",'CF4 TestsPhys'!Z19)","v":""},{"$f":"IF('CF4 TestsPhys'!AA19=\"\",\"\",'CF4 TestsPhys'!AA19)","v":""},{"$f":"IF('CF4 TestsPhys'!AB19=\"\",\"\",'CF4 TestsPhys'!AB19)","v":""},{"$f":"IF('CF4 TestsPhys'!AC19=\"\",\"\",'CF4 TestsPhys'!AC19)","v":""}]
[{"$f":"IF('CF4 TestsPhys'!B20=\"\",\"\",'CF4 TestsPhys'!B20)","v":""},{"$f":"IF('CF4 TestsPhys'!D20=\"\",\"\",'CF4 TestsPhys'!D20)","v":""},{"$f":"IF('CF4 TestsPhys'!E20=\"\",\"\",'CF4 TestsPhys'!E20)","v":""},{"$f":"IF('CF4 TestsPhys'!F20=\"\",\"\",'CF4 TestsPhys'!F20)","v":""},{"$f":"IF('CF4 TestsPhys'!G20=\"\",\"\",'CF4 TestsPhys'!G20)","v":""},{"$f":"IF('CF4 TestsPhys'!H20=\"\",\"\",'CF4 TestsPhys'!H20)","v":""},{"$f":"IF('CF4 TestsPhys'!I20=\"\",\"\",'CF4 TestsPhys'!I20)","v":""},{"$f":"IF('CF4 TestsPhys'!J20=\"\",\"\",'CF4 TestsPhys'!J20)","v":""},{"$f":"IF('CF4 TestsPhys'!K20=\"\",\"\",'CF4 TestsPhys'!K20)","v":""},{"$f":"IF('CF4 TestsPhys'!L20=\"\",\"\",'CF4 TestsPhys'!L20)","v":""},{"$f":"IF('CF4 TestsPhys'!M20=\"\",\"\",'CF4 TestsPhys'!M20)","v":""},{"$f":"IF('CF4 TestsPhys'!N20=\"\",\"\",'CF4 TestsPhys'!N20)","v":""},{"$f":"IF('CF4 TestsPhys'!O20=\"\",\"\",'CF4 TestsPhys'!O20)","v":""},{"$f":"IF('CF4 TestsPhys'!P20=\"\",\"\",'CF4 TestsPhys'!P20)","v":""},{"$f":"IF('CF4 TestsPhys'!Q20=\"\",\"\",'CF4 TestsPhys'!Q20)","v":""},{"$f":"IF('CF4 TestsPhys'!R20=\"\",\"\",'CF4 TestsPhys'!R20)","v":""},{"$f":"IF('CF4 TestsPhys'!S20=\"\",\"\",'CF4 TestsPhys'!S20)","v":""},{"$f":"IF('CF4 TestsPhys'!T20=\"\",\"\",'CF4 TestsPhys'!T20)","v":""},{"$f":"IF('CF4 TestsPhys'!U20=\"\",\"\",'CF4 TestsPhys'!U20)","v":""},{"$f":"IF('CF4 TestsPhys'!V20=\"\",\"\",'CF4 TestsPhys'!V20)","v":""},{"$f":"IF('CF4 TestsPhys'!W20=\"\",\"\",'CF4 TestsPhys'!W20)","v":""},{"$f":"IF('CF4 TestsPhys'!X20=\"\",\"\",'CF4 TestsPhys'!X20)","v":""},{"$f":"IF('CF4 TestsPhys'!Y20=\"\",\"\",'CF4 TestsPhys'!Y20)","v":""},{"$f":"IF('CF4 TestsPhys'!Z20=\"\",\"\",'CF4 TestsPhys'!Z20)","v":""},{"$f":"IF('CF4 TestsPhys'!AA20=\"\",\"\",'CF4 TestsPhys'!AA20)","v":""},{"$f":"IF('CF4 TestsPhys'!AB20=\"\",\"\",'CF4 TestsPhys'!AB20)","v":""},{"$f":"IF('CF4 TestsPhys'!AC20=\"\",\"\",'CF4 TestsPhys'!AC20)","v":""}]
[{"$f":"IF('CF4 TestsPhys'!B21=\"\",\"\",'CF4 TestsPhys'!B21)","v":""},{"$f":"IF('CF4 TestsPhys'!D21=\"\",\"\",'CF4 TestsPhys'!D21)","v":""},{"$f":"IF('CF4 TestsPhys'!E21=\"\",\"\",'CF4 TestsPhys'!E21)","v":""},{"$f":"IF('CF4 TestsPhys'!F21=\"\",\"\",'CF4 TestsPhys'!F21)","v":""},{"$f":"IF('CF4 TestsPhys'!G21=\"\",\"\",'CF4 TestsPhys'!G21)","v":""},{"$f":"IF('CF4 TestsPhys'!H21=\"\",\"\",'CF4 TestsPhys'!H21)","v":""},{"$f":"IF('CF4 TestsPhys'!I21=\"\",\"\",'CF4 TestsPhys'!I21)","v":""},{"$f":"IF('CF4 TestsPhys'!J21=\"\",\"\",'CF4 TestsPhys'!J21)","v":""},{"$f":"IF('CF4 TestsPhys'!K21=\"\",\"\",'CF4 TestsPhys'!K21)","v":""},{"$f":"IF('CF4 TestsPhys'!L21=\"\",\"\",'CF4 TestsPhys'!L21)","v":""},{"$f":"IF('CF4 TestsPhys'!M21=\"\",\"\",'CF4 TestsPhys'!M21)","v":""},{"$f":"IF('CF4 TestsPhys'!N21=\"\",\"\",'CF4 TestsPhys'!N21)","v":""},{"$f":"IF('CF4 TestsPhys'!O21=\"\",\"\",'CF4 TestsPhys'!O21)","v":""},{"$f":"IF('CF4 TestsPhys'!P21=\"\",\"\",'CF4 TestsPhys'!P21)","v":""},{"$f":"IF('CF4 TestsPhys'!Q21=\"\",\"\",'CF4 TestsPhys'!Q21)","v":""},{"$f":"IF('CF4 TestsPhys'!R21=\"\",\"\",'CF4 TestsPhys'!R21)","v":""},{"$f":"IF('CF4 TestsPhys'!S21=\"\",\"\",'CF4 TestsPhys'!S21)","v":""},{"$f":"IF('CF4 TestsPhys'!T21=\"\",\"\",'CF4 TestsPhys'!T21)","v":""},{"$f":"IF('CF4 TestsPhys'!U21=\"\",\"\",'CF4 TestsPhys'!U21)","v":""},{"$f":"IF('CF4 TestsPhys'!V21=\"\",\"\",'CF4 TestsPhys'!V21)","v":""},{"$f":"IF('CF4 TestsPhys'!W21=\"\",\"\",'CF4 TestsPhys'!W21)","v":""},{"$f":"IF('CF4 TestsPhys'!X21=\"\",\"\",'CF4 TestsPhys'!X21)","v":""},{"$f":"IF('CF4 TestsPhys'!Y21=\"\",\"\",'CF4 TestsPhys'!Y21)","v":""},{"$f":"IF('CF4 TestsPhys'!Z21=\"\",\"\",'CF4 TestsPhys'!Z21)","v":""},{"$f":"IF('CF4 TestsPhys'!AA21=\"\",\"\",'CF4 TestsPhys'!AA21)","v":""},{"$f":"IF('CF4 TestsPhys'!AB21=\"\",\"\",'CF4 TestsPhys'!AB21)","v":""},{"$f":"IF('CF4 TestsPhys'!AC21=\"\",\"\",'CF4 TestsPhys'!AC21)","v":""}]
[{"$f":"IF('CF4 TestsPhys'!B22=\"\",\"\",'CF4 TestsPhys'!B22)","v":""},{"$f":"IF('CF4 TestsPhys'!D22=\"\",\"\",'CF4 TestsPhys'!D22)","v":""},{"$f":"IF('CF4 TestsPhys'!E22=\"\",\"\",'CF4 TestsPhys'!E22)","v":""},{"$f":"IF('CF4 TestsPhys'!F22=\"\",\"\",'CF4 TestsPhys'!F22)","v":""},{"$f":"IF('CF4 TestsPhys'!G22=\"\",\"\",'CF4 TestsPhys'!G22)","v":""},{"$f":"IF('CF4 TestsPhys'!H22=\"\",\"\",'CF4 TestsPhys'!H22)","v":""},{"$f":"IF('CF4 TestsPhys'!I22=\"\",\"\",'CF4 TestsPhys'!I22)","v":""},{"$f":"IF('CF4 TestsPhys'!J22=\"\",\"\",'CF4 TestsPhys'!J22)","v":""},{"$f":"IF('CF4 TestsPhys'!K22=\"\",\"\",'CF4 TestsPhys'!K22)","v":""},{"$f":"IF('CF4 TestsPhys'!L22=\"\",\"\",'CF4 TestsPhys'!L22)","v":""},{"$f":"IF('CF4 TestsPhys'!M22=\"\",\"\",'CF4 TestsPhys'!M22)","v":""},{"$f":"IF('CF4 TestsPhys'!N22=\"\",\"\",'CF4 TestsPhys'!N22)","v":""},{"$f":"IF('CF4 TestsPhys'!O22=\"\",\"\",'CF4 TestsPhys'!O22)","v":""},{"$f":"IF('CF4 TestsPhys'!P22=\"\",\"\",'CF4 TestsPhys'!P22)","v":""},{"$f":"IF('CF4 TestsPhys'!Q22=\"\",\"\",'CF4 TestsPhys'!Q22)","v":""},{"$f":"IF('CF4 TestsPhys'!R22=\"\",\"\",'CF4 TestsPhys'!R22)","v":""},{"$f":"IF('CF4 TestsPhys'!S22=\"\",\"\",'CF4 TestsPhys'!S22)","v":""},{"$f":"IF('CF4 TestsPhys'!T22=\"\",\"\",'CF4 TestsPhys'!T22)","v":""},{"$f":"IF('CF4 TestsPhys'!U22=\"\",\"\",'CF4 TestsPhys'!U22)","v":""},{"$f":"IF('CF4 TestsPhys'!V22=\"\",\"\",'CF4 TestsPhys'!V22)","v":""},{"$f":"IF('CF4 TestsPhys'!W22=\"\",\"\",'CF4 TestsPhys'!W22)","v":""},{"$f":"IF('CF4 TestsPhys'!X22=\"\",\"\",'CF4 TestsPhys'!X22)","v":""},{"$f":"IF('CF4 TestsPhys'!Y22=\"\",\"\",'CF4 TestsPhys'!Y22)","v":""},{"$f":"IF('CF4 TestsPhys'!Z22=\"\",\"\",'CF4 TestsPhys'!Z22)","v":""},{"$f":"IF('CF4 TestsPhys'!AA22=\"\",\"\",'CF4 TestsPhys'!AA22)","v":""},{"$f":"IF('CF4 TestsPhys'!AB22=\"\",\"\",'CF4 TestsPhys'!AB22)","v":""},{"$f":"IF('CF4 TestsPhys'!AC22=\"\",\"\",'CF4 TestsPhys'!AC22)","v":""}]
[{"$f":"IF('CF4 TestsPhys'!B23=\"\",\"\",'CF4 TestsPhys'!B23)","v":""},{"$f":"IF('CF4 TestsPhys'!D23=\"\",\"\",'CF4 TestsPhys'!D23)","v":""},{"$f":"IF('CF4 TestsPhys'!E23=\"\",\"\",'CF4 TestsPhys'!E23)","v":""},{"$f":"IF('CF4 TestsPhys'!F23=\"\",\"\",'CF4 TestsPhys'!F23)","v":""},{"$f":"IF('CF4 TestsPhys'!G23=\"\",\"\",'CF4 TestsPhys'!G23)","v":""},{"$f":"IF('CF4 TestsPhys'!H23=\"\",\"\",'CF4 TestsPhys'!H23)","v":""},{"$f":"IF('CF4 TestsPhys'!I23=\"\",\"\",'CF4 TestsPhys'!I23)","v":""},{"$f":"IF('CF4 TestsPhys'!J23=\"\",\"\",'CF4 TestsPhys'!J23)","v":""},{"$f":"IF('CF4 TestsPhys'!K23=\"\",\"\",'CF4 TestsPhys'!K23)","v":""},{"$f":"IF('CF4 TestsPhys'!L23=\"\",\"\",'CF4 TestsPhys'!L23)","v":""},{"$f":"IF('CF4 TestsPhys'!M23=\"\",\"\",'CF4 TestsPhys'!M23)","v":""},{"$f":"IF('CF4 TestsPhys'!N23=\"\",\"\",'CF4 TestsPhys'!N23)","v":""},{"$f":"IF('CF4 TestsPhys'!O23=\"\",\"\",'CF4 TestsPhys'!O23)","v":""},{"$f":"IF('CF4 TestsPhys'!P23=\"\",\"\",'CF4 TestsPhys'!P23)","v":""},{"$f":"IF('CF4 TestsPhys'!Q23=\"\",\"\",'CF4 TestsPhys'!Q23)","v":""},{"$f":"IF('CF4 TestsPhys'!R23=\"\",\"\",'CF4 TestsPhys'!R23)","v":""},{"$f":"IF('CF4 TestsPhys'!S23=\"\",\"\",'CF4 TestsPhys'!S23)","v":""},{"$f":"IF('CF4 TestsPhys'!T23=\"\",\"\",'CF4 TestsPhys'!T23)","v":""},{"$f":"IF('CF4 TestsPhys'!U23=\"\",\"\",'CF4 TestsPhys'!U23)","v":""},{"$f":"IF('CF4 TestsPhys'!V23=\"\",\"\",'CF4 TestsPhys'!V23)","v":""},{"$f":"IF('CF4 TestsPhys'!W23=\"\",\"\",'CF4 TestsPhys'!W23)","v":""},{"$f":"IF('CF4 TestsPhys'!X23=\"\",\"\",'CF4 TestsPhys'!X23)","v":""},{"$f":"IF('CF4 TestsPhys'!Y23=\"\",\"\",'CF4 TestsPhys'!Y23)","v":""},{"$f":"IF('CF4 TestsPhys'!Z23=\"\",\"\",'CF4 TestsPhys'!Z23)","v":""},{"$f":"IF('CF4 TestsPhys'!AA23=\"\",\"\",'CF4 TestsPhys'!AA23)","v":""},{"$f":"IF('CF4 TestsPhys'!AB23=\"\",\"\",'CF4 TestsPhys'!AB23)","v":""},{"$f":"IF('CF4 TestsPhys'!AC23=\"\",\"\",'CF4 TestsPhys'!AC23)","v":""}]
[{"$f":"IF('CF4 TestsPhys'!B24=\"\",\"\",'CF4 TestsPhys'!B24)","v":""},{"$f":"IF('CF4 TestsPhys'!D24=\"\",\"\",'CF4 TestsPhys'!D24)","v":""},{"$f":"IF('CF4 TestsPhys'!E24=\"\",\"\",'CF4 TestsPhys'!E24)","v":""},{"$f":"IF('CF4 TestsPhys'!F24=\"\",\"\",'CF4 TestsPhys'!F24)","v":""},{"$f":"IF('CF4 TestsPhys'!G24=\"\",\"\",'CF4 TestsPhys'!G24)","v":""},{"$f":"IF('CF4 TestsPhys'!H24=\"\",\"\",'CF4 TestsPhys'!H24)","v":""},{"$f":"IF('CF4 TestsPhys'!I24=\"\",\"\",'CF4 TestsPhys'!I24)","v":""},{"$f":"IF('CF4 TestsPhys'!J24=\"\",\"\",'CF4 TestsPhys'!J24)","v":""},{"$f":"IF('CF4 TestsPhys'!K24=\"\",\"\",'CF4 TestsPhys'!K24)","v":""},{"$f":"IF('CF4 TestsPhys'!L24=\"\",\"\",'CF4 TestsPhys'!L24)","v":""},{"$f":"IF('CF4 TestsPhys'!M24=\"\",\"\",'CF4 TestsPhys'!M24)","v":""},{"$f":"IF('CF4 TestsPhys'!N24=\"\",\"\",'CF4 TestsPhys'!N24)","v":""},{"$f":"IF('CF4 TestsPhys'!O24=\"\",\"\",'CF4 TestsPhys'!O24)","v":""},{"$f":"IF('CF4 TestsPhys'!P24=\"\",\"\",'CF4 TestsPhys'!P24)","v":""},{"$f":"IF('CF4 TestsPhys'!Q24=\"\",\"\",'CF4 TestsPhys'!Q24)","v":""},{"$f":"IF('CF4 TestsPhys'!R24=\"\",\"\",'CF4 TestsPhys'!R24)","v":""},{"$f":"IF('CF4 TestsPhys'!S24=\"\",\"\",'CF4 TestsPhys'!S24)","v":""},{"$f":"IF('CF4 TestsPhys'!T24=\"\",\"\",'CF4 TestsPhys'!T24)","v":""},{"$f":"IF('CF4 TestsPhys'!U24=\"\",\"\",'CF4 TestsPhys'!U24)","v":""},{"$f":"IF('CF4 TestsPhys'!V24=\"\",\"\",'CF4 TestsPhys'!V24)","v":""},{"$f":"IF('CF4 TestsPhys'!W24=\"\",\"\",'CF4 TestsPhys'!W24)","v":""},{"$f":"IF('CF4 TestsPhys'!X24=\"\",\"\",'CF4 TestsPhys'!X24)","v":""},{"$f":"IF('CF4 TestsPhys'!Y24=\"\",\"\",'CF4 TestsPhys'!Y24)","v":""},{"$f":"IF('CF4 TestsPhys'!Z24=\"\",\"\",'CF4 TestsPhys'!Z24)","v":""},{"$f":"IF('CF4 TestsPhys'!AA24=\"\",\"\",'CF4 TestsPhys'!AA24)","v":""},{"$f":"IF('CF4 TestsPhys'!AB24=\"\",\"\",'CF4 TestsPhys'!AB24)","v":""},{"$f":"IF('CF4 TestsPhys'!AC24=\"\",\"\",'CF4 TestsPhys'!AC24)","v":""}]
[{"$f":"IF('CF4 TestsPhys'!B25=\"\",\"\",'CF4 TestsPhys'!B25)","v":""},{"$f":"IF('CF4 TestsPhys'!D25=\"\",\"\",'CF4 TestsPhys'!D25)","v":""},{"$f":"IF('CF4 TestsPhys'!E25=\"\",\"\",'CF4 TestsPhys'!E25)","v":""},{"$f":"IF('CF4 TestsPhys'!F25=\"\",\"\",'CF4 TestsPhys'!F25)","v":""},{"$f":"IF('CF4 TestsPhys'!G25=\"\",\"\",'CF4 TestsPhys'!G25)","v":""},{"$f":"IF('CF4 TestsPhys'!H25=\"\",\"\",'CF4 TestsPhys'!H25)","v":""},{"$f":"IF('CF4 TestsPhys'!I25=\"\",\"\",'CF4 TestsPhys'!I25)","v":""},{"$f":"IF('CF4 TestsPhys'!J25=\"\",\"\",'CF4 TestsPhys'!J25)","v":""},{"$f":"IF('CF4 TestsPhys'!K25=\"\",\"\",'CF4 TestsPhys'!K25)","v":""},{"$f":"IF('CF4 TestsPhys'!L25=\"\",\"\",'CF4 TestsPhys'!L25)","v":""},{"$f":"IF('CF4 TestsPhys'!M25=\"\",\"\",'CF4 TestsPhys'!M25)","v":""},{"$f":"IF('CF4 TestsPhys'!N25=\"\",\"\",'CF4 TestsPhys'!N25)","v":""},{"$f":"IF('CF4 TestsPhys'!O25=\"\",\"\",'CF4 TestsPhys'!O25)","v":""},{"$f":"IF('CF4 TestsPhys'!P25=\"\",\"\",'CF4 TestsPhys'!P25)","v":""},{"$f":"IF('CF4 TestsPhys'!Q25=\"\",\"\",'CF4 TestsPhys'!Q25)","v":""},{"$f":"IF('CF4 TestsPhys'!R25=\"\",\"\",'CF4 TestsPhys'!R25)","v":""},{"$f":"IF('CF4 TestsPhys'!S25=\"\",\"\",'CF4 TestsPhys'!S25)","v":""},{"$f":"IF('CF4 TestsPhys'!T25=\"\",\"\",'CF4 TestsPhys'!T25)","v":""},{"$f":"IF('CF4 TestsPhys'!U25=\"\",\"\",'CF4 TestsPhys'!U25)","v":""},{"$f":"IF('CF4 TestsPhys'!V25=\"\",\"\",'CF4 TestsPhys'!V25)","v":""},{"$f":"IF('CF4 TestsPhys'!W25=\"\",\"\",'CF4 TestsPhys'!W25)","v":""},{"$f":"IF('CF4 TestsPhys'!X25=\"\",\"\",'CF4 TestsPhys'!X25)","v":""},{"$f":"IF('CF4 TestsPhys'!Y25=\"\",\"\",'CF4 TestsPhys'!Y25)","v":""},{"$f":"IF('CF4 TestsPhys'!Z25=\"\",\"\",'CF4 TestsPhys'!Z25)","v":""},{"$f":"IF('CF4 TestsPhys'!AA25=\"\",\"\",'CF4 TestsPhys'!AA25)","v":""},{"$f":"IF('CF4 TestsPhys'!AB25=\"\",\"\",'CF4 TestsPhys'!AB25)","v":""},{"$f":"IF('CF4 TestsPhys'!AC25=\"\",\"\",'CF4 TestsPhys'!AC25)","v":""}]
[{"$f":"IF('CF4 TestsPhys'!B26=\"\",\"\",'CF4 TestsPhys'!B26)","v":""},{"$f":"IF('CF4 TestsPhys'!D26=\"\",\"\",'CF4 TestsPhys'!D26)","v":""},{"$f":"IF('CF4 TestsPhys'!E26=\"\",\"\",'CF4 TestsPhys'!E26)","v":""},{"$f":"IF('CF4 TestsPhys'!F26=\"\",\"\",'CF4 TestsPhys'!F26)","v":""},{"$f":"IF('CF4 TestsPhys'!G26=\"\",\"\",'CF4 TestsPhys'!G26)","v":""},{"$f":"IF('CF4 TestsPhys'!H26=\"\",\"\",'CF4 TestsPhys'!H26)","v":""},{"$f":"IF('CF4 TestsPhys'!I26=\"\",\"\",'CF4 TestsPhys'!I26)","v":""},{"$f":"IF('CF4 TestsPhys'!J26=\"\",\"\",'CF4 TestsPhys'!J26)","v":""},{"$f":"IF('CF4 TestsPhys'!K26=\"\",\"\",'CF4 TestsPhys'!K26)","v":""},{"$f":"IF('CF4 TestsPhys'!L26=\"\",\"\",'CF4 TestsPhys'!L26)","v":""},{"$f":"IF('CF4 TestsPhys'!M26=\"\",\"\",'CF4 TestsPhys'!M26)","v":""},{"$f":"IF('CF4 TestsPhys'!N26=\"\",\"\",'CF4 TestsPhys'!N26)","v":""},{"$f":"IF('CF4 TestsPhys'!O26=\"\",\"\",'CF4 TestsPhys'!O26)","v":""},{"$f":"IF('CF4 TestsPhys'!P26=\"\",\"\",'CF4 TestsPhys'!P26)","v":""},{"$f":"IF('CF4 TestsPhys'!Q26=\"\",\"\",'CF4 TestsPhys'!Q26)","v":""},{"$f":"IF('CF4 TestsPhys'!R26=\"\",\"\",'CF4 TestsPhys'!R26)","v":""},{"$f":"IF('CF4 TestsPhys'!S26=\"\",\"\",'CF4 TestsPhys'!S26)","v":""},{"$f":"IF('CF4 TestsPhys'!T26=\"\",\"\",'CF4 TestsPhys'!T26)","v":""},{"$f":"IF('CF4 TestsPhys'!U26=\"\",\"\",'CF4 TestsPhys'!U26)","v":""},{"$f":"IF('CF4 TestsPhys'!V26=\"\",\"\",'CF4 TestsPhys'!V26)","v":""},{"$f":"IF('CF4 TestsPhys'!W26=\"\",\"\",'CF4 TestsPhys'!W26)","v":""},{"$f":"IF('CF4 TestsPhys'!X26=\"\",\"\",'CF4 TestsPhys'!X26)","v":""},{"$f":"IF('CF4 TestsPhys'!Y26=\"\",\"\",'CF4 TestsPhys'!Y26)","v":""},{"$f":"IF('CF4 TestsPhys'!Z26=\"\",\"\",'CF4 TestsPhys'!Z26)","v":""},{"$f":"IF('CF4 TestsPhys'!AA26=\"\",\"\",'CF4 TestsPhys'!AA26)","v":""},{"$f":"IF('CF4 TestsPhys'!AB26=\"\",\"\",'CF4 TestsPhys'!AB26)","v":""},{"$f":"IF('CF4 TestsPhys'!AC26=\"\",\"\",'CF4 TestsPhys'!AC26)","v":""}]
[{"$f":"IF('CF4 TestsPhys'!B27=\"\",\"\",'CF4 TestsPhys'!B27)","v":""},{"$f":"IF('CF4 TestsPhys'!D27=\"\",\"\",'CF4 TestsPhys'!D27)","v":""},{"$f":"IF('CF4 TestsPhys'!E27=\"\",\"\",'CF4 TestsPhys'!E27)","v":""},{"$f":"IF('CF4 TestsPhys'!F27=\"\",\"\",'CF4 TestsPhys'!F27)","v":""},{"$f":"IF('CF4 TestsPhys'!G27=\"\",\"\",'CF4 TestsPhys'!G27)","v":""},{"$f":"IF('CF4 TestsPhys'!H27=\"\",\"\",'CF4 TestsPhys'!H27)","v":""},{"$f":"IF('CF4 TestsPhys'!I27=\"\",\"\",'CF4 TestsPhys'!I27)","v":""},{"$f":"IF('CF4 TestsPhys'!J27=\"\",\"\",'CF4 TestsPhys'!J27)","v":""},{"$f":"IF('CF4 TestsPhys'!K27=\"\",\"\",'CF4 TestsPhys'!K27)","v":""},{"$f":"IF('CF4 TestsPhys'!L27=\"\",\"\",'CF4 TestsPhys'!L27)","v":""},{"$f":"IF('CF4 TestsPhys'!M27=\"\",\"\",'CF4 TestsPhys'!M27)","v":""},{"$f":"IF('CF4 TestsPhys'!N27=\"\",\"\",'CF4 TestsPhys'!N27)","v":""},{"$f":"IF('CF4 TestsPhys'!O27=\"\",\"\",'CF4 TestsPhys'!O27)","v":""},{"$f":"IF('CF4 TestsPhys'!P27=\"\",\"\",'CF4 TestsPhys'!P27)","v":""},{"$f":"IF('CF4 TestsPhys'!Q27=\"\",\"\",'CF4 TestsPhys'!Q27)","v":""},{"$f":"IF('CF4 TestsPhys'!R27=\"\",\"\",'CF4 TestsPhys'!R27)","v":""},{"$f":"IF('CF4 TestsPhys'!S27=\"\",\"\",'CF4 TestsPhys'!S27)","v":""},{"$f":"IF('CF4 TestsPhys'!T27=\"\",\"\",'CF4 TestsPhys'!T27)","v":""},{"$f":"IF('CF4 TestsPhys'!U27=\"\",\"\",'CF4 TestsPhys'!U27)","v":""},{"$f":"IF('CF4 TestsPhys'!V27=\"\",\"\",'CF4 TestsPhys'!V27)","v":""},{"$f":"IF('CF4 TestsPhys'!W27=\"\",\"\",'CF4 TestsPhys'!W27)","v":""},{"$f":"IF('CF4 TestsPhys'!X27=\"\",\"\",'CF4 TestsPhys'!X27)","v":""},{"$f":"IF('CF4 TestsPhys'!Y27=\"\",\"\",'CF4 TestsPhys'!Y27)","v":""},{"$f":"IF('CF4 TestsPhys'!Z27=\"\",\"\",'CF4 TestsPhys'!Z27)","v":""},{"$f":"IF('CF4 TestsPhys'!AA27=\"\",\"\",'CF4 TestsPhys'!AA27)","v":""},{"$f":"IF('CF4 TestsPhys'!AB27=\"\",\"\",'CF4 TestsPhys'!AB27)","v":""},{"$f":"IF('CF4 TestsPhys'!AC27=\"\",\"\",'CF4 TestsPhys'!AC27)","v":""}]
[{"$f":"IF('CF4 TestsPhys'!B28=\"\",\"\",'CF4 TestsPhys'!B28)","v":""},{"$f":"IF('CF4 TestsPhys'!D28=\"\",\"\",'CF4 TestsPhys'!D28)","v":""},{"$f":"IF('CF4 TestsPhys'!E28=\"\",\"\",'CF4 TestsPhys'!E28)","v":""},{"$f":"IF('CF4 TestsPhys'!F28=\"\",\"\",'CF4 TestsPhys'!F28)","v":""},{"$f":"IF('CF4 TestsPhys'!G28=\"\",\"\",'CF4 TestsPhys'!G28)","v":""},{"$f":"IF('CF4 TestsPhys'!H28=\"\",\"\",'CF4 TestsPhys'!H28)","v":""},{"$f":"IF('CF4 TestsPhys'!I28=\"\",\"\",'CF4 TestsPhys'!I28)","v":""},{"$f":"IF('CF4 TestsPhys'!J28=\"\",\"\",'CF4 TestsPhys'!J28)","v":""},{"$f":"IF('CF4 TestsPhys'!K28=\"\",\"\",'CF4 TestsPhys'!K28)","v":""},{"$f":"IF('CF4 TestsPhys'!L28=\"\",\"\",'CF4 TestsPhys'!L28)","v":""},{"$f":"IF('CF4 TestsPhys'!M28=\"\",\"\",'CF4 TestsPhys'!M28)","v":""},{"$f":"IF('CF4 TestsPhys'!N28=\"\",\"\",'CF4 TestsPhys'!N28)","v":""},{"$f":"IF('CF4 TestsPhys'!O28=\"\",\"\",'CF4 TestsPhys'!O28)","v":""},{"$f":"IF('CF4 TestsPhys'!P28=\"\",\"\",'CF4 TestsPhys'!P28)","v":""},{"$f":"IF('CF4 TestsPhys'!Q28=\"\",\"\",'CF4 TestsPhys'!Q28)","v":""},{"$f":"IF('CF4 TestsPhys'!R28=\"\",\"\",'CF4 TestsPhys'!R28)","v":""},{"$f":"IF('CF4 TestsPhys'!S28=\"\",\"\",'CF4 TestsPhys'!S28)","v":""},{"$f":"IF('CF4 TestsPhys'!T28=\"\",\"\",'CF4 TestsPhys'!T28)","v":""},{"$f":"IF('CF4 TestsPhys'!U28=\"\",\"\",'CF4 TestsPhys'!U28)","v":""},{"$f":"IF('CF4 TestsPhys'!V28=\"\",\"\",'CF4 TestsPhys'!V28)","v":""},{"$f":"IF('CF4 TestsPhys'!W28=\"\",\"\",'CF4 TestsPhys'!W28)","v":""},{"$f":"IF('CF4 TestsPhys'!X28=\"\",\"\",'CF4 TestsPhys'!X28)","v":""},{"$f":"IF('CF4 TestsPhys'!Y28=\"\",\"\",'CF4 TestsPhys'!Y28)","v":""},{"$f":"IF('CF4 TestsPhys'!Z28=\"\",\"\",'CF4 TestsPhys'!Z28)","v":""},{"$f":"IF('CF4 TestsPhys'!AA28=\"\",\"\",'CF4 TestsPhys'!AA28)","v":""},{"$f":"IF('CF4 TestsPhys'!AB28=\"\",\"\",'CF4 TestsPhys'!AB28)","v":""},{"$f":"IF('CF4 TestsPhys'!AC28=\"\",\"\",'CF4 TestsPhys'!AC28)","v":""}]
[{"$f":"IF('CF4 TestsPhys'!B29=\"\",\"\",'CF4 TestsPhys'!B29)","v":""},{"$f":"IF('CF4 TestsPhys'!D29=\"\",\"\",'CF4 TestsPhys'!D29)","v":""},{"$f":"IF('CF4 TestsPhys'!E29=\"\",\"\",'CF4 TestsPhys'!E29)","v":""},{"$f":"IF('CF4 TestsPhys'!F29=\"\",\"\",'CF4 TestsPhys'!F29)","v":""},{"$f":"IF('CF4 TestsPhys'!G29=\"\",\"\",'CF4 TestsPhys'!G29)","v":""},{"$f":"IF('CF4 TestsPhys'!H29=\"\",\"\",'CF4 TestsPhys'!H29)","v":""},{"$f":"IF('CF4 TestsPhys'!I29=\"\",\"\",'CF4 TestsPhys'!I29)","v":""},{"$f":"IF('CF4 TestsPhys'!J29=\"\",\"\",'CF4 TestsPhys'!J29)","v":""},{"$f":"IF('CF4 TestsPhys'!K29=\"\",\"\",'CF4 TestsPhys'!K29)","v":""},{"$f":"IF('CF4 TestsPhys'!L29=\"\",\"\",'CF4 TestsPhys'!L29)","v":""},{"$f":"IF('CF4 TestsPhys'!M29=\"\",\"\",'CF4 TestsPhys'!M29)","v":""},{"$f":"IF('CF4 TestsPhys'!N29=\"\",\"\",'CF4 TestsPhys'!N29)","v":""},{"$f":"IF('CF4 TestsPhys'!O29=\"\",\"\",'CF4 TestsPhys'!O29)","v":""},{"$f":"IF('CF4 TestsPhys'!P29=\"\",\"\",'CF4 TestsPhys'!P29)","v":""},{"$f":"IF('CF4 TestsPhys'!Q29=\"\",\"\",'CF4 TestsPhys'!Q29)","v":""},{"$f":"IF('CF4 TestsPhys'!R29=\"\",\"\",'CF4 TestsPhys'!R29)","v":""},{"$f":"IF('CF4 TestsPhys'!S29=\"\",\"\",'CF4 TestsPhys'!S29)","v":""},{"$f":"IF('CF4 TestsPhys'!T29=\"\",\"\",'CF4 TestsPhys'!T29)","v":""},{"$f":"IF('CF4 TestsPhys'!U29=\"\",\"\",'CF4 TestsPhys'!U29)","v":""},{"$f":"IF('CF4 TestsPhys'!V29=\"\",\"\",'CF4 TestsPhys'!V29)","v":""},{"$f":"IF('CF4 TestsPhys'!W29=\"\",\"\",'CF4 TestsPhys'!W29)","v":""},{"$f":"IF('CF4 TestsPhys'!X29=\"\",\"\",'CF4 TestsPhys'!X29)","v":""},{"$f":"IF('CF4 TestsPhys'!Y29=\"\",\"\",'CF4 TestsPhys'!Y29)","v":""},{"$f":"IF('CF4 TestsPhys'!Z29=\"\",\"\",'CF4 TestsPhys'!Z29)","v":""},{"$f":"IF('CF4 TestsPhys'!AA29=\"\",\"\",'CF4 TestsPhys'!AA29)","v":""},{"$f":"IF('CF4 TestsPhys'!AB29=\"\",\"\",'CF4 TestsPhys'!AB29)","v":""},{"$f":"IF('CF4 TestsPhys'!AC29=\"\",\"\",'CF4 TestsPhys'!AC29)","v":""}]
[{"$f":"IF('CF4 TestsPhys'!B30=\"\",\"\",'CF4 TestsPhys'!B30)","v":""},{"$f":"IF('CF4 TestsPhys'!D30=\"\",\"\",'CF4 TestsPhys'!D30)","v":""},{"$f":"IF('CF4 TestsPhys'!E30=\"\",\"\",'CF4 TestsPhys'!E30)","v":""},{"$f":"IF('CF4 TestsPhys'!F30=\"\",\"\",'CF4 TestsPhys'!F30)","v":""},{"$f":"IF('CF4 TestsPhys'!G30=\"\",\"\",'CF4 TestsPhys'!G30)","v":""},{"$f":"IF('CF4 TestsPhys'!H30=\"\",\"\",'CF4 TestsPhys'!H30)","v":""},{"$f":"IF('CF4 TestsPhys'!I30=\"\",\"\",'CF4 TestsPhys'!I30)","v":""},{"$f":"IF('CF4 TestsPhys'!J30=\"\",\"\",'CF4 TestsPhys'!J30)","v":""},{"$f":"IF('CF4 TestsPhys'!K30=\"\",\"\",'CF4 TestsPhys'!K30)","v":""},{"$f":"IF('CF4 TestsPhys'!L30=\"\",\"\",'CF4 TestsPhys'!L30)","v":""},{"$f":"IF('CF4 TestsPhys'!M30=\"\",\"\",'CF4 TestsPhys'!M30)","v":""},{"$f":"IF('CF4 TestsPhys'!N30=\"\",\"\",'CF4 TestsPhys'!N30)","v":""},{"$f":"IF('CF4 TestsPhys'!O30=\"\",\"\",'CF4 TestsPhys'!O30)","v":""},{"$f":"IF('CF4 TestsPhys'!P30=\"\",\"\",'CF4 TestsPhys'!P30)","v":""},{"$f":"IF('CF4 TestsPhys'!Q30=\"\",\"\",'CF4 TestsPhys'!Q30)","v":""},{"$f":"IF('CF4 TestsPhys'!R30=\"\",\"\",'CF4 TestsPhys'!R30)","v":""},{"$f":"IF('CF4 TestsPhys'!S30=\"\",\"\",'CF4 TestsPhys'!S30)","v":""},{"$f":"IF('CF4 TestsPhys'!T30=\"\",\"\",'CF4 TestsPhys'!T30)","v":""},{"$f":"IF('CF4 TestsPhys'!U30=\"\",\"\",'CF4 TestsPhys'!U30)","v":""},{"$f":"IF('CF4 TestsPhys'!V30=\"\",\"\",'CF4 TestsPhys'!V30)","v":""},{"$f":"IF('CF4 TestsPhys'!W30=\"\",\"\",'CF4 TestsPhys'!W30)","v":""},{"$f":"IF('CF4 TestsPhys'!X30=\"\",\"\",'CF4 TestsPhys'!X30)","v":""},{"$f":"IF('CF4 TestsPhys'!Y30=\"\",\"\",'CF4 TestsPhys'!Y30)","v":""},{"$f":"IF('CF4 TestsPhys'!Z30=\"\",\"\",'CF4 TestsPhys'!Z30)","v":""},{"$f":"IF('CF4 TestsPhys'!AA30=\"\",\"\",'CF4 TestsPhys'!AA30)","v":""},{"$f":"IF('CF4 TestsPhys'!AB30=\"\",\"\",'CF4 TestsPhys'!AB30)","v":""},{"$f":"IF('CF4 TestsPhys'!AC30=\"\",\"\",'CF4 TestsPhys'!AC30)","v":""}]
[{"$f":"IF('CF4 TestsPhys'!B31=\"\",\"\",'CF4 TestsPhys'!B31)","v":""},{"$f":"IF('CF4 TestsPhys'!D31=\"\",\"\",'CF4 TestsPhys'!D31)","v":""},{"$f":"IF('CF4 TestsPhys'!E31=\"\",\"\",'CF4 TestsPhys'!E31)","v":""},{"$f":"IF('CF4 TestsPhys'!F31=\"\",\"\",'CF4 TestsPhys'!F31)","v":""},{"$f":"IF('CF4 TestsPhys'!G31=\"\",\"\",'CF4 TestsPhys'!G31)","v":""},{"$f":"IF('CF4 TestsPhys'!H31=\"\",\"\",'CF4 TestsPhys'!H31)","v":""},{"$f":"IF('CF4 TestsPhys'!I31=\"\",\"\",'CF4 TestsPhys'!I31)","v":""},{"$f":"IF('CF4 TestsPhys'!J31=\"\",\"\",'CF4 TestsPhys'!J31)","v":""},{"$f":"IF('CF4 TestsPhys'!K31=\"\",\"\",'CF4 TestsPhys'!K31)","v":""},{"$f":"IF('CF4 TestsPhys'!L31=\"\",\"\",'CF4 TestsPhys'!L31)","v":""},{"$f":"IF('CF4 TestsPhys'!M31=\"\",\"\",'CF4 TestsPhys'!M31)","v":""},{"$f":"IF('CF4 TestsPhys'!N31=\"\",\"\",'CF4 TestsPhys'!N31)","v":""},{"$f":"IF('CF4 TestsPhys'!O31=\"\",\"\",'CF4 TestsPhys'!O31)","v":""},{"$f":"IF('CF4 TestsPhys'!P31=\"\",\"\",'CF4 TestsPhys'!P31)","v":""},{"$f":"IF('CF4 TestsPhys'!Q31=\"\",\"\",'CF4 TestsPhys'!Q31)","v":""},{"$f":"IF('CF4 TestsPhys'!R31=\"\",\"\",'CF4 TestsPhys'!R31)","v":""},{"$f":"IF('CF4 TestsPhys'!S31=\"\",\"\",'CF4 TestsPhys'!S31)","v":""},{"$f":"IF('CF4 TestsPhys'!T31=\"\",\"\",'CF4 TestsPhys'!T31)","v":""},{"$f":"IF('CF4 TestsPhys'!U31=\"\",\"\",'CF4 TestsPhys'!U31)","v":""},{"$f":"IF('CF4 TestsPhys'!V31=\"\",\"\",'CF4 TestsPhys'!V31)","v":""},{"$f":"IF('CF4 TestsPhys'!W31=\"\",\"\",'CF4 TestsPhys'!W31)","v":""},{"$f":"IF('CF4 TestsPhys'!X31=\"\",\"\",'CF4 TestsPhys'!X31)","v":""},{"$f":"IF('CF4 TestsPhys'!Y31=\"\",\"\",'CF4 TestsPhys'!Y31)","v":""},{"$f":"IF('CF4 TestsPhys'!Z31=\"\",\"\",'CF4 TestsPhys'!Z31)","v":""},{"$f":"IF('CF4 TestsPhys'!AA31=\"\",\"\",'CF4 TestsPhys'!AA31)","v":""},{"$f":"IF('CF4 TestsPhys'!AB31=\"\",\"\",'CF4 TestsPhys'!AB31)","v":""},{"$f":"IF('CF4 TestsPhys'!AC31=\"\",\"\",'CF4 TestsPhys'!AC31)","v":""}]
[{"$f":"IF('CF4 TestsPhys'!B32=\"\",\"\",'CF4 TestsPhys'!B32)","v":""},{"$f":"IF('CF4 TestsPhys'!D32=\"\",\"\",'CF4 TestsPhys'!D32)","v":""},{"$f":"IF('CF4 TestsPhys'!E32=\"\",\"\",'CF4 TestsPhys'!E32)","v":""},{"$f":"IF('CF4 TestsPhys'!F32=\"\",\"\",'CF4 TestsPhys'!F32)","v":""},{"$f":"IF('CF4 TestsPhys'!G32=\"\",\"\",'CF4 TestsPhys'!G32)","v":""},{"$f":"IF('CF4 TestsPhys'!H32=\"\",\"\",'CF4 TestsPhys'!H32)","v":""},{"$f":"IF('CF4 TestsPhys'!I32=\"\",\"\",'CF4 TestsPhys'!I32)","v":""},{"$f":"IF('CF4 TestsPhys'!J32=\"\",\"\",'CF4 TestsPhys'!J32)","v":""},{"$f":"IF('CF4 TestsPhys'!K32=\"\",\"\",'CF4 TestsPhys'!K32)","v":""},{"$f":"IF('CF4 TestsPhys'!L32=\"\",\"\",'CF4 TestsPhys'!L32)","v":""},{"$f":"IF('CF4 TestsPhys'!M32=\"\",\"\",'CF4 TestsPhys'!M32)","v":""},{"$f":"IF('CF4 TestsPhys'!N32=\"\",\"\",'CF4 TestsPhys'!N32)","v":""},{"$f":"IF('CF4 TestsPhys'!O32=\"\",\"\",'CF4 TestsPhys'!O32)","v":""},{"$f":"IF('CF4 TestsPhys'!P32=\"\",\"\",'CF4 TestsPhys'!P32)","v":""},{"$f":"IF('CF4 TestsPhys'!Q32=\"\",\"\",'CF4 TestsPhys'!Q32)","v":""},{"$f":"IF('CF4 TestsPhys'!R32=\"\",\"\",'CF4 TestsPhys'!R32)","v":""},{"$f":"IF('CF4 TestsPhys'!S32=\"\",\"\",'CF4 TestsPhys'!S32)","v":""},{"$f":"IF('CF4 TestsPhys'!T32=\"\",\"\",'CF4 TestsPhys'!T32)","v":""},{"$f":"IF('CF4 TestsPhys'!U32=\"\",\"\",'CF4 TestsPhys'!U32)","v":""},{"$f":"IF('CF4 TestsPhys'!V32=\"\",\"\",'CF4 TestsPhys'!V32)","v":""},{"$f":"IF('CF4 TestsPhys'!W32=\"\",\"\",'CF4 TestsPhys'!W32)","v":""},{"$f":"IF('CF4 TestsPhys'!X32=\"\",\"\",'CF4 TestsPhys'!X32)","v":""},{"$f":"IF('CF4 TestsPhys'!Y32=\"\",\"\",'CF4 TestsPhys'!Y32)","v":""},{"$f":"IF('CF4 TestsPhys'!Z32=\"\",\"\",'CF4 TestsPhys'!Z32)","v":""},{"$f":"IF('CF4 TestsPhys'!AA32=\"\",\"\",'CF4 TestsPhys'!AA32)","v":""},{"$f":"IF('CF4 TestsPhys'!AB32=\"\",\"\",'CF4 TestsPhys'!AB32)","v":""},{"$f":"IF('CF4 TestsPhys'!AC32=\"\",\"\",'CF4 TestsPhys'!AC32)","v":""}]
[{"$f":"IF('CF4 TestsPhys'!B33=\"\",\"\",'CF4 TestsPhys'!B33)","v":""},{"$f":"IF('CF4 TestsPhys'!D33=\"\",\"\",'CF4 TestsPhys'!D33)","v":""},{"$f":"IF('CF4 TestsPhys'!E33=\"\",\"\",'CF4 TestsPhys'!E33)","v":""},{"$f":"IF('CF4 TestsPhys'!F33=\"\",\"\",'CF4 TestsPhys'!F33)","v":""},{"$f":"IF('CF4 TestsPhys'!G33=\"\",\"\",'CF4 TestsPhys'!G33)","v":""},{"$f":"IF('CF4 TestsPhys'!H33=\"\",\"\",'CF4 TestsPhys'!H33)","v":""},{"$f":"IF('CF4 TestsPhys'!I33=\"\",\"\",'CF4 TestsPhys'!I33)","v":""},{"$f":"IF('CF4 TestsPhys'!J33=\"\",\"\",'CF4 TestsPhys'!J33)","v":""},{"$f":"IF('CF4 TestsPhys'!K33=\"\",\"\",'CF4 TestsPhys'!K33)","v":""},{"$f":"IF('CF4 TestsPhys'!L33=\"\",\"\",'CF4 TestsPhys'!L33)","v":""},{"$f":"IF('CF4 TestsPhys'!M33=\"\",\"\",'CF4 TestsPhys'!M33)","v":""},{"$f":"IF('CF4 TestsPhys'!N33=\"\",\"\",'CF4 TestsPhys'!N33)","v":""},{"$f":"IF('CF4 TestsPhys'!O33=\"\",\"\",'CF4 TestsPhys'!O33)","v":""},{"$f":"IF('CF4 TestsPhys'!P33=\"\",\"\",'CF4 TestsPhys'!P33)","v":""},{"$f":"IF('CF4 TestsPhys'!Q33=\"\",\"\",'CF4 TestsPhys'!Q33)","v":""},{"$f":"IF('CF4 TestsPhys'!R33=\"\",\"\",'CF4 TestsPhys'!R33)","v":""},{"$f":"IF('CF4 TestsPhys'!S33=\"\",\"\",'CF4 TestsPhys'!S33)","v":""},{"$f":"IF('CF4 TestsPhys'!T33=\"\",\"\",'CF4 TestsPhys'!T33)","v":""},{"$f":"IF('CF4 TestsPhys'!U33=\"\",\"\",'CF4 TestsPhys'!U33)","v":""},{"$f":"IF('CF4 TestsPhys'!V33=\"\",\"\",'CF4 TestsPhys'!V33)","v":""},{"$f":"IF('CF4 TestsPhys'!W33=\"\",\"\",'CF4 TestsPhys'!W33)","v":""},{"$f":"IF('CF4 TestsPhys'!X33=\"\",\"\",'CF4 TestsPhys'!X33)","v":""},{"$f":"IF('CF4 TestsPhys'!Y33=\"\",\"\",'CF4 TestsPhys'!Y33)","v":""},{"$f":"IF('CF4 TestsPhys'!Z33=\"\",\"\",'CF4 TestsPhys'!Z33)","v":""},{"$f":"IF('CF4 TestsPhys'!AA33=\"\",\"\",'CF4 TestsPhys'!AA33)","v":""},{"$f":"IF('CF4 TestsPhys'!AB33=\"\",\"\",'CF4 TestsPhys'!AB33)","v":""},{"$f":"IF('CF4 TestsPhys'!AC33=\"\",\"\",'CF4 TestsPhys'!AC33)","v":""}]
[{"$f":"IF('CF4 TestsPhys'!B34=\"\",\"\",'CF4 TestsPhys'!B34)","v":""},{"$f":"IF('CF4 TestsPhys'!D34=\"\",\"\",'CF4 TestsPhys'!D34)","v":""},{"$f":"IF('CF4 TestsPhys'!E34=\"\",\"\",'CF4 TestsPhys'!E34)","v":""},{"$f":"IF('CF4 TestsPhys'!F34=\"\",\"\",'CF4 TestsPhys'!F34)","v":""},{"$f":"IF('CF4 TestsPhys'!G34=\"\",\"\",'CF4 TestsPhys'!G34)","v":""},{"$f":"IF('CF4 TestsPhys'!H34=\"\",\"\",'CF4 TestsPhys'!H34)","v":""},{"$f":"IF('CF4 TestsPhys'!I34=\"\",\"\",'CF4 TestsPhys'!I34)","v":""},{"$f":"IF('CF4 TestsPhys'!J34=\"\",\"\",'CF4 TestsPhys'!J34)","v":""},{"$f":"IF('CF4 TestsPhys'!K34=\"\",\"\",'CF4 TestsPhys'!K34)","v":""},{"$f":"IF('CF4 TestsPhys'!L34=\"\",\"\",'CF4 TestsPhys'!L34)","v":""},{"$f":"IF('CF4 TestsPhys'!M34=\"\",\"\",'CF4 TestsPhys'!M34)","v":""},{"$f":"IF('CF4 TestsPhys'!N34=\"\",\"\",'CF4 TestsPhys'!N34)","v":""},{"$f":"IF('CF4 TestsPhys'!O34=\"\",\"\",'CF4 TestsPhys'!O34)","v":""},{"$f":"IF('CF4 TestsPhys'!P34=\"\",\"\",'CF4 TestsPhys'!P34)","v":""},{"$f":"IF('CF4 TestsPhys'!Q34=\"\",\"\",'CF4 TestsPhys'!Q34)","v":""},{"$f":"IF('CF4 TestsPhys'!R34=\"\",\"\",'CF4 TestsPhys'!R34)","v":""},{"$f":"IF('CF4 TestsPhys'!S34=\"\",\"\",'CF4 TestsPhys'!S34)","v":""},{"$f":"IF('CF4 TestsPhys'!T34=\"\",\"\",'CF4 TestsPhys'!T34)","v":""},{"$f":"IF('CF4 TestsPhys'!U34=\"\",\"\",'CF4 TestsPhys'!U34)","v":""},{"$f":"IF('CF4 TestsPhys'!V34=\"\",\"\",'CF4 TestsPhys'!V34)","v":""},{"$f":"IF('CF4 TestsPhys'!W34=\"\",\"\",'CF4 TestsPhys'!W34)","v":""},{"$f":"IF('CF4 TestsPhys'!X34=\"\",\"\",'CF4 TestsPhys'!X34)","v":""},{"$f":"IF('CF4 TestsPhys'!Y34=\"\",\"\",'CF4 TestsPhys'!Y34)","v":""},{"$f":"IF('CF4 TestsPhys'!Z34=\"\",\"\",'CF4 TestsPhys'!Z34)","v":""},{"$f":"IF('CF4 TestsPhys'!AA34=\"\",\"\",'CF4 TestsPhys'!AA34)","v":""},{"$f":"IF('CF4 TestsPhys'!AB34=\"\",\"\",'CF4 TestsPhys'!AB34)","v":""},{"$f":"IF('CF4 TestsPhys'!AC34=\"\",\"\",'CF4 TestsPhys'!AC34)","v":""}]
[{"$f":"IF('CF4 TestsPhys'!B35=\"\",\"\",'CF4 TestsPhys'!B35)","v":""},{"$f":"IF('CF4 TestsPhys'!D35=\"\",\"\",'CF4 TestsPhys'!D35)","v":""},{"$f":"IF('CF4 TestsPhys'!E35=\"\",\"\",'CF4 TestsPhys'!E35)","v":""},{"$f":"IF('CF4 TestsPhys'!F35=\"\",\"\",'CF4 TestsPhys'!F35)","v":""},{"$f":"IF('CF4 TestsPhys'!G35=\"\",\"\",'CF4 TestsPhys'!G35)","v":""},{"$f":"IF('CF4 TestsPhys'!H35=\"\",\"\",'CF4 TestsPhys'!H35)","v":""},{"$f":"IF('CF4 TestsPhys'!I35=\"\",\"\",'CF4 TestsPhys'!I35)","v":""},{"$f":"IF('CF4 TestsPhys'!J35=\"\",\"\",'CF4 TestsPhys'!J35)","v":""},{"$f":"IF('CF4 TestsPhys'!K35=\"\",\"\",'CF4 TestsPhys'!K35)","v":""},{"$f":"IF('CF4 TestsPhys'!L35=\"\",\"\",'CF4 TestsPhys'!L35)","v":""},{"$f":"IF('CF4 TestsPhys'!M35=\"\",\"\",'CF4 TestsPhys'!M35)","v":""},{"$f":"IF('CF4 TestsPhys'!N35=\"\",\"\",'CF4 TestsPhys'!N35)","v":""},{"$f":"IF('CF4 TestsPhys'!O35=\"\",\"\",'CF4 TestsPhys'!O35)","v":""},{"$f":"IF('CF4 TestsPhys'!P35=\"\",\"\",'CF4 TestsPhys'!P35)","v":""},{"$f":"IF('CF4 TestsPhys'!Q35=\"\",\"\",'CF4 TestsPhys'!Q35)","v":""},{"$f":"IF('CF4 TestsPhys'!R35=\"\",\"\",'CF4 TestsPhys'!R35)","v":""},{"$f":"IF('CF4 TestsPhys'!S35=\"\",\"\",'CF4 TestsPhys'!S35)","v":""},{"$f":"IF('CF4 TestsPhys'!T35=\"\",\"\",'CF4 TestsPhys'!T35)","v":""},{"$f":"IF('CF4 TestsPhys'!U35=\"\",\"\",'CF4 TestsPhys'!U35)","v":""},{"$f":"IF('CF4 TestsPhys'!V35=\"\",\"\",'CF4 TestsPhys'!V35)","v":""},{"$f":"IF('CF4 TestsPhys'!W35=\"\",\"\",'CF4 TestsPhys'!W35)","v":""},{"$f":"IF('CF4 TestsPhys'!X35=\"\",\"\",'CF4 TestsPhys'!X35)","v":""},{"$f":"IF('CF4 TestsPhys'!Y35=\"\",\"\",'CF4 TestsPhys'!Y35)","v":""},{"$f":"IF('CF4 TestsPhys'!Z35=\"\",\"\",'CF4 TestsPhys'!Z35)","v":""},{"$f":"IF('CF4 TestsPhys'!AA35=\"\",\"\",'CF4 TestsPhys'!AA35)","v":""},{"$f":"IF('CF4 TestsPhys'!AB35=\"\",\"\",'CF4 TestsPhys'!AB35)","v":""},{"$f":"IF('CF4 TestsPhys'!AC35=\"\",\"\",'CF4 TestsPhys'!AC35)","v":""}]
[{"$f":"IF('CF4 TestsPhys'!B36=\"\",\"\",'CF4 TestsPhys'!B36)","v":""},{"$f":"IF('CF4 TestsPhys'!D36=\"\",\"\",'CF4 TestsPhys'!D36)","v":""},{"$f":"IF('CF4 TestsPhys'!E36=\"\",\"\",'CF4 TestsPhys'!E36)","v":""},{"$f":"IF('CF4 TestsPhys'!F36=\"\",\"\",'CF4 TestsPhys'!F36)","v":""},{"$f":"IF('CF4 TestsPhys'!G36=\"\",\"\",'CF4 TestsPhys'!G36)","v":""},{"$f":"IF('CF4 TestsPhys'!H36=\"\",\"\",'CF4 TestsPhys'!H36)","v":""},{"$f":"IF('CF4 TestsPhys'!I36=\"\",\"\",'CF4 TestsPhys'!I36)","v":""},{"$f":"IF('CF4 TestsPhys'!J36=\"\",\"\",'CF4 TestsPhys'!J36)","v":""},{"$f":"IF('CF4 TestsPhys'!K36=\"\",\"\",'CF4 TestsPhys'!K36)","v":""},{"$f":"IF('CF4 TestsPhys'!L36=\"\",\"\",'CF4 TestsPhys'!L36)","v":""},{"$f":"IF('CF4 TestsPhys'!M36=\"\",\"\",'CF4 TestsPhys'!M36)","v":""},{"$f":"IF('CF4 TestsPhys'!N36=\"\",\"\",'CF4 TestsPhys'!N36)","v":""},{"$f":"IF('CF4 TestsPhys'!O36=\"\",\"\",'CF4 TestsPhys'!O36)","v":""},{"$f":"IF('CF4 TestsPhys'!P36=\"\",\"\",'CF4 TestsPhys'!P36)","v":""},{"$f":"IF('CF4 TestsPhys'!Q36=\"\",\"\",'CF4 TestsPhys'!Q36)","v":""},{"$f":"IF('CF4 TestsPhys'!R36=\"\",\"\",'CF4 TestsPhys'!R36)","v":""},{"$f":"IF('CF4 TestsPhys'!S36=\"\",\"\",'CF4 TestsPhys'!S36)","v":""},{"$f":"IF('CF4 TestsPhys'!T36=\"\",\"\",'CF4 TestsPhys'!T36)","v":""},{"$f":"IF('CF4 TestsPhys'!U36=\"\",\"\",'CF4 TestsPhys'!U36)","v":""},{"$f":"IF('CF4 TestsPhys'!V36=\"\",\"\",'CF4 TestsPhys'!V36)","v":""},{"$f":"IF('CF4 TestsPhys'!W36=\"\",\"\",'CF4 TestsPhys'!W36)","v":""},{"$f":"IF('CF4 TestsPhys'!X36=\"\",\"\",'CF4 TestsPhys'!X36)","v":""},{"$f":"IF('CF4 TestsPhys'!Y36=\"\",\"\",'CF4 TestsPhys'!Y36)","v":""},{"$f":"IF('CF4 TestsPhys'!Z36=\"\",\"\",'CF4 TestsPhys'!Z36)","v":""},{"$f":"IF('CF4 TestsPhys'!AA36=\"\",\"\",'CF4 TestsPhys'!AA36)","v":""},{"$f":"IF('CF4 TestsPhys'!AB36=\"\",\"\",'CF4 TestsPhys'!AB36)","v":""},{"$f":"IF('CF4 TestsPhys'!AC36=\"\",\"\",'CF4 TestsPhys'!AC36)","v":""}]
[{"$f":"IF('CF4 TestsPhys'!B37=\"\",\"\",'CF4 TestsPhys'!B37)","v":""},{"$f":"IF('CF4 TestsPhys'!D37=\"\",\"\",'CF4 TestsPhys'!D37)","v":""},{"$f":"IF('CF4 TestsPhys'!E37=\"\",\"\",'CF4 TestsPhys'!E37)","v":""},{"$f":"IF('CF4 TestsPhys'!F37=\"\",\"\",'CF4 TestsPhys'!F37)","v":""},{"$f":"IF('CF4 TestsPhys'!G37=\"\",\"\",'CF4 TestsPhys'!G37)","v":""},{"$f":"IF('CF4 TestsPhys'!H37=\"\",\"\",'CF4 TestsPhys'!H37)","v":""},{"$f":"IF('CF4 TestsPhys'!I37=\"\",\"\",'CF4 TestsPhys'!I37)","v":""},{"$f":"IF('CF4 TestsPhys'!J37=\"\",\"\",'CF4 TestsPhys'!J37)","v":""},{"$f":"IF('CF4 TestsPhys'!K37=\"\",\"\",'CF4 TestsPhys'!K37)","v":""},{"$f":"IF('CF4 TestsPhys'!L37=\"\",\"\",'CF4 TestsPhys'!L37)","v":""},{"$f":"IF('CF4 TestsPhys'!M37=\"\",\"\",'CF4 TestsPhys'!M37)","v":""},{"$f":"IF('CF4 TestsPhys'!N37=\"\",\"\",'CF4 TestsPhys'!N37)","v":""},{"$f":"IF('CF4 TestsPhys'!O37=\"\",\"\",'CF4 TestsPhys'!O37)","v":""},{"$f":"IF('CF4 TestsPhys'!P37=\"\",\"\",'CF4 TestsPhys'!P37)","v":""},{"$f":"IF('CF4 TestsPhys'!Q37=\"\",\"\",'CF4 TestsPhys'!Q37)","v":""},{"$f":"IF('CF4 TestsPhys'!R37=\"\",\"\",'CF4 TestsPhys'!R37)","v":""},{"$f":"IF('CF4 TestsPhys'!S37=\"\",\"\",'CF4 TestsPhys'!S37)","v":""},{"$f":"IF('CF4 TestsPhys'!T37=\"\",\"\",'CF4 TestsPhys'!T37)","v":""},{"$f":"IF('CF4 TestsPhys'!U37=\"\",\"\",'CF4 TestsPhys'!U37)","v":""},{"$f":"IF('CF4 TestsPhys'!V37=\"\",\"\",'CF4 TestsPhys'!V37)","v":""},{"$f":"IF('CF4 TestsPhys'!W37=\"\",\"\",'CF4 TestsPhys'!W37)","v":""},{"$f":"IF('CF4 TestsPhys'!X37=\"\",\"\",'CF4 TestsPhys'!X37)","v":""},{"$f":"IF('CF4 TestsPhys'!Y37=\"\",\"\",'CF4 TestsPhys'!Y37)","v":""},{"$f":"IF('CF4 TestsPhys'!Z37=\"\",\"\",'CF4 TestsPhys'!Z37)","v":""},{"$f":"IF('CF4 TestsPhys'!AA37=\"\",\"\",'CF4 TestsPhys'!AA37)","v":""},{"$f":"IF('CF4 TestsPhys'!AB37=\"\",\"\",'CF4 TestsPhys'!AB37)","v":""},{"$f":"IF('CF4 TestsPhys'!AC37=\"\",\"\",'CF4 TestsPhys'!AC37)","v":""}]
[{"$f":"IF('CF4 TestsPhys'!B38=\"\",\"\",'CF4 TestsPhys'!B38)","v":""},{"$f":"IF('CF4 TestsPhys'!D38=\"\",\"\",'CF4 TestsPhys'!D38)","v":""},{"$f":"IF('CF4 TestsPhys'!E38=\"\",\"\",'CF4 TestsPhys'!E38)","v":""},{"$f":"IF('CF4 TestsPhys'!F38=\"\",\"\",'CF4 TestsPhys'!F38)","v":""},{"$f":"IF('CF4 TestsPhys'!G38=\"\",\"\",'CF4 TestsPhys'!G38)","v":""},{"$f":"IF('CF4 TestsPhys'!H38=\"\",\"\",'CF4 TestsPhys'!H38)","v":""},{"$f":"IF('CF4 TestsPhys'!I38=\"\",\"\",'CF4 TestsPhys'!I38)","v":""},{"$f":"IF('CF4 TestsPhys'!J38=\"\",\"\",'CF4 TestsPhys'!J38)","v":""},{"$f":"IF('CF4 TestsPhys'!K38=\"\",\"\",'CF4 TestsPhys'!K38)","v":""},{"$f":"IF('CF4 TestsPhys'!L38=\"\",\"\",'CF4 TestsPhys'!L38)","v":""},{"$f":"IF('CF4 TestsPhys'!M38=\"\",\"\",'CF4 TestsPhys'!M38)","v":""},{"$f":"IF('CF4 TestsPhys'!N38=\"\",\"\",'CF4 TestsPhys'!N38)","v":""},{"$f":"IF('CF4 TestsPhys'!O38=\"\",\"\",'CF4 TestsPhys'!O38)","v":""},{"$f":"IF('CF4 TestsPhys'!P38=\"\",\"\",'CF4 TestsPhys'!P38)","v":""},{"$f":"IF('CF4 TestsPhys'!Q38=\"\",\"\",'CF4 TestsPhys'!Q38)","v":""},{"$f":"IF('CF4 TestsPhys'!R38=\"\",\"\",'CF4 TestsPhys'!R38)","v":""},{"$f":"IF('CF4 TestsPhys'!S38=\"\",\"\",'CF4 TestsPhys'!S38)","v":""},{"$f":"IF('CF4 TestsPhys'!T38=\"\",\"\",'CF4 TestsPhys'!T38)","v":""},{"$f":"IF('CF4 TestsPhys'!U38=\"\",\"\",'CF4 TestsPhys'!U38)","v":""},{"$f":"IF('CF4 TestsPhys'!V38=\"\",\"\",'CF4 TestsPhys'!V38)","v":""},{"$f":"IF('CF4 TestsPhys'!W38=\"\",\"\",'CF4 TestsPhys'!W38)","v":""},{"$f":"IF('CF4 TestsPhys'!X38=\"\",\"\",'CF4 TestsPhys'!X38)","v":""},{"$f":"IF('CF4 TestsPhys'!Y38=\"\",\"\",'CF4 TestsPhys'!Y38)","v":""},{"$f":"IF('CF4 TestsPhys'!Z38=\"\",\"\",'CF4 TestsPhys'!Z38)","v":""},{"$f":"IF('CF4 TestsPhys'!AA38=\"\",\"\",'CF4 TestsPhys'!AA38)","v":""},{"$f":"IF('CF4 TestsPhys'!AB38=\"\",\"\",'CF4 TestsPhys'!AB38)","v":""},{"$f":"IF('CF4 TestsPhys'!AC38=\"\",\"\",'CF4 TestsPhys'!AC38)","v":""}]
[{"$f":"IF('CF4 TestsPhys'!B39=\"\",\"\",'CF4 TestsPhys'!B39)","v":""},{"$f":"IF('CF4 TestsPhys'!D39=\"\",\"\",'CF4 TestsPhys'!D39)","v":""},{"$f":"IF('CF4 TestsPhys'!E39=\"\",\"\",'CF4 TestsPhys'!E39)","v":""},{"$f":"IF('CF4 TestsPhys'!F39=\"\",\"\",'CF4 TestsPhys'!F39)","v":""},{"$f":"IF('CF4 TestsPhys'!G39=\"\",\"\",'CF4 TestsPhys'!G39)","v":""},{"$f":"IF('CF4 TestsPhys'!H39=\"\",\"\",'CF4 TestsPhys'!H39)","v":""},{"$f":"IF('CF4 TestsPhys'!I39=\"\",\"\",'CF4 TestsPhys'!I39)","v":""},{"$f":"IF('CF4 TestsPhys'!J39=\"\",\"\",'CF4 TestsPhys'!J39)","v":""},{"$f":"IF('CF4 TestsPhys'!K39=\"\",\"\",'CF4 TestsPhys'!K39)","v":""},{"$f":"IF('CF4 TestsPhys'!L39=\"\",\"\",'CF4 TestsPhys'!L39)","v":""},{"$f":"IF('CF4 TestsPhys'!M39=\"\",\"\",'CF4 TestsPhys'!M39)","v":""},{"$f":"IF('CF4 TestsPhys'!N39=\"\",\"\",'CF4 TestsPhys'!N39)","v":""},{"$f":"IF('CF4 TestsPhys'!O39=\"\",\"\",'CF4 TestsPhys'!O39)","v":""},{"$f":"IF('CF4 TestsPhys'!P39=\"\",\"\",'CF4 TestsPhys'!P39)","v":""},{"$f":"IF('CF4 TestsPhys'!Q39=\"\",\"\",'CF4 TestsPhys'!Q39)","v":""},{"$f":"IF('CF4 TestsPhys'!R39=\"\",\"\",'CF4 TestsPhys'!R39)","v":""},{"$f":"IF('CF4 TestsPhys'!S39=\"\",\"\",'CF4 TestsPhys'!S39)","v":""},{"$f":"IF('CF4 TestsPhys'!T39=\"\",\"\",'CF4 TestsPhys'!T39)","v":""},{"$f":"IF('CF4 TestsPhys'!U39=\"\",\"\",'CF4 TestsPhys'!U39)","v":""},{"$f":"IF('CF4 TestsPhys'!V39=\"\",\"\",'CF4 TestsPhys'!V39)","v":""},{"$f":"IF('CF4 TestsPhys'!W39=\"\",\"\",'CF4 TestsPhys'!W39)","v":""},{"$f":"IF('CF4 TestsPhys'!X39=\"\",\"\",'CF4 TestsPhys'!X39)","v":""},{"$f":"IF('CF4 TestsPhys'!Y39=\"\",\"\",'CF4 TestsPhys'!Y39)","v":""},{"$f":"IF('CF4 TestsPhys'!Z39=\"\",\"\",'CF4 TestsPhys'!Z39)","v":""},{"$f":"IF('CF4 TestsPhys'!AA39=\"\",\"\",'CF4 TestsPhys'!AA39)","v":""},{"$f":"IF('CF4 TestsPhys'!AB39=\"\",\"\",'CF4 TestsPhys'!AB39)","v":""},{"$f":"IF('CF4 TestsPhys'!AC39=\"\",\"\",'CF4 TestsPhys'!AC39)","v":""}]
[{"$f":"IF('CF4 TestsPhys'!B40=\"\",\"\",'CF4 TestsPhys'!B40)","v":""},{"$f":"IF('CF4 TestsPhys'!D40=\"\",\"\",'CF4 TestsPhys'!D40)","v":""},{"$f":"IF('CF4 TestsPhys'!E40=\"\",\"\",'CF4 TestsPhys'!E40)","v":""},{"$f":"IF('CF4 TestsPhys'!F40=\"\",\"\",'CF4 TestsPhys'!F40)","v":""},{"$f":"IF('CF4 TestsPhys'!G40=\"\",\"\",'CF4 TestsPhys'!G40)","v":""},{"$f":"IF('CF4 TestsPhys'!H40=\"\",\"\",'CF4 TestsPhys'!H40)","v":""},{"$f":"IF('CF4 TestsPhys'!I40=\"\",\"\",'CF4 TestsPhys'!I40)","v":""},{"$f":"IF('CF4 TestsPhys'!J40=\"\",\"\",'CF4 TestsPhys'!J40)","v":""},{"$f":"IF('CF4 TestsPhys'!K40=\"\",\"\",'CF4 TestsPhys'!K40)","v":""},{"$f":"IF('CF4 TestsPhys'!L40=\"\",\"\",'CF4 TestsPhys'!L40)","v":""},{"$f":"IF('CF4 TestsPhys'!M40=\"\",\"\",'CF4 TestsPhys'!M40)","v":""},{"$f":"IF('CF4 TestsPhys'!N40=\"\",\"\",'CF4 TestsPhys'!N40)","v":""},{"$f":"IF('CF4 TestsPhys'!O40=\"\",\"\",'CF4 TestsPhys'!O40)","v":""},{"$f":"IF('CF4 TestsPhys'!P40=\"\",\"\",'CF4 TestsPhys'!P40)","v":""},{"$f":"IF('CF4 TestsPhys'!Q40=\"\",\"\",'CF4 TestsPhys'!Q40)","v":""},{"$f":"IF('CF4 TestsPhys'!R40=\"\",\"\",'CF4 TestsPhys'!R40)","v":""},{"$f":"IF('CF4 TestsPhys'!S40=\"\",\"\",'CF4 TestsPhys'!S40)","v":""},{"$f":"IF('CF4 TestsPhys'!T40=\"\",\"\",'CF4 TestsPhys'!T40)","v":""},{"$f":"IF('CF4 TestsPhys'!U40=\"\",\"\",'CF4 TestsPhys'!U40)","v":""},{"$f":"IF('CF4 TestsPhys'!V40=\"\",\"\",'CF4 TestsPhys'!V40)","v":""},{"$f":"IF('CF4 TestsPhys'!W40=\"\",\"\",'CF4 TestsPhys'!W40)","v":""},{"$f":"IF('CF4 TestsPhys'!X40=\"\",\"\",'CF4 TestsPhys'!X40)","v":""},{"$f":"IF('CF4 TestsPhys'!Y40=\"\",\"\",'CF4 TestsPhys'!Y40)","v":""},{"$f":"IF('CF4 TestsPhys'!Z40=\"\",\"\",'CF4 TestsPhys'!Z40)","v":""},{"$f":"IF('CF4 TestsPhys'!AA40=\"\",\"\",'CF4 TestsPhys'!AA40)","v":""},{"$f":"IF('CF4 TestsPhys'!AB40=\"\",\"\",'CF4 TestsPhys'!AB40)","v":""},{"$f":"IF('CF4 TestsPhys'!AC40=\"\",\"\",'CF4 TestsPhys'!AC40)","v":""}]
[{"$f":"IF('CF4 TestsPhys'!B41=\"\",\"\",'CF4 TestsPhys'!B41)","v":""},{"$f":"IF('CF4 TestsPhys'!D41=\"\",\"\",'CF4 TestsPhys'!D41)","v":""},{"$f":"IF('CF4 TestsPhys'!E41=\"\",\"\",'CF4 TestsPhys'!E41)","v":""},{"$f":"IF('CF4 TestsPhys'!F41=\"\",\"\",'CF4 TestsPhys'!F41)","v":""},{"$f":"IF('CF4 TestsPhys'!G41=\"\",\"\",'CF4 TestsPhys'!G41)","v":""},{"$f":"IF('CF4 TestsPhys'!H41=\"\",\"\",'CF4 TestsPhys'!H41)","v":""},{"$f":"IF('CF4 TestsPhys'!I41=\"\",\"\",'CF4 TestsPhys'!I41)","v":""},{"$f":"IF('CF4 TestsPhys'!J41=\"\",\"\",'CF4 TestsPhys'!J41)","v":""},{"$f":"IF('CF4 TestsPhys'!K41=\"\",\"\",'CF4 TestsPhys'!K41)","v":""},{"$f":"IF('CF4 TestsPhys'!L41=\"\",\"\",'CF4 TestsPhys'!L41)","v":""},{"$f":"IF('CF4 TestsPhys'!M41=\"\",\"\",'CF4 TestsPhys'!M41)","v":""},{"$f":"IF('CF4 TestsPhys'!N41=\"\",\"\",'CF4 TestsPhys'!N41)","v":""},{"$f":"IF('CF4 TestsPhys'!O41=\"\",\"\",'CF4 TestsPhys'!O41)","v":""},{"$f":"IF('CF4 TestsPhys'!P41=\"\",\"\",'CF4 TestsPhys'!P41)","v":""},{"$f":"IF('CF4 TestsPhys'!Q41=\"\",\"\",'CF4 TestsPhys'!Q41)","v":""},{"$f":"IF('CF4 TestsPhys'!R41=\"\",\"\",'CF4 TestsPhys'!R41)","v":""},{"$f":"IF('CF4 TestsPhys'!S41=\"\",\"\",'CF4 TestsPhys'!S41)","v":""},{"$f":"IF('CF4 TestsPhys'!T41=\"\",\"\",'CF4 TestsPhys'!T41)","v":""},{"$f":"IF('CF4 TestsPhys'!U41=\"\",\"\",'CF4 TestsPhys'!U41)","v":""},{"$f":"IF('CF4 TestsPhys'!V41=\"\",\"\",'CF4 TestsPhys'!V41)","v":""},{"$f":"IF('CF4 TestsPhys'!W41=\"\",\"\",'CF4 TestsPhys'!W41)","v":""},{"$f":"IF('CF4 TestsPhys'!X41=\"\",\"\",'CF4 TestsPhys'!X41)","v":""},{"$f":"IF('CF4 TestsPhys'!Y41=\"\",\"\",'CF4 TestsPhys'!Y41)","v":""},{"$f":"IF('CF4 TestsPhys'!Z41=\"\",\"\",'CF4 TestsPhys'!Z41)","v":""},{"$f":"IF('CF4 TestsPhys'!AA41=\"\",\"\",'CF4 TestsPhys'!AA41)","v":""},{"$f":"IF('CF4 TestsPhys'!AB41=\"\",\"\",'CF4 TestsPhys'!AB41)","v":""},{"$f":"IF('CF4 TestsPhys'!AC41=\"\",\"\",'CF4 TestsPhys'!AC41)","v":""}]
[{"$f":"IF('CF4 TestsPhys'!B42=\"\",\"\",'CF4 TestsPhys'!B42)","v":""},{"$f":"IF('CF4 TestsPhys'!D42=\"\",\"\",'CF4 TestsPhys'!D42)","v":""},{"$f":"IF('CF4 TestsPhys'!E42=\"\",\"\",'CF4 TestsPhys'!E42)","v":""},{"$f":"IF('CF4 TestsPhys'!F42=\"\",\"\",'CF4 TestsPhys'!F42)","v":""},{"$f":"IF('CF4 TestsPhys'!G42=\"\",\"\",'CF4 TestsPhys'!G42)","v":""},{"$f":"IF('CF4 TestsPhys'!H42=\"\",\"\",'CF4 TestsPhys'!H42)","v":""},{"$f":"IF('CF4 TestsPhys'!I42=\"\",\"\",'CF4 TestsPhys'!I42)","v":""},{"$f":"IF('CF4 TestsPhys'!J42=\"\",\"\",'CF4 TestsPhys'!J42)","v":""},{"$f":"IF('CF4 TestsPhys'!K42=\"\",\"\",'CF4 TestsPhys'!K42)","v":""},{"$f":"IF('CF4 TestsPhys'!L42=\"\",\"\",'CF4 TestsPhys'!L42)","v":""},{"$f":"IF('CF4 TestsPhys'!M42=\"\",\"\",'CF4 TestsPhys'!M42)","v":""},{"$f":"IF('CF4 TestsPhys'!N42=\"\",\"\",'CF4 TestsPhys'!N42)","v":""},{"$f":"IF('CF4 TestsPhys'!O42=\"\",\"\",'CF4 TestsPhys'!O42)","v":""},{"$f":"IF('CF4 TestsPhys'!P42=\"\",\"\",'CF4 TestsPhys'!P42)","v":""},{"$f":"IF('CF4 TestsPhys'!Q42=\"\",\"\",'CF4 TestsPhys'!Q42)","v":""},{"$f":"IF('CF4 TestsPhys'!R42=\"\",\"\",'CF4 TestsPhys'!R42)","v":""},{"$f":"IF('CF4 TestsPhys'!S42=\"\",\"\",'CF4 TestsPhys'!S42)","v":""},{"$f":"IF('CF4 TestsPhys'!T42=\"\",\"\",'CF4 TestsPhys'!T42)","v":""},{"$f":"IF('CF4 TestsPhys'!U42=\"\",\"\",'CF4 TestsPhys'!U42)","v":""},{"$f":"IF('CF4 TestsPhys'!V42=\"\",\"\",'CF4 TestsPhys'!V42)","v":""},{"$f":"IF('CF4 TestsPhys'!W42=\"\",\"\",'CF4 TestsPhys'!W42)","v":""},{"$f":"IF('CF4 TestsPhys'!X42=\"\",\"\",'CF4 TestsPhys'!X42)","v":""},{"$f":"IF('CF4 TestsPhys'!Y42=\"\",\"\",'CF4 TestsPhys'!Y42)","v":""},{"$f":"IF('CF4 TestsPhys'!Z42=\"\",\"\",'CF4 TestsPhys'!Z42)","v":""},{"$f":"IF('CF4 TestsPhys'!AA42=\"\",\"\",'CF4 TestsPhys'!AA42)","v":""},{"$f":"IF('CF4 TestsPhys'!AB42=\"\",\"\",'CF4 TestsPhys'!AB42)","v":""},{"$f":"IF('CF4 TestsPhys'!AC42=\"\",\"\",'CF4 TestsPhys'!AC42)","v":""}]
[{"$f":"IF('CF4 TestsPhys'!B43=\"\",\"\",'CF4 TestsPhys'!B43)","v":""},{"$f":"IF('CF4 TestsPhys'!D43=\"\",\"\",'CF4 TestsPhys'!D43)","v":""},{"$f":"IF('CF4 TestsPhys'!E43=\"\",\"\",'CF4 TestsPhys'!E43)","v":""},{"$f":"IF('CF4 TestsPhys'!F43=\"\",\"\",'CF4 TestsPhys'!F43)","v":""},{"$f":"IF('CF4 TestsPhys'!G43=\"\",\"\",'CF4 TestsPhys'!G43)","v":""},{"$f":"IF('CF4 TestsPhys'!H43=\"\",\"\",'CF4 TestsPhys'!H43)","v":""},{"$f":"IF('CF4 TestsPhys'!I43=\"\",\"\",'CF4 TestsPhys'!I43)","v":""},{"$f":"IF('CF4 TestsPhys'!J43=\"\",\"\",'CF4 TestsPhys'!J43)","v":""},{"$f":"IF('CF4 TestsPhys'!K43=\"\",\"\",'CF4 TestsPhys'!K43)","v":""},{"$f":"IF('CF4 TestsPhys'!L43=\"\",\"\",'CF4 TestsPhys'!L43)","v":""},{"$f":"IF('CF4 TestsPhys'!M43=\"\",\"\",'CF4 TestsPhys'!M43)","v":""},{"$f":"IF('CF4 TestsPhys'!N43=\"\",\"\",'CF4 TestsPhys'!N43)","v":""},{"$f":"IF('CF4 TestsPhys'!O43=\"\",\"\",'CF4 TestsPhys'!O43)","v":""},{"$f":"IF('CF4 TestsPhys'!P43=\"\",\"\",'CF4 TestsPhys'!P43)","v":""},{"$f":"IF('CF4 TestsPhys'!Q43=\"\",\"\",'CF4 TestsPhys'!Q43)","v":""},{"$f":"IF('CF4 TestsPhys'!R43=\"\",\"\",'CF4 TestsPhys'!R43)","v":""},{"$f":"IF('CF4 TestsPhys'!S43=\"\",\"\",'CF4 TestsPhys'!S43)","v":""},{"$f":"IF('CF4 TestsPhys'!T43=\"\",\"\",'CF4 TestsPhys'!T43)","v":""},{"$f":"IF('CF4 TestsPhys'!U43=\"\",\"\",'CF4 TestsPhys'!U43)","v":""},{"$f":"IF('CF4 TestsPhys'!V43=\"\",\"\",'CF4 TestsPhys'!V43)","v":""},{"$f":"IF('CF4 TestsPhys'!W43=\"\",\"\",'CF4 TestsPhys'!W43)","v":""},{"$f":"IF('CF4 TestsPhys'!X43=\"\",\"\",'CF4 TestsPhys'!X43)","v":""},{"$f":"IF('CF4 TestsPhys'!Y43=\"\",\"\",'CF4 TestsPhys'!Y43)","v":""},{"$f":"IF('CF4 TestsPhys'!Z43=\"\",\"\",'CF4 TestsPhys'!Z43)","v":""},{"$f":"IF('CF4 TestsPhys'!AA43=\"\",\"\",'CF4 TestsPhys'!AA43)","v":""},{"$f":"IF('CF4 TestsPhys'!AB43=\"\",\"\",'CF4 TestsPhys'!AB43)","v":""},{"$f":"IF('CF4 TestsPhys'!AC43=\"\",\"\",'CF4 TestsPhys'!AC43)","v":""}]
[{"$f":"IF('CF4 TestsPhys'!B44=\"\",\"\",'CF4 TestsPhys'!B44)","v":""},{"$f":"IF('CF4 TestsPhys'!D44=\"\",\"\",'CF4 TestsPhys'!D44)","v":""},{"$f":"IF('CF4 TestsPhys'!E44=\"\",\"\",'CF4 TestsPhys'!E44)","v":""},{"$f":"IF('CF4 TestsPhys'!F44=\"\",\"\",'CF4 TestsPhys'!F44)","v":""},{"$f":"IF('CF4 TestsPhys'!G44=\"\",\"\",'CF4 TestsPhys'!G44)","v":""},{"$f":"IF('CF4 TestsPhys'!H44=\"\",\"\",'CF4 TestsPhys'!H44)","v":""},{"$f":"IF('CF4 TestsPhys'!I44=\"\",\"\",'CF4 TestsPhys'!I44)","v":""},{"$f":"IF('CF4 TestsPhys'!J44=\"\",\"\",'CF4 TestsPhys'!J44)","v":""},{"$f":"IF('CF4 TestsPhys'!K44=\"\",\"\",'CF4 TestsPhys'!K44)","v":""},{"$f":"IF('CF4 TestsPhys'!L44=\"\",\"\",'CF4 TestsPhys'!L44)","v":""},{"$f":"IF('CF4 TestsPhys'!M44=\"\",\"\",'CF4 TestsPhys'!M44)","v":""},{"$f":"IF('CF4 TestsPhys'!N44=\"\",\"\",'CF4 TestsPhys'!N44)","v":""},{"$f":"IF('CF4 TestsPhys'!O44=\"\",\"\",'CF4 TestsPhys'!O44)","v":""},{"$f":"IF('CF4 TestsPhys'!P44=\"\",\"\",'CF4 TestsPhys'!P44)","v":""},{"$f":"IF('CF4 TestsPhys'!Q44=\"\",\"\",'CF4 TestsPhys'!Q44)","v":""},{"$f":"IF('CF4 TestsPhys'!R44=\"\",\"\",'CF4 TestsPhys'!R44)","v":""},{"$f":"IF('CF4 TestsPhys'!S44=\"\",\"\",'CF4 TestsPhys'!S44)","v":""},{"$f":"IF('CF4 TestsPhys'!T44=\"\",\"\",'CF4 TestsPhys'!T44)","v":""},{"$f":"IF('CF4 TestsPhys'!U44=\"\",\"\",'CF4 TestsPhys'!U44)","v":""},{"$f":"IF('CF4 TestsPhys'!V44=\"\",\"\",'CF4 TestsPhys'!V44)","v":""},{"$f":"IF('CF4 TestsPhys'!W44=\"\",\"\",'CF4 TestsPhys'!W44)","v":""},{"$f":"IF('CF4 TestsPhys'!X44=\"\",\"\",'CF4 TestsPhys'!X44)","v":""},{"$f":"IF('CF4 TestsPhys'!Y44=\"\",\"\",'CF4 TestsPhys'!Y44)","v":""},{"$f":"IF('CF4 TestsPhys'!Z44=\"\",\"\",'CF4 TestsPhys'!Z44)","v":""},{"$f":"IF('CF4 TestsPhys'!AA44=\"\",\"\",'CF4 TestsPhys'!AA44)","v":""},{"$f":"IF('CF4 TestsPhys'!AB44=\"\",\"\",'CF4 TestsPhys'!AB44)","v":""},{"$f":"IF('CF4 TestsPhys'!AC44=\"\",\"\",'CF4 TestsPhys'!AC44)","v":""}]
[{"$f":"IF('CF4 TestsPhys'!B45=\"\",\"\",'CF4 TestsPhys'!B45)","v":""},{"$f":"IF('CF4 TestsPhys'!D45=\"\",\"\",'CF4 TestsPhys'!D45)","v":""},{"$f":"IF('CF4 TestsPhys'!E45=\"\",\"\",'CF4 TestsPhys'!E45)","v":""},{"$f":"IF('CF4 TestsPhys'!F45=\"\",\"\",'CF4 TestsPhys'!F45)","v":""},{"$f":"IF('CF4 TestsPhys'!G45=\"\",\"\",'CF4 TestsPhys'!G45)","v":""},{"$f":"IF('CF4 TestsPhys'!H45=\"\",\"\",'CF4 TestsPhys'!H45)","v":""},{"$f":"IF('CF4 TestsPhys'!I45=\"\",\"\",'CF4 TestsPhys'!I45)","v":""},{"$f":"IF('CF4 TestsPhys'!J45=\"\",\"\",'CF4 TestsPhys'!J45)","v":""},{"$f":"IF('CF4 TestsPhys'!K45=\"\",\"\",'CF4 TestsPhys'!K45)","v":""},{"$f":"IF('CF4 TestsPhys'!L45=\"\",\"\",'CF4 TestsPhys'!L45)","v":""},{"$f":"IF('CF4 TestsPhys'!M45=\"\",\"\",'CF4 TestsPhys'!M45)","v":""},{"$f":"IF('CF4 TestsPhys'!N45=\"\",\"\",'CF4 TestsPhys'!N45)","v":""},{"$f":"IF('CF4 TestsPhys'!O45=\"\",\"\",'CF4 TestsPhys'!O45)","v":""},{"$f":"IF('CF4 TestsPhys'!P45=\"\",\"\",'CF4 TestsPhys'!P45)","v":""},{"$f":"IF('CF4 TestsPhys'!Q45=\"\",\"\",'CF4 TestsPhys'!Q45)","v":""},{"$f":"IF('CF4 TestsPhys'!R45=\"\",\"\",'CF4 TestsPhys'!R45)","v":""},{"$f":"IF('CF4 TestsPhys'!S45=\"\",\"\",'CF4 TestsPhys'!S45)","v":""},{"$f":"IF('CF4 TestsPhys'!T45=\"\",\"\",'CF4 TestsPhys'!T45)","v":""},{"$f":"IF('CF4 TestsPhys'!U45=\"\",\"\",'CF4 TestsPhys'!U45)","v":""},{"$f":"IF('CF4 TestsPhys'!V45=\"\",\"\",'CF4 TestsPhys'!V45)","v":""},{"$f":"IF('CF4 TestsPhys'!W45=\"\",\"\",'CF4 TestsPhys'!W45)","v":""},{"$f":"IF('CF4 TestsPhys'!X45=\"\",\"\",'CF4 TestsPhys'!X45)","v":""},{"$f":"IF('CF4 TestsPhys'!Y45=\"\",\"\",'CF4 TestsPhys'!Y45)","v":""},{"$f":"IF('CF4 TestsPhys'!Z45=\"\",\"\",'CF4 TestsPhys'!Z45)","v":""},{"$f":"IF('CF4 TestsPhys'!AA45=\"\",\"\",'CF4 TestsPhys'!AA45)","v":""},{"$f":"IF('CF4 TestsPhys'!AB45=\"\",\"\",'CF4 TestsPhys'!AB45)","v":""},{"$f":"IF('CF4 TestsPhys'!AC45=\"\",\"\",'CF4 TestsPhys'!AC45)","v":""}]
[{"$f":"IF('CF4 TestsPhys'!B46=\"\",\"\",'CF4 TestsPhys'!B46)","v":""},{"$f":"IF('CF4 TestsPhys'!D46=\"\",\"\",'CF4 TestsPhys'!D46)","v":""},{"$f":"IF('CF4 TestsPhys'!E46=\"\",\"\",'CF4 TestsPhys'!E46)","v":""},{"$f":"IF('CF4 TestsPhys'!F46=\"\",\"\",'CF4 TestsPhys'!F46)","v":""},{"$f":"IF('CF4 TestsPhys'!G46=\"\",\"\",'CF4 TestsPhys'!G46)","v":""},{"$f":"IF('CF4 TestsPhys'!H46=\"\",\"\",'CF4 TestsPhys'!H46)","v":""},{"$f":"IF('CF4 TestsPhys'!I46=\"\",\"\",'CF4 TestsPhys'!I46)","v":""},{"$f":"IF('CF4 TestsPhys'!J46=\"\",\"\",'CF4 TestsPhys'!J46)","v":""},{"$f":"IF('CF4 TestsPhys'!K46=\"\",\"\",'CF4 TestsPhys'!K46)","v":""},{"$f":"IF('CF4 TestsPhys'!L46=\"\",\"\",'CF4 TestsPhys'!L46)","v":""},{"$f":"IF('CF4 TestsPhys'!M46=\"\",\"\",'CF4 TestsPhys'!M46)","v":""},{"$f":"IF('CF4 TestsPhys'!N46=\"\",\"\",'CF4 TestsPhys'!N46)","v":""},{"$f":"IF('CF4 TestsPhys'!O46=\"\",\"\",'CF4 TestsPhys'!O46)","v":""},{"$f":"IF('CF4 TestsPhys'!P46=\"\",\"\",'CF4 TestsPhys'!P46)","v":""},{"$f":"IF('CF4 TestsPhys'!Q46=\"\",\"\",'CF4 TestsPhys'!Q46)","v":""},{"$f":"IF('CF4 TestsPhys'!R46=\"\",\"\",'CF4 TestsPhys'!R46)","v":""},{"$f":"IF('CF4 TestsPhys'!S46=\"\",\"\",'CF4 TestsPhys'!S46)","v":""},{"$f":"IF('CF4 TestsPhys'!T46=\"\",\"\",'CF4 TestsPhys'!T46)","v":""},{"$f":"IF('CF4 TestsPhys'!U46=\"\",\"\",'CF4 TestsPhys'!U46)","v":""},{"$f":"IF('CF4 TestsPhys'!V46=\"\",\"\",'CF4 TestsPhys'!V46)","v":""},{"$f":"IF('CF4 TestsPhys'!W46=\"\",\"\",'CF4 TestsPhys'!W46)","v":""},{"$f":"IF('CF4 TestsPhys'!X46=\"\",\"\",'CF4 TestsPhys'!X46)","v":""},{"$f":"IF('CF4 TestsPhys'!Y46=\"\",\"\",'CF4 TestsPhys'!Y46)","v":""},{"$f":"IF('CF4 TestsPhys'!Z46=\"\",\"\",'CF4 TestsPhys'!Z46)","v":""},{"$f":"IF('CF4 TestsPhys'!AA46=\"\",\"\",'CF4 TestsPhys'!AA46)","v":""},{"$f":"IF('CF4 TestsPhys'!AB46=\"\",\"\",'CF4 TestsPhys'!AB46)","v":""},{"$f":"IF('CF4 TestsPhys'!AC46=\"\",\"\",'CF4 TestsPhys'!AC46)","v":""}]
[{"$f":"IF('CF4 TestsPhys'!B47=\"\",\"\",'CF4 TestsPhys'!B47)","v":""},{"$f":"IF('CF4 TestsPhys'!D47=\"\",\"\",'CF4 TestsPhys'!D47)","v":""},{"$f":"IF('CF4 TestsPhys'!E47=\"\",\"\",'CF4 TestsPhys'!E47)","v":""},{"$f":"IF('CF4 TestsPhys'!F47=\"\",\"\",'CF4 TestsPhys'!F47)","v":""},{"$f":"IF('CF4 TestsPhys'!G47=\"\",\"\",'CF4 TestsPhys'!G47)","v":""},{"$f":"IF('CF4 TestsPhys'!H47=\"\",\"\",'CF4 TestsPhys'!H47)","v":""},{"$f":"IF('CF4 TestsPhys'!I47=\"\",\"\",'CF4 TestsPhys'!I47)","v":""},{"$f":"IF('CF4 TestsPhys'!J47=\"\",\"\",'CF4 TestsPhys'!J47)","v":""},{"$f":"IF('CF4 TestsPhys'!K47=\"\",\"\",'CF4 TestsPhys'!K47)","v":""},{"$f":"IF('CF4 TestsPhys'!L47=\"\",\"\",'CF4 TestsPhys'!L47)","v":""},{"$f":"IF('CF4 TestsPhys'!M47=\"\",\"\",'CF4 TestsPhys'!M47)","v":""},{"$f":"IF('CF4 TestsPhys'!N47=\"\",\"\",'CF4 TestsPhys'!N47)","v":""},{"$f":"IF('CF4 TestsPhys'!O47=\"\",\"\",'CF4 TestsPhys'!O47)","v":""},{"$f":"IF('CF4 TestsPhys'!P47=\"\",\"\",'CF4 TestsPhys'!P47)","v":""},{"$f":"IF('CF4 TestsPhys'!Q47=\"\",\"\",'CF4 TestsPhys'!Q47)","v":""},{"$f":"IF('CF4 TestsPhys'!R47=\"\",\"\",'CF4 TestsPhys'!R47)","v":""},{"$f":"IF('CF4 TestsPhys'!S47=\"\",\"\",'CF4 TestsPhys'!S47)","v":""},{"$f":"IF('CF4 TestsPhys'!T47=\"\",\"\",'CF4 TestsPhys'!T47)","v":""},{"$f":"IF('CF4 TestsPhys'!U47=\"\",\"\",'CF4 TestsPhys'!U47)","v":""},{"$f":"IF('CF4 TestsPhys'!V47=\"\",\"\",'CF4 TestsPhys'!V47)","v":""},{"$f":"IF('CF4 TestsPhys'!W47=\"\",\"\",'CF4 TestsPhys'!W47)","v":""},{"$f":"IF('CF4 TestsPhys'!X47=\"\",\"\",'CF4 TestsPhys'!X47)","v":""},{"$f":"IF('CF4 TestsPhys'!Y47=\"\",\"\",'CF4 TestsPhys'!Y47)","v":""},{"$f":"IF('CF4 TestsPhys'!Z47=\"\",\"\",'CF4 TestsPhys'!Z47)","v":""},{"$f":"IF('CF4 TestsPhys'!AA47=\"\",\"\",'CF4 TestsPhys'!AA47)","v":""},{"$f":"IF('CF4 TestsPhys'!AB47=\"\",\"\",'CF4 TestsPhys'!AB47)","v":""},{"$f":"IF('CF4 TestsPhys'!AC47=\"\",\"\",'CF4 TestsPhys'!AC47)","v":""}]
[{"$f":"IF('CF4 TestsPhys'!B48=\"\",\"\",'CF4 TestsPhys'!B48)","v":""},{"$f":"IF('CF4 TestsPhys'!D48=\"\",\"\",'CF4 TestsPhys'!D48)","v":""},{"$f":"IF('CF4 TestsPhys'!E48=\"\",\"\",'CF4 TestsPhys'!E48)","v":""},{"$f":"IF('CF4 TestsPhys'!F48=\"\",\"\",'CF4 TestsPhys'!F48)","v":""},{"$f":"IF('CF4 TestsPhys'!G48=\"\",\"\",'CF4 TestsPhys'!G48)","v":""},{"$f":"IF('CF4 TestsPhys'!H48=\"\",\"\",'CF4 TestsPhys'!H48)","v":""},{"$f":"IF('CF4 TestsPhys'!I48=\"\",\"\",'CF4 TestsPhys'!I48)","v":""},{"$f":"IF('CF4 TestsPhys'!J48=\"\",\"\",'CF4 TestsPhys'!J48)","v":""},{"$f":"IF('CF4 TestsPhys'!K48=\"\",\"\",'CF4 TestsPhys'!K48)","v":""},{"$f":"IF('CF4 TestsPhys'!L48=\"\",\"\",'CF4 TestsPhys'!L48)","v":""},{"$f":"IF('CF4 TestsPhys'!M48=\"\",\"\",'CF4 TestsPhys'!M48)","v":""},{"$f":"IF('CF4 TestsPhys'!N48=\"\",\"\",'CF4 TestsPhys'!N48)","v":""},{"$f":"IF('CF4 TestsPhys'!O48=\"\",\"\",'CF4 TestsPhys'!O48)","v":""},{"$f":"IF('CF4 TestsPhys'!P48=\"\",\"\",'CF4 TestsPhys'!P48)","v":""},{"$f":"IF('CF4 TestsPhys'!Q48=\"\",\"\",'CF4 TestsPhys'!Q48)","v":""},{"$f":"IF('CF4 TestsPhys'!R48=\"\",\"\",'CF4 TestsPhys'!R48)","v":""},{"$f":"IF('CF4 TestsPhys'!S48=\"\",\"\",'CF4 TestsPhys'!S48)","v":""},{"$f":"IF('CF4 TestsPhys'!T48=\"\",\"\",'CF4 TestsPhys'!T48)","v":""},{"$f":"IF('CF4 TestsPhys'!U48=\"\",\"\",'CF4 TestsPhys'!U48)","v":""},{"$f":"IF('CF4 TestsPhys'!V48=\"\",\"\",'CF4 TestsPhys'!V48)","v":""},{"$f":"IF('CF4 TestsPhys'!W48=\"\",\"\",'CF4 TestsPhys'!W48)","v":""},{"$f":"IF('CF4 TestsPhys'!X48=\"\",\"\",'CF4 TestsPhys'!X48)","v":""},{"$f":"IF('CF4 TestsPhys'!Y48=\"\",\"\",'CF4 TestsPhys'!Y48)","v":""},{"$f":"IF('CF4 TestsPhys'!Z48=\"\",\"\",'CF4 TestsPhys'!Z48)","v":""},{"$f":"IF('CF4 TestsPhys'!AA48=\"\",\"\",'CF4 TestsPhys'!AA48)","v":""},{"$f":"IF('CF4 TestsPhys'!AB48=\"\",\"\",'CF4 TestsPhys'!AB48)","v":""},{"$f":"IF('CF4 TestsPhys'!AC48=\"\",\"\",'CF4 TestsPhys'!AC48)","v":""}]
[{"$f":"IF('CF4 TestsPhys'!B49=\"\",\"\",'CF4 TestsPhys'!B49)","v":""},{"$f":"IF('CF4 TestsPhys'!D49=\"\",\"\",'CF4 TestsPhys'!D49)","v":""},{"$f":"IF('CF4 TestsPhys'!E49=\"\",\"\",'CF4 TestsPhys'!E49)","v":""},{"$f":"IF('CF4 TestsPhys'!F49=\"\",\"\",'CF4 TestsPhys'!F49)","v":""},{"$f":"IF('CF4 TestsPhys'!G49=\"\",\"\",'CF4 TestsPhys'!G49)","v":""},{"$f":"IF('CF4 TestsPhys'!H49=\"\",\"\",'CF4 TestsPhys'!H49)","v":""},{"$f":"IF('CF4 TestsPhys'!I49=\"\",\"\",'CF4 TestsPhys'!I49)","v":""},{"$f":"IF('CF4 TestsPhys'!J49=\"\",\"\",'CF4 TestsPhys'!J49)","v":""},{"$f":"IF('CF4 TestsPhys'!K49=\"\",\"\",'CF4 TestsPhys'!K49)","v":""},{"$f":"IF('CF4 TestsPhys'!L49=\"\",\"\",'CF4 TestsPhys'!L49)","v":""},{"$f":"IF('CF4 TestsPhys'!M49=\"\",\"\",'CF4 TestsPhys'!M49)","v":""},{"$f":"IF('CF4 TestsPhys'!N49=\"\",\"\",'CF4 TestsPhys'!N49)","v":""},{"$f":"IF('CF4 TestsPhys'!O49=\"\",\"\",'CF4 TestsPhys'!O49)","v":""},{"$f":"IF('CF4 TestsPhys'!P49=\"\",\"\",'CF4 TestsPhys'!P49)","v":""},{"$f":"IF('CF4 TestsPhys'!Q49=\"\",\"\",'CF4 TestsPhys'!Q49)","v":""},{"$f":"IF('CF4 TestsPhys'!R49=\"\",\"\",'CF4 TestsPhys'!R49)","v":""},{"$f":"IF('CF4 TestsPhys'!S49=\"\",\"\",'CF4 TestsPhys'!S49)","v":""},{"$f":"IF('CF4 TestsPhys'!T49=\"\",\"\",'CF4 TestsPhys'!T49)","v":""},{"$f":"IF('CF4 TestsPhys'!U49=\"\",\"\",'CF4 TestsPhys'!U49)","v":""},{"$f":"IF('CF4 TestsPhys'!V49=\"\",\"\",'CF4 TestsPhys'!V49)","v":""},{"$f":"IF('CF4 TestsPhys'!W49=\"\",\"\",'CF4 TestsPhys'!W49)","v":""},{"$f":"IF('CF4 TestsPhys'!X49=\"\",\"\",'CF4 TestsPhys'!X49)","v":""},{"$f":"IF('CF4 TestsPhys'!Y49=\"\",\"\",'CF4 TestsPhys'!Y49)","v":""},{"$f":"IF('CF4 TestsPhys'!Z49=\"\",\"\",'CF4 TestsPhys'!Z49)","v":""},{"$f":"IF('CF4 TestsPhys'!AA49=\"\",\"\",'CF4 TestsPhys'!AA49)","v":""},{"$f":"IF('CF4 TestsPhys'!AB49=\"\",\"\",'CF4 TestsPhys'!AB49)","v":""},{"$f":"IF('CF4 TestsPhys'!AC49=\"\",\"\",'CF4 TestsPhys'!AC49)","v":""}]
[{"$f":"IF('CF4 TestsPhys'!B50=\"\",\"\",'CF4 TestsPhys'!B50)","v":""},{"$f":"IF('CF4 TestsPhys'!D50=\"\",\"\",'CF4 TestsPhys'!D50)","v":""},{"$f":"IF('CF4 TestsPhys'!E50=\"\",\"\",'CF4 TestsPhys'!E50)","v":""},{"$f":"IF('CF4 TestsPhys'!F50=\"\",\"\",'CF4 TestsPhys'!F50)","v":""},{"$f":"IF('CF4 TestsPhys'!G50=\"\",\"\",'CF4 TestsPhys'!G50)","v":""},{"$f":"IF('CF4 TestsPhys'!H50=\"\",\"\",'CF4 TestsPhys'!H50)","v":""},{"$f":"IF('CF4 TestsPhys'!I50=\"\",\"\",'CF4 TestsPhys'!I50)","v":""},{"$f":"IF('CF4 TestsPhys'!J50=\"\",\"\",'CF4 TestsPhys'!J50)","v":""},{"$f":"IF('CF4 TestsPhys'!K50=\"\",\"\",'CF4 TestsPhys'!K50)","v":""},{"$f":"IF('CF4 TestsPhys'!L50=\"\",\"\",'CF4 TestsPhys'!L50)","v":""},{"$f":"IF('CF4 TestsPhys'!M50=\"\",\"\",'CF4 TestsPhys'!M50)","v":""},{"$f":"IF('CF4 TestsPhys'!N50=\"\",\"\",'CF4 TestsPhys'!N50)","v":""},{"$f":"IF('CF4 TestsPhys'!O50=\"\",\"\",'CF4 TestsPhys'!O50)","v":""},{"$f":"IF('CF4 TestsPhys'!P50=\"\",\"\",'CF4 TestsPhys'!P50)","v":""},{"$f":"IF('CF4 TestsPhys'!Q50=\"\",\"\",'CF4 TestsPhys'!Q50)","v":""},{"$f":"IF('CF4 TestsPhys'!R50=\"\",\"\",'CF4 TestsPhys'!R50)","v":""},{"$f":"IF('CF4 TestsPhys'!S50=\"\",\"\",'CF4 TestsPhys'!S50)","v":""},{"$f":"IF('CF4 TestsPhys'!T50=\"\",\"\",'CF4 TestsPhys'!T50)","v":""},{"$f":"IF('CF4 TestsPhys'!U50=\"\",\"\",'CF4 TestsPhys'!U50)","v":""},{"$f":"IF('CF4 TestsPhys'!V50=\"\",\"\",'CF4 TestsPhys'!V50)","v":""},{"$f":"IF('CF4 TestsPhys'!W50=\"\",\"\",'CF4 TestsPhys'!W50)","v":""},{"$f":"IF('CF4 TestsPhys'!X50=\"\",\"\",'CF4 TestsPhys'!X50)","v":""},{"$f":"IF('CF4 TestsPhys'!Y50=\"\",\"\",'CF4 TestsPhys'!Y50)","v":""},{"$f":"IF('CF4 TestsPhys'!Z50=\"\",\"\",'CF4 TestsPhys'!Z50)","v":""},{"$f":"IF('CF4 TestsPhys'!AA50=\"\",\"\",'CF4 TestsPhys'!AA50)","v":""},{"$f":"IF('CF4 TestsPhys'!AB50=\"\",\"\",'CF4 TestsPhys'!AB50)","v":""},{"$f":"IF('CF4 TestsPhys'!AC50=\"\",\"\",'CF4 TestsPhys'!AC50)","v":""}]
[{"$f":"IF('CF4 TestsPhys'!B51=\"\",\"\",'CF4 TestsPhys'!B51)","v":""},{"$f":"IF('CF4 TestsPhys'!D51=\"\",\"\",'CF4 TestsPhys'!D51)","v":""},{"$f":"IF('CF4 TestsPhys'!E51=\"\",\"\",'CF4 TestsPhys'!E51)","v":""},{"$f":"IF('CF4 TestsPhys'!F51=\"\",\"\",'CF4 TestsPhys'!F51)","v":""},{"$f":"IF('CF4 TestsPhys'!G51=\"\",\"\",'CF4 TestsPhys'!G51)","v":""},{"$f":"IF('CF4 TestsPhys'!H51=\"\",\"\",'CF4 TestsPhys'!H51)","v":""},{"$f":"IF('CF4 TestsPhys'!I51=\"\",\"\",'CF4 TestsPhys'!I51)","v":""},{"$f":"IF('CF4 TestsPhys'!J51=\"\",\"\",'CF4 TestsPhys'!J51)","v":""},{"$f":"IF('CF4 TestsPhys'!K51=\"\",\"\",'CF4 TestsPhys'!K51)","v":""},{"$f":"IF('CF4 TestsPhys'!L51=\"\",\"\",'CF4 TestsPhys'!L51)","v":""},{"$f":"IF('CF4 TestsPhys'!M51=\"\",\"\",'CF4 TestsPhys'!M51)","v":""},{"$f":"IF('CF4 TestsPhys'!N51=\"\",\"\",'CF4 TestsPhys'!N51)","v":""},{"$f":"IF('CF4 TestsPhys'!O51=\"\",\"\",'CF4 TestsPhys'!O51)","v":""},{"$f":"IF('CF4 TestsPhys'!P51=\"\",\"\",'CF4 TestsPhys'!P51)","v":""},{"$f":"IF('CF4 TestsPhys'!Q51=\"\",\"\",'CF4 TestsPhys'!Q51)","v":""},{"$f":"IF('CF4 TestsPhys'!R51=\"\",\"\",'CF4 TestsPhys'!R51)","v":""},{"$f":"IF('CF4 TestsPhys'!S51=\"\",\"\",'CF4 TestsPhys'!S51)","v":""},{"$f":"IF('CF4 TestsPhys'!T51=\"\",\"\",'CF4 TestsPhys'!T51)","v":""},{"$f":"IF('CF4 TestsPhys'!U51=\"\",\"\",'CF4 TestsPhys'!U51)","v":""},{"$f":"IF('CF4 TestsPhys'!V51=\"\",\"\",'CF4 TestsPhys'!V51)","v":""},{"$f":"IF('CF4 TestsPhys'!W51=\"\",\"\",'CF4 TestsPhys'!W51)","v":""},{"$f":"IF('CF4 TestsPhys'!X51=\"\",\"\",'CF4 TestsPhys'!X51)","v":""},{"$f":"IF('CF4 TestsPhys'!Y51=\"\",\"\",'CF4 TestsPhys'!Y51)","v":""},{"$f":"IF('CF4 TestsPhys'!Z51=\"\",\"\",'CF4 TestsPhys'!Z51)","v":""},{"$f":"IF('CF4 TestsPhys'!AA51=\"\",\"\",'CF4 TestsPhys'!AA51)","v":""},{"$f":"IF('CF4 TestsPhys'!AB51=\"\",\"\",'CF4 TestsPhys'!AB51)","v":""},{"$f":"IF('CF4 TestsPhys'!AC51=\"\",\"\",'CF4 TestsPhys'!AC51)","v":""}]
[{"$f":"IF('CF4 TestsPhys'!B52=\"\",\"\",'CF4 TestsPhys'!B52)","v":""},{"$f":"IF('CF4 TestsPhys'!D52=\"\",\"\",'CF4 TestsPhys'!D52)","v":""},{"$f":"IF('CF4 TestsPhys'!E52=\"\",\"\",'CF4 TestsPhys'!E52)","v":""},{"$f":"IF('CF4 TestsPhys'!F52=\"\",\"\",'CF4 TestsPhys'!F52)","v":""},{"$f":"IF('CF4 TestsPhys'!G52=\"\",\"\",'CF4 TestsPhys'!G52)","v":""},{"$f":"IF('CF4 TestsPhys'!H52=\"\",\"\",'CF4 TestsPhys'!H52)","v":""},{"$f":"IF('CF4 TestsPhys'!I52=\"\",\"\",'CF4 TestsPhys'!I52)","v":""},{"$f":"IF('CF4 TestsPhys'!J52=\"\",\"\",'CF4 TestsPhys'!J52)","v":""},{"$f":"IF('CF4 TestsPhys'!K52=\"\",\"\",'CF4 TestsPhys'!K52)","v":""},{"$f":"IF('CF4 TestsPhys'!L52=\"\",\"\",'CF4 TestsPhys'!L52)","v":""},{"$f":"IF('CF4 TestsPhys'!M52=\"\",\"\",'CF4 TestsPhys'!M52)","v":""},{"$f":"IF('CF4 TestsPhys'!N52=\"\",\"\",'CF4 TestsPhys'!N52)","v":""},{"$f":"IF('CF4 TestsPhys'!O52=\"\",\"\",'CF4 TestsPhys'!O52)","v":""},{"$f":"IF('CF4 TestsPhys'!P52=\"\",\"\",'CF4 TestsPhys'!P52)","v":""},{"$f":"IF('CF4 TestsPhys'!Q52=\"\",\"\",'CF4 TestsPhys'!Q52)","v":""},{"$f":"IF('CF4 TestsPhys'!R52=\"\",\"\",'CF4 TestsPhys'!R52)","v":""},{"$f":"IF('CF4 TestsPhys'!S52=\"\",\"\",'CF4 TestsPhys'!S52)","v":""},{"$f":"IF('CF4 TestsPhys'!T52=\"\",\"\",'CF4 TestsPhys'!T52)","v":""},{"$f":"IF('CF4 TestsPhys'!U52=\"\",\"\",'CF4 TestsPhys'!U52)","v":""},{"$f":"IF('CF4 TestsPhys'!V52=\"\",\"\",'CF4 TestsPhys'!V52)","v":""},{"$f":"IF('CF4 TestsPhys'!W52=\"\",\"\",'CF4 TestsPhys'!W52)","v":""},{"$f":"IF('CF4 TestsPhys'!X52=\"\",\"\",'CF4 TestsPhys'!X52)","v":""},{"$f":"IF('CF4 TestsPhys'!Y52=\"\",\"\",'CF4 TestsPhys'!Y52)","v":""},{"$f":"IF('CF4 TestsPhys'!Z52=\"\",\"\",'CF4 TestsPhys'!Z52)","v":""},{"$f":"IF('CF4 TestsPhys'!AA52=\"\",\"\",'CF4 TestsPhys'!AA52)","v":""},{"$f":"IF('CF4 TestsPhys'!AB52=\"\",\"\",'CF4 TestsPhys'!AB52)","v":""},{"$f":"IF('CF4 TestsPhys'!AC52=\"\",\"\",'CF4 TestsPhys'!AC52)","v":""}]
[{"$f":"IF('CF4 TestsPhys'!B53=\"\",\"\",'CF4 TestsPhys'!B53)","v":""},{"$f":"IF('CF4 TestsPhys'!D53=\"\",\"\",'CF4 TestsPhys'!D53)","v":""},{"$f":"IF('CF4 TestsPhys'!E53=\"\",\"\",'CF4 TestsPhys'!E53)","v":""},{"$f":"IF('CF4 TestsPhys'!F53=\"\",\"\",'CF4 TestsPhys'!F53)","v":""},{"$f":"IF('CF4 TestsPhys'!G53=\"\",\"\",'CF4 TestsPhys'!G53)","v":""},{"$f":"IF('CF4 TestsPhys'!H53=\"\",\"\",'CF4 TestsPhys'!H53)","v":""},{"$f":"IF('CF4 TestsPhys'!I53=\"\",\"\",'CF4 TestsPhys'!I53)","v":""},{"$f":"IF('CF4 TestsPhys'!J53=\"\",\"\",'CF4 TestsPhys'!J53)","v":""},{"$f":"IF('CF4 TestsPhys'!K53=\"\",\"\",'CF4 TestsPhys'!K53)","v":""},{"$f":"IF('CF4 TestsPhys'!L53=\"\",\"\",'CF4 TestsPhys'!L53)","v":""},{"$f":"IF('CF4 TestsPhys'!M53=\"\",\"\",'CF4 TestsPhys'!M53)","v":""},{"$f":"IF('CF4 TestsPhys'!N53=\"\",\"\",'CF4 TestsPhys'!N53)","v":""},{"$f":"IF('CF4 TestsPhys'!O53=\"\",\"\",'CF4 TestsPhys'!O53)","v":""},{"$f":"IF('CF4 TestsPhys'!P53=\"\",\"\",'CF4 TestsPhys'!P53)","v":""},{"$f":"IF('CF4 TestsPhys'!Q53=\"\",\"\",'CF4 TestsPhys'!Q53)","v":""},{"$f":"IF('CF4 TestsPhys'!R53=\"\",\"\",'CF4 TestsPhys'!R53)","v":""},{"$f":"IF('CF4 TestsPhys'!S53=\"\",\"\",'CF4 TestsPhys'!S53)","v":""},{"$f":"IF('CF4 TestsPhys'!T53=\"\",\"\",'CF4 TestsPhys'!T53)","v":""},{"$f":"IF('CF4 TestsPhys'!U53=\"\",\"\",'CF4 TestsPhys'!U53)","v":""},{"$f":"IF('CF4 TestsPhys'!V53=\"\",\"\",'CF4 TestsPhys'!V53)","v":""},{"$f":"IF('CF4 TestsPhys'!W53=\"\",\"\",'CF4 TestsPhys'!W53)","v":""},{"$f":"IF('CF4 TestsPhys'!X53=\"\",\"\",'CF4 TestsPhys'!X53)","v":""},{"$f":"IF('CF4 TestsPhys'!Y53=\"\",\"\",'CF4 TestsPhys'!Y53)","v":""},{"$f":"IF('CF4 TestsPhys'!Z53=\"\",\"\",'CF4 TestsPhys'!Z53)","v":""},{"$f":"IF('CF4 TestsPhys'!AA53=\"\",\"\",'CF4 TestsPhys'!AA53)","v":""},{"$f":"IF('CF4 TestsPhys'!AB53=\"\",\"\",'CF4 TestsPhys'!AB53)","v":""},{"$f":"IF('CF4 TestsPhys'!AC53=\"\",\"\",'CF4 TestsPhys'!AC53)","v":""}]
[{"$f":"IF('CF4 TestsPhys'!B54=\"\",\"\",'CF4 TestsPhys'!B54)","v":""},{"$f":"IF('CF4 TestsPhys'!D54=\"\",\"\",'CF4 TestsPhys'!D54)","v":""},{"$f":"IF('CF4 TestsPhys'!E54=\"\",\"\",'CF4 TestsPhys'!E54)","v":""},{"$f":"IF('CF4 TestsPhys'!F54=\"\",\"\",'CF4 TestsPhys'!F54)","v":""},{"$f":"IF('CF4 TestsPhys'!G54=\"\",\"\",'CF4 TestsPhys'!G54)","v":""},{"$f":"IF('CF4 TestsPhys'!H54=\"\",\"\",'CF4 TestsPhys'!H54)","v":""},{"$f":"IF('CF4 TestsPhys'!I54=\"\",\"\",'CF4 TestsPhys'!I54)","v":""},{"$f":"IF('CF4 TestsPhys'!J54=\"\",\"\",'CF4 TestsPhys'!J54)","v":""},{"$f":"IF('CF4 TestsPhys'!K54=\"\",\"\",'CF4 TestsPhys'!K54)","v":""},{"$f":"IF('CF4 TestsPhys'!L54=\"\",\"\",'CF4 TestsPhys'!L54)","v":""},{"$f":"IF('CF4 TestsPhys'!M54=\"\",\"\",'CF4 TestsPhys'!M54)","v":""},{"$f":"IF('CF4 TestsPhys'!N54=\"\",\"\",'CF4 TestsPhys'!N54)","v":""},{"$f":"IF('CF4 TestsPhys'!O54=\"\",\"\",'CF4 TestsPhys'!O54)","v":""},{"$f":"IF('CF4 TestsPhys'!P54=\"\",\"\",'CF4 TestsPhys'!P54)","v":""},{"$f":"IF('CF4 TestsPhys'!Q54=\"\",\"\",'CF4 TestsPhys'!Q54)","v":""},{"$f":"IF('CF4 TestsPhys'!R54=\"\",\"\",'CF4 TestsPhys'!R54)","v":""},{"$f":"IF('CF4 TestsPhys'!S54=\"\",\"\",'CF4 TestsPhys'!S54)","v":""},{"$f":"IF('CF4 TestsPhys'!T54=\"\",\"\",'CF4 TestsPhys'!T54)","v":""},{"$f":"IF('CF4 TestsPhys'!U54=\"\",\"\",'CF4 TestsPhys'!U54)","v":""},{"$f":"IF('CF4 TestsPhys'!V54=\"\",\"\",'CF4 TestsPhys'!V54)","v":""},{"$f":"IF('CF4 TestsPhys'!W54=\"\",\"\",'CF4 TestsPhys'!W54)","v":""},{"$f":"IF('CF4 TestsPhys'!X54=\"\",\"\",'CF4 TestsPhys'!X54)","v":""},{"$f":"IF('CF4 TestsPhys'!Y54=\"\",\"\",'CF4 TestsPhys'!Y54)","v":""},{"$f":"IF('CF4 TestsPhys'!Z54=\"\",\"\",'CF4 TestsPhys'!Z54)","v":""},{"$f":"IF('CF4 TestsPhys'!AA54=\"\",\"\",'CF4 TestsPhys'!AA54)","v":""},{"$f":"IF('CF4 TestsPhys'!AB54=\"\",\"\",'CF4 TestsPhys'!AB54)","v":""},{"$f":"IF('CF4 TestsPhys'!AC54=\"\",\"\",'CF4 TestsPhys'!AC54)","v":""}]
[{"$f":"IF('CF4 TestsPhys'!B55=\"\",\"\",'CF4 TestsPhys'!B55)","v":""},{"$f":"IF('CF4 TestsPhys'!D55=\"\",\"\",'CF4 TestsPhys'!D55)","v":""},{"$f":"IF('CF4 TestsPhys'!E55=\"\",\"\",'CF4 TestsPhys'!E55)","v":""},{"$f":"IF('CF4 TestsPhys'!F55=\"\",\"\",'CF4 TestsPhys'!F55)","v":""},{"$f":"IF('CF4 TestsPhys'!G55=\"\",\"\",'CF4 TestsPhys'!G55)","v":""},{"$f":"IF('CF4 TestsPhys'!H55=\"\",\"\",'CF4 TestsPhys'!H55)","v":""},{"$f":"IF('CF4 TestsPhys'!I55=\"\",\"\",'CF4 TestsPhys'!I55)","v":""},{"$f":"IF('CF4 TestsPhys'!J55=\"\",\"\",'CF4 TestsPhys'!J55)","v":""},{"$f":"IF('CF4 TestsPhys'!K55=\"\",\"\",'CF4 TestsPhys'!K55)","v":""},{"$f":"IF('CF4 TestsPhys'!L55=\"\",\"\",'CF4 TestsPhys'!L55)","v":""},{"$f":"IF('CF4 TestsPhys'!M55=\"\",\"\",'CF4 TestsPhys'!M55)","v":""},{"$f":"IF('CF4 TestsPhys'!N55=\"\",\"\",'CF4 TestsPhys'!N55)","v":""},{"$f":"IF('CF4 TestsPhys'!O55=\"\",\"\",'CF4 TestsPhys'!O55)","v":""},{"$f":"IF('CF4 TestsPhys'!P55=\"\",\"\",'CF4 TestsPhys'!P55)","v":""},{"$f":"IF('CF4 TestsPhys'!Q55=\"\",\"\",'CF4 TestsPhys'!Q55)","v":""},{"$f":"IF('CF4 TestsPhys'!R55=\"\",\"\",'CF4 TestsPhys'!R55)","v":""},{"$f":"IF('CF4 TestsPhys'!S55=\"\",\"\",'CF4 TestsPhys'!S55)","v":""},{"$f":"IF('CF4 TestsPhys'!T55=\"\",\"\",'CF4 TestsPhys'!T55)","v":""},{"$f":"IF('CF4 TestsPhys'!U55=\"\",\"\",'CF4 TestsPhys'!U55)","v":""},{"$f":"IF('CF4 TestsPhys'!V55=\"\",\"\",'CF4 TestsPhys'!V55)","v":""},{"$f":"IF('CF4 TestsPhys'!W55=\"\",\"\",'CF4 TestsPhys'!W55)","v":""},{"$f":"IF('CF4 TestsPhys'!X55=\"\",\"\",'CF4 TestsPhys'!X55)","v":""},{"$f":"IF('CF4 TestsPhys'!Y55=\"\",\"\",'CF4 TestsPhys'!Y55)","v":""},{"$f":"IF('CF4 TestsPhys'!Z55=\"\",\"\",'CF4 TestsPhys'!Z55)","v":""},{"$f":"IF('CF4 TestsPhys'!AA55=\"\",\"\",'CF4 TestsPhys'!AA55)","v":""},{"$f":"IF('CF4 TestsPhys'!AB55=\"\",\"\",'CF4 TestsPhys'!AB55)","v":""},{"$f":"IF('CF4 TestsPhys'!AC55=\"\",\"\",'CF4 TestsPhys'!AC55)","v":""}]
[{"$f":"IF('CF4 TestsPhys'!B56=\"\",\"\",'CF4 TestsPhys'!B56)","v":""},{"$f":"IF('CF4 TestsPhys'!D56=\"\",\"\",'CF4 TestsPhys'!D56)","v":""},{"$f":"IF('CF4 TestsPhys'!E56=\"\",\"\",'CF4 TestsPhys'!E56)","v":""},{"$f":"IF('CF4 TestsPhys'!F56=\"\",\"\",'CF4 TestsPhys'!F56)","v":""},{"$f":"IF('CF4 TestsPhys'!G56=\"\",\"\",'CF4 TestsPhys'!G56)","v":""},{"$f":"IF('CF4 TestsPhys'!H56=\"\",\"\",'CF4 TestsPhys'!H56)","v":""},{"$f":"IF('CF4 TestsPhys'!I56=\"\",\"\",'CF4 TestsPhys'!I56)","v":""},{"$f":"IF('CF4 TestsPhys'!J56=\"\",\"\",'CF4 TestsPhys'!J56)","v":""},{"$f":"IF('CF4 TestsPhys'!K56=\"\",\"\",'CF4 TestsPhys'!K56)","v":""},{"$f":"IF('CF4 TestsPhys'!L56=\"\",\"\",'CF4 TestsPhys'!L56)","v":""},{"$f":"IF('CF4 TestsPhys'!M56=\"\",\"\",'CF4 TestsPhys'!M56)","v":""},{"$f":"IF('CF4 TestsPhys'!N56=\"\",\"\",'CF4 TestsPhys'!N56)","v":""},{"$f":"IF('CF4 TestsPhys'!O56=\"\",\"\",'CF4 TestsPhys'!O56)","v":""},{"$f":"IF('CF4 TestsPhys'!P56=\"\",\"\",'CF4 TestsPhys'!P56)","v":""},{"$f":"IF('CF4 TestsPhys'!Q56=\"\",\"\",'CF4 TestsPhys'!Q56)","v":""},{"$f":"IF('CF4 TestsPhys'!R56=\"\",\"\",'CF4 TestsPhys'!R56)","v":""},{"$f":"IF('CF4 TestsPhys'!S56=\"\",\"\",'CF4 TestsPhys'!S56)","v":""},{"$f":"IF('CF4 TestsPhys'!T56=\"\",\"\",'CF4 TestsPhys'!T56)","v":""},{"$f":"IF('CF4 TestsPhys'!U56=\"\",\"\",'CF4 TestsPhys'!U56)","v":""},{"$f":"IF('CF4 TestsPhys'!V56=\"\",\"\",'CF4 TestsPhys'!V56)","v":""},{"$f":"IF('CF4 TestsPhys'!W56=\"\",\"\",'CF4 TestsPhys'!W56)","v":""},{"$f":"IF('CF4 TestsPhys'!X56=\"\",\"\",'CF4 TestsPhys'!X56)","v":""},{"$f":"IF('CF4 TestsPhys'!Y56=\"\",\"\",'CF4 TestsPhys'!Y56)","v":""},{"$f":"IF('CF4 TestsPhys'!Z56=\"\",\"\",'CF4 TestsPhys'!Z56)","v":""},{"$f":"IF('CF4 TestsPhys'!AA56=\"\",\"\",'CF4 TestsPhys'!AA56)","v":""},{"$f":"IF('CF4 TestsPhys'!AB56=\"\",\"\",'CF4 TestsPhys'!AB56)","v":""},{"$f":"IF('CF4 TestsPhys'!AC56=\"\",\"\",'CF4 TestsPhys'!AC56)","v":""}]
[{"$f":"IF('CF4 TestsPhys'!B57=\"\",\"\",'CF4 TestsPhys'!B57)","v":""},{"$f":"IF('CF4 TestsPhys'!D57=\"\",\"\",'CF4 TestsPhys'!D57)","v":""},{"$f":"IF('CF4 TestsPhys'!E57=\"\",\"\",'CF4 TestsPhys'!E57)","v":""},{"$f":"IF('CF4 TestsPhys'!F57=\"\",\"\",'CF4 TestsPhys'!F57)","v":""},{"$f":"IF('CF4 TestsPhys'!G57=\"\",\"\",'CF4 TestsPhys'!G57)","v":""},{"$f":"IF('CF4 TestsPhys'!H57=\"\",\"\",'CF4 TestsPhys'!H57)","v":""},{"$f":"IF('CF4 TestsPhys'!I57=\"\",\"\",'CF4 TestsPhys'!I57)","v":""},{"$f":"IF('CF4 TestsPhys'!J57=\"\",\"\",'CF4 TestsPhys'!J57)","v":""},{"$f":"IF('CF4 TestsPhys'!K57=\"\",\"\",'CF4 TestsPhys'!K57)","v":""},{"$f":"IF('CF4 TestsPhys'!L57=\"\",\"\",'CF4 TestsPhys'!L57)","v":""},{"$f":"IF('CF4 TestsPhys'!M57=\"\",\"\",'CF4 TestsPhys'!M57)","v":""},{"$f":"IF('CF4 TestsPhys'!N57=\"\",\"\",'CF4 TestsPhys'!N57)","v":""},{"$f":"IF('CF4 TestsPhys'!O57=\"\",\"\",'CF4 TestsPhys'!O57)","v":""},{"$f":"IF('CF4 TestsPhys'!P57=\"\",\"\",'CF4 TestsPhys'!P57)","v":""},{"$f":"IF('CF4 TestsPhys'!Q57=\"\",\"\",'CF4 TestsPhys'!Q57)","v":""},{"$f":"IF('CF4 TestsPhys'!R57=\"\",\"\",'CF4 TestsPhys'!R57)","v":""},{"$f":"IF('CF4 TestsPhys'!S57=\"\",\"\",'CF4 TestsPhys'!S57)","v":""},{"$f":"IF('CF4 TestsPhys'!T57=\"\",\"\",'CF4 TestsPhys'!T57)","v":""},{"$f":"IF('CF4 TestsPhys'!U57=\"\",\"\",'CF4 TestsPhys'!U57)","v":""},{"$f":"IF('CF4 TestsPhys'!V57=\"\",\"\",'CF4 TestsPhys'!V57)","v":""},{"$f":"IF('CF4 TestsPhys'!W57=\"\",\"\",'CF4 TestsPhys'!W57)","v":""},{"$f":"IF('CF4 TestsPhys'!X57=\"\",\"\",'CF4 TestsPhys'!X57)","v":""},{"$f":"IF('CF4 TestsPhys'!Y57=\"\",\"\",'CF4 TestsPhys'!Y57)","v":""},{"$f":"IF('CF4 TestsPhys'!Z57=\"\",\"\",'CF4 TestsPhys'!Z57)","v":""},{"$f":"IF('CF4 TestsPhys'!AA57=\"\",\"\",'CF4 TestsPhys'!AA57)","v":""},{"$f":"IF('CF4 TestsPhys'!AB57=\"\",\"\",'CF4 TestsPhys'!AB57)","v":""},{"$f":"IF('CF4 TestsPhys'!AC57=\"\",\"\",'CF4 TestsPhys'!AC57)","v":""}]
[{"$f":"IF('CF4 TestsPhys'!B58=\"\",\"\",'CF4 TestsPhys'!B58)","v":""},{"$f":"IF('CF4 TestsPhys'!D58=\"\",\"\",'CF4 TestsPhys'!D58)","v":""},{"$f":"IF('CF4 TestsPhys'!E58=\"\",\"\",'CF4 TestsPhys'!E58)","v":""},{"$f":"IF('CF4 TestsPhys'!F58=\"\",\"\",'CF4 TestsPhys'!F58)","v":""},{"$f":"IF('CF4 TestsPhys'!G58=\"\",\"\",'CF4 TestsPhys'!G58)","v":""},{"$f":"IF('CF4 TestsPhys'!H58=\"\",\"\",'CF4 TestsPhys'!H58)","v":""},{"$f":"IF('CF4 TestsPhys'!I58=\"\",\"\",'CF4 TestsPhys'!I58)","v":""},{"$f":"IF('CF4 TestsPhys'!J58=\"\",\"\",'CF4 TestsPhys'!J58)","v":""},{"$f":"IF('CF4 TestsPhys'!K58=\"\",\"\",'CF4 TestsPhys'!K58)","v":""},{"$f":"IF('CF4 TestsPhys'!L58=\"\",\"\",'CF4 TestsPhys'!L58)","v":""},{"$f":"IF('CF4 TestsPhys'!M58=\"\",\"\",'CF4 TestsPhys'!M58)","v":""},{"$f":"IF('CF4 TestsPhys'!N58=\"\",\"\",'CF4 TestsPhys'!N58)","v":""},{"$f":"IF('CF4 TestsPhys'!O58=\"\",\"\",'CF4 TestsPhys'!O58)","v":""},{"$f":"IF('CF4 TestsPhys'!P58=\"\",\"\",'CF4 TestsPhys'!P58)","v":""},{"$f":"IF('CF4 TestsPhys'!Q58=\"\",\"\",'CF4 TestsPhys'!Q58)","v":""},{"$f":"IF('CF4 TestsPhys'!R58=\"\",\"\",'CF4 TestsPhys'!R58)","v":""},{"$f":"IF('CF4 TestsPhys'!S58=\"\",\"\",'CF4 TestsPhys'!S58)","v":""},{"$f":"IF('CF4 TestsPhys'!T58=\"\",\"\",'CF4 TestsPhys'!T58)","v":""},{"$f":"IF('CF4 TestsPhys'!U58=\"\",\"\",'CF4 TestsPhys'!U58)","v":""},{"$f":"IF('CF4 TestsPhys'!V58=\"\",\"\",'CF4 TestsPhys'!V58)","v":""},{"$f":"IF('CF4 TestsPhys'!W58=\"\",\"\",'CF4 TestsPhys'!W58)","v":""},{"$f":"IF('CF4 TestsPhys'!X58=\"\",\"\",'CF4 TestsPhys'!X58)","v":""},{"$f":"IF('CF4 TestsPhys'!Y58=\"\",\"\",'CF4 TestsPhys'!Y58)","v":""},{"$f":"IF('CF4 TestsPhys'!Z58=\"\",\"\",'CF4 TestsPhys'!Z58)","v":""},{"$f":"IF('CF4 TestsPhys'!AA58=\"\",\"\",'CF4 TestsPhys'!AA58)","v":""},{"$f":"IF('CF4 TestsPhys'!AB58=\"\",\"\",'CF4 TestsPhys'!AB58)","v":""},{"$f":"IF('CF4 TestsPhys'!AC58=\"\",\"\",'CF4 TestsPhys'!AC58)","v":""}]
[{"$f":"IF('CF4 TestsPhys'!B59=\"\",\"\",'CF4 TestsPhys'!B59)","v":""},{"$f":"IF('CF4 TestsPhys'!D59=\"\",\"\",'CF4 TestsPhys'!D59)","v":""},{"$f":"IF('CF4 TestsPhys'!E59=\"\",\"\",'CF4 TestsPhys'!E59)","v":""},{"$f":"IF('CF4 TestsPhys'!F59=\"\",\"\",'CF4 TestsPhys'!F59)","v":""},{"$f":"IF('CF4 TestsPhys'!G59=\"\",\"\",'CF4 TestsPhys'!G59)","v":""},{"$f":"IF('CF4 TestsPhys'!H59=\"\",\"\",'CF4 TestsPhys'!H59)","v":""},{"$f":"IF('CF4 TestsPhys'!I59=\"\",\"\",'CF4 TestsPhys'!I59)","v":""},{"$f":"IF('CF4 TestsPhys'!J59=\"\",\"\",'CF4 TestsPhys'!J59)","v":""},{"$f":"IF('CF4 TestsPhys'!K59=\"\",\"\",'CF4 TestsPhys'!K59)","v":""},{"$f":"IF('CF4 TestsPhys'!L59=\"\",\"\",'CF4 TestsPhys'!L59)","v":""},{"$f":"IF('CF4 TestsPhys'!M59=\"\",\"\",'CF4 TestsPhys'!M59)","v":""},{"$f":"IF('CF4 TestsPhys'!N59=\"\",\"\",'CF4 TestsPhys'!N59)","v":""},{"$f":"IF('CF4 TestsPhys'!O59=\"\",\"\",'CF4 TestsPhys'!O59)","v":""},{"$f":"IF('CF4 TestsPhys'!P59=\"\",\"\",'CF4 TestsPhys'!P59)","v":""},{"$f":"IF('CF4 TestsPhys'!Q59=\"\",\"\",'CF4 TestsPhys'!Q59)","v":""},{"$f":"IF('CF4 TestsPhys'!R59=\"\",\"\",'CF4 TestsPhys'!R59)","v":""},{"$f":"IF('CF4 TestsPhys'!S59=\"\",\"\",'CF4 TestsPhys'!S59)","v":""},{"$f":"IF('CF4 TestsPhys'!T59=\"\",\"\",'CF4 TestsPhys'!T59)","v":""},{"$f":"IF('CF4 TestsPhys'!U59=\"\",\"\",'CF4 TestsPhys'!U59)","v":""},{"$f":"IF('CF4 TestsPhys'!V59=\"\",\"\",'CF4 TestsPhys'!V59)","v":""},{"$f":"IF('CF4 TestsPhys'!W59=\"\",\"\",'CF4 TestsPhys'!W59)","v":""},{"$f":"IF('CF4 TestsPhys'!X59=\"\",\"\",'CF4 TestsPhys'!X59)","v":""},{"$f":"IF('CF4 TestsPhys'!Y59=\"\",\"\",'CF4 TestsPhys'!Y59)","v":""},{"$f":"IF('CF4 TestsPhys'!Z59=\"\",\"\",'CF4 TestsPhys'!Z59)","v":""},{"$f":"IF('CF4 TestsPhys'!AA59=\"\",\"\",'CF4 TestsPhys'!AA59)","v":""},{"$f":"IF('CF4 TestsPhys'!AB59=\"\",\"\",'CF4 TestsPhys'!AB59)","v":""},{"$f":"IF('CF4 TestsPhys'!AC59=\"\",\"\",'CF4 TestsPhys'!AC59)","v":""}]
[{"$f":"IF('CF4 TestsPhys'!B60=\"\",\"\",'CF4 TestsPhys'!B60)","v":""},{"$f":"IF('CF4 TestsPhys'!D60=\"\",\"\",'CF4 TestsPhys'!D60)","v":""},{"$f":"IF('CF4 TestsPhys'!E60=\"\",\"\",'CF4 TestsPhys'!E60)","v":""},{"$f":"IF('CF4 TestsPhys'!F60=\"\",\"\",'CF4 TestsPhys'!F60)","v":""},{"$f":"IF('CF4 TestsPhys'!G60=\"\",\"\",'CF4 TestsPhys'!G60)","v":""},{"$f":"IF('CF4 TestsPhys'!H60=\"\",\"\",'CF4 TestsPhys'!H60)","v":""},{"$f":"IF('CF4 TestsPhys'!I60=\"\",\"\",'CF4 TestsPhys'!I60)","v":""},{"$f":"IF('CF4 TestsPhys'!J60=\"\",\"\",'CF4 TestsPhys'!J60)","v":""},{"$f":"IF('CF4 TestsPhys'!K60=\"\",\"\",'CF4 TestsPhys'!K60)","v":""},{"$f":"IF('CF4 TestsPhys'!L60=\"\",\"\",'CF4 TestsPhys'!L60)","v":""},{"$f":"IF('CF4 TestsPhys'!M60=\"\",\"\",'CF4 TestsPhys'!M60)","v":""},{"$f":"IF('CF4 TestsPhys'!N60=\"\",\"\",'CF4 TestsPhys'!N60)","v":""},{"$f":"IF('CF4 TestsPhys'!O60=\"\",\"\",'CF4 TestsPhys'!O60)","v":""},{"$f":"IF('CF4 TestsPhys'!P60=\"\",\"\",'CF4 TestsPhys'!P60)","v":""},{"$f":"IF('CF4 TestsPhys'!Q60=\"\",\"\",'CF4 TestsPhys'!Q60)","v":""},{"$f":"IF('CF4 TestsPhys'!R60=\"\",\"\",'CF4 TestsPhys'!R60)","v":""},{"$f":"IF('CF4 TestsPhys'!S60=\"\",\"\",'CF4 TestsPhys'!S60)","v":""},{"$f":"IF('CF4 TestsPhys'!T60=\"\",\"\",'CF4 TestsPhys'!T60)","v":""},{"$f":"IF('CF4 TestsPhys'!U60=\"\",\"\",'CF4 TestsPhys'!U60)","v":""},{"$f":"IF('CF4 TestsPhys'!V60=\"\",\"\",'CF4 TestsPhys'!V60)","v":""},{"$f":"IF('CF4 TestsPhys'!W60=\"\",\"\",'CF4 TestsPhys'!W60)","v":""},{"$f":"IF('CF4 TestsPhys'!X60=\"\",\"\",'CF4 TestsPhys'!X60)","v":""},{"$f":"IF('CF4 TestsPhys'!Y60=\"\",\"\",'CF4 TestsPhys'!Y60)","v":""},{"$f":"IF('CF4 TestsPhys'!Z60=\"\",\"\",'CF4 TestsPhys'!Z60)","v":""},{"$f":"IF('CF4 TestsPhys'!AA60=\"\",\"\",'CF4 TestsPhys'!AA60)","v":""},{"$f":"IF('CF4 TestsPhys'!AB60=\"\",\"\",'CF4 TestsPhys'!AB60)","v":""},{"$f":"IF('CF4 TestsPhys'!AC60=\"\",\"\",'CF4 TestsPhys'!AC60)","v":""}]
[{"$f":"IF('CF4 TestsPhys'!B61=\"\",\"\",'CF4 TestsPhys'!B61)","v":""},{"$f":"IF('CF4 TestsPhys'!D61=\"\",\"\",'CF4 TestsPhys'!D61)","v":""},{"$f":"IF('CF4 TestsPhys'!E61=\"\",\"\",'CF4 TestsPhys'!E61)","v":""},{"$f":"IF('CF4 TestsPhys'!F61=\"\",\"\",'CF4 TestsPhys'!F61)","v":""},{"$f":"IF('CF4 TestsPhys'!G61=\"\",\"\",'CF4 TestsPhys'!G61)","v":""},{"$f":"IF('CF4 TestsPhys'!H61=\"\",\"\",'CF4 TestsPhys'!H61)","v":""},{"$f":"IF('CF4 TestsPhys'!I61=\"\",\"\",'CF4 TestsPhys'!I61)","v":""},{"$f":"IF('CF4 TestsPhys'!J61=\"\",\"\",'CF4 TestsPhys'!J61)","v":""},{"$f":"IF('CF4 TestsPhys'!K61=\"\",\"\",'CF4 TestsPhys'!K61)","v":""},{"$f":"IF('CF4 TestsPhys'!L61=\"\",\"\",'CF4 TestsPhys'!L61)","v":""},{"$f":"IF('CF4 TestsPhys'!M61=\"\",\"\",'CF4 TestsPhys'!M61)","v":""},{"$f":"IF('CF4 TestsPhys'!N61=\"\",\"\",'CF4 TestsPhys'!N61)","v":""},{"$f":"IF('CF4 TestsPhys'!O61=\"\",\"\",'CF4 TestsPhys'!O61)","v":""},{"$f":"IF('CF4 TestsPhys'!P61=\"\",\"\",'CF4 TestsPhys'!P61)","v":""},{"$f":"IF('CF4 TestsPhys'!Q61=\"\",\"\",'CF4 TestsPhys'!Q61)","v":""},{"$f":"IF('CF4 TestsPhys'!R61=\"\",\"\",'CF4 TestsPhys'!R61)","v":""},{"$f":"IF('CF4 TestsPhys'!S61=\"\",\"\",'CF4 TestsPhys'!S61)","v":""},{"$f":"IF('CF4 TestsPhys'!T61=\"\",\"\",'CF4 TestsPhys'!T61)","v":""},{"$f":"IF('CF4 TestsPhys'!U61=\"\",\"\",'CF4 TestsPhys'!U61)","v":""},{"$f":"IF('CF4 TestsPhys'!V61=\"\",\"\",'CF4 TestsPhys'!V61)","v":""},{"$f":"IF('CF4 TestsPhys'!W61=\"\",\"\",'CF4 TestsPhys'!W61)","v":""},{"$f":"IF('CF4 TestsPhys'!X61=\"\",\"\",'CF4 TestsPhys'!X61)","v":""},{"$f":"IF('CF4 TestsPhys'!Y61=\"\",\"\",'CF4 TestsPhys'!Y61)","v":""},{"$f":"IF('CF4 TestsPhys'!Z61=\"\",\"\",'CF4 TestsPhys'!Z61)","v":""},{"$f":"IF('CF4 TestsPhys'!AA61=\"\",\"\",'CF4 TestsPhys'!AA61)","v":""},{"$f":"IF('CF4 TestsPhys'!AB61=\"\",\"\",'CF4 TestsPhys'!AB61)","v":""},{"$f":"IF('CF4 TestsPhys'!AC61=\"\",\"\",'CF4 TestsPhys'!AC61)","v":""}]
[{"$f":"IF('CF4 TestsPhys'!B62=\"\",\"\",'CF4 TestsPhys'!B62)","v":""},{"$f":"IF('CF4 TestsPhys'!D62=\"\",\"\",'CF4 TestsPhys'!D62)","v":""},{"$f":"IF('CF4 TestsPhys'!E62=\"\",\"\",'CF4 TestsPhys'!E62)","v":""},{"$f":"IF('CF4 TestsPhys'!F62=\"\",\"\",'CF4 TestsPhys'!F62)","v":""},{"$f":"IF('CF4 TestsPhys'!G62=\"\",\"\",'CF4 TestsPhys'!G62)","v":""},{"$f":"IF('CF4 TestsPhys'!H62=\"\",\"\",'CF4 TestsPhys'!H62)","v":""},{"$f":"IF('CF4 TestsPhys'!I62=\"\",\"\",'CF4 TestsPhys'!I62)","v":""},{"$f":"IF('CF4 TestsPhys'!J62=\"\",\"\",'CF4 TestsPhys'!J62)","v":""},{"$f":"IF('CF4 TestsPhys'!K62=\"\",\"\",'CF4 TestsPhys'!K62)","v":""},{"$f":"IF('CF4 TestsPhys'!L62=\"\",\"\",'CF4 TestsPhys'!L62)","v":""},{"$f":"IF('CF4 TestsPhys'!M62=\"\",\"\",'CF4 TestsPhys'!M62)","v":""},{"$f":"IF('CF4 TestsPhys'!N62=\"\",\"\",'CF4 TestsPhys'!N62)","v":""},{"$f":"IF('CF4 TestsPhys'!O62=\"\",\"\",'CF4 TestsPhys'!O62)","v":""},{"$f":"IF('CF4 TestsPhys'!P62=\"\",\"\",'CF4 TestsPhys'!P62)","v":""},{"$f":"IF('CF4 TestsPhys'!Q62=\"\",\"\",'CF4 TestsPhys'!Q62)","v":""},{"$f":"IF('CF4 TestsPhys'!R62=\"\",\"\",'CF4 TestsPhys'!R62)","v":""},{"$f":"IF('CF4 TestsPhys'!S62=\"\",\"\",'CF4 TestsPhys'!S62)","v":""},{"$f":"IF('CF4 TestsPhys'!T62=\"\",\"\",'CF4 TestsPhys'!T62)","v":""},{"$f":"IF('CF4 TestsPhys'!U62=\"\",\"\",'CF4 TestsPhys'!U62)","v":""},{"$f":"IF('CF4 TestsPhys'!V62=\"\",\"\",'CF4 TestsPhys'!V62)","v":""},{"$f":"IF('CF4 TestsPhys'!W62=\"\",\"\",'CF4 TestsPhys'!W62)","v":""},{"$f":"IF('CF4 TestsPhys'!X62=\"\",\"\",'CF4 TestsPhys'!X62)","v":""},{"$f":"IF('CF4 TestsPhys'!Y62=\"\",\"\",'CF4 TestsPhys'!Y62)","v":""},{"$f":"IF('CF4 TestsPhys'!Z62=\"\",\"\",'CF4 TestsPhys'!Z62)","v":""},{"$f":"IF('CF4 TestsPhys'!AA62=\"\",\"\",'CF4 TestsPhys'!AA62)","v":""},{"$f":"IF('CF4 TestsPhys'!AB62=\"\",\"\",'CF4 TestsPhys'!AB62)","v":""},{"$f":"IF('CF4 TestsPhys'!AC62=\"\",\"\",'CF4 TestsPhys'!AC62)","v":""}]
[{"$f":"IF('CF4 TestsPhys'!B63=\"\",\"\",'CF4 TestsPhys'!B63)","v":""},{"$f":"IF('CF4 TestsPhys'!D63=\"\",\"\",'CF4 TestsPhys'!D63)","v":""},{"$f":"IF('CF4 TestsPhys'!E63=\"\",\"\",'CF4 TestsPhys'!E63)","v":""},{"$f":"IF('CF4 TestsPhys'!F63=\"\",\"\",'CF4 TestsPhys'!F63)","v":""},{"$f":"IF('CF4 TestsPhys'!G63=\"\",\"\",'CF4 TestsPhys'!G63)","v":""},{"$f":"IF('CF4 TestsPhys'!H63=\"\",\"\",'CF4 TestsPhys'!H63)","v":""},{"$f":"IF('CF4 TestsPhys'!I63=\"\",\"\",'CF4 TestsPhys'!I63)","v":""},{"$f":"IF('CF4 TestsPhys'!J63=\"\",\"\",'CF4 TestsPhys'!J63)","v":""},{"$f":"IF('CF4 TestsPhys'!K63=\"\",\"\",'CF4 TestsPhys'!K63)","v":""},{"$f":"IF('CF4 TestsPhys'!L63=\"\",\"\",'CF4 TestsPhys'!L63)","v":""},{"$f":"IF('CF4 TestsPhys'!M63=\"\",\"\",'CF4 TestsPhys'!M63)","v":""},{"$f":"IF('CF4 TestsPhys'!N63=\"\",\"\",'CF4 TestsPhys'!N63)","v":""},{"$f":"IF('CF4 TestsPhys'!O63=\"\",\"\",'CF4 TestsPhys'!O63)","v":""},{"$f":"IF('CF4 TestsPhys'!P63=\"\",\"\",'CF4 TestsPhys'!P63)","v":""},{"$f":"IF('CF4 TestsPhys'!Q63=\"\",\"\",'CF4 TestsPhys'!Q63)","v":""},{"$f":"IF('CF4 TestsPhys'!R63=\"\",\"\",'CF4 TestsPhys'!R63)","v":""},{"$f":"IF('CF4 TestsPhys'!S63=\"\",\"\",'CF4 TestsPhys'!S63)","v":""},{"$f":"IF('CF4 TestsPhys'!T63=\"\",\"\",'CF4 TestsPhys'!T63)","v":""},{"$f":"IF('CF4 TestsPhys'!U63=\"\",\"\",'CF4 TestsPhys'!U63)","v":""},{"$f":"IF('CF4 TestsPhys'!V63=\"\",\"\",'CF4 TestsPhys'!V63)","v":""},{"$f":"IF('CF4 TestsPhys'!W63=\"\",\"\",'CF4 TestsPhys'!W63)","v":""},{"$f":"IF('CF4 TestsPhys'!X63=\"\",\"\",'CF4 TestsPhys'!X63)","v":""},{"$f":"IF('CF4 TestsPhys'!Y63=\"\",\"\",'CF4 TestsPhys'!Y63)","v":""},{"$f":"IF('CF4 TestsPhys'!Z63=\"\",\"\",'CF4 TestsPhys'!Z63)","v":""},{"$f":"IF('CF4 TestsPhys'!AA63=\"\",\"\",'CF4 TestsPhys'!AA63)","v":""},{"$f":"IF('CF4 TestsPhys'!AB63=\"\",\"\",'CF4 TestsPhys'!AB63)","v":""},{"$f":"IF('CF4 TestsPhys'!AC63=\"\",\"\",'CF4 TestsPhys'!AC63)","v":""}]
[{"$f":"IF('CF4 TestsPhys'!B64=\"\",\"\",'CF4 TestsPhys'!B64)","v":""},{"$f":"IF('CF4 TestsPhys'!D64=\"\",\"\",'CF4 TestsPhys'!D64)","v":""},{"$f":"IF('CF4 TestsPhys'!E64=\"\",\"\",'CF4 TestsPhys'!E64)","v":""},{"$f":"IF('CF4 TestsPhys'!F64=\"\",\"\",'CF4 TestsPhys'!F64)","v":""},{"$f":"IF('CF4 TestsPhys'!G64=\"\",\"\",'CF4 TestsPhys'!G64)","v":""},{"$f":"IF('CF4 TestsPhys'!H64=\"\",\"\",'CF4 TestsPhys'!H64)","v":""},{"$f":"IF('CF4 TestsPhys'!I64=\"\",\"\",'CF4 TestsPhys'!I64)","v":""},{"$f":"IF('CF4 TestsPhys'!J64=\"\",\"\",'CF4 TestsPhys'!J64)","v":""},{"$f":"IF('CF4 TestsPhys'!K64=\"\",\"\",'CF4 TestsPhys'!K64)","v":""},{"$f":"IF('CF4 TestsPhys'!L64=\"\",\"\",'CF4 TestsPhys'!L64)","v":""},{"$f":"IF('CF4 TestsPhys'!M64=\"\",\"\",'CF4 TestsPhys'!M64)","v":""},{"$f":"IF('CF4 TestsPhys'!N64=\"\",\"\",'CF4 TestsPhys'!N64)","v":""},{"$f":"IF('CF4 TestsPhys'!O64=\"\",\"\",'CF4 TestsPhys'!O64)","v":""},{"$f":"IF('CF4 TestsPhys'!P64=\"\",\"\",'CF4 TestsPhys'!P64)","v":""},{"$f":"IF('CF4 TestsPhys'!Q64=\"\",\"\",'CF4 TestsPhys'!Q64)","v":""},{"$f":"IF('CF4 TestsPhys'!R64=\"\",\"\",'CF4 TestsPhys'!R64)","v":""},{"$f":"IF('CF4 TestsPhys'!S64=\"\",\"\",'CF4 TestsPhys'!S64)","v":""},{"$f":"IF('CF4 TestsPhys'!T64=\"\",\"\",'CF4 TestsPhys'!T64)","v":""},{"$f":"IF('CF4 TestsPhys'!U64=\"\",\"\",'CF4 TestsPhys'!U64)","v":""},{"$f":"IF('CF4 TestsPhys'!V64=\"\",\"\",'CF4 TestsPhys'!V64)","v":""},{"$f":"IF('CF4 TestsPhys'!W64=\"\",\"\",'CF4 TestsPhys'!W64)","v":""},{"$f":"IF('CF4 TestsPhys'!X64=\"\",\"\",'CF4 TestsPhys'!X64)","v":""},{"$f":"IF('CF4 TestsPhys'!Y64=\"\",\"\",'CF4 TestsPhys'!Y64)","v":""},{"$f":"IF('CF4 TestsPhys'!Z64=\"\",\"\",'CF4 TestsPhys'!Z64)","v":""},{"$f":"IF('CF4 TestsPhys'!AA64=\"\",\"\",'CF4 TestsPhys'!AA64)","v":""},{"$f":"IF('CF4 TestsPhys'!AB64=\"\",\"\",'CF4 TestsPhys'!AB64)","v":""},{"$f":"IF('CF4 TestsPhys'!AC64=\"\",\"\",'CF4 TestsPhys'!AC64)","v":""}]
[{"$f":"IF('CF4 TestsPhys'!B65=\"\",\"\",'CF4 TestsPhys'!B65)","v":""},{"$f":"IF('CF4 TestsPhys'!D65=\"\",\"\",'CF4 TestsPhys'!D65)","v":""},{"$f":"IF('CF4 TestsPhys'!E65=\"\",\"\",'CF4 TestsPhys'!E65)","v":""},{"$f":"IF('CF4 TestsPhys'!F65=\"\",\"\",'CF4 TestsPhys'!F65)","v":""},{"$f":"IF('CF4 TestsPhys'!G65=\"\",\"\",'CF4 TestsPhys'!G65)","v":""},{"$f":"IF('CF4 TestsPhys'!H65=\"\",\"\",'CF4 TestsPhys'!H65)","v":""},{"$f":"IF('CF4 TestsPhys'!I65=\"\",\"\",'CF4 TestsPhys'!I65)","v":""},{"$f":"IF('CF4 TestsPhys'!J65=\"\",\"\",'CF4 TestsPhys'!J65)","v":""},{"$f":"IF('CF4 TestsPhys'!K65=\"\",\"\",'CF4 TestsPhys'!K65)","v":""},{"$f":"IF('CF4 TestsPhys'!L65=\"\",\"\",'CF4 TestsPhys'!L65)","v":""},{"$f":"IF('CF4 TestsPhys'!M65=\"\",\"\",'CF4 TestsPhys'!M65)","v":""},{"$f":"IF('CF4 TestsPhys'!N65=\"\",\"\",'CF4 TestsPhys'!N65)","v":""},{"$f":"IF('CF4 TestsPhys'!O65=\"\",\"\",'CF4 TestsPhys'!O65)","v":""},{"$f":"IF('CF4 TestsPhys'!P65=\"\",\"\",'CF4 TestsPhys'!P65)","v":""},{"$f":"IF('CF4 TestsPhys'!Q65=\"\",\"\",'CF4 TestsPhys'!Q65)","v":""},{"$f":"IF('CF4 TestsPhys'!R65=\"\",\"\",'CF4 TestsPhys'!R65)","v":""},{"$f":"IF('CF4 TestsPhys'!S65=\"\",\"\",'CF4 TestsPhys'!S65)","v":""},{"$f":"IF('CF4 TestsPhys'!T65=\"\",\"\",'CF4 TestsPhys'!T65)","v":""},{"$f":"IF('CF4 TestsPhys'!U65=\"\",\"\",'CF4 TestsPhys'!U65)","v":""},{"$f":"IF('CF4 TestsPhys'!V65=\"\",\"\",'CF4 TestsPhys'!V65)","v":""},{"$f":"IF('CF4 TestsPhys'!W65=\"\",\"\",'CF4 TestsPhys'!W65)","v":""},{"$f":"IF('CF4 TestsPhys'!X65=\"\",\"\",'CF4 TestsPhys'!X65)","v":""},{"$f":"IF('CF4 TestsPhys'!Y65=\"\",\"\",'CF4 TestsPhys'!Y65)","v":""},{"$f":"IF('CF4 TestsPhys'!Z65=\"\",\"\",'CF4 TestsPhys'!Z65)","v":""},{"$f":"IF('CF4 TestsPhys'!AA65=\"\",\"\",'CF4 TestsPhys'!AA65)","v":""},{"$f":"IF('CF4 TestsPhys'!AB65=\"\",\"\",'CF4 TestsPhys'!AB65)","v":""},{"$f":"IF('CF4 TestsPhys'!AC65=\"\",\"\",'CF4 TestsPhys'!AC65)","v":""}]
[{"$f":"IF('CF4 TestsPhys'!B66=\"\",\"\",'CF4 TestsPhys'!B66)","v":""},{"$f":"IF('CF4 TestsPhys'!D66=\"\",\"\",'CF4 TestsPhys'!D66)","v":""},{"$f":"IF('CF4 TestsPhys'!E66=\"\",\"\",'CF4 TestsPhys'!E66)","v":""},{"$f":"IF('CF4 TestsPhys'!F66=\"\",\"\",'CF4 TestsPhys'!F66)","v":""},{"$f":"IF('CF4 TestsPhys'!G66=\"\",\"\",'CF4 TestsPhys'!G66)","v":""},{"$f":"IF('CF4 TestsPhys'!H66=\"\",\"\",'CF4 TestsPhys'!H66)","v":""},{"$f":"IF('CF4 TestsPhys'!I66=\"\",\"\",'CF4 TestsPhys'!I66)","v":""},{"$f":"IF('CF4 TestsPhys'!J66=\"\",\"\",'CF4 TestsPhys'!J66)","v":""},{"$f":"IF('CF4 TestsPhys'!K66=\"\",\"\",'CF4 TestsPhys'!K66)","v":""},{"$f":"IF('CF4 TestsPhys'!L66=\"\",\"\",'CF4 TestsPhys'!L66)","v":""},{"$f":"IF('CF4 TestsPhys'!M66=\"\",\"\",'CF4 TestsPhys'!M66)","v":""},{"$f":"IF('CF4 TestsPhys'!N66=\"\",\"\",'CF4 TestsPhys'!N66)","v":""},{"$f":"IF('CF4 TestsPhys'!O66=\"\",\"\",'CF4 TestsPhys'!O66)","v":""},{"$f":"IF('CF4 TestsPhys'!P66=\"\",\"\",'CF4 TestsPhys'!P66)","v":""},{"$f":"IF('CF4 TestsPhys'!Q66=\"\",\"\",'CF4 TestsPhys'!Q66)","v":""},{"$f":"IF('CF4 TestsPhys'!R66=\"\",\"\",'CF4 TestsPhys'!R66)","v":""},{"$f":"IF('CF4 TestsPhys'!S66=\"\",\"\",'CF4 TestsPhys'!S66)","v":""},{"$f":"IF('CF4 TestsPhys'!T66=\"\",\"\",'CF4 TestsPhys'!T66)","v":""},{"$f":"IF('CF4 TestsPhys'!U66=\"\",\"\",'CF4 TestsPhys'!U66)","v":""},{"$f":"IF('CF4 TestsPhys'!V66=\"\",\"\",'CF4 TestsPhys'!V66)","v":""},{"$f":"IF('CF4 TestsPhys'!W66=\"\",\"\",'CF4 TestsPhys'!W66)","v":""},{"$f":"IF('CF4 TestsPhys'!X66=\"\",\"\",'CF4 TestsPhys'!X66)","v":""},{"$f":"IF('CF4 TestsPhys'!Y66=\"\",\"\",'CF4 TestsPhys'!Y66)","v":""},{"$f":"IF('CF4 TestsPhys'!Z66=\"\",\"\",'CF4 TestsPhys'!Z66)","v":""},{"$f":"IF('CF4 TestsPhys'!AA66=\"\",\"\",'CF4 TestsPhys'!AA66)","v":""},{"$f":"IF('CF4 TestsPhys'!AB66=\"\",\"\",'CF4 TestsPhys'!AB66)","v":""},{"$f":"IF('CF4 TestsPhys'!AC66=\"\",\"\",'CF4 TestsPhys'!AC66)","v":""}]
[{"$f":"IF('CF4 TestsPhys'!B67=\"\",\"\",'CF4 TestsPhys'!B67)","v":""},{"$f":"IF('CF4 TestsPhys'!D67=\"\",\"\",'CF4 TestsPhys'!D67)","v":""},{"$f":"IF('CF4 TestsPhys'!E67=\"\",\"\",'CF4 TestsPhys'!E67)","v":""},{"$f":"IF('CF4 TestsPhys'!F67=\"\",\"\",'CF4 TestsPhys'!F67)","v":""},{"$f":"IF('CF4 TestsPhys'!G67=\"\",\"\",'CF4 TestsPhys'!G67)","v":""},{"$f":"IF('CF4 TestsPhys'!H67=\"\",\"\",'CF4 TestsPhys'!H67)","v":""},{"$f":"IF('CF4 TestsPhys'!I67=\"\",\"\",'CF4 TestsPhys'!I67)","v":""},{"$f":"IF('CF4 TestsPhys'!J67=\"\",\"\",'CF4 TestsPhys'!J67)","v":""},{"$f":"IF('CF4 TestsPhys'!K67=\"\",\"\",'CF4 TestsPhys'!K67)","v":""},{"$f":"IF('CF4 TestsPhys'!L67=\"\",\"\",'CF4 TestsPhys'!L67)","v":""},{"$f":"IF('CF4 TestsPhys'!M67=\"\",\"\",'CF4 TestsPhys'!M67)","v":""},{"$f":"IF('CF4 TestsPhys'!N67=\"\",\"\",'CF4 TestsPhys'!N67)","v":""},{"$f":"IF('CF4 TestsPhys'!O67=\"\",\"\",'CF4 TestsPhys'!O67)","v":""},{"$f":"IF('CF4 TestsPhys'!P67=\"\",\"\",'CF4 TestsPhys'!P67)","v":""},{"$f":"IF('CF4 TestsPhys'!Q67=\"\",\"\",'CF4 TestsPhys'!Q67)","v":""},{"$f":"IF('CF4 TestsPhys'!R67=\"\",\"\",'CF4 TestsPhys'!R67)","v":""},{"$f":"IF('CF4 TestsPhys'!S67=\"\",\"\",'CF4 TestsPhys'!S67)","v":""},{"$f":"IF('CF4 TestsPhys'!T67=\"\",\"\",'CF4 TestsPhys'!T67)","v":""},{"$f":"IF('CF4 TestsPhys'!U67=\"\",\"\",'CF4 TestsPhys'!U67)","v":""},{"$f":"IF('CF4 TestsPhys'!V67=\"\",\"\",'CF4 TestsPhys'!V67)","v":""},{"$f":"IF('CF4 TestsPhys'!W67=\"\",\"\",'CF4 TestsPhys'!W67)","v":""},{"$f":"IF('CF4 TestsPhys'!X67=\"\",\"\",'CF4 TestsPhys'!X67)","v":""},{"$f":"IF('CF4 TestsPhys'!Y67=\"\",\"\",'CF4 TestsPhys'!Y67)","v":""},{"$f":"IF('CF4 TestsPhys'!Z67=\"\",\"\",'CF4 TestsPhys'!Z67)","v":""},{"$f":"IF('CF4 TestsPhys'!AA67=\"\",\"\",'CF4 TestsPhys'!AA67)","v":""},{"$f":"IF('CF4 TestsPhys'!AB67=\"\",\"\",'CF4 TestsPhys'!AB67)","v":""},{"$f":"IF('CF4 TestsPhys'!AC67=\"\",\"\",'CF4 TestsPhys'!AC67)","v":""}]
[{"$f":"IF('CF4 TestsPhys'!B68=\"\",\"\",'CF4 TestsPhys'!B68)","v":""},{"$f":"IF('CF4 TestsPhys'!D68=\"\",\"\",'CF4 TestsPhys'!D68)","v":""},{"$f":"IF('CF4 TestsPhys'!E68=\"\",\"\",'CF4 TestsPhys'!E68)","v":""},{"$f":"IF('CF4 TestsPhys'!F68=\"\",\"\",'CF4 TestsPhys'!F68)","v":""},{"$f":"IF('CF4 TestsPhys'!G68=\"\",\"\",'CF4 TestsPhys'!G68)","v":""},{"$f":"IF('CF4 TestsPhys'!H68=\"\",\"\",'CF4 TestsPhys'!H68)","v":""},{"$f":"IF('CF4 TestsPhys'!I68=\"\",\"\",'CF4 TestsPhys'!I68)","v":""},{"$f":"IF('CF4 TestsPhys'!J68=\"\",\"\",'CF4 TestsPhys'!J68)","v":""},{"$f":"IF('CF4 TestsPhys'!K68=\"\",\"\",'CF4 TestsPhys'!K68)","v":""},{"$f":"IF('CF4 TestsPhys'!L68=\"\",\"\",'CF4 TestsPhys'!L68)","v":""},{"$f":"IF('CF4 TestsPhys'!M68=\"\",\"\",'CF4 TestsPhys'!M68)","v":""},{"$f":"IF('CF4 TestsPhys'!N68=\"\",\"\",'CF4 TestsPhys'!N68)","v":""},{"$f":"IF('CF4 TestsPhys'!O68=\"\",\"\",'CF4 TestsPhys'!O68)","v":""},{"$f":"IF('CF4 TestsPhys'!P68=\"\",\"\",'CF4 TestsPhys'!P68)","v":""},{"$f":"IF('CF4 TestsPhys'!Q68=\"\",\"\",'CF4 TestsPhys'!Q68)","v":""},{"$f":"IF('CF4 TestsPhys'!R68=\"\",\"\",'CF4 TestsPhys'!R68)","v":""},{"$f":"IF('CF4 TestsPhys'!S68=\"\",\"\",'CF4 TestsPhys'!S68)","v":""},{"$f":"IF('CF4 TestsPhys'!T68=\"\",\"\",'CF4 TestsPhys'!T68)","v":""},{"$f":"IF('CF4 TestsPhys'!U68=\"\",\"\",'CF4 TestsPhys'!U68)","v":""},{"$f":"IF('CF4 TestsPhys'!V68=\"\",\"\",'CF4 TestsPhys'!V68)","v":""},{"$f":"IF('CF4 TestsPhys'!W68=\"\",\"\",'CF4 TestsPhys'!W68)","v":""},{"$f":"IF('CF4 TestsPhys'!X68=\"\",\"\",'CF4 TestsPhys'!X68)","v":""},{"$f":"IF('CF4 TestsPhys'!Y68=\"\",\"\",'CF4 TestsPhys'!Y68)","v":""},{"$f":"IF('CF4 TestsPhys'!Z68=\"\",\"\",'CF4 TestsPhys'!Z68)","v":""},{"$f":"IF('CF4 TestsPhys'!AA68=\"\",\"\",'CF4 TestsPhys'!AA68)","v":""},{"$f":"IF('CF4 TestsPhys'!AB68=\"\",\"\",'CF4 TestsPhys'!AB68)","v":""},{"$f":"IF('CF4 TestsPhys'!AC68=\"\",\"\",'CF4 TestsPhys'!AC68)","v":""}]
[{"$f":"IF('CF4 TestsPhys'!B69=\"\",\"\",'CF4 TestsPhys'!B69)","v":""},{"$f":"IF('CF4 TestsPhys'!D69=\"\",\"\",'CF4 TestsPhys'!D69)","v":""},{"$f":"IF('CF4 TestsPhys'!E69=\"\",\"\",'CF4 TestsPhys'!E69)","v":""},{"$f":"IF('CF4 TestsPhys'!F69=\"\",\"\",'CF4 TestsPhys'!F69)","v":""},{"$f":"IF('CF4 TestsPhys'!G69=\"\",\"\",'CF4 TestsPhys'!G69)","v":""},{"$f":"IF('CF4 TestsPhys'!H69=\"\",\"\",'CF4 TestsPhys'!H69)","v":""},{"$f":"IF('CF4 TestsPhys'!I69=\"\",\"\",'CF4 TestsPhys'!I69)","v":""},{"$f":"IF('CF4 TestsPhys'!J69=\"\",\"\",'CF4 TestsPhys'!J69)","v":""},{"$f":"IF('CF4 TestsPhys'!K69=\"\",\"\",'CF4 TestsPhys'!K69)","v":""},{"$f":"IF('CF4 TestsPhys'!L69=\"\",\"\",'CF4 TestsPhys'!L69)","v":""},{"$f":"IF('CF4 TestsPhys'!M69=\"\",\"\",'CF4 TestsPhys'!M69)","v":""},{"$f":"IF('CF4 TestsPhys'!N69=\"\",\"\",'CF4 TestsPhys'!N69)","v":""},{"$f":"IF('CF4 TestsPhys'!O69=\"\",\"\",'CF4 TestsPhys'!O69)","v":""},{"$f":"IF('CF4 TestsPhys'!P69=\"\",\"\",'CF4 TestsPhys'!P69)","v":""},{"$f":"IF('CF4 TestsPhys'!Q69=\"\",\"\",'CF4 TestsPhys'!Q69)","v":""},{"$f":"IF('CF4 TestsPhys'!R69=\"\",\"\",'CF4 TestsPhys'!R69)","v":""},{"$f":"IF('CF4 TestsPhys'!S69=\"\",\"\",'CF4 TestsPhys'!S69)","v":""},{"$f":"IF('CF4 TestsPhys'!T69=\"\",\"\",'CF4 TestsPhys'!T69)","v":""},{"$f":"IF('CF4 TestsPhys'!U69=\"\",\"\",'CF4 TestsPhys'!U69)","v":""},{"$f":"IF('CF4 TestsPhys'!V69=\"\",\"\",'CF4 TestsPhys'!V69)","v":""},{"$f":"IF('CF4 TestsPhys'!W69=\"\",\"\",'CF4 TestsPhys'!W69)","v":""},{"$f":"IF('CF4 TestsPhys'!X69=\"\",\"\",'CF4 TestsPhys'!X69)","v":""},{"$f":"IF('CF4 TestsPhys'!Y69=\"\",\"\",'CF4 TestsPhys'!Y69)","v":""},{"$f":"IF('CF4 TestsPhys'!Z69=\"\",\"\",'CF4 TestsPhys'!Z69)","v":""},{"$f":"IF('CF4 TestsPhys'!AA69=\"\",\"\",'CF4 TestsPhys'!AA69)","v":""},{"$f":"IF('CF4 TestsPhys'!AB69=\"\",\"\",'CF4 TestsPhys'!AB69)","v":""},{"$f":"IF('CF4 TestsPhys'!AC69=\"\",\"\",'CF4 TestsPhys'!AC69)","v":""}]
[{"$f":"IF('CF4 TestsPhys'!B70=\"\",\"\",'CF4 TestsPhys'!B70)","v":""},{"$f":"IF('CF4 TestsPhys'!D70=\"\",\"\",'CF4 TestsPhys'!D70)","v":""},{"$f":"IF('CF4 TestsPhys'!E70=\"\",\"\",'CF4 TestsPhys'!E70)","v":""},{"$f":"IF('CF4 TestsPhys'!F70=\"\",\"\",'CF4 TestsPhys'!F70)","v":""},{"$f":"IF('CF4 TestsPhys'!G70=\"\",\"\",'CF4 TestsPhys'!G70)","v":""},{"$f":"IF('CF4 TestsPhys'!H70=\"\",\"\",'CF4 TestsPhys'!H70)","v":""},{"$f":"IF('CF4 TestsPhys'!I70=\"\",\"\",'CF4 TestsPhys'!I70)","v":""},{"$f":"IF('CF4 TestsPhys'!J70=\"\",\"\",'CF4 TestsPhys'!J70)","v":""},{"$f":"IF('CF4 TestsPhys'!K70=\"\",\"\",'CF4 TestsPhys'!K70)","v":""},{"$f":"IF('CF4 TestsPhys'!L70=\"\",\"\",'CF4 TestsPhys'!L70)","v":""},{"$f":"IF('CF4 TestsPhys'!M70=\"\",\"\",'CF4 TestsPhys'!M70)","v":""},{"$f":"IF('CF4 TestsPhys'!N70=\"\",\"\",'CF4 TestsPhys'!N70)","v":""},{"$f":"IF('CF4 TestsPhys'!O70=\"\",\"\",'CF4 TestsPhys'!O70)","v":""},{"$f":"IF('CF4 TestsPhys'!P70=\"\",\"\",'CF4 TestsPhys'!P70)","v":""},{"$f":"IF('CF4 TestsPhys'!Q70=\"\",\"\",'CF4 TestsPhys'!Q70)","v":""},{"$f":"IF('CF4 TestsPhys'!R70=\"\",\"\",'CF4 TestsPhys'!R70)","v":""},{"$f":"IF('CF4 TestsPhys'!S70=\"\",\"\",'CF4 TestsPhys'!S70)","v":""},{"$f":"IF('CF4 TestsPhys'!T70=\"\",\"\",'CF4 TestsPhys'!T70)","v":""},{"$f":"IF('CF4 TestsPhys'!U70=\"\",\"\",'CF4 TestsPhys'!U70)","v":""},{"$f":"IF('CF4 TestsPhys'!V70=\"\",\"\",'CF4 TestsPhys'!V70)","v":""},{"$f":"IF('CF4 TestsPhys'!W70=\"\",\"\",'CF4 TestsPhys'!W70)","v":""},{"$f":"IF('CF4 TestsPhys'!X70=\"\",\"\",'CF4 TestsPhys'!X70)","v":""},{"$f":"IF('CF4 TestsPhys'!Y70=\"\",\"\",'CF4 TestsPhys'!Y70)","v":""},{"$f":"IF('CF4 TestsPhys'!Z70=\"\",\"\",'CF4 TestsPhys'!Z70)","v":""},{"$f":"IF('CF4 TestsPhys'!AA70=\"\",\"\",'CF4 TestsPhys'!AA70)","v":""},{"$f":"IF('CF4 TestsPhys'!AB70=\"\",\"\",'CF4 TestsPhys'!AB70)","v":""},{"$f":"IF('CF4 TestsPhys'!AC70=\"\",\"\",'CF4 TestsPhys'!AC70)","v":""}]
[{"$f":"IF('CF4 TestsPhys'!B71=\"\",\"\",'CF4 TestsPhys'!B71)","v":""},{"$f":"IF('CF4 TestsPhys'!D71=\"\",\"\",'CF4 TestsPhys'!D71)","v":""},{"$f":"IF('CF4 TestsPhys'!E71=\"\",\"\",'CF4 TestsPhys'!E71)","v":""},{"$f":"IF('CF4 TestsPhys'!F71=\"\",\"\",'CF4 TestsPhys'!F71)","v":""},{"$f":"IF('CF4 TestsPhys'!G71=\"\",\"\",'CF4 TestsPhys'!G71)","v":""},{"$f":"IF('CF4 TestsPhys'!H71=\"\",\"\",'CF4 TestsPhys'!H71)","v":""},{"$f":"IF('CF4 TestsPhys'!I71=\"\",\"\",'CF4 TestsPhys'!I71)","v":""},{"$f":"IF('CF4 TestsPhys'!J71=\"\",\"\",'CF4 TestsPhys'!J71)","v":""},{"$f":"IF('CF4 TestsPhys'!K71=\"\",\"\",'CF4 TestsPhys'!K71)","v":""},{"$f":"IF('CF4 TestsPhys'!L71=\"\",\"\",'CF4 TestsPhys'!L71)","v":""},{"$f":"IF('CF4 TestsPhys'!M71=\"\",\"\",'CF4 TestsPhys'!M71)","v":""},{"$f":"IF('CF4 TestsPhys'!N71=\"\",\"\",'CF4 TestsPhys'!N71)","v":""},{"$f":"IF('CF4 TestsPhys'!O71=\"\",\"\",'CF4 TestsPhys'!O71)","v":""},{"$f":"IF('CF4 TestsPhys'!P71=\"\",\"\",'CF4 TestsPhys'!P71)","v":""},{"$f":"IF('CF4 TestsPhys'!Q71=\"\",\"\",'CF4 TestsPhys'!Q71)","v":""},{"$f":"IF('CF4 TestsPhys'!R71=\"\",\"\",'CF4 TestsPhys'!R71)","v":""},{"$f":"IF('CF4 TestsPhys'!S71=\"\",\"\",'CF4 TestsPhys'!S71)","v":""},{"$f":"IF('CF4 TestsPhys'!T71=\"\",\"\",'CF4 TestsPhys'!T71)","v":""},{"$f":"IF('CF4 TestsPhys'!U71=\"\",\"\",'CF4 TestsPhys'!U71)","v":""},{"$f":"IF('CF4 TestsPhys'!V71=\"\",\"\",'CF4 TestsPhys'!V71)","v":""},{"$f":"IF('CF4 TestsPhys'!W71=\"\",\"\",'CF4 TestsPhys'!W71)","v":""},{"$f":"IF('CF4 TestsPhys'!X71=\"\",\"\",'CF4 TestsPhys'!X71)","v":""},{"$f":"IF('CF4 TestsPhys'!Y71=\"\",\"\",'CF4 TestsPhys'!Y71)","v":""},{"$f":"IF('CF4 TestsPhys'!Z71=\"\",\"\",'CF4 TestsPhys'!Z71)","v":""},{"$f":"IF('CF4 TestsPhys'!AA71=\"\",\"\",'CF4 TestsPhys'!AA71)","v":""},{"$f":"IF('CF4 TestsPhys'!AB71=\"\",\"\",'CF4 TestsPhys'!AB71)","v":""},{"$f":"IF('CF4 TestsPhys'!AC71=\"\",\"\",'CF4 TestsPhys'!AC71)","v":""}]
[{"$f":"IF('CF4 TestsPhys'!B72=\"\",\"\",'CF4 TestsPhys'!B72)","v":""},{"$f":"IF('CF4 TestsPhys'!D72=\"\",\"\",'CF4 TestsPhys'!D72)","v":""},{"$f":"IF('CF4 TestsPhys'!E72=\"\",\"\",'CF4 TestsPhys'!E72)","v":""},{"$f":"IF('CF4 TestsPhys'!F72=\"\",\"\",'CF4 TestsPhys'!F72)","v":""},{"$f":"IF('CF4 TestsPhys'!G72=\"\",\"\",'CF4 TestsPhys'!G72)","v":""},{"$f":"IF('CF4 TestsPhys'!H72=\"\",\"\",'CF4 TestsPhys'!H72)","v":""},{"$f":"IF('CF4 TestsPhys'!I72=\"\",\"\",'CF4 TestsPhys'!I72)","v":""},{"$f":"IF('CF4 TestsPhys'!J72=\"\",\"\",'CF4 TestsPhys'!J72)","v":""},{"$f":"IF('CF4 TestsPhys'!K72=\"\",\"\",'CF4 TestsPhys'!K72)","v":""},{"$f":"IF('CF4 TestsPhys'!L72=\"\",\"\",'CF4 TestsPhys'!L72)","v":""},{"$f":"IF('CF4 TestsPhys'!M72=\"\",\"\",'CF4 TestsPhys'!M72)","v":""},{"$f":"IF('CF4 TestsPhys'!N72=\"\",\"\",'CF4 TestsPhys'!N72)","v":""},{"$f":"IF('CF4 TestsPhys'!O72=\"\",\"\",'CF4 TestsPhys'!O72)","v":""},{"$f":"IF('CF4 TestsPhys'!P72=\"\",\"\",'CF4 TestsPhys'!P72)","v":""},{"$f":"IF('CF4 TestsPhys'!Q72=\"\",\"\",'CF4 TestsPhys'!Q72)","v":""},{"$f":"IF('CF4 TestsPhys'!R72=\"\",\"\",'CF4 TestsPhys'!R72)","v":""},{"$f":"IF('CF4 TestsPhys'!S72=\"\",\"\",'CF4 TestsPhys'!S72)","v":""},{"$f":"IF('CF4 TestsPhys'!T72=\"\",\"\",'CF4 TestsPhys'!T72)","v":""},{"$f":"IF('CF4 TestsPhys'!U72=\"\",\"\",'CF4 TestsPhys'!U72)","v":""},{"$f":"IF('CF4 TestsPhys'!V72=\"\",\"\",'CF4 TestsPhys'!V72)","v":""},{"$f":"IF('CF4 TestsPhys'!W72=\"\",\"\",'CF4 TestsPhys'!W72)","v":""},{"$f":"IF('CF4 TestsPhys'!X72=\"\",\"\",'CF4 TestsPhys'!X72)","v":""},{"$f":"IF('CF4 TestsPhys'!Y72=\"\",\"\",'CF4 TestsPhys'!Y72)","v":""},{"$f":"IF('CF4 TestsPhys'!Z72=\"\",\"\",'CF4 TestsPhys'!Z72)","v":""},{"$f":"IF('CF4 TestsPhys'!AA72=\"\",\"\",'CF4 TestsPhys'!AA72)","v":""},{"$f":"IF('CF4 TestsPhys'!AB72=\"\",\"\",'CF4 TestsPhys'!AB72)","v":""},{"$f":"IF('CF4 TestsPhys'!AC72=\"\",\"\",'CF4 TestsPhys'!AC72)","v":""}]
[{"$f":"IF('CF4 TestsPhys'!B73=\"\",\"\",'CF4 TestsPhys'!B73)","v":""},{"$f":"IF('CF4 TestsPhys'!D73=\"\",\"\",'CF4 TestsPhys'!D73)","v":""},{"$f":"IF('CF4 TestsPhys'!E73=\"\",\"\",'CF4 TestsPhys'!E73)","v":""},{"$f":"IF('CF4 TestsPhys'!F73=\"\",\"\",'CF4 TestsPhys'!F73)","v":""},{"$f":"IF('CF4 TestsPhys'!G73=\"\",\"\",'CF4 TestsPhys'!G73)","v":""},{"$f":"IF('CF4 TestsPhys'!H73=\"\",\"\",'CF4 TestsPhys'!H73)","v":""},{"$f":"IF('CF4 TestsPhys'!I73=\"\",\"\",'CF4 TestsPhys'!I73)","v":""},{"$f":"IF('CF4 TestsPhys'!J73=\"\",\"\",'CF4 TestsPhys'!J73)","v":""},{"$f":"IF('CF4 TestsPhys'!K73=\"\",\"\",'CF4 TestsPhys'!K73)","v":""},{"$f":"IF('CF4 TestsPhys'!L73=\"\",\"\",'CF4 TestsPhys'!L73)","v":""},{"$f":"IF('CF4 TestsPhys'!M73=\"\",\"\",'CF4 TestsPhys'!M73)","v":""},{"$f":"IF('CF4 TestsPhys'!N73=\"\",\"\",'CF4 TestsPhys'!N73)","v":""},{"$f":"IF('CF4 TestsPhys'!O73=\"\",\"\",'CF4 TestsPhys'!O73)","v":""},{"$f":"IF('CF4 TestsPhys'!P73=\"\",\"\",'CF4 TestsPhys'!P73)","v":""},{"$f":"IF('CF4 TestsPhys'!Q73=\"\",\"\",'CF4 TestsPhys'!Q73)","v":""},{"$f":"IF('CF4 TestsPhys'!R73=\"\",\"\",'CF4 TestsPhys'!R73)","v":""},{"$f":"IF('CF4 TestsPhys'!S73=\"\",\"\",'CF4 TestsPhys'!S73)","v":""},{"$f":"IF('CF4 TestsPhys'!T73=\"\",\"\",'CF4 TestsPhys'!T73)","v":""},{"$f":"IF('CF4 TestsPhys'!U73=\"\",\"\",'CF4 TestsPhys'!U73)","v":""},{"$f":"IF('CF4 TestsPhys'!V73=\"\",\"\",'CF4 TestsPhys'!V73)","v":""},{"$f":"IF('CF4 TestsPhys'!W73=\"\",\"\",'CF4 TestsPhys'!W73)","v":""},{"$f":"IF('CF4 TestsPhys'!X73=\"\",\"\",'CF4 TestsPhys'!X73)","v":""},{"$f":"IF('CF4 TestsPhys'!Y73=\"\",\"\",'CF4 TestsPhys'!Y73)","v":""},{"$f":"IF('CF4 TestsPhys'!Z73=\"\",\"\",'CF4 TestsPhys'!Z73)","v":""},{"$f":"IF('CF4 TestsPhys'!AA73=\"\",\"\",'CF4 TestsPhys'!AA73)","v":""},{"$f":"IF('CF4 TestsPhys'!AB73=\"\",\"\",'CF4 TestsPhys'!AB73)","v":""},{"$f":"IF('CF4 TestsPhys'!AC73=\"\",\"\",'CF4 TestsPhys'!AC73)","v":""}]
[{"$f":"IF('CF4 TestsPhys'!B74=\"\",\"\",'CF4 TestsPhys'!B74)","v":""},{"$f":"IF('CF4 TestsPhys'!D74=\"\",\"\",'CF4 TestsPhys'!D74)","v":""},{"$f":"IF('CF4 TestsPhys'!E74=\"\",\"\",'CF4 TestsPhys'!E74)","v":""},{"$f":"IF('CF4 TestsPhys'!F74=\"\",\"\",'CF4 TestsPhys'!F74)","v":""},{"$f":"IF('CF4 TestsPhys'!G74=\"\",\"\",'CF4 TestsPhys'!G74)","v":""},{"$f":"IF('CF4 TestsPhys'!H74=\"\",\"\",'CF4 TestsPhys'!H74)","v":""},{"$f":"IF('CF4 TestsPhys'!I74=\"\",\"\",'CF4 TestsPhys'!I74)","v":""},{"$f":"IF('CF4 TestsPhys'!J74=\"\",\"\",'CF4 TestsPhys'!J74)","v":""},{"$f":"IF('CF4 TestsPhys'!K74=\"\",\"\",'CF4 TestsPhys'!K74)","v":""},{"$f":"IF('CF4 TestsPhys'!L74=\"\",\"\",'CF4 TestsPhys'!L74)","v":""},{"$f":"IF('CF4 TestsPhys'!M74=\"\",\"\",'CF4 TestsPhys'!M74)","v":""},{"$f":"IF('CF4 TestsPhys'!N74=\"\",\"\",'CF4 TestsPhys'!N74)","v":""},{"$f":"IF('CF4 TestsPhys'!O74=\"\",\"\",'CF4 TestsPhys'!O74)","v":""},{"$f":"IF('CF4 TestsPhys'!P74=\"\",\"\",'CF4 TestsPhys'!P74)","v":""},{"$f":"IF('CF4 TestsPhys'!Q74=\"\",\"\",'CF4 TestsPhys'!Q74)","v":""},{"$f":"IF('CF4 TestsPhys'!R74=\"\",\"\",'CF4 TestsPhys'!R74)","v":""},{"$f":"IF('CF4 TestsPhys'!S74=\"\",\"\",'CF4 TestsPhys'!S74)","v":""},{"$f":"IF('CF4 TestsPhys'!T74=\"\",\"\",'CF4 TestsPhys'!T74)","v":""},{"$f":"IF('CF4 TestsPhys'!U74=\"\",\"\",'CF4 TestsPhys'!U74)","v":""},{"$f":"IF('CF4 TestsPhys'!V74=\"\",\"\",'CF4 TestsPhys'!V74)","v":""},{"$f":"IF('CF4 TestsPhys'!W74=\"\",\"\",'CF4 TestsPhys'!W74)","v":""},{"$f":"IF('CF4 TestsPhys'!X74=\"\",\"\",'CF4 TestsPhys'!X74)","v":""},{"$f":"IF('CF4 TestsPhys'!Y74=\"\",\"\",'CF4 TestsPhys'!Y74)","v":""},{"$f":"IF('CF4 TestsPhys'!Z74=\"\",\"\",'CF4 TestsPhys'!Z74)","v":""},{"$f":"IF('CF4 TestsPhys'!AA74=\"\",\"\",'CF4 TestsPhys'!AA74)","v":""},{"$f":"IF('CF4 TestsPhys'!AB74=\"\",\"\",'CF4 TestsPhys'!AB74)","v":""},{"$f":"IF('CF4 TestsPhys'!AC74=\"\",\"\",'CF4 TestsPhys'!AC74)","v":""}]
[{"$f":"IF('CF4 TestsPhys'!B75=\"\",\"\",'CF4 TestsPhys'!B75)","v":""},{"$f":"IF('CF4 TestsPhys'!D75=\"\",\"\",'CF4 TestsPhys'!D75)","v":""},{"$f":"IF('CF4 TestsPhys'!E75=\"\",\"\",'CF4 TestsPhys'!E75)","v":""},{"$f":"IF('CF4 TestsPhys'!F75=\"\",\"\",'CF4 TestsPhys'!F75)","v":""},{"$f":"IF('CF4 TestsPhys'!G75=\"\",\"\",'CF4 TestsPhys'!G75)","v":""},{"$f":"IF('CF4 TestsPhys'!H75=\"\",\"\",'CF4 TestsPhys'!H75)","v":""},{"$f":"IF('CF4 TestsPhys'!I75=\"\",\"\",'CF4 TestsPhys'!I75)","v":""},{"$f":"IF('CF4 TestsPhys'!J75=\"\",\"\",'CF4 TestsPhys'!J75)","v":""},{"$f":"IF('CF4 TestsPhys'!K75=\"\",\"\",'CF4 TestsPhys'!K75)","v":""},{"$f":"IF('CF4 TestsPhys'!L75=\"\",\"\",'CF4 TestsPhys'!L75)","v":""},{"$f":"IF('CF4 TestsPhys'!M75=\"\",\"\",'CF4 TestsPhys'!M75)","v":""},{"$f":"IF('CF4 TestsPhys'!N75=\"\",\"\",'CF4 TestsPhys'!N75)","v":""},{"$f":"IF('CF4 TestsPhys'!O75=\"\",\"\",'CF4 TestsPhys'!O75)","v":""},{"$f":"IF('CF4 TestsPhys'!P75=\"\",\"\",'CF4 TestsPhys'!P75)","v":""},{"$f":"IF('CF4 TestsPhys'!Q75=\"\",\"\",'CF4 TestsPhys'!Q75)","v":""},{"$f":"IF('CF4 TestsPhys'!R75=\"\",\"\",'CF4 TestsPhys'!R75)","v":""},{"$f":"IF('CF4 TestsPhys'!S75=\"\",\"\",'CF4 TestsPhys'!S75)","v":""},{"$f":"IF('CF4 TestsPhys'!T75=\"\",\"\",'CF4 TestsPhys'!T75)","v":""},{"$f":"IF('CF4 TestsPhys'!U75=\"\",\"\",'CF4 TestsPhys'!U75)","v":""},{"$f":"IF('CF4 TestsPhys'!V75=\"\",\"\",'CF4 TestsPhys'!V75)","v":""},{"$f":"IF('CF4 TestsPhys'!W75=\"\",\"\",'CF4 TestsPhys'!W75)","v":""},{"$f":"IF('CF4 TestsPhys'!X75=\"\",\"\",'CF4 TestsPhys'!X75)","v":""},{"$f":"IF('CF4 TestsPhys'!Y75=\"\",\"\",'CF4 TestsPhys'!Y75)","v":""},{"$f":"IF('CF4 TestsPhys'!Z75=\"\",\"\",'CF4 TestsPhys'!Z75)","v":""},{"$f":"IF('CF4 TestsPhys'!AA75=\"\",\"\",'CF4 TestsPhys'!AA75)","v":""},{"$f":"IF('CF4 TestsPhys'!AB75=\"\",\"\",'CF4 TestsPhys'!AB75)","v":""},{"$f":"IF('CF4 TestsPhys'!AC75=\"\",\"\",'CF4 TestsPhys'!AC75)","v":""}]
[{"$f":"IF('CF4 TestsPhys'!B76=\"\",\"\",'CF4 TestsPhys'!B76)","v":""},{"$f":"IF('CF4 TestsPhys'!D76=\"\",\"\",'CF4 TestsPhys'!D76)","v":""},{"$f":"IF('CF4 TestsPhys'!E76=\"\",\"\",'CF4 TestsPhys'!E76)","v":""},{"$f":"IF('CF4 TestsPhys'!F76=\"\",\"\",'CF4 TestsPhys'!F76)","v":""},{"$f":"IF('CF4 TestsPhys'!G76=\"\",\"\",'CF4 TestsPhys'!G76)","v":""},{"$f":"IF('CF4 TestsPhys'!H76=\"\",\"\",'CF4 TestsPhys'!H76)","v":""},{"$f":"IF('CF4 TestsPhys'!I76=\"\",\"\",'CF4 TestsPhys'!I76)","v":""},{"$f":"IF('CF4 TestsPhys'!J76=\"\",\"\",'CF4 TestsPhys'!J76)","v":""},{"$f":"IF('CF4 TestsPhys'!K76=\"\",\"\",'CF4 TestsPhys'!K76)","v":""},{"$f":"IF('CF4 TestsPhys'!L76=\"\",\"\",'CF4 TestsPhys'!L76)","v":""},{"$f":"IF('CF4 TestsPhys'!M76=\"\",\"\",'CF4 TestsPhys'!M76)","v":""},{"$f":"IF('CF4 TestsPhys'!N76=\"\",\"\",'CF4 TestsPhys'!N76)","v":""},{"$f":"IF('CF4 TestsPhys'!O76=\"\",\"\",'CF4 TestsPhys'!O76)","v":""},{"$f":"IF('CF4 TestsPhys'!P76=\"\",\"\",'CF4 TestsPhys'!P76)","v":""},{"$f":"IF('CF4 TestsPhys'!Q76=\"\",\"\",'CF4 TestsPhys'!Q76)","v":""},{"$f":"IF('CF4 TestsPhys'!R76=\"\",\"\",'CF4 TestsPhys'!R76)","v":""},{"$f":"IF('CF4 TestsPhys'!S76=\"\",\"\",'CF4 TestsPhys'!S76)","v":""},{"$f":"IF('CF4 TestsPhys'!T76=\"\",\"\",'CF4 TestsPhys'!T76)","v":""},{"$f":"IF('CF4 TestsPhys'!U76=\"\",\"\",'CF4 TestsPhys'!U76)","v":""},{"$f":"IF('CF4 TestsPhys'!V76=\"\",\"\",'CF4 TestsPhys'!V76)","v":""},{"$f":"IF('CF4 TestsPhys'!W76=\"\",\"\",'CF4 TestsPhys'!W76)","v":""},{"$f":"IF('CF4 TestsPhys'!X76=\"\",\"\",'CF4 TestsPhys'!X76)","v":""},{"$f":"IF('CF4 TestsPhys'!Y76=\"\",\"\",'CF4 TestsPhys'!Y76)","v":""},{"$f":"IF('CF4 TestsPhys'!Z76=\"\",\"\",'CF4 TestsPhys'!Z76)","v":""},{"$f":"IF('CF4 TestsPhys'!AA76=\"\",\"\",'CF4 TestsPhys'!AA76)","v":""},{"$f":"IF('CF4 TestsPhys'!AB76=\"\",\"\",'CF4 TestsPhys'!AB76)","v":""},{"$f":"IF('CF4 TestsPhys'!AC76=\"\",\"\",'CF4 TestsPhys'!AC76)","v":""}]
[{"$f":"IF('CF4 TestsPhys'!B77=\"\",\"\",'CF4 TestsPhys'!B77)","v":""},{"$f":"IF('CF4 TestsPhys'!D77=\"\",\"\",'CF4 TestsPhys'!D77)","v":""},{"$f":"IF('CF4 TestsPhys'!E77=\"\",\"\",'CF4 TestsPhys'!E77)","v":""},{"$f":"IF('CF4 TestsPhys'!F77=\"\",\"\",'CF4 TestsPhys'!F77)","v":""},{"$f":"IF('CF4 TestsPhys'!G77=\"\",\"\",'CF4 TestsPhys'!G77)","v":""},{"$f":"IF('CF4 TestsPhys'!H77=\"\",\"\",'CF4 TestsPhys'!H77)","v":""},{"$f":"IF('CF4 TestsPhys'!I77=\"\",\"\",'CF4 TestsPhys'!I77)","v":""},{"$f":"IF('CF4 TestsPhys'!J77=\"\",\"\",'CF4 TestsPhys'!J77)","v":""},{"$f":"IF('CF4 TestsPhys'!K77=\"\",\"\",'CF4 TestsPhys'!K77)","v":""},{"$f":"IF('CF4 TestsPhys'!L77=\"\",\"\",'CF4 TestsPhys'!L77)","v":""},{"$f":"IF('CF4 TestsPhys'!M77=\"\",\"\",'CF4 TestsPhys'!M77)","v":""},{"$f":"IF('CF4 TestsPhys'!N77=\"\",\"\",'CF4 TestsPhys'!N77)","v":""},{"$f":"IF('CF4 TestsPhys'!O77=\"\",\"\",'CF4 TestsPhys'!O77)","v":""},{"$f":"IF('CF4 TestsPhys'!P77=\"\",\"\",'CF4 TestsPhys'!P77)","v":""},{"$f":"IF('CF4 TestsPhys'!Q77=\"\",\"\",'CF4 TestsPhys'!Q77)","v":""},{"$f":"IF('CF4 TestsPhys'!R77=\"\",\"\",'CF4 TestsPhys'!R77)","v":""},{"$f":"IF('CF4 TestsPhys'!S77=\"\",\"\",'CF4 TestsPhys'!S77)","v":""},{"$f":"IF('CF4 TestsPhys'!T77=\"\",\"\",'CF4 TestsPhys'!T77)","v":""},{"$f":"IF('CF4 TestsPhys'!U77=\"\",\"\",'CF4 TestsPhys'!U77)","v":""},{"$f":"IF('CF4 TestsPhys'!V77=\"\",\"\",'CF4 TestsPhys'!V77)","v":""},{"$f":"IF('CF4 TestsPhys'!W77=\"\",\"\",'CF4 TestsPhys'!W77)","v":""},{"$f":"IF('CF4 TestsPhys'!X77=\"\",\"\",'CF4 TestsPhys'!X77)","v":""},{"$f":"IF('CF4 TestsPhys'!Y77=\"\",\"\",'CF4 TestsPhys'!Y77)","v":""},{"$f":"IF('CF4 TestsPhys'!Z77=\"\",\"\",'CF4 TestsPhys'!Z77)","v":""},{"$f":"IF('CF4 TestsPhys'!AA77=\"\",\"\",'CF4 TestsPhys'!AA77)","v":""},{"$f":"IF('CF4 TestsPhys'!AB77=\"\",\"\",'CF4 TestsPhys'!AB77)","v":""},{"$f":"IF('CF4 TestsPhys'!AC77=\"\",\"\",'CF4 TestsPhys'!AC77)","v":""}]
[{"$f":"IF('CF4 TestsPhys'!B78=\"\",\"\",'CF4 TestsPhys'!B78)","v":""},{"$f":"IF('CF4 TestsPhys'!D78=\"\",\"\",'CF4 TestsPhys'!D78)","v":""},{"$f":"IF('CF4 TestsPhys'!E78=\"\",\"\",'CF4 TestsPhys'!E78)","v":""},{"$f":"IF('CF4 TestsPhys'!F78=\"\",\"\",'CF4 TestsPhys'!F78)","v":""},{"$f":"IF('CF4 TestsPhys'!G78=\"\",\"\",'CF4 TestsPhys'!G78)","v":""},{"$f":"IF('CF4 TestsPhys'!H78=\"\",\"\",'CF4 TestsPhys'!H78)","v":""},{"$f":"IF('CF4 TestsPhys'!I78=\"\",\"\",'CF4 TestsPhys'!I78)","v":""},{"$f":"IF('CF4 TestsPhys'!J78=\"\",\"\",'CF4 TestsPhys'!J78)","v":""},{"$f":"IF('CF4 TestsPhys'!K78=\"\",\"\",'CF4 TestsPhys'!K78)","v":""},{"$f":"IF('CF4 TestsPhys'!L78=\"\",\"\",'CF4 TestsPhys'!L78)","v":""},{"$f":"IF('CF4 TestsPhys'!M78=\"\",\"\",'CF4 TestsPhys'!M78)","v":""},{"$f":"IF('CF4 TestsPhys'!N78=\"\",\"\",'CF4 TestsPhys'!N78)","v":""},{"$f":"IF('CF4 TestsPhys'!O78=\"\",\"\",'CF4 TestsPhys'!O78)","v":""},{"$f":"IF('CF4 TestsPhys'!P78=\"\",\"\",'CF4 TestsPhys'!P78)","v":""},{"$f":"IF('CF4 TestsPhys'!Q78=\"\",\"\",'CF4 TestsPhys'!Q78)","v":""},{"$f":"IF('CF4 TestsPhys'!R78=\"\",\"\",'CF4 TestsPhys'!R78)","v":""},{"$f":"IF('CF4 TestsPhys'!S78=\"\",\"\",'CF4 TestsPhys'!S78)","v":""},{"$f":"IF('CF4 TestsPhys'!T78=\"\",\"\",'CF4 TestsPhys'!T78)","v":""},{"$f":"IF('CF4 TestsPhys'!U78=\"\",\"\",'CF4 TestsPhys'!U78)","v":""},{"$f":"IF('CF4 TestsPhys'!V78=\"\",\"\",'CF4 TestsPhys'!V78)","v":""},{"$f":"IF('CF4 TestsPhys'!W78=\"\",\"\",'CF4 TestsPhys'!W78)","v":""},{"$f":"IF('CF4 TestsPhys'!X78=\"\",\"\",'CF4 TestsPhys'!X78)","v":""},{"$f":"IF('CF4 TestsPhys'!Y78=\"\",\"\",'CF4 TestsPhys'!Y78)","v":""},{"$f":"IF('CF4 TestsPhys'!Z78=\"\",\"\",'CF4 TestsPhys'!Z78)","v":""},{"$f":"IF('CF4 TestsPhys'!AA78=\"\",\"\",'CF4 TestsPhys'!AA78)","v":""},{"$f":"IF('CF4 TestsPhys'!AB78=\"\",\"\",'CF4 TestsPhys'!AB78)","v":""},{"$f":"IF('CF4 TestsPhys'!AC78=\"\",\"\",'CF4 TestsPhys'!AC78)","v":""}]
[{"$f":"IF('CF4 TestsPhys'!B79=\"\",\"\",'CF4 TestsPhys'!B79)","v":""},{"$f":"IF('CF4 TestsPhys'!D79=\"\",\"\",'CF4 TestsPhys'!D79)","v":""},{"$f":"IF('CF4 TestsPhys'!E79=\"\",\"\",'CF4 TestsPhys'!E79)","v":""},{"$f":"IF('CF4 TestsPhys'!F79=\"\",\"\",'CF4 TestsPhys'!F79)","v":""},{"$f":"IF('CF4 TestsPhys'!G79=\"\",\"\",'CF4 TestsPhys'!G79)","v":""},{"$f":"IF('CF4 TestsPhys'!H79=\"\",\"\",'CF4 TestsPhys'!H79)","v":""},{"$f":"IF('CF4 TestsPhys'!I79=\"\",\"\",'CF4 TestsPhys'!I79)","v":""},{"$f":"IF('CF4 TestsPhys'!J79=\"\",\"\",'CF4 TestsPhys'!J79)","v":""},{"$f":"IF('CF4 TestsPhys'!K79=\"\",\"\",'CF4 TestsPhys'!K79)","v":""},{"$f":"IF('CF4 TestsPhys'!L79=\"\",\"\",'CF4 TestsPhys'!L79)","v":""},{"$f":"IF('CF4 TestsPhys'!M79=\"\",\"\",'CF4 TestsPhys'!M79)","v":""},{"$f":"IF('CF4 TestsPhys'!N79=\"\",\"\",'CF4 TestsPhys'!N79)","v":""},{"$f":"IF('CF4 TestsPhys'!O79=\"\",\"\",'CF4 TestsPhys'!O79)","v":""},{"$f":"IF('CF4 TestsPhys'!P79=\"\",\"\",'CF4 TestsPhys'!P79)","v":""},{"$f":"IF('CF4 TestsPhys'!Q79=\"\",\"\",'CF4 TestsPhys'!Q79)","v":""},{"$f":"IF('CF4 TestsPhys'!R79=\"\",\"\",'CF4 TestsPhys'!R79)","v":""},{"$f":"IF('CF4 TestsPhys'!S79=\"\",\"\",'CF4 TestsPhys'!S79)","v":""},{"$f":"IF('CF4 TestsPhys'!T79=\"\",\"\",'CF4 TestsPhys'!T79)","v":""},{"$f":"IF('CF4 TestsPhys'!U79=\"\",\"\",'CF4 TestsPhys'!U79)","v":""},{"$f":"IF('CF4 TestsPhys'!V79=\"\",\"\",'CF4 TestsPhys'!V79)","v":""},{"$f":"IF('CF4 TestsPhys'!W79=\"\",\"\",'CF4 TestsPhys'!W79)","v":""},{"$f":"IF('CF4 TestsPhys'!X79=\"\",\"\",'CF4 TestsPhys'!X79)","v":""},{"$f":"IF('CF4 TestsPhys'!Y79=\"\",\"\",'CF4 TestsPhys'!Y79)","v":""},{"$f":"IF('CF4 TestsPhys'!Z79=\"\",\"\",'CF4 TestsPhys'!Z79)","v":""},{"$f":"IF('CF4 TestsPhys'!AA79=\"\",\"\",'CF4 TestsPhys'!AA79)","v":""},{"$f":"IF('CF4 TestsPhys'!AB79=\"\",\"\",'CF4 TestsPhys'!AB79)","v":""},{"$f":"IF('CF4 TestsPhys'!AC79=\"\",\"\",'CF4 TestsPhys'!AC79)","v":""}]
[{"$f":"IF('CF4 TestsPhys'!B80=\"\",\"\",'CF4 TestsPhys'!B80)","v":""},{"$f":"IF('CF4 TestsPhys'!D80=\"\",\"\",'CF4 TestsPhys'!D80)","v":""},{"$f":"IF('CF4 TestsPhys'!E80=\"\",\"\",'CF4 TestsPhys'!E80)","v":""},{"$f":"IF('CF4 TestsPhys'!F80=\"\",\"\",'CF4 TestsPhys'!F80)","v":""},{"$f":"IF('CF4 TestsPhys'!G80=\"\",\"\",'CF4 TestsPhys'!G80)","v":""},{"$f":"IF('CF4 TestsPhys'!H80=\"\",\"\",'CF4 TestsPhys'!H80)","v":""},{"$f":"IF('CF4 TestsPhys'!I80=\"\",\"\",'CF4 TestsPhys'!I80)","v":""},{"$f":"IF('CF4 TestsPhys'!J80=\"\",\"\",'CF4 TestsPhys'!J80)","v":""},{"$f":"IF('CF4 TestsPhys'!K80=\"\",\"\",'CF4 TestsPhys'!K80)","v":""},{"$f":"IF('CF4 TestsPhys'!L80=\"\",\"\",'CF4 TestsPhys'!L80)","v":""},{"$f":"IF('CF4 TestsPhys'!M80=\"\",\"\",'CF4 TestsPhys'!M80)","v":""},{"$f":"IF('CF4 TestsPhys'!N80=\"\",\"\",'CF4 TestsPhys'!N80)","v":""},{"$f":"IF('CF4 TestsPhys'!O80=\"\",\"\",'CF4 TestsPhys'!O80)","v":""},{"$f":"IF('CF4 TestsPhys'!P80=\"\",\"\",'CF4 TestsPhys'!P80)","v":""},{"$f":"IF('CF4 TestsPhys'!Q80=\"\",\"\",'CF4 TestsPhys'!Q80)","v":""},{"$f":"IF('CF4 TestsPhys'!R80=\"\",\"\",'CF4 TestsPhys'!R80)","v":""},{"$f":"IF('CF4 TestsPhys'!S80=\"\",\"\",'CF4 TestsPhys'!S80)","v":""},{"$f":"IF('CF4 TestsPhys'!T80=\"\",\"\",'CF4 TestsPhys'!T80)","v":""},{"$f":"IF('CF4 TestsPhys'!U80=\"\",\"\",'CF4 TestsPhys'!U80)","v":""},{"$f":"IF('CF4 TestsPhys'!V80=\"\",\"\",'CF4 TestsPhys'!V80)","v":""},{"$f":"IF('CF4 TestsPhys'!W80=\"\",\"\",'CF4 TestsPhys'!W80)","v":""},{"$f":"IF('CF4 TestsPhys'!X80=\"\",\"\",'CF4 TestsPhys'!X80)","v":""},{"$f":"IF('CF4 TestsPhys'!Y80=\"\",\"\",'CF4 TestsPhys'!Y80)","v":""},{"$f":"IF('CF4 TestsPhys'!Z80=\"\",\"\",'CF4 TestsPhys'!Z80)","v":""},{"$f":"IF('CF4 TestsPhys'!AA80=\"\",\"\",'CF4 TestsPhys'!AA80)","v":""},{"$f":"IF('CF4 TestsPhys'!AB80=\"\",\"\",'CF4 TestsPhys'!AB80)","v":""},{"$f":"IF('CF4 TestsPhys'!AC80=\"\",\"\",'CF4 TestsPhys'!AC80)","v":""}]
[{"$f":"IF('CF4 TestsPhys'!B81=\"\",\"\",'CF4 TestsPhys'!B81)","v":""},{"$f":"IF('CF4 TestsPhys'!D81=\"\",\"\",'CF4 TestsPhys'!D81)","v":""},{"$f":"IF('CF4 TestsPhys'!E81=\"\",\"\",'CF4 TestsPhys'!E81)","v":""},{"$f":"IF('CF4 TestsPhys'!F81=\"\",\"\",'CF4 TestsPhys'!F81)","v":""},{"$f":"IF('CF4 TestsPhys'!G81=\"\",\"\",'CF4 TestsPhys'!G81)","v":""},{"$f":"IF('CF4 TestsPhys'!H81=\"\",\"\",'CF4 TestsPhys'!H81)","v":""},{"$f":"IF('CF4 TestsPhys'!I81=\"\",\"\",'CF4 TestsPhys'!I81)","v":""},{"$f":"IF('CF4 TestsPhys'!J81=\"\",\"\",'CF4 TestsPhys'!J81)","v":""},{"$f":"IF('CF4 TestsPhys'!K81=\"\",\"\",'CF4 TestsPhys'!K81)","v":""},{"$f":"IF('CF4 TestsPhys'!L81=\"\",\"\",'CF4 TestsPhys'!L81)","v":""},{"$f":"IF('CF4 TestsPhys'!M81=\"\",\"\",'CF4 TestsPhys'!M81)","v":""},{"$f":"IF('CF4 TestsPhys'!N81=\"\",\"\",'CF4 TestsPhys'!N81)","v":""},{"$f":"IF('CF4 TestsPhys'!O81=\"\",\"\",'CF4 TestsPhys'!O81)","v":""},{"$f":"IF('CF4 TestsPhys'!P81=\"\",\"\",'CF4 TestsPhys'!P81)","v":""},{"$f":"IF('CF4 TestsPhys'!Q81=\"\",\"\",'CF4 TestsPhys'!Q81)","v":""},{"$f":"IF('CF4 TestsPhys'!R81=\"\",\"\",'CF4 TestsPhys'!R81)","v":""},{"$f":"IF('CF4 TestsPhys'!S81=\"\",\"\",'CF4 TestsPhys'!S81)","v":""},{"$f":"IF('CF4 TestsPhys'!T81=\"\",\"\",'CF4 TestsPhys'!T81)","v":""},{"$f":"IF('CF4 TestsPhys'!U81=\"\",\"\",'CF4 TestsPhys'!U81)","v":""},{"$f":"IF('CF4 TestsPhys'!V81=\"\",\"\",'CF4 TestsPhys'!V81)","v":""},{"$f":"IF('CF4 TestsPhys'!W81=\"\",\"\",'CF4 TestsPhys'!W81)","v":""},{"$f":"IF('CF4 TestsPhys'!X81=\"\",\"\",'CF4 TestsPhys'!X81)","v":""},{"$f":"IF('CF4 TestsPhys'!Y81=\"\",\"\",'CF4 TestsPhys'!Y81)","v":""},{"$f":"IF('CF4 TestsPhys'!Z81=\"\",\"\",'CF4 TestsPhys'!Z81)","v":""},{"$f":"IF('CF4 TestsPhys'!AA81=\"\",\"\",'CF4 TestsPhys'!AA81)","v":""},{"$f":"IF('CF4 TestsPhys'!AB81=\"\",\"\",'CF4 TestsPhys'!AB81)","v":""},{"$f":"IF('CF4 TestsPhys'!AC81=\"\",\"\",'CF4 TestsPhys'!AC81)","v":""}]
[{"$f":"IF('CF4 TestsPhys'!B82=\"\",\"\",'CF4 TestsPhys'!B82)","v":""},{"$f":"IF('CF4 TestsPhys'!D82=\"\",\"\",'CF4 TestsPhys'!D82)","v":""},{"$f":"IF('CF4 TestsPhys'!E82=\"\",\"\",'CF4 TestsPhys'!E82)","v":""},{"$f":"IF('CF4 TestsPhys'!F82=\"\",\"\",'CF4 TestsPhys'!F82)","v":""},{"$f":"IF('CF4 TestsPhys'!G82=\"\",\"\",'CF4 TestsPhys'!G82)","v":""},{"$f":"IF('CF4 TestsPhys'!H82=\"\",\"\",'CF4 TestsPhys'!H82)","v":""},{"$f":"IF('CF4 TestsPhys'!I82=\"\",\"\",'CF4 TestsPhys'!I82)","v":""},{"$f":"IF('CF4 TestsPhys'!J82=\"\",\"\",'CF4 TestsPhys'!J82)","v":""},{"$f":"IF('CF4 TestsPhys'!K82=\"\",\"\",'CF4 TestsPhys'!K82)","v":""},{"$f":"IF('CF4 TestsPhys'!L82=\"\",\"\",'CF4 TestsPhys'!L82)","v":""},{"$f":"IF('CF4 TestsPhys'!M82=\"\",\"\",'CF4 TestsPhys'!M82)","v":""},{"$f":"IF('CF4 TestsPhys'!N82=\"\",\"\",'CF4 TestsPhys'!N82)","v":""},{"$f":"IF('CF4 TestsPhys'!O82=\"\",\"\",'CF4 TestsPhys'!O82)","v":""},{"$f":"IF('CF4 TestsPhys'!P82=\"\",\"\",'CF4 TestsPhys'!P82)","v":""},{"$f":"IF('CF4 TestsPhys'!Q82=\"\",\"\",'CF4 TestsPhys'!Q82)","v":""},{"$f":"IF('CF4 TestsPhys'!R82=\"\",\"\",'CF4 TestsPhys'!R82)","v":""},{"$f":"IF('CF4 TestsPhys'!S82=\"\",\"\",'CF4 TestsPhys'!S82)","v":""},{"$f":"IF('CF4 TestsPhys'!T82=\"\",\"\",'CF4 TestsPhys'!T82)","v":""},{"$f":"IF('CF4 TestsPhys'!U82=\"\",\"\",'CF4 TestsPhys'!U82)","v":""},{"$f":"IF('CF4 TestsPhys'!V82=\"\",\"\",'CF4 TestsPhys'!V82)","v":""},{"$f":"IF('CF4 TestsPhys'!W82=\"\",\"\",'CF4 TestsPhys'!W82)","v":""},{"$f":"IF('CF4 TestsPhys'!X82=\"\",\"\",'CF4 TestsPhys'!X82)","v":""},{"$f":"IF('CF4 TestsPhys'!Y82=\"\",\"\",'CF4 TestsPhys'!Y82)","v":""},{"$f":"IF('CF4 TestsPhys'!Z82=\"\",\"\",'CF4 TestsPhys'!Z82)","v":""},{"$f":"IF('CF4 TestsPhys'!AA82=\"\",\"\",'CF4 TestsPhys'!AA82)","v":""},{"$f":"IF('CF4 TestsPhys'!AB82=\"\",\"\",'CF4 TestsPhys'!AB82)","v":""},{"$f":"IF('CF4 TestsPhys'!AC82=\"\",\"\",'CF4 TestsPhys'!AC82)","v":""}]
[{"$f":"IF('CF4 TestsPhys'!B83=\"\",\"\",'CF4 TestsPhys'!B83)","v":""},{"$f":"IF('CF4 TestsPhys'!D83=\"\",\"\",'CF4 TestsPhys'!D83)","v":""},{"$f":"IF('CF4 TestsPhys'!E83=\"\",\"\",'CF4 TestsPhys'!E83)","v":""},{"$f":"IF('CF4 TestsPhys'!F83=\"\",\"\",'CF4 TestsPhys'!F83)","v":""},{"$f":"IF('CF4 TestsPhys'!G83=\"\",\"\",'CF4 TestsPhys'!G83)","v":""},{"$f":"IF('CF4 TestsPhys'!H83=\"\",\"\",'CF4 TestsPhys'!H83)","v":""},{"$f":"IF('CF4 TestsPhys'!I83=\"\",\"\",'CF4 TestsPhys'!I83)","v":""},{"$f":"IF('CF4 TestsPhys'!J83=\"\",\"\",'CF4 TestsPhys'!J83)","v":""},{"$f":"IF('CF4 TestsPhys'!K83=\"\",\"\",'CF4 TestsPhys'!K83)","v":""},{"$f":"IF('CF4 TestsPhys'!L83=\"\",\"\",'CF4 TestsPhys'!L83)","v":""},{"$f":"IF('CF4 TestsPhys'!M83=\"\",\"\",'CF4 TestsPhys'!M83)","v":""},{"$f":"IF('CF4 TestsPhys'!N83=\"\",\"\",'CF4 TestsPhys'!N83)","v":""},{"$f":"IF('CF4 TestsPhys'!O83=\"\",\"\",'CF4 TestsPhys'!O83)","v":""},{"$f":"IF('CF4 TestsPhys'!P83=\"\",\"\",'CF4 TestsPhys'!P83)","v":""},{"$f":"IF('CF4 TestsPhys'!Q83=\"\",\"\",'CF4 TestsPhys'!Q83)","v":""},{"$f":"IF('CF4 TestsPhys'!R83=\"\",\"\",'CF4 TestsPhys'!R83)","v":""},{"$f":"IF('CF4 TestsPhys'!S83=\"\",\"\",'CF4 TestsPhys'!S83)","v":""},{"$f":"IF('CF4 TestsPhys'!T83=\"\",\"\",'CF4 TestsPhys'!T83)","v":""},{"$f":"IF('CF4 TestsPhys'!U83=\"\",\"\",'CF4 TestsPhys'!U83)","v":""},{"$f":"IF('CF4 TestsPhys'!V83=\"\",\"\",'CF4 TestsPhys'!V83)","v":""},{"$f":"IF('CF4 TestsPhys'!W83=\"\",\"\",'CF4 TestsPhys'!W83)","v":""},{"$f":"IF('CF4 TestsPhys'!X83=\"\",\"\",'CF4 TestsPhys'!X83)","v":""},{"$f":"IF('CF4 TestsPhys'!Y83=\"\",\"\",'CF4 TestsPhys'!Y83)","v":""},{"$f":"IF('CF4 TestsPhys'!Z83=\"\",\"\",'CF4 TestsPhys'!Z83)","v":""},{"$f":"IF('CF4 TestsPhys'!AA83=\"\",\"\",'CF4 TestsPhys'!AA83)","v":""},{"$f":"IF('CF4 TestsPhys'!AB83=\"\",\"\",'CF4 TestsPhys'!AB83)","v":""},{"$f":"IF('CF4 TestsPhys'!AC83=\"\",\"\",'CF4 TestsPhys'!AC83)","v":""}]
[{"$f":"IF('CF4 TestsPhys'!B84=\"\",\"\",'CF4 TestsPhys'!B84)","v":""},{"$f":"IF('CF4 TestsPhys'!D84=\"\",\"\",'CF4 TestsPhys'!D84)","v":""},{"$f":"IF('CF4 TestsPhys'!E84=\"\",\"\",'CF4 TestsPhys'!E84)","v":""},{"$f":"IF('CF4 TestsPhys'!F84=\"\",\"\",'CF4 TestsPhys'!F84)","v":""},{"$f":"IF('CF4 TestsPhys'!G84=\"\",\"\",'CF4 TestsPhys'!G84)","v":""},{"$f":"IF('CF4 TestsPhys'!H84=\"\",\"\",'CF4 TestsPhys'!H84)","v":""},{"$f":"IF('CF4 TestsPhys'!I84=\"\",\"\",'CF4 TestsPhys'!I84)","v":""},{"$f":"IF('CF4 TestsPhys'!J84=\"\",\"\",'CF4 TestsPhys'!J84)","v":""},{"$f":"IF('CF4 TestsPhys'!K84=\"\",\"\",'CF4 TestsPhys'!K84)","v":""},{"$f":"IF('CF4 TestsPhys'!L84=\"\",\"\",'CF4 TestsPhys'!L84)","v":""},{"$f":"IF('CF4 TestsPhys'!M84=\"\",\"\",'CF4 TestsPhys'!M84)","v":""},{"$f":"IF('CF4 TestsPhys'!N84=\"\",\"\",'CF4 TestsPhys'!N84)","v":""},{"$f":"IF('CF4 TestsPhys'!O84=\"\",\"\",'CF4 TestsPhys'!O84)","v":""},{"$f":"IF('CF4 TestsPhys'!P84=\"\",\"\",'CF4 TestsPhys'!P84)","v":""},{"$f":"IF('CF4 TestsPhys'!Q84=\"\",\"\",'CF4 TestsPhys'!Q84)","v":""},{"$f":"IF('CF4 TestsPhys'!R84=\"\",\"\",'CF4 TestsPhys'!R84)","v":""},{"$f":"IF('CF4 TestsPhys'!S84=\"\",\"\",'CF4 TestsPhys'!S84)","v":""},{"$f":"IF('CF4 TestsPhys'!T84=\"\",\"\",'CF4 TestsPhys'!T84)","v":""},{"$f":"IF('CF4 TestsPhys'!U84=\"\",\"\",'CF4 TestsPhys'!U84)","v":""},{"$f":"IF('CF4 TestsPhys'!V84=\"\",\"\",'CF4 TestsPhys'!V84)","v":""},{"$f":"IF('CF4 TestsPhys'!W84=\"\",\"\",'CF4 TestsPhys'!W84)","v":""},{"$f":"IF('CF4 TestsPhys'!X84=\"\",\"\",'CF4 TestsPhys'!X84)","v":""},{"$f":"IF('CF4 TestsPhys'!Y84=\"\",\"\",'CF4 TestsPhys'!Y84)","v":""},{"$f":"IF('CF4 TestsPhys'!Z84=\"\",\"\",'CF4 TestsPhys'!Z84)","v":""},{"$f":"IF('CF4 TestsPhys'!AA84=\"\",\"\",'CF4 TestsPhys'!AA84)","v":""},{"$f":"IF('CF4 TestsPhys'!AB84=\"\",\"\",'CF4 TestsPhys'!AB84)","v":""},{"$f":"IF('CF4 TestsPhys'!AC84=\"\",\"\",'CF4 TestsPhys'!AC84)","v":""}]
[{"$f":"IF('CF4 TestsPhys'!B85=\"\",\"\",'CF4 TestsPhys'!B85)","v":""},{"$f":"IF('CF4 TestsPhys'!D85=\"\",\"\",'CF4 TestsPhys'!D85)","v":""},{"$f":"IF('CF4 TestsPhys'!E85=\"\",\"\",'CF4 TestsPhys'!E85)","v":""},{"$f":"IF('CF4 TestsPhys'!F85=\"\",\"\",'CF4 TestsPhys'!F85)","v":""},{"$f":"IF('CF4 TestsPhys'!G85=\"\",\"\",'CF4 TestsPhys'!G85)","v":""},{"$f":"IF('CF4 TestsPhys'!H85=\"\",\"\",'CF4 TestsPhys'!H85)","v":""},{"$f":"IF('CF4 TestsPhys'!I85=\"\",\"\",'CF4 TestsPhys'!I85)","v":""},{"$f":"IF('CF4 TestsPhys'!J85=\"\",\"\",'CF4 TestsPhys'!J85)","v":""},{"$f":"IF('CF4 TestsPhys'!K85=\"\",\"\",'CF4 TestsPhys'!K85)","v":""},{"$f":"IF('CF4 TestsPhys'!L85=\"\",\"\",'CF4 TestsPhys'!L85)","v":""},{"$f":"IF('CF4 TestsPhys'!M85=\"\",\"\",'CF4 TestsPhys'!M85)","v":""},{"$f":"IF('CF4 TestsPhys'!N85=\"\",\"\",'CF4 TestsPhys'!N85)","v":""},{"$f":"IF('CF4 TestsPhys'!O85=\"\",\"\",'CF4 TestsPhys'!O85)","v":""},{"$f":"IF('CF4 TestsPhys'!P85=\"\",\"\",'CF4 TestsPhys'!P85)","v":""},{"$f":"IF('CF4 TestsPhys'!Q85=\"\",\"\",'CF4 TestsPhys'!Q85)","v":""},{"$f":"IF('CF4 TestsPhys'!R85=\"\",\"\",'CF4 TestsPhys'!R85)","v":""},{"$f":"IF('CF4 TestsPhys'!S85=\"\",\"\",'CF4 TestsPhys'!S85)","v":""},{"$f":"IF('CF4 TestsPhys'!T85=\"\",\"\",'CF4 TestsPhys'!T85)","v":""},{"$f":"IF('CF4 TestsPhys'!U85=\"\",\"\",'CF4 TestsPhys'!U85)","v":""},{"$f":"IF('CF4 TestsPhys'!V85=\"\",\"\",'CF4 TestsPhys'!V85)","v":""},{"$f":"IF('CF4 TestsPhys'!W85=\"\",\"\",'CF4 TestsPhys'!W85)","v":""},{"$f":"IF('CF4 TestsPhys'!X85=\"\",\"\",'CF4 TestsPhys'!X85)","v":""},{"$f":"IF('CF4 TestsPhys'!Y85=\"\",\"\",'CF4 TestsPhys'!Y85)","v":""},{"$f":"IF('CF4 TestsPhys'!Z85=\"\",\"\",'CF4 TestsPhys'!Z85)","v":""},{"$f":"IF('CF4 TestsPhys'!AA85=\"\",\"\",'CF4 TestsPhys'!AA85)","v":""},{"$f":"IF('CF4 TestsPhys'!AB85=\"\",\"\",'CF4 TestsPhys'!AB85)","v":""},{"$f":"IF('CF4 TestsPhys'!AC85=\"\",\"\",'CF4 TestsPhys'!AC85)","v":""}]
[{"$f":"IF('CF4 TestsPhys'!B86=\"\",\"\",'CF4 TestsPhys'!B86)","v":""},{"$f":"IF('CF4 TestsPhys'!D86=\"\",\"\",'CF4 TestsPhys'!D86)","v":""},{"$f":"IF('CF4 TestsPhys'!E86=\"\",\"\",'CF4 TestsPhys'!E86)","v":""},{"$f":"IF('CF4 TestsPhys'!F86=\"\",\"\",'CF4 TestsPhys'!F86)","v":""},{"$f":"IF('CF4 TestsPhys'!G86=\"\",\"\",'CF4 TestsPhys'!G86)","v":""},{"$f":"IF('CF4 TestsPhys'!H86=\"\",\"\",'CF4 TestsPhys'!H86)","v":""},{"$f":"IF('CF4 TestsPhys'!I86=\"\",\"\",'CF4 TestsPhys'!I86)","v":""},{"$f":"IF('CF4 TestsPhys'!J86=\"\",\"\",'CF4 TestsPhys'!J86)","v":""},{"$f":"IF('CF4 TestsPhys'!K86=\"\",\"\",'CF4 TestsPhys'!K86)","v":""},{"$f":"IF('CF4 TestsPhys'!L86=\"\",\"\",'CF4 TestsPhys'!L86)","v":""},{"$f":"IF('CF4 TestsPhys'!M86=\"\",\"\",'CF4 TestsPhys'!M86)","v":""},{"$f":"IF('CF4 TestsPhys'!N86=\"\",\"\",'CF4 TestsPhys'!N86)","v":""},{"$f":"IF('CF4 TestsPhys'!O86=\"\",\"\",'CF4 TestsPhys'!O86)","v":""},{"$f":"IF('CF4 TestsPhys'!P86=\"\",\"\",'CF4 TestsPhys'!P86)","v":""},{"$f":"IF('CF4 TestsPhys'!Q86=\"\",\"\",'CF4 TestsPhys'!Q86)","v":""},{"$f":"IF('CF4 TestsPhys'!R86=\"\",\"\",'CF4 TestsPhys'!R86)","v":""},{"$f":"IF('CF4 TestsPhys'!S86=\"\",\"\",'CF4 TestsPhys'!S86)","v":""},{"$f":"IF('CF4 TestsPhys'!T86=\"\",\"\",'CF4 TestsPhys'!T86)","v":""},{"$f":"IF('CF4 TestsPhys'!U86=\"\",\"\",'CF4 TestsPhys'!U86)","v":""},{"$f":"IF('CF4 TestsPhys'!V86=\"\",\"\",'CF4 TestsPhys'!V86)","v":""},{"$f":"IF('CF4 TestsPhys'!W86=\"\",\"\",'CF4 TestsPhys'!W86)","v":""},{"$f":"IF('CF4 TestsPhys'!X86=\"\",\"\",'CF4 TestsPhys'!X86)","v":""},{"$f":"IF('CF4 TestsPhys'!Y86=\"\",\"\",'CF4 TestsPhys'!Y86)","v":""},{"$f":"IF('CF4 TestsPhys'!Z86=\"\",\"\",'CF4 TestsPhys'!Z86)","v":""},{"$f":"IF('CF4 TestsPhys'!AA86=\"\",\"\",'CF4 TestsPhys'!AA86)","v":""},{"$f":"IF('CF4 TestsPhys'!AB86=\"\",\"\",'CF4 TestsPhys'!AB86)","v":""},{"$f":"IF('CF4 TestsPhys'!AC86=\"\",\"\",'CF4 TestsPhys'!AC86)","v":""}]
[{"$f":"IF('CF4 TestsPhys'!B87=\"\",\"\",'CF4 TestsPhys'!B87)","v":""},{"$f":"IF('CF4 TestsPhys'!D87=\"\",\"\",'CF4 TestsPhys'!D87)","v":""},{"$f":"IF('CF4 TestsPhys'!E87=\"\",\"\",'CF4 TestsPhys'!E87)","v":""},{"$f":"IF('CF4 TestsPhys'!F87=\"\",\"\",'CF4 TestsPhys'!F87)","v":""},{"$f":"IF('CF4 TestsPhys'!G87=\"\",\"\",'CF4 TestsPhys'!G87)","v":""},{"$f":"IF('CF4 TestsPhys'!H87=\"\",\"\",'CF4 TestsPhys'!H87)","v":""},{"$f":"IF('CF4 TestsPhys'!I87=\"\",\"\",'CF4 TestsPhys'!I87)","v":""},{"$f":"IF('CF4 TestsPhys'!J87=\"\",\"\",'CF4 TestsPhys'!J87)","v":""},{"$f":"IF('CF4 TestsPhys'!K87=\"\",\"\",'CF4 TestsPhys'!K87)","v":""},{"$f":"IF('CF4 TestsPhys'!L87=\"\",\"\",'CF4 TestsPhys'!L87)","v":""},{"$f":"IF('CF4 TestsPhys'!M87=\"\",\"\",'CF4 TestsPhys'!M87)","v":""},{"$f":"IF('CF4 TestsPhys'!N87=\"\",\"\",'CF4 TestsPhys'!N87)","v":""},{"$f":"IF('CF4 TestsPhys'!O87=\"\",\"\",'CF4 TestsPhys'!O87)","v":""},{"$f":"IF('CF4 TestsPhys'!P87=\"\",\"\",'CF4 TestsPhys'!P87)","v":""},{"$f":"IF('CF4 TestsPhys'!Q87=\"\",\"\",'CF4 TestsPhys'!Q87)","v":""},{"$f":"IF('CF4 TestsPhys'!R87=\"\",\"\",'CF4 TestsPhys'!R87)","v":""},{"$f":"IF('CF4 TestsPhys'!S87=\"\",\"\",'CF4 TestsPhys'!S87)","v":""},{"$f":"IF('CF4 TestsPhys'!T87=\"\",\"\",'CF4 TestsPhys'!T87)","v":""},{"$f":"IF('CF4 TestsPhys'!U87=\"\",\"\",'CF4 TestsPhys'!U87)","v":""},{"$f":"IF('CF4 TestsPhys'!V87=\"\",\"\",'CF4 TestsPhys'!V87)","v":""},{"$f":"IF('CF4 TestsPhys'!W87=\"\",\"\",'CF4 TestsPhys'!W87)","v":""},{"$f":"IF('CF4 TestsPhys'!X87=\"\",\"\",'CF4 TestsPhys'!X87)","v":""},{"$f":"IF('CF4 TestsPhys'!Y87=\"\",\"\",'CF4 TestsPhys'!Y87)","v":""},{"$f":"IF('CF4 TestsPhys'!Z87=\"\",\"\",'CF4 TestsPhys'!Z87)","v":""},{"$f":"IF('CF4 TestsPhys'!AA87=\"\",\"\",'CF4 TestsPhys'!AA87)","v":""},{"$f":"IF('CF4 TestsPhys'!AB87=\"\",\"\",'CF4 TestsPhys'!AB87)","v":""},{"$f":"IF('CF4 TestsPhys'!AC87=\"\",\"\",'CF4 TestsPhys'!AC87)","v":""}]
[{"$f":"IF('CF4 TestsPhys'!B88=\"\",\"\",'CF4 TestsPhys'!B88)","v":""},{"$f":"IF('CF4 TestsPhys'!D88=\"\",\"\",'CF4 TestsPhys'!D88)","v":""},{"$f":"IF('CF4 TestsPhys'!E88=\"\",\"\",'CF4 TestsPhys'!E88)","v":""},{"$f":"IF('CF4 TestsPhys'!F88=\"\",\"\",'CF4 TestsPhys'!F88)","v":""},{"$f":"IF('CF4 TestsPhys'!G88=\"\",\"\",'CF4 TestsPhys'!G88)","v":""},{"$f":"IF('CF4 TestsPhys'!H88=\"\",\"\",'CF4 TestsPhys'!H88)","v":""},{"$f":"IF('CF4 TestsPhys'!I88=\"\",\"\",'CF4 TestsPhys'!I88)","v":""},{"$f":"IF('CF4 TestsPhys'!J88=\"\",\"\",'CF4 TestsPhys'!J88)","v":""},{"$f":"IF('CF4 TestsPhys'!K88=\"\",\"\",'CF4 TestsPhys'!K88)","v":""},{"$f":"IF('CF4 TestsPhys'!L88=\"\",\"\",'CF4 TestsPhys'!L88)","v":""},{"$f":"IF('CF4 TestsPhys'!M88=\"\",\"\",'CF4 TestsPhys'!M88)","v":""},{"$f":"IF('CF4 TestsPhys'!N88=\"\",\"\",'CF4 TestsPhys'!N88)","v":""},{"$f":"IF('CF4 TestsPhys'!O88=\"\",\"\",'CF4 TestsPhys'!O88)","v":""},{"$f":"IF('CF4 TestsPhys'!P88=\"\",\"\",'CF4 TestsPhys'!P88)","v":""},{"$f":"IF('CF4 TestsPhys'!Q88=\"\",\"\",'CF4 TestsPhys'!Q88)","v":""},{"$f":"IF('CF4 TestsPhys'!R88=\"\",\"\",'CF4 TestsPhys'!R88)","v":""},{"$f":"IF('CF4 TestsPhys'!S88=\"\",\"\",'CF4 TestsPhys'!S88)","v":""},{"$f":"IF('CF4 TestsPhys'!T88=\"\",\"\",'CF4 TestsPhys'!T88)","v":""},{"$f":"IF('CF4 TestsPhys'!U88=\"\",\"\",'CF4 TestsPhys'!U88)","v":""},{"$f":"IF('CF4 TestsPhys'!V88=\"\",\"\",'CF4 TestsPhys'!V88)","v":""},{"$f":"IF('CF4 TestsPhys'!W88=\"\",\"\",'CF4 TestsPhys'!W88)","v":""},{"$f":"IF('CF4 TestsPhys'!X88=\"\",\"\",'CF4 TestsPhys'!X88)","v":""},{"$f":"IF('CF4 TestsPhys'!Y88=\"\",\"\",'CF4 TestsPhys'!Y88)","v":""},{"$f":"IF('CF4 TestsPhys'!Z88=\"\",\"\",'CF4 TestsPhys'!Z88)","v":""},{"$f":"IF('CF4 TestsPhys'!AA88=\"\",\"\",'CF4 TestsPhys'!AA88)","v":""},{"$f":"IF('CF4 TestsPhys'!AB88=\"\",\"\",'CF4 TestsPhys'!AB88)","v":""},{"$f":"IF('CF4 TestsPhys'!AC88=\"\",\"\",'CF4 TestsPhys'!AC88)","v":""}]
[{"$f":"IF('CF4 TestsPhys'!B89=\"\",\"\",'CF4 TestsPhys'!B89)","v":""},{"$f":"IF('CF4 TestsPhys'!D89=\"\",\"\",'CF4 TestsPhys'!D89)","v":""},{"$f":"IF('CF4 TestsPhys'!E89=\"\",\"\",'CF4 TestsPhys'!E89)","v":""},{"$f":"IF('CF4 TestsPhys'!F89=\"\",\"\",'CF4 TestsPhys'!F89)","v":""},{"$f":"IF('CF4 TestsPhys'!G89=\"\",\"\",'CF4 TestsPhys'!G89)","v":""},{"$f":"IF('CF4 TestsPhys'!H89=\"\",\"\",'CF4 TestsPhys'!H89)","v":""},{"$f":"IF('CF4 TestsPhys'!I89=\"\",\"\",'CF4 TestsPhys'!I89)","v":""},{"$f":"IF('CF4 TestsPhys'!J89=\"\",\"\",'CF4 TestsPhys'!J89)","v":""},{"$f":"IF('CF4 TestsPhys'!K89=\"\",\"\",'CF4 TestsPhys'!K89)","v":""},{"$f":"IF('CF4 TestsPhys'!L89=\"\",\"\",'CF4 TestsPhys'!L89)","v":""},{"$f":"IF('CF4 TestsPhys'!M89=\"\",\"\",'CF4 TestsPhys'!M89)","v":""},{"$f":"IF('CF4 TestsPhys'!N89=\"\",\"\",'CF4 TestsPhys'!N89)","v":""},{"$f":"IF('CF4 TestsPhys'!O89=\"\",\"\",'CF4 TestsPhys'!O89)","v":""},{"$f":"IF('CF4 TestsPhys'!P89=\"\",\"\",'CF4 TestsPhys'!P89)","v":""},{"$f":"IF('CF4 TestsPhys'!Q89=\"\",\"\",'CF4 TestsPhys'!Q89)","v":""},{"$f":"IF('CF4 TestsPhys'!R89=\"\",\"\",'CF4 TestsPhys'!R89)","v":""},{"$f":"IF('CF4 TestsPhys'!S89=\"\",\"\",'CF4 TestsPhys'!S89)","v":""},{"$f":"IF('CF4 TestsPhys'!T89=\"\",\"\",'CF4 TestsPhys'!T89)","v":""},{"$f":"IF('CF4 TestsPhys'!U89=\"\",\"\",'CF4 TestsPhys'!U89)","v":""},{"$f":"IF('CF4 TestsPhys'!V89=\"\",\"\",'CF4 TestsPhys'!V89)","v":""},{"$f":"IF('CF4 TestsPhys'!W89=\"\",\"\",'CF4 TestsPhys'!W89)","v":""},{"$f":"IF('CF4 TestsPhys'!X89=\"\",\"\",'CF4 TestsPhys'!X89)","v":""},{"$f":"IF('CF4 TestsPhys'!Y89=\"\",\"\",'CF4 TestsPhys'!Y89)","v":""},{"$f":"IF('CF4 TestsPhys'!Z89=\"\",\"\",'CF4 TestsPhys'!Z89)","v":""},{"$f":"IF('CF4 TestsPhys'!AA89=\"\",\"\",'CF4 TestsPhys'!AA89)","v":""},{"$f":"IF('CF4 TestsPhys'!AB89=\"\",\"\",'CF4 TestsPhys'!AB89)","v":""},{"$f":"IF('CF4 TestsPhys'!AC89=\"\",\"\",'CF4 TestsPhys'!AC89)","v":""}]
[{"$f":"IF('CF4 TestsPhys'!B90=\"\",\"\",'CF4 TestsPhys'!B90)","v":""},{"$f":"IF('CF4 TestsPhys'!D90=\"\",\"\",'CF4 TestsPhys'!D90)","v":""},{"$f":"IF('CF4 TestsPhys'!E90=\"\",\"\",'CF4 TestsPhys'!E90)","v":""},{"$f":"IF('CF4 TestsPhys'!F90=\"\",\"\",'CF4 TestsPhys'!F90)","v":""},{"$f":"IF('CF4 TestsPhys'!G90=\"\",\"\",'CF4 TestsPhys'!G90)","v":""},{"$f":"IF('CF4 TestsPhys'!H90=\"\",\"\",'CF4 TestsPhys'!H90)","v":""},{"$f":"IF('CF4 TestsPhys'!I90=\"\",\"\",'CF4 TestsPhys'!I90)","v":""},{"$f":"IF('CF4 TestsPhys'!J90=\"\",\"\",'CF4 TestsPhys'!J90)","v":""},{"$f":"IF('CF4 TestsPhys'!K90=\"\",\"\",'CF4 TestsPhys'!K90)","v":""},{"$f":"IF('CF4 TestsPhys'!L90=\"\",\"\",'CF4 TestsPhys'!L90)","v":""},{"$f":"IF('CF4 TestsPhys'!M90=\"\",\"\",'CF4 TestsPhys'!M90)","v":""},{"$f":"IF('CF4 TestsPhys'!N90=\"\",\"\",'CF4 TestsPhys'!N90)","v":""},{"$f":"IF('CF4 TestsPhys'!O90=\"\",\"\",'CF4 TestsPhys'!O90)","v":""},{"$f":"IF('CF4 TestsPhys'!P90=\"\",\"\",'CF4 TestsPhys'!P90)","v":""},{"$f":"IF('CF4 TestsPhys'!Q90=\"\",\"\",'CF4 TestsPhys'!Q90)","v":""},{"$f":"IF('CF4 TestsPhys'!R90=\"\",\"\",'CF4 TestsPhys'!R90)","v":""},{"$f":"IF('CF4 TestsPhys'!S90=\"\",\"\",'CF4 TestsPhys'!S90)","v":""},{"$f":"IF('CF4 TestsPhys'!T90=\"\",\"\",'CF4 TestsPhys'!T90)","v":""},{"$f":"IF('CF4 TestsPhys'!U90=\"\",\"\",'CF4 TestsPhys'!U90)","v":""},{"$f":"IF('CF4 TestsPhys'!V90=\"\",\"\",'CF4 TestsPhys'!V90)","v":""},{"$f":"IF('CF4 TestsPhys'!W90=\"\",\"\",'CF4 TestsPhys'!W90)","v":""},{"$f":"IF('CF4 TestsPhys'!X90=\"\",\"\",'CF4 TestsPhys'!X90)","v":""},{"$f":"IF('CF4 TestsPhys'!Y90=\"\",\"\",'CF4 TestsPhys'!Y90)","v":""},{"$f":"IF('CF4 TestsPhys'!Z90=\"\",\"\",'CF4 TestsPhys'!Z90)","v":""},{"$f":"IF('CF4 TestsPhys'!AA90=\"\",\"\",'CF4 TestsPhys'!AA90)","v":""},{"$f":"IF('CF4 TestsPhys'!AB90=\"\",\"\",'CF4 TestsPhys'!AB90)","v":""},{"$f":"IF('CF4 TestsPhys'!AC90=\"\",\"\",'CF4 TestsPhys'!AC90)","v":""}]
[{"$f":"IF('CF4 TestsPhys'!B91=\"\",\"\",'CF4 TestsPhys'!B91)","v":""},{"$f":"IF('CF4 TestsPhys'!D91=\"\",\"\",'CF4 TestsPhys'!D91)","v":""},{"$f":"IF('CF4 TestsPhys'!E91=\"\",\"\",'CF4 TestsPhys'!E91)","v":""},{"$f":"IF('CF4 TestsPhys'!F91=\"\",\"\",'CF4 TestsPhys'!F91)","v":""},{"$f":"IF('CF4 TestsPhys'!G91=\"\",\"\",'CF4 TestsPhys'!G91)","v":""},{"$f":"IF('CF4 TestsPhys'!H91=\"\",\"\",'CF4 TestsPhys'!H91)","v":""},{"$f":"IF('CF4 TestsPhys'!I91=\"\",\"\",'CF4 TestsPhys'!I91)","v":""},{"$f":"IF('CF4 TestsPhys'!J91=\"\",\"\",'CF4 TestsPhys'!J91)","v":""},{"$f":"IF('CF4 TestsPhys'!K91=\"\",\"\",'CF4 TestsPhys'!K91)","v":""},{"$f":"IF('CF4 TestsPhys'!L91=\"\",\"\",'CF4 TestsPhys'!L91)","v":""},{"$f":"IF('CF4 TestsPhys'!M91=\"\",\"\",'CF4 TestsPhys'!M91)","v":""},{"$f":"IF('CF4 TestsPhys'!N91=\"\",\"\",'CF4 TestsPhys'!N91)","v":""},{"$f":"IF('CF4 TestsPhys'!O91=\"\",\"\",'CF4 TestsPhys'!O91)","v":""},{"$f":"IF('CF4 TestsPhys'!P91=\"\",\"\",'CF4 TestsPhys'!P91)","v":""},{"$f":"IF('CF4 TestsPhys'!Q91=\"\",\"\",'CF4 TestsPhys'!Q91)","v":""},{"$f":"IF('CF4 TestsPhys'!R91=\"\",\"\",'CF4 TestsPhys'!R91)","v":""},{"$f":"IF('CF4 TestsPhys'!S91=\"\",\"\",'CF4 TestsPhys'!S91)","v":""},{"$f":"IF('CF4 TestsPhys'!T91=\"\",\"\",'CF4 TestsPhys'!T91)","v":""},{"$f":"IF('CF4 TestsPhys'!U91=\"\",\"\",'CF4 TestsPhys'!U91)","v":""},{"$f":"IF('CF4 TestsPhys'!V91=\"\",\"\",'CF4 TestsPhys'!V91)","v":""},{"$f":"IF('CF4 TestsPhys'!W91=\"\",\"\",'CF4 TestsPhys'!W91)","v":""},{"$f":"IF('CF4 TestsPhys'!X91=\"\",\"\",'CF4 TestsPhys'!X91)","v":""},{"$f":"IF('CF4 TestsPhys'!Y91=\"\",\"\",'CF4 TestsPhys'!Y91)","v":""},{"$f":"IF('CF4 TestsPhys'!Z91=\"\",\"\",'CF4 TestsPhys'!Z91)","v":""},{"$f":"IF('CF4 TestsPhys'!AA91=\"\",\"\",'CF4 TestsPhys'!AA91)","v":""},{"$f":"IF('CF4 TestsPhys'!AB91=\"\",\"\",'CF4 TestsPhys'!AB91)","v":""},{"$f":"IF('CF4 TestsPhys'!AC91=\"\",\"\",'CF4 TestsPhys'!AC91)","v":""}]
[{"$f":"IF('CF4 TestsPhys'!B92=\"\",\"\",'CF4 TestsPhys'!B92)","v":""},{"$f":"IF('CF4 TestsPhys'!D92=\"\",\"\",'CF4 TestsPhys'!D92)","v":""},{"$f":"IF('CF4 TestsPhys'!E92=\"\",\"\",'CF4 TestsPhys'!E92)","v":""},{"$f":"IF('CF4 TestsPhys'!F92=\"\",\"\",'CF4 TestsPhys'!F92)","v":""},{"$f":"IF('CF4 TestsPhys'!G92=\"\",\"\",'CF4 TestsPhys'!G92)","v":""},{"$f":"IF('CF4 TestsPhys'!H92=\"\",\"\",'CF4 TestsPhys'!H92)","v":""},{"$f":"IF('CF4 TestsPhys'!I92=\"\",\"\",'CF4 TestsPhys'!I92)","v":""},{"$f":"IF('CF4 TestsPhys'!J92=\"\",\"\",'CF4 TestsPhys'!J92)","v":""},{"$f":"IF('CF4 TestsPhys'!K92=\"\",\"\",'CF4 TestsPhys'!K92)","v":""},{"$f":"IF('CF4 TestsPhys'!L92=\"\",\"\",'CF4 TestsPhys'!L92)","v":""},{"$f":"IF('CF4 TestsPhys'!M92=\"\",\"\",'CF4 TestsPhys'!M92)","v":""},{"$f":"IF('CF4 TestsPhys'!N92=\"\",\"\",'CF4 TestsPhys'!N92)","v":""},{"$f":"IF('CF4 TestsPhys'!O92=\"\",\"\",'CF4 TestsPhys'!O92)","v":""},{"$f":"IF('CF4 TestsPhys'!P92=\"\",\"\",'CF4 TestsPhys'!P92)","v":""},{"$f":"IF('CF4 TestsPhys'!Q92=\"\",\"\",'CF4 TestsPhys'!Q92)","v":""},{"$f":"IF('CF4 TestsPhys'!R92=\"\",\"\",'CF4 TestsPhys'!R92)","v":""},{"$f":"IF('CF4 TestsPhys'!S92=\"\",\"\",'CF4 TestsPhys'!S92)","v":""},{"$f":"IF('CF4 TestsPhys'!T92=\"\",\"\",'CF4 TestsPhys'!T92)","v":""},{"$f":"IF('CF4 TestsPhys'!U92=\"\",\"\",'CF4 TestsPhys'!U92)","v":""},{"$f":"IF('CF4 TestsPhys'!V92=\"\",\"\",'CF4 TestsPhys'!V92)","v":""},{"$f":"IF('CF4 TestsPhys'!W92=\"\",\"\",'CF4 TestsPhys'!W92)","v":""},{"$f":"IF('CF4 TestsPhys'!X92=\"\",\"\",'CF4 TestsPhys'!X92)","v":""},{"$f":"IF('CF4 TestsPhys'!Y92=\"\",\"\",'CF4 TestsPhys'!Y92)","v":""},{"$f":"IF('CF4 TestsPhys'!Z92=\"\",\"\",'CF4 TestsPhys'!Z92)","v":""},{"$f":"IF('CF4 TestsPhys'!AA92=\"\",\"\",'CF4 TestsPhys'!AA92)","v":""},{"$f":"IF('CF4 TestsPhys'!AB92=\"\",\"\",'CF4 TestsPhys'!AB92)","v":""},{"$f":"IF('CF4 TestsPhys'!AC92=\"\",\"\",'CF4 TestsPhys'!AC92)","v":""}]
[{"$f":"IF('CF4 TestsPhys'!B93=\"\",\"\",'CF4 TestsPhys'!B93)","v":""},{"$f":"IF('CF4 TestsPhys'!D93=\"\",\"\",'CF4 TestsPhys'!D93)","v":""},{"$f":"IF('CF4 TestsPhys'!E93=\"\",\"\",'CF4 TestsPhys'!E93)","v":""},{"$f":"IF('CF4 TestsPhys'!F93=\"\",\"\",'CF4 TestsPhys'!F93)","v":""},{"$f":"IF('CF4 TestsPhys'!G93=\"\",\"\",'CF4 TestsPhys'!G93)","v":""},{"$f":"IF('CF4 TestsPhys'!H93=\"\",\"\",'CF4 TestsPhys'!H93)","v":""},{"$f":"IF('CF4 TestsPhys'!I93=\"\",\"\",'CF4 TestsPhys'!I93)","v":""},{"$f":"IF('CF4 TestsPhys'!J93=\"\",\"\",'CF4 TestsPhys'!J93)","v":""},{"$f":"IF('CF4 TestsPhys'!K93=\"\",\"\",'CF4 TestsPhys'!K93)","v":""},{"$f":"IF('CF4 TestsPhys'!L93=\"\",\"\",'CF4 TestsPhys'!L93)","v":""},{"$f":"IF('CF4 TestsPhys'!M93=\"\",\"\",'CF4 TestsPhys'!M93)","v":""},{"$f":"IF('CF4 TestsPhys'!N93=\"\",\"\",'CF4 TestsPhys'!N93)","v":""},{"$f":"IF('CF4 TestsPhys'!O93=\"\",\"\",'CF4 TestsPhys'!O93)","v":""},{"$f":"IF('CF4 TestsPhys'!P93=\"\",\"\",'CF4 TestsPhys'!P93)","v":""},{"$f":"IF('CF4 TestsPhys'!Q93=\"\",\"\",'CF4 TestsPhys'!Q93)","v":""},{"$f":"IF('CF4 TestsPhys'!R93=\"\",\"\",'CF4 TestsPhys'!R93)","v":""},{"$f":"IF('CF4 TestsPhys'!S93=\"\",\"\",'CF4 TestsPhys'!S93)","v":""},{"$f":"IF('CF4 TestsPhys'!T93=\"\",\"\",'CF4 TestsPhys'!T93)","v":""},{"$f":"IF('CF4 TestsPhys'!U93=\"\",\"\",'CF4 TestsPhys'!U93)","v":""},{"$f":"IF('CF4 TestsPhys'!V93=\"\",\"\",'CF4 TestsPhys'!V93)","v":""},{"$f":"IF('CF4 TestsPhys'!W93=\"\",\"\",'CF4 TestsPhys'!W93)","v":""},{"$f":"IF('CF4 TestsPhys'!X93=\"\",\"\",'CF4 TestsPhys'!X93)","v":""},{"$f":"IF('CF4 TestsPhys'!Y93=\"\",\"\",'CF4 TestsPhys'!Y93)","v":""},{"$f":"IF('CF4 TestsPhys'!Z93=\"\",\"\",'CF4 TestsPhys'!Z93)","v":""},{"$f":"IF('CF4 TestsPhys'!AA93=\"\",\"\",'CF4 TestsPhys'!AA93)","v":""},{"$f":"IF('CF4 TestsPhys'!AB93=\"\",\"\",'CF4 TestsPhys'!AB93)","v":""},{"$f":"IF('CF4 TestsPhys'!AC93=\"\",\"\",'CF4 TestsPhys'!AC93)","v":""}]
[{"$f":"IF('CF4 TestsPhys'!B94=\"\",\"\",'CF4 TestsPhys'!B94)","v":""},{"$f":"IF('CF4 TestsPhys'!D94=\"\",\"\",'CF4 TestsPhys'!D94)","v":""},{"$f":"IF('CF4 TestsPhys'!E94=\"\",\"\",'CF4 TestsPhys'!E94)","v":""},{"$f":"IF('CF4 TestsPhys'!F94=\"\",\"\",'CF4 TestsPhys'!F94)","v":""},{"$f":"IF('CF4 TestsPhys'!G94=\"\",\"\",'CF4 TestsPhys'!G94)","v":""},{"$f":"IF('CF4 TestsPhys'!H94=\"\",\"\",'CF4 TestsPhys'!H94)","v":""},{"$f":"IF('CF4 TestsPhys'!I94=\"\",\"\",'CF4 TestsPhys'!I94)","v":""},{"$f":"IF('CF4 TestsPhys'!J94=\"\",\"\",'CF4 TestsPhys'!J94)","v":""},{"$f":"IF('CF4 TestsPhys'!K94=\"\",\"\",'CF4 TestsPhys'!K94)","v":""},{"$f":"IF('CF4 TestsPhys'!L94=\"\",\"\",'CF4 TestsPhys'!L94)","v":""},{"$f":"IF('CF4 TestsPhys'!M94=\"\",\"\",'CF4 TestsPhys'!M94)","v":""},{"$f":"IF('CF4 TestsPhys'!N94=\"\",\"\",'CF4 TestsPhys'!N94)","v":""},{"$f":"IF('CF4 TestsPhys'!O94=\"\",\"\",'CF4 TestsPhys'!O94)","v":""},{"$f":"IF('CF4 TestsPhys'!P94=\"\",\"\",'CF4 TestsPhys'!P94)","v":""},{"$f":"IF('CF4 TestsPhys'!Q94=\"\",\"\",'CF4 TestsPhys'!Q94)","v":""},{"$f":"IF('CF4 TestsPhys'!R94=\"\",\"\",'CF4 TestsPhys'!R94)","v":""},{"$f":"IF('CF4 TestsPhys'!S94=\"\",\"\",'CF4 TestsPhys'!S94)","v":""},{"$f":"IF('CF4 TestsPhys'!T94=\"\",\"\",'CF4 TestsPhys'!T94)","v":""},{"$f":"IF('CF4 TestsPhys'!U94=\"\",\"\",'CF4 TestsPhys'!U94)","v":""},{"$f":"IF('CF4 TestsPhys'!V94=\"\",\"\",'CF4 TestsPhys'!V94)","v":""},{"$f":"IF('CF4 TestsPhys'!W94=\"\",\"\",'CF4 TestsPhys'!W94)","v":""},{"$f":"IF('CF4 TestsPhys'!X94=\"\",\"\",'CF4 TestsPhys'!X94)","v":""},{"$f":"IF('CF4 TestsPhys'!Y94=\"\",\"\",'CF4 TestsPhys'!Y94)","v":""},{"$f":"IF('CF4 TestsPhys'!Z94=\"\",\"\",'CF4 TestsPhys'!Z94)","v":""},{"$f":"IF('CF4 TestsPhys'!AA94=\"\",\"\",'CF4 TestsPhys'!AA94)","v":""},{"$f":"IF('CF4 TestsPhys'!AB94=\"\",\"\",'CF4 TestsPhys'!AB94)","v":""},{"$f":"IF('CF4 TestsPhys'!AC94=\"\",\"\",'CF4 TestsPhys'!AC94)","v":""}]
[{"$f":"IF('CF4 TestsPhys'!B95=\"\",\"\",'CF4 TestsPhys'!B95)","v":""},{"$f":"IF('CF4 TestsPhys'!D95=\"\",\"\",'CF4 TestsPhys'!D95)","v":""},{"$f":"IF('CF4 TestsPhys'!E95=\"\",\"\",'CF4 TestsPhys'!E95)","v":""},{"$f":"IF('CF4 TestsPhys'!F95=\"\",\"\",'CF4 TestsPhys'!F95)","v":""},{"$f":"IF('CF4 TestsPhys'!G95=\"\",\"\",'CF4 TestsPhys'!G95)","v":""},{"$f":"IF('CF4 TestsPhys'!H95=\"\",\"\",'CF4 TestsPhys'!H95)","v":""},{"$f":"IF('CF4 TestsPhys'!I95=\"\",\"\",'CF4 TestsPhys'!I95)","v":""},{"$f":"IF('CF4 TestsPhys'!J95=\"\",\"\",'CF4 TestsPhys'!J95)","v":""},{"$f":"IF('CF4 TestsPhys'!K95=\"\",\"\",'CF4 TestsPhys'!K95)","v":""},{"$f":"IF('CF4 TestsPhys'!L95=\"\",\"\",'CF4 TestsPhys'!L95)","v":""},{"$f":"IF('CF4 TestsPhys'!M95=\"\",\"\",'CF4 TestsPhys'!M95)","v":""},{"$f":"IF('CF4 TestsPhys'!N95=\"\",\"\",'CF4 TestsPhys'!N95)","v":""},{"$f":"IF('CF4 TestsPhys'!O95=\"\",\"\",'CF4 TestsPhys'!O95)","v":""},{"$f":"IF('CF4 TestsPhys'!P95=\"\",\"\",'CF4 TestsPhys'!P95)","v":""},{"$f":"IF('CF4 TestsPhys'!Q95=\"\",\"\",'CF4 TestsPhys'!Q95)","v":""},{"$f":"IF('CF4 TestsPhys'!R95=\"\",\"\",'CF4 TestsPhys'!R95)","v":""},{"$f":"IF('CF4 TestsPhys'!S95=\"\",\"\",'CF4 TestsPhys'!S95)","v":""},{"$f":"IF('CF4 TestsPhys'!T95=\"\",\"\",'CF4 TestsPhys'!T95)","v":""},{"$f":"IF('CF4 TestsPhys'!U95=\"\",\"\",'CF4 TestsPhys'!U95)","v":""},{"$f":"IF('CF4 TestsPhys'!V95=\"\",\"\",'CF4 TestsPhys'!V95)","v":""},{"$f":"IF('CF4 TestsPhys'!W95=\"\",\"\",'CF4 TestsPhys'!W95)","v":""},{"$f":"IF('CF4 TestsPhys'!X95=\"\",\"\",'CF4 TestsPhys'!X95)","v":""},{"$f":"IF('CF4 TestsPhys'!Y95=\"\",\"\",'CF4 TestsPhys'!Y95)","v":""},{"$f":"IF('CF4 TestsPhys'!Z95=\"\",\"\",'CF4 TestsPhys'!Z95)","v":""},{"$f":"IF('CF4 TestsPhys'!AA95=\"\",\"\",'CF4 TestsPhys'!AA95)","v":""},{"$f":"IF('CF4 TestsPhys'!AB95=\"\",\"\",'CF4 TestsPhys'!AB95)","v":""},{"$f":"IF('CF4 TestsPhys'!AC95=\"\",\"\",'CF4 TestsPhys'!AC95)","v":""}]
[{"$f":"IF('CF4 TestsPhys'!B96=\"\",\"\",'CF4 TestsPhys'!B96)","v":""},{"$f":"IF('CF4 TestsPhys'!D96=\"\",\"\",'CF4 TestsPhys'!D96)","v":""},{"$f":"IF('CF4 TestsPhys'!E96=\"\",\"\",'CF4 TestsPhys'!E96)","v":""},{"$f":"IF('CF4 TestsPhys'!F96=\"\",\"\",'CF4 TestsPhys'!F96)","v":""},{"$f":"IF('CF4 TestsPhys'!G96=\"\",\"\",'CF4 TestsPhys'!G96)","v":""},{"$f":"IF('CF4 TestsPhys'!H96=\"\",\"\",'CF4 TestsPhys'!H96)","v":""},{"$f":"IF('CF4 TestsPhys'!I96=\"\",\"\",'CF4 TestsPhys'!I96)","v":""},{"$f":"IF('CF4 TestsPhys'!J96=\"\",\"\",'CF4 TestsPhys'!J96)","v":""},{"$f":"IF('CF4 TestsPhys'!K96=\"\",\"\",'CF4 TestsPhys'!K96)","v":""},{"$f":"IF('CF4 TestsPhys'!L96=\"\",\"\",'CF4 TestsPhys'!L96)","v":""},{"$f":"IF('CF4 TestsPhys'!M96=\"\",\"\",'CF4 TestsPhys'!M96)","v":""},{"$f":"IF('CF4 TestsPhys'!N96=\"\",\"\",'CF4 TestsPhys'!N96)","v":""},{"$f":"IF('CF4 TestsPhys'!O96=\"\",\"\",'CF4 TestsPhys'!O96)","v":""},{"$f":"IF('CF4 TestsPhys'!P96=\"\",\"\",'CF4 TestsPhys'!P96)","v":""},{"$f":"IF('CF4 TestsPhys'!Q96=\"\",\"\",'CF4 TestsPhys'!Q96)","v":""},{"$f":"IF('CF4 TestsPhys'!R96=\"\",\"\",'CF4 TestsPhys'!R96)","v":""},{"$f":"IF('CF4 TestsPhys'!S96=\"\",\"\",'CF4 TestsPhys'!S96)","v":""},{"$f":"IF('CF4 TestsPhys'!T96=\"\",\"\",'CF4 TestsPhys'!T96)","v":""},{"$f":"IF('CF4 TestsPhys'!U96=\"\",\"\",'CF4 TestsPhys'!U96)","v":""},{"$f":"IF('CF4 TestsPhys'!V96=\"\",\"\",'CF4 TestsPhys'!V96)","v":""},{"$f":"IF('CF4 TestsPhys'!W96=\"\",\"\",'CF4 TestsPhys'!W96)","v":""},{"$f":"IF('CF4 TestsPhys'!X96=\"\",\"\",'CF4 TestsPhys'!X96)","v":""},{"$f":"IF('CF4 TestsPhys'!Y96=\"\",\"\",'CF4 TestsPhys'!Y96)","v":""},{"$f":"IF('CF4 TestsPhys'!Z96=\"\",\"\",'CF4 TestsPhys'!Z96)","v":""},{"$f":"IF('CF4 TestsPhys'!AA96=\"\",\"\",'CF4 TestsPhys'!AA96)","v":""},{"$f":"IF('CF4 TestsPhys'!AB96=\"\",\"\",'CF4 TestsPhys'!AB96)","v":""},{"$f":"IF('CF4 TestsPhys'!AC96=\"\",\"\",'CF4 TestsPhys'!AC96)","v":""}]
[{"$f":"IF('CF4 TestsPhys'!B97=\"\",\"\",'CF4 TestsPhys'!B97)","v":""},{"$f":"IF('CF4 TestsPhys'!D97=\"\",\"\",'CF4 TestsPhys'!D97)","v":""},{"$f":"IF('CF4 TestsPhys'!E97=\"\",\"\",'CF4 TestsPhys'!E97)","v":""},{"$f":"IF('CF4 TestsPhys'!F97=\"\",\"\",'CF4 TestsPhys'!F97)","v":""},{"$f":"IF('CF4 TestsPhys'!G97=\"\",\"\",'CF4 TestsPhys'!G97)","v":""},{"$f":"IF('CF4 TestsPhys'!H97=\"\",\"\",'CF4 TestsPhys'!H97)","v":""},{"$f":"IF('CF4 TestsPhys'!I97=\"\",\"\",'CF4 TestsPhys'!I97)","v":""},{"$f":"IF('CF4 TestsPhys'!J97=\"\",\"\",'CF4 TestsPhys'!J97)","v":""},{"$f":"IF('CF4 TestsPhys'!K97=\"\",\"\",'CF4 TestsPhys'!K97)","v":""},{"$f":"IF('CF4 TestsPhys'!L97=\"\",\"\",'CF4 TestsPhys'!L97)","v":""},{"$f":"IF('CF4 TestsPhys'!M97=\"\",\"\",'CF4 TestsPhys'!M97)","v":""},{"$f":"IF('CF4 TestsPhys'!N97=\"\",\"\",'CF4 TestsPhys'!N97)","v":""},{"$f":"IF('CF4 TestsPhys'!O97=\"\",\"\",'CF4 TestsPhys'!O97)","v":""},{"$f":"IF('CF4 TestsPhys'!P97=\"\",\"\",'CF4 TestsPhys'!P97)","v":""},{"$f":"IF('CF4 TestsPhys'!Q97=\"\",\"\",'CF4 TestsPhys'!Q97)","v":""},{"$f":"IF('CF4 TestsPhys'!R97=\"\",\"\",'CF4 TestsPhys'!R97)","v":""},{"$f":"IF('CF4 TestsPhys'!S97=\"\",\"\",'CF4 TestsPhys'!S97)","v":""},{"$f":"IF('CF4 TestsPhys'!T97=\"\",\"\",'CF4 TestsPhys'!T97)","v":""},{"$f":"IF('CF4 TestsPhys'!U97=\"\",\"\",'CF4 TestsPhys'!U97)","v":""},{"$f":"IF('CF4 TestsPhys'!V97=\"\",\"\",'CF4 TestsPhys'!V97)","v":""},{"$f":"IF('CF4 TestsPhys'!W97=\"\",\"\",'CF4 TestsPhys'!W97)","v":""},{"$f":"IF('CF4 TestsPhys'!X97=\"\",\"\",'CF4 TestsPhys'!X97)","v":""},{"$f":"IF('CF4 TestsPhys'!Y97=\"\",\"\",'CF4 TestsPhys'!Y97)","v":""},{"$f":"IF('CF4 TestsPhys'!Z97=\"\",\"\",'CF4 TestsPhys'!Z97)","v":""},{"$f":"IF('CF4 TestsPhys'!AA97=\"\",\"\",'CF4 TestsPhys'!AA97)","v":""},{"$f":"IF('CF4 TestsPhys'!AB97=\"\",\"\",'CF4 TestsPhys'!AB97)","v":""},{"$f":"IF('CF4 TestsPhys'!AC97=\"\",\"\",'CF4 TestsPhys'!AC97)","v":""}]
[{"$f":"IF('CF4 TestsPhys'!B98=\"\",\"\",'CF4 TestsPhys'!B98)","v":""},{"$f":"IF('CF4 TestsPhys'!D98=\"\",\"\",'CF4 TestsPhys'!D98)","v":""},{"$f":"IF('CF4 TestsPhys'!E98=\"\",\"\",'CF4 TestsPhys'!E98)","v":""},{"$f":"IF('CF4 TestsPhys'!F98=\"\",\"\",'CF4 TestsPhys'!F98)","v":""},{"$f":"IF('CF4 TestsPhys'!G98=\"\",\"\",'CF4 TestsPhys'!G98)","v":""},{"$f":"IF('CF4 TestsPhys'!H98=\"\",\"\",'CF4 TestsPhys'!H98)","v":""},{"$f":"IF('CF4 TestsPhys'!I98=\"\",\"\",'CF4 TestsPhys'!I98)","v":""},{"$f":"IF('CF4 TestsPhys'!J98=\"\",\"\",'CF4 TestsPhys'!J98)","v":""},{"$f":"IF('CF4 TestsPhys'!K98=\"\",\"\",'CF4 TestsPhys'!K98)","v":""},{"$f":"IF('CF4 TestsPhys'!L98=\"\",\"\",'CF4 TestsPhys'!L98)","v":""},{"$f":"IF('CF4 TestsPhys'!M98=\"\",\"\",'CF4 TestsPhys'!M98)","v":""},{"$f":"IF('CF4 TestsPhys'!N98=\"\",\"\",'CF4 TestsPhys'!N98)","v":""},{"$f":"IF('CF4 TestsPhys'!O98=\"\",\"\",'CF4 TestsPhys'!O98)","v":""},{"$f":"IF('CF4 TestsPhys'!P98=\"\",\"\",'CF4 TestsPhys'!P98)","v":""},{"$f":"IF('CF4 TestsPhys'!Q98=\"\",\"\",'CF4 TestsPhys'!Q98)","v":""},{"$f":"IF('CF4 TestsPhys'!R98=\"\",\"\",'CF4 TestsPhys'!R98)","v":""},{"$f":"IF('CF4 TestsPhys'!S98=\"\",\"\",'CF4 TestsPhys'!S98)","v":""},{"$f":"IF('CF4 TestsPhys'!T98=\"\",\"\",'CF4 TestsPhys'!T98)","v":""},{"$f":"IF('CF4 TestsPhys'!U98=\"\",\"\",'CF4 TestsPhys'!U98)","v":""},{"$f":"IF('CF4 TestsPhys'!V98=\"\",\"\",'CF4 TestsPhys'!V98)","v":""},{"$f":"IF('CF4 TestsPhys'!W98=\"\",\"\",'CF4 TestsPhys'!W98)","v":""},{"$f":"IF('CF4 TestsPhys'!X98=\"\",\"\",'CF4 TestsPhys'!X98)","v":""},{"$f":"IF('CF4 TestsPhys'!Y98=\"\",\"\",'CF4 TestsPhys'!Y98)","v":""},{"$f":"IF('CF4 TestsPhys'!Z98=\"\",\"\",'CF4 TestsPhys'!Z98)","v":""},{"$f":"IF('CF4 TestsPhys'!AA98=\"\",\"\",'CF4 TestsPhys'!AA98)","v":""},{"$f":"IF('CF4 TestsPhys'!AB98=\"\",\"\",'CF4 TestsPhys'!AB98)","v":""},{"$f":"IF('CF4 TestsPhys'!AC98=\"\",\"\",'CF4 TestsPhys'!AC98)","v":""}]
[{"$f":"IF('CF4 TestsPhys'!B99=\"\",\"\",'CF4 TestsPhys'!B99)","v":""},{"$f":"IF('CF4 TestsPhys'!D99=\"\",\"\",'CF4 TestsPhys'!D99)","v":""},{"$f":"IF('CF4 TestsPhys'!E99=\"\",\"\",'CF4 TestsPhys'!E99)","v":""},{"$f":"IF('CF4 TestsPhys'!F99=\"\",\"\",'CF4 TestsPhys'!F99)","v":""},{"$f":"IF('CF4 TestsPhys'!G99=\"\",\"\",'CF4 TestsPhys'!G99)","v":""},{"$f":"IF('CF4 TestsPhys'!H99=\"\",\"\",'CF4 TestsPhys'!H99)","v":""},{"$f":"IF('CF4 TestsPhys'!I99=\"\",\"\",'CF4 TestsPhys'!I99)","v":""},{"$f":"IF('CF4 TestsPhys'!J99=\"\",\"\",'CF4 TestsPhys'!J99)","v":""},{"$f":"IF('CF4 TestsPhys'!K99=\"\",\"\",'CF4 TestsPhys'!K99)","v":""},{"$f":"IF('CF4 TestsPhys'!L99=\"\",\"\",'CF4 TestsPhys'!L99)","v":""},{"$f":"IF('CF4 TestsPhys'!M99=\"\",\"\",'CF4 TestsPhys'!M99)","v":""},{"$f":"IF('CF4 TestsPhys'!N99=\"\",\"\",'CF4 TestsPhys'!N99)","v":""},{"$f":"IF('CF4 TestsPhys'!O99=\"\",\"\",'CF4 TestsPhys'!O99)","v":""},{"$f":"IF('CF4 TestsPhys'!P99=\"\",\"\",'CF4 TestsPhys'!P99)","v":""},{"$f":"IF('CF4 TestsPhys'!Q99=\"\",\"\",'CF4 TestsPhys'!Q99)","v":""},{"$f":"IF('CF4 TestsPhys'!R99=\"\",\"\",'CF4 TestsPhys'!R99)","v":""},{"$f":"IF('CF4 TestsPhys'!S99=\"\",\"\",'CF4 TestsPhys'!S99)","v":""},{"$f":"IF('CF4 TestsPhys'!T99=\"\",\"\",'CF4 TestsPhys'!T99)","v":""},{"$f":"IF('CF4 TestsPhys'!U99=\"\",\"\",'CF4 TestsPhys'!U99)","v":""},{"$f":"IF('CF4 TestsPhys'!V99=\"\",\"\",'CF4 TestsPhys'!V99)","v":""},{"$f":"IF('CF4 TestsPhys'!W99=\"\",\"\",'CF4 TestsPhys'!W99)","v":""},{"$f":"IF('CF4 TestsPhys'!X99=\"\",\"\",'CF4 TestsPhys'!X99)","v":""},{"$f":"IF('CF4 TestsPhys'!Y99=\"\",\"\",'CF4 TestsPhys'!Y99)","v":""},{"$f":"IF('CF4 TestsPhys'!Z99=\"\",\"\",'CF4 TestsPhys'!Z99)","v":""},{"$f":"IF('CF4 TestsPhys'!AA99=\"\",\"\",'CF4 TestsPhys'!AA99)","v":""},{"$f":"IF('CF4 TestsPhys'!AB99=\"\",\"\",'CF4 TestsPhys'!AB99)","v":""},{"$f":"IF('CF4 TestsPhys'!AC99=\"\",\"\",'CF4 TestsPhys'!AC99)","v":""}]
[{"$f":"IF('CF4 TestsPhys'!B100=\"\",\"\",'CF4 TestsPhys'!B100)","v":""},{"$f":"IF('CF4 TestsPhys'!D100=\"\",\"\",'CF4 TestsPhys'!D100)","v":""},{"$f":"IF('CF4 TestsPhys'!E100=\"\",\"\",'CF4 TestsPhys'!E100)","v":""},{"$f":"IF('CF4 TestsPhys'!F100=\"\",\"\",'CF4 TestsPhys'!F100)","v":""},{"$f":"IF('CF4 TestsPhys'!G100=\"\",\"\",'CF4 TestsPhys'!G100)","v":""},{"$f":"IF('CF4 TestsPhys'!H100=\"\",\"\",'CF4 TestsPhys'!H100)","v":""},{"$f":"IF('CF4 TestsPhys'!I100=\"\",\"\",'CF4 TestsPhys'!I100)","v":""},{"$f":"IF('CF4 TestsPhys'!J100=\"\",\"\",'CF4 TestsPhys'!J100)","v":""},{"$f":"IF('CF4 TestsPhys'!K100=\"\",\"\",'CF4 TestsPhys'!K100)","v":""},{"$f":"IF('CF4 TestsPhys'!L100=\"\",\"\",'CF4 TestsPhys'!L100)","v":""},{"$f":"IF('CF4 TestsPhys'!M100=\"\",\"\",'CF4 TestsPhys'!M100)","v":""},{"$f":"IF('CF4 TestsPhys'!N100=\"\",\"\",'CF4 TestsPhys'!N100)","v":""},{"$f":"IF('CF4 TestsPhys'!O100=\"\",\"\",'CF4 TestsPhys'!O100)","v":""},{"$f":"IF('CF4 TestsPhys'!P100=\"\",\"\",'CF4 TestsPhys'!P100)","v":""},{"$f":"IF('CF4 TestsPhys'!Q100=\"\",\"\",'CF4 TestsPhys'!Q100)","v":""},{"$f":"IF('CF4 TestsPhys'!R100=\"\",\"\",'CF4 TestsPhys'!R100)","v":""},{"$f":"IF('CF4 TestsPhys'!S100=\"\",\"\",'CF4 TestsPhys'!S100)","v":""},{"$f":"IF('CF4 TestsPhys'!T100=\"\",\"\",'CF4 TestsPhys'!T100)","v":""},{"$f":"IF('CF4 TestsPhys'!U100=\"\",\"\",'CF4 TestsPhys'!U100)","v":""},{"$f":"IF('CF4 TestsPhys'!V100=\"\",\"\",'CF4 TestsPhys'!V100)","v":""},{"$f":"IF('CF4 TestsPhys'!W100=\"\",\"\",'CF4 TestsPhys'!W100)","v":""},{"$f":"IF('CF4 TestsPhys'!X100=\"\",\"\",'CF4 TestsPhys'!X100)","v":""},{"$f":"IF('CF4 TestsPhys'!Y100=\"\",\"\",'CF4 TestsPhys'!Y100)","v":""},{"$f":"IF('CF4 TestsPhys'!Z100=\"\",\"\",'CF4 TestsPhys'!Z100)","v":""},{"$f":"IF('CF4 TestsPhys'!AA100=\"\",\"\",'CF4 TestsPhys'!AA100)","v":""},{"$f":"IF('CF4 TestsPhys'!AB100=\"\",\"\",'CF4 TestsPhys'!AB100)","v":""},{"$f":"IF('CF4 TestsPhys'!AC100=\"\",\"\",'CF4 TestsPhys'!AC100)","v":""}]
[{"$f":"IF('CF4 TestsPhys'!B101=\"\",\"\",'CF4 TestsPhys'!B101)","v":""},{"$f":"IF('CF4 TestsPhys'!D101=\"\",\"\",'CF4 TestsPhys'!D101)","v":""},{"$f":"IF('CF4 TestsPhys'!E101=\"\",\"\",'CF4 TestsPhys'!E101)","v":""},{"$f":"IF('CF4 TestsPhys'!F101=\"\",\"\",'CF4 TestsPhys'!F101)","v":""},{"$f":"IF('CF4 TestsPhys'!G101=\"\",\"\",'CF4 TestsPhys'!G101)","v":""},{"$f":"IF('CF4 TestsPhys'!H101=\"\",\"\",'CF4 TestsPhys'!H101)","v":""},{"$f":"IF('CF4 TestsPhys'!I101=\"\",\"\",'CF4 TestsPhys'!I101)","v":""},{"$f":"IF('CF4 TestsPhys'!J101=\"\",\"\",'CF4 TestsPhys'!J101)","v":""},{"$f":"IF('CF4 TestsPhys'!K101=\"\",\"\",'CF4 TestsPhys'!K101)","v":""},{"$f":"IF('CF4 TestsPhys'!L101=\"\",\"\",'CF4 TestsPhys'!L101)","v":""},{"$f":"IF('CF4 TestsPhys'!M101=\"\",\"\",'CF4 TestsPhys'!M101)","v":""},{"$f":"IF('CF4 TestsPhys'!N101=\"\",\"\",'CF4 TestsPhys'!N101)","v":""},{"$f":"IF('CF4 TestsPhys'!O101=\"\",\"\",'CF4 TestsPhys'!O101)","v":""},{"$f":"IF('CF4 TestsPhys'!P101=\"\",\"\",'CF4 TestsPhys'!P101)","v":""},{"$f":"IF('CF4 TestsPhys'!Q101=\"\",\"\",'CF4 TestsPhys'!Q101)","v":""},{"$f":"IF('CF4 TestsPhys'!R101=\"\",\"\",'CF4 TestsPhys'!R101)","v":""},{"$f":"IF('CF4 TestsPhys'!S101=\"\",\"\",'CF4 TestsPhys'!S101)","v":""},{"$f":"IF('CF4 TestsPhys'!T101=\"\",\"\",'CF4 TestsPhys'!T101)","v":""},{"$f":"IF('CF4 TestsPhys'!U101=\"\",\"\",'CF4 TestsPhys'!U101)","v":""},{"$f":"IF('CF4 TestsPhys'!V101=\"\",\"\",'CF4 TestsPhys'!V101)","v":""},{"$f":"IF('CF4 TestsPhys'!W101=\"\",\"\",'CF4 TestsPhys'!W101)","v":""},{"$f":"IF('CF4 TestsPhys'!X101=\"\",\"\",'CF4 TestsPhys'!X101)","v":""},{"$f":"IF('CF4 TestsPhys'!Y101=\"\",\"\",'CF4 TestsPhys'!Y101)","v":""},{"$f":"IF('CF4 TestsPhys'!Z101=\"\",\"\",'CF4 TestsPhys'!Z101)","v":""},{"$f":"IF('CF4 TestsPhys'!AA101=\"\",\"\",'CF4 TestsPhys'!AA101)","v":""},{"$f":"IF('CF4 TestsPhys'!AB101=\"\",\"\",'CF4 TestsPhys'!AB101)","v":""},{"$f":"IF('CF4 TestsPhys'!AC101=\"\",\"\",'CF4 TestsPhys'!AC101)","v":""}]
[{"$f":"IF('CF4 TestsPhys'!B102=\"\",\"\",'CF4 TestsPhys'!B102)","v":""},{"$f":"IF('CF4 TestsPhys'!D102=\"\",\"\",'CF4 TestsPhys'!D102)","v":""},{"$f":"IF('CF4 TestsPhys'!E102=\"\",\"\",'CF4 TestsPhys'!E102)","v":""},{"$f":"IF('CF4 TestsPhys'!F102=\"\",\"\",'CF4 TestsPhys'!F102)","v":""},{"$f":"IF('CF4 TestsPhys'!G102=\"\",\"\",'CF4 TestsPhys'!G102)","v":""},{"$f":"IF('CF4 TestsPhys'!H102=\"\",\"\",'CF4 TestsPhys'!H102)","v":""},{"$f":"IF('CF4 TestsPhys'!I102=\"\",\"\",'CF4 TestsPhys'!I102)","v":""},{"$f":"IF('CF4 TestsPhys'!J102=\"\",\"\",'CF4 TestsPhys'!J102)","v":""},{"$f":"IF('CF4 TestsPhys'!K102=\"\",\"\",'CF4 TestsPhys'!K102)","v":""},{"$f":"IF('CF4 TestsPhys'!L102=\"\",\"\",'CF4 TestsPhys'!L102)","v":""},{"$f":"IF('CF4 TestsPhys'!M102=\"\",\"\",'CF4 TestsPhys'!M102)","v":""},{"$f":"IF('CF4 TestsPhys'!N102=\"\",\"\",'CF4 TestsPhys'!N102)","v":""},{"$f":"IF('CF4 TestsPhys'!O102=\"\",\"\",'CF4 TestsPhys'!O102)","v":""},{"$f":"IF('CF4 TestsPhys'!P102=\"\",\"\",'CF4 TestsPhys'!P102)","v":""},{"$f":"IF('CF4 TestsPhys'!Q102=\"\",\"\",'CF4 TestsPhys'!Q102)","v":""},{"$f":"IF('CF4 TestsPhys'!R102=\"\",\"\",'CF4 TestsPhys'!R102)","v":""},{"$f":"IF('CF4 TestsPhys'!S102=\"\",\"\",'CF4 TestsPhys'!S102)","v":""},{"$f":"IF('CF4 TestsPhys'!T102=\"\",\"\",'CF4 TestsPhys'!T102)","v":""},{"$f":"IF('CF4 TestsPhys'!U102=\"\",\"\",'CF4 TestsPhys'!U102)","v":""},{"$f":"IF('CF4 TestsPhys'!V102=\"\",\"\",'CF4 TestsPhys'!V102)","v":""},{"$f":"IF('CF4 TestsPhys'!W102=\"\",\"\",'CF4 TestsPhys'!W102)","v":""},{"$f":"IF('CF4 TestsPhys'!X102=\"\",\"\",'CF4 TestsPhys'!X102)","v":""},{"$f":"IF('CF4 TestsPhys'!Y102=\"\",\"\",'CF4 TestsPhys'!Y102)","v":""},{"$f":"IF('CF4 TestsPhys'!Z102=\"\",\"\",'CF4 TestsPhys'!Z102)","v":""},{"$f":"IF('CF4 TestsPhys'!AA102=\"\",\"\",'CF4 TestsPhys'!AA102)","v":""},{"$f":"IF('CF4 TestsPhys'!AB102=\"\",\"\",'CF4 TestsPhys'!AB102)","v":""},{"$f":"IF('CF4 TestsPhys'!AC102=\"\",\"\",'CF4 TestsPhys'!AC102)","v":""}]
[{"$f":"IF('CF4 TestsPhys'!B103=\"\",\"\",'CF4 TestsPhys'!B103)","v":""},{"$f":"IF('CF4 TestsPhys'!D103=\"\",\"\",'CF4 TestsPhys'!D103)","v":""},{"$f":"IF('CF4 TestsPhys'!E103=\"\",\"\",'CF4 TestsPhys'!E103)","v":""},{"$f":"IF('CF4 TestsPhys'!F103=\"\",\"\",'CF4 TestsPhys'!F103)","v":""},{"$f":"IF('CF4 TestsPhys'!G103=\"\",\"\",'CF4 TestsPhys'!G103)","v":""},{"$f":"IF('CF4 TestsPhys'!H103=\"\",\"\",'CF4 TestsPhys'!H103)","v":""},{"$f":"IF('CF4 TestsPhys'!I103=\"\",\"\",'CF4 TestsPhys'!I103)","v":""},{"$f":"IF('CF4 TestsPhys'!J103=\"\",\"\",'CF4 TestsPhys'!J103)","v":""},{"$f":"IF('CF4 TestsPhys'!K103=\"\",\"\",'CF4 TestsPhys'!K103)","v":""},{"$f":"IF('CF4 TestsPhys'!L103=\"\",\"\",'CF4 TestsPhys'!L103)","v":""},{"$f":"IF('CF4 TestsPhys'!M103=\"\",\"\",'CF4 TestsPhys'!M103)","v":""},{"$f":"IF('CF4 TestsPhys'!N103=\"\",\"\",'CF4 TestsPhys'!N103)","v":""},{"$f":"IF('CF4 TestsPhys'!O103=\"\",\"\",'CF4 TestsPhys'!O103)","v":""},{"$f":"IF('CF4 TestsPhys'!P103=\"\",\"\",'CF4 TestsPhys'!P103)","v":""},{"$f":"IF('CF4 TestsPhys'!Q103=\"\",\"\",'CF4 TestsPhys'!Q103)","v":""},{"$f":"IF('CF4 TestsPhys'!R103=\"\",\"\",'CF4 TestsPhys'!R103)","v":""},{"$f":"IF('CF4 TestsPhys'!S103=\"\",\"\",'CF4 TestsPhys'!S103)","v":""},{"$f":"IF('CF4 TestsPhys'!T103=\"\",\"\",'CF4 TestsPhys'!T103)","v":""},{"$f":"IF('CF4 TestsPhys'!U103=\"\",\"\",'CF4 TestsPhys'!U103)","v":""},{"$f":"IF('CF4 TestsPhys'!V103=\"\",\"\",'CF4 TestsPhys'!V103)","v":""},{"$f":"IF('CF4 TestsPhys'!W103=\"\",\"\",'CF4 TestsPhys'!W103)","v":""},{"$f":"IF('CF4 TestsPhys'!X103=\"\",\"\",'CF4 TestsPhys'!X103)","v":""},{"$f":"IF('CF4 TestsPhys'!Y103=\"\",\"\",'CF4 TestsPhys'!Y103)","v":""},{"$f":"IF('CF4 TestsPhys'!Z103=\"\",\"\",'CF4 TestsPhys'!Z103)","v":""},{"$f":"IF('CF4 TestsPhys'!AA103=\"\",\"\",'CF4 TestsPhys'!AA103)","v":""},{"$f":"IF('CF4 TestsPhys'!AB103=\"\",\"\",'CF4 TestsPhys'!AB103)","v":""},{"$f":"IF('CF4 TestsPhys'!AC103=\"\",\"\",'CF4 TestsPhys'!AC103)","v":""}]

{"sheet":"CF4 Eval","index":12,"n_rows":103,"n_cols":44,"rows_kept":103,"merged":[[0,0,0,6],[0,7,0,28],[0,29,0,31],[0,32,0,37],[0,38,0,41],[0,42,2,42],[0,43,2,43],[1,0,2,0],[1,1,2,1],[1,2,2,2],[1,3,2,3],[1,4,2,4],[1,5,2,5],[1,6,2,6],[1,7,1,8],[1,9,1,10],[1,11,1,12],[1,13,1,14],[1,15,1,16],[1,17,1,18],[1,19,1,20],[1,21,1,22],[1,23,1,24],[1,25,1,26],[1,27,2,27],[1,28,2,28],[1,29,1,30],[1,32,1,36],[1,38,1,40]]}
["Identifiants",{"$nulls":6},"MODULE TESTS PHYSIQUES",{"$nulls":21},"MODULE ENCHAÎNEMENT",null,null,"MODULE TESTS TECHNIQUES ENGINS",{"$nulls":5},"MODULE TESTS TECHNIQUES CORPORELS",{"$nulls":3},"TOTAL\nCF4","N° Id"]
["Région","N° Club","Nom du club","Nom Prénom","\nDate de Naissance","Nb de mois","N° de licence","Détente horiz",null,"Sautillés",null,"Course 20m",null,"Ecart droit",null,"Ecart gauche",null,"Ecart facial",null,"Fermeture",null,"Pont",null,"Epaules",null,"Pointes de pieds",null,"Total\nPhys.\n/200","Total Phys.\n/20","NAT INDIV",null,null,"TESTS TECHNIQUES ENGINS",{"$nulls":5},"TESTS TECHNIQUES CORPORELS"]
[{"$nulls":7},"Perf.","Note\n/20","Perf.","Note\n/20","Perf.","Note\n/20","Perf.","Note\n/20","Perf.","Note\n/20","Perf.","Note\n/20","Perf.","Note\n/20","Perf.","Note\n/20","Perf","Note\n/20","Perf.","Note\n/20",null,null,"Total ML","Total Engin","Total Enchainemt","Corde","Cerceau","Ballon","Massues","Ruban","TOTAL\nTTE","Equilibre","Rotation","Saut","Total TTC"]
[{"$f":"IF('CR CF4'!A4=\"\",\"\",Accueil!$D$6)","v":""},{"$f":"IF('CR CF4'!A4=\"\",\"\",MATCH('CR CF4'!A4,Accueil!$D$30:$D$129,0))","v":""},{"$f":"IF('CR CF4'!A4=\"\",\"\",'CR CF4'!A4)","v":""},{"$f":"IF('CR CF4'!B4=\"\",\"\",'CR CF4'!B4)","v":""},{"$f":"IF('CR CF4'!C4=\"\",\"\",'CR CF4'!C4)","v":""},{"$f":"IF(OR(Accueil!$D$6=\"\",D4=\"\",E4=\"\"),\"\",DATEDIF(E4,LOOKUP(B4,Accueil!$C$30:$C$129,Accueil!$E$30:$E$129),\"m\"))","v":""},{"$f":"IF('CR CF4'!E4=\"\",\"\",'CR CF4'!E4)","v":""},{"$f":"IF('CR CF4'!F4=\"\",\"\",'CR CF4'!F4)","v":""},{"$f":"IF(OR(E4=\"\",H4=\"\"),\"\",VLOOKUP(H4,Détente!$A$2:$BU$157,MATCH(F4,(Détente!$B$1:$BU$1),1)+1))","v":""},{"$f":"IF('CR CF4'!H4=\"\",\"\",'CR CF4'!H4)","v":""},{"$f":"IF(OR(E4=\"\",J4=\"\"),\"\",VLOOKUP(J4,Sautillers!$A$2:$BU$99,MATCH(F4,(Sautillers!$B$1:$BU$1),1)+1))","v":""},{"$f":"IF('CR CF4'!J4=\"\",\"\",'CR CF4'!J4)","v":""},{"$f":"IF(OR(E4=\"\",L4=\"\"),\"\",VLOOKUP(L4,'Course 20 m'!$A$2:$BU$373,MATCH(F4,('Course 20 m'!$B$1:$BU$1),1)+1))","v":""},{"$f":"IF('CR CF4'!L4=\"\",\"\",'CR CF4'!L4)","v":""},{"$f":"IF(OR(E4=\"\",N4=\"\"),\"\",VLOOKUP(N4,'Ecarts D&G'!$A$2:$BU$147,MATCH(F4,('Ecarts D&G'!$B$1:$BU$1),1)+1))","v":""},{"$f":"IF('CR CF4'!N4=\"\",\"\",'CR CF4'!N4)","v":""},{"$f":"IF(OR(E4=\"\",P4=\"\"),\"\",VLOOKUP(P4,'Ecarts D&G'!$A$2:$BU$147,MATCH(F4,('Ecarts D&G'!$B$1:$BU$1),1)+1))","v":""},{"$f":"IF('CR CF4'!P4=\"\",\"\",'CR CF4'!P4)","v":""},{"$f":"IF(OR(E4=\"\",R4=\"\"),\"\",VLOOKUP(R4,'Ecart facial'!$A$2:$BU$143,MATCH(F4,('Ecart facial'!$B$1:$BU$1),1)+1))","v":""},{"$f":"IF('CR CF4'!R4=\"\",\"\",'CR CF4'!R4)","v":""},{"$f":"IF(OR(E4=\"\",T4=\"\"),\"\",VLOOKUP(T4,'Fermeture TJ'!$A$2:$BU$126,MATCH(F4,('Fermeture TJ'!$B$1:$BU$1),1)+1))","v":""},{"$f":"IF('CR CF4'!T4=\"\",\"\",'CR CF4'!T4)","v":""},{"$f":"IF(OR(E4=\"\",V4=\"\"),\"\",VLOOKUP(V4,Pont!$A$2:$BU$188,MATCH(F4,(Pont!$B$1:$BU$1),1)+1))","v":""},{"$f":"IF('CR CF4'!V4=\"\",\"\",'CR CF4'!V4)","v":""},{"$f":"IF(OR(E4=\"\",X4=\"\"),\"\",VLOOKUP(X4,Epaules!$A$2:$BU$76,MATCH(F4,(Epaules!$B$1:$BU$1),1)+1))","v":""},{"$f":"IF('CR CF4'!X4=\"\",\"\",'CR CF4'!X4)","v":""},{"$f":"IF(OR(E4=\"\",Z4=\"\"),\"\",VLOOKUP(Z4,'pointe de pieds'!$A$2:$BU$110,MATCH(F4,('pointe de pieds'!$B$1:$BU$1),1)+1))","v":""},{"$f":"IF(OR(H4=\"\",J4=\"\",L4=\"\",N4=\"\",P4=\"\",R4=\"\",T4=\"\",V4=\"\",X4=\"\",Z4=\"\"),0,SUM(I4,K4,M4,O4,Q4,S4,U4,W4,Y4,AA4))","v":0},{"$f":"IF(OR(I4=\"\",K4=\"\",M4=\"\",O4=\"\",Q4=\"\",S4=\"\",U4=\"\",W4=\"\",Y4=\"\",AA4=\"\"),0,AVERAGE(I4,K4,M4,O4,Q4,S4,U4,W4,Y4,AA4))","v":{"v":0,"d":"0.00"}},null,null,{"$f":"IF(OR(F4=\"\",AD4=\"\",AE4=\"\"),0,SUM(AD4:AE4))","v":{"v":0,"d":"0.00"}},{"$nulls":5},{"$f":"IF(OR(F4=\"\",COUNT(AG4:AK4)<4),0,IF(COUNT(AG4:AK4)=4,SUM(AG4:AK4),IF(COUNT(AG4:AK4)>4,SUM(AG4:AK4)-MIN(AG4:AK4))))","v":{"v":0,"d":"0.00"}},{"$nulls":3},{"$f":"IF(OR(F4=\"\",AM4=\"\",AN4=\"\",AO4=\"\"),0,SUM(AM4:AO4))","v":{"v":0,"d":"0.00"}},{"$f":"IF(OR(AB4=0,AF4=0,AL4=0,AP4=0),0,AC4+AF4+AL4+AP4)","v":{"v":0,"d":"0.00"}},1]
[{"$f":"IF('CR CF4'!A5=\"\",\"\",Accueil!$D$6)","v":""},{"$f":"IF('CR CF4'!A5=\"\",\"\",MATCH('CR CF4'!A5,Accueil!$D$30:$D$129,0))","v":""},{"$f":"IF('CR CF4'!A5=\"\",\"\",'CR CF4'!A5)","v":""},{"$f":"IF('CR CF4'!B5=\"\",\"\",'CR CF4'!B5)","v":""},{"$f":"IF('CR CF4'!C5=\"\",\"\",'CR CF4'!C5)","v":""},{"$f":"IF(OR(Accueil!$D$6=\"\",D5=\"\",E5=\"\"),\"\",DATEDIF(E5,LOOKUP(B5,Accueil!$C$30:$C$129,Accueil!$E$30:$E$129),\"m\"))","v":""},{"$f":"IF('CR CF4'!E5=\"\",\"\",'CR CF4'!E5)","v":""},{"$f":"IF('CR CF4'!F5=\"\",\"\",'CR CF4'!F5)","v":""},{"$f":"IF(OR(E5=\"\",H5=\"\"),\"\",VLOOKUP(H5,Détente!$A$2:$BU$157,MATCH(F5,(Détente!$B$1:$BU$1),1)+1))","v":""},{"$f":"IF('CR CF4'!H5=\"\",\"\",'CR CF4'!H5)","v":""},{"$f":"IF(OR(E5=\"\",J5=\"\"),\"\",VLOOKUP(J5,Sautillers!$A$2:$BU$99,MATCH(F5,(Sautillers!$B$1:$BU$1),1)+1))","v":""},{"$f":"IF('CR CF4'!J5=\"\",\"\",'CR CF4'!J5)","v":""},{"$f":"IF(OR(E5=\"\",L5=\"\"),\"\",VLOOKUP(L5,'Course 20 m'!$A$2:$BU$373,MATCH(F5,('Course 20 m'!$B$1:$BU$1),1)+1))","v":""},{"$f":"IF('CR CF4'!L5=\"\",\"\",'CR CF4'!L5)","v":""},{"$f":"IF(OR(E5=\"\",N5=\"\"),\"\",VLOOKUP(N5,'Ecarts D&G'!$A$2:$BU$147,MATCH(F5,('Ecarts D&G'!$B$1:$BU$1),1)+1))","v":""},{"$f":"IF('CR CF4'!N5=\"\",\"\",'CR CF4'!N5)","v":""},{"$f":"IF(OR(E5=\"\",P5=\"\"),\"\",VLOOKUP(P5,'Ecarts D&G'!$A$2:$BU$147,MATCH(F5,('Ecarts D&G'!$B$1:$BU$1),1)+1))","v":""},{"$f":"IF('CR CF4'!P5=\"\",\"\",'CR CF4'!P5)","v":""},{"$f":"IF(OR(E5=\"\",R5=\"\"),\"\",VLOOKUP(R5,'Ecart facial'!$A$2:$BU$143,MATCH(F5,('Ecart facial'!$B$1:$BU$1),1)+1))","v":""},{"$f":"IF('CR CF4'!R5=\"\",\"\",'CR CF4'!R5)","v":""},{"$f":"IF(OR(E5=\"\",T5=\"\"),\"\",VLOOKUP(T5,'Fermeture TJ'!$A$2:$BU$126,MATCH(F5,('Fermeture TJ'!$B$1:$BU$1),1)+1))","v":""},{"$f":"IF('CR CF4'!T5=\"\",\"\",'CR CF4'!T5)","v":""},{"$f":"IF(OR(E5=\"\",V5=\"\"),\"\",VLOOKUP(V5,Pont!$A$2:$BU$188,MATCH(F5,(Pont!$B$1:$BU$1),1)+1))","v":""},{"$f":"IF('CR CF4'!V5=\"\",\"\",'CR CF4'!V5)","v":""},{"$f":"IF(OR(E5=\"\",X5=\"\"),\"\",VLOOKUP(X5,Epaules!$A$2:$BU$76,MATCH(F5,(Epaules!$B$1:$BU$1),1)+1))","v":""},{"$f":"IF('CR CF4'!X5=\"\",\"\",'CR CF4'!X5)","v":""},{"$f":"IF(OR(E5=\"\",Z5=\"\"),\"\",VLOOKUP(Z5,'pointe de pieds'!$A$2:$BU$110,MATCH(F5,('pointe de pieds'!$B$1:$BU$1),1)+1))","v":""},0,{"v":0,"d":"0.00"},null,null,{"v":0,"d":"0.00"},{"$nulls":5},{"v":0,"d":"0.00"},{"$nulls":3},{"v":0,"d":"0.00"},{"v":0,"d":"0.00"},2]
[{"$f":"IF('CR CF4'!A6=\"\",\"\",Accueil!$D$6)","v":""},{"$f":"IF('CR CF4'!A6=\"\",\"\",MATCH('CR CF4'!A6,Accueil!$D$30:$D$129,0))","v":""},{"$f":"IF('CR CF4'!A6=\"\",\"\",'CR CF4'!A6)","v":""},{"$f":"IF('CR CF4'!B6=\"\",\"\",'CR CF4'!B6)","v":""},{"$f":"IF('CR CF4'!C6=\"\",\"\",'CR CF4'!C6)","v":""},{"$f":"IF(OR(Accueil!$D$6=\"\",D6=\"\",E6=\"\"),\"\",DATEDIF(E6,LOOKUP(B6,Accueil!$C$30:$C$129,Accueil!$E$30:$E$129),\"m\"))","v":""},{"$f":"IF('CR CF4'!E6=\"\",\"\",'CR CF4'!E6)","v":""},{"$f":"IF('CR CF4'!F6=\"\",\"\",'CR CF4'!F6)","v":""},{"$f":"IF(OR(E6=\"\",H6=\"\"),\"\",VLOOKUP(H6,Détente!$A$2:$BU$157,MATCH(F6,(Détente!$B$1:$BU$1),1)+1))","v":""},{"$f":"IF('CR CF4'!H6=\"\",\"\",'CR CF4'!H6)","v":""},{"$f":"IF(OR(E6=\"\",J6=\"\"),\"\",VLOOKUP(J6,Sautillers!$A$2:$BU$99,MATCH(F6,(Sautillers!$B$1:$BU$1),1)+1))","v":""},{"$f":"IF('CR CF4'!J6=\"\",\"\",'CR CF4'!J6)","v":""},{"$f":"IF(OR(E6=\"\",L6=\"\"),\"\",VLOOKUP(L6,'Course 20 m'!$A$2:$BU$373,MATCH(F6,('Course 20 m'!$B$1:$BU$1),1)+1))","v":""},{"$f":"IF('CR CF4'!L6=\"\",\"\",'CR CF4'!L6)","v":""},{"$f":"IF(OR(E6=\"\",N6=\"\"),\"\",VLOOKUP(N6,'Ecarts D&G'!$A$2:$BU$147,MATCH(F6,('Ecarts D&G'!$B$1:$BU$1),1)+1))","v":""},{"$f":"IF('CR CF4'!N6=\"\",\"\",'CR CF4'!N6)","v":""},{"$f":"IF(OR(E6=\"\",P6=\"\"),\"\",VLOOKUP(P6,'Ecarts D&G'!$A$2:$BU$147,MATCH(F6,('Ecarts D&G'!$B$1:$BU$1),1)+1))","v":""},{"$f":"IF('CR CF4'!P6=\"\",\"\",'CR CF4'!P6)","v":""},{"$f":"IF(OR(E6=\"\",R6=\"\"),\"\",VLOOKUP(R6,'Ecart facial'!$A$2:$BU$143,MATCH(F6,('Ecart facial'!$B$1:$BU$1),1)+1))","v":""},{"$f":"IF('CR CF4'!R6=\"\",\"\",'CR CF4'!R6)","v":""},{"$f":"IF(OR(E6=\"\",T6=\"\"),\"\",VLOOKUP(T6,'Fermeture TJ'!$A$2:$BU$126,MATCH(F6,('Fermeture TJ'!$B$1:$BU$1),1)+1))","v":""},{"$f":"IF('CR CF4'!T6=\"\",\"\",'CR CF4'!T6)","v":""},{"$f":"IF(OR(E6=\"\",V6=\"\"),\"\",VLOOKUP(V6,Pont!$A$2:$BU$188,MATCH(F6,(Pont!$B$1:$BU$1),1)+1))","v":""},{"$f":"IF('CR CF4'!V6=\"\",\"\",'CR CF4'!V6)","v":""},{"$f":"IF(OR(E6=\"\",X6=\"\"),\"\",VLOOKUP(X6,Epaules!$A$2:$BU$76,MATCH(F6,(Epaules!$B$1:$BU$1),1)+1))","v":""},{"$f":"IF('CR CF4'!X6=\"\",\"\",'CR CF4'!X6)","v":""},{"$f":"IF(OR(E6=\"\",Z6=\"\"),\"\",VLOOKUP(Z6,'pointe de pieds'!$A$2:$BU$110,MATCH(F6,('pointe de pieds'!$B$1:$BU$1),1)+1))","v":""},0,{"v":0,"d":"0.00"},null,null,{"v":0,"d":"0.00"},{"$nulls":5},{"v":0,"d":"0.00"},{"$nulls":3},{"v":0,"d":"0.00"},{"v":0,"d":"0.00"},3]
[{"$f":"IF('CR CF4'!A7=\"\",\"\",Accueil!$D$6)","v":""},{"$f":"IF('CR CF4'!A7=\"\",\"\",MATCH('CR CF4'!A7,Accueil!$D$30:$D$129,0))","v":""},{"$f":"IF('CR CF4'!A7=\"\",\"\",'CR CF4'!A7)","v":""},{"$f":"IF('CR CF4'!B7=\"\",\"\",'CR CF4'!B7)","v":""},{"$f":"IF('CR CF4'!C7=\"\",\"\",'CR CF4'!C7)","v":""},{"$f":"IF(OR(Accueil!$D$6=\"\",D7=\"\",E7=\"\"),\"\",DATEDIF(E7,LOOKUP(B7,Accueil!$C$30:$C$129,Accueil!$E$30:$E$129),\"m\"))","v":""},{"$f":"IF('CR CF4'!E7=\"\",\"\",'CR CF4'!E7)","v":""},{"$f":"IF('CR CF4'!F7=\"\",\"\",'CR CF4'!F7)","v":""},{"$f":"IF(OR(E7=\"\",H7=\"\"),\"\",VLOOKUP(H7,Détente!$A$2:$BU$157,MATCH(F7,(Détente!$B$1:$BU$1),1)+1))","v":""},{"$f":"IF('CR CF4'!H7=\"\",\"\",'CR CF4'!H7)","v":""},{"$f":"IF(OR(E7=\"\",J7=\"\"),\"\",VLOOKUP(J7,Sautillers!$A$2:$BU$99,MATCH(F7,(Sautillers!$B$1:$BU$1),1)+1))","v":""},{"$f":"IF('CR CF4'!J7=\"\",\"\",'CR CF4'!J7)","v":""},{"$f":"IF(OR(E7=\"\",L7=\"\"),\"\",VLOOKUP(L7,'Course 20 m'!$A$2:$BU$373,MATCH(F7,('Course 20 m'!$B$1:$BU$1),1)+1))","v":""},{"$f":"IF('CR CF4'!L7=\"\",\"\",'CR CF4'!L7)","v":""},{"$f":"IF(OR(E7=\"\",N7=\"\"),\"\",VLOOKUP(N7,'Ecarts D&G'!$A$2:$BU$147,MATCH(F7,('Ecarts D&G'!$B$1:$BU$1),1)+1))","v":""},{"$f":"IF('CR CF4'!N7=\"\",\"\",'CR CF4'!N7)","v":""},{"$f":"IF(OR(E7=\"\",P7=\"\"),\"\",VLOOKUP(P7,'Ecarts D&G'!$A$2:$BU$147,MATCH(F7,('Ecarts D&G'!$B$1:$BU$1),1)+1))","v":""},{"$f":"IF('CR CF4'!P7=\"\",\"\",'CR CF4'!P7)","v":""},{"$f":"IF(OR(E7=\"\",R7=\"\"),\"\",VLOOKUP(R7,'Ecart facial'!$A$2:$BU$143,MATCH(F7,('Ecart facial'!$B$1:$BU$1),1)+1))","v":""},{"$f":"IF('CR CF4'!R7=\"\",\"\",'CR CF4'!R7)","v":""},{"$f":"IF(OR(E7=\"\",T7=\"\"),\"\",VLOOKUP(T7,'Fermeture TJ'!$A$2:$BU$126,MATCH(F7,('Fermeture TJ'!$B$1:$BU$1),1)+1))","v":""},{"$f":"IF('CR CF4'!T7=\"\",\"\",'CR CF4'!T7)","v":""},{"$f":"IF(OR(E7=\"\",V7=\"\"),\"\",VLOOKUP(V7,Pont!$A$2:$BU$188,MATCH(F7,(Pont!$B$1:$BU$1),1)+1))","v":""},{"$f":"IF('CR CF4'!V7=\"\",\"\",'CR CF4'!V7)","v":""},{"$f":"IF(OR(E7=\"\",X7=\"\"),\"\",VLOOKUP(X7,Epaules!$A$2:$BU$76,MATCH(F7,(Epaules!$B$1:$BU$1),1)+1))","v":""},{"$f":"IF('CR CF4'!X7=\"\",\"\",'CR CF4'!X7)","v":""},{"$f":"IF(OR(E7=\"\",Z7=\"\"),\"\",VLOOKUP(Z7,'pointe de pieds'!$A$2:$BU$110,MATCH(F7,('pointe de pieds'!$B$1:$BU$1),1)+1))","v":""},0,{"v":0,"d":"0.00"},null,null,{"v":0,"d":"0.00"},{"$nulls":5},{"v":0,"d":"0.00"},{"$nulls":3},{"v":0,"d":"0.00"},{"v":0,"d":"0.00"},4]
[{"$f":"IF('CR CF4'!A8=\"\",\"\",Accueil!$D$6)","v":""},{"$f":"IF('CR CF4'!A8=\"\",\"\",MATCH('CR CF4'!A8,Accueil!$D$30:$D$129,0))","v":""},{"$f":"IF('CR CF4'!A8=\"\",\"\",'CR CF4'!A8)","v":""},{"$f":"IF('CR CF4'!B8=\"\",\"\",'CR CF4'!B8)","v":""},{"$f":"IF('CR CF4'!C8=\"\",\"\",'CR CF4'!C8)","v":""},{"$f":"IF(OR(Accueil!$D$6=\"\",D8=\"\",E8=\"\"),\"\",DATEDIF(E8,LOOKUP(B8,Accueil!$C$30:$C$129,Accueil!$E$30:$E$129),\"m\"))","v":""},{"$f":"IF('CR CF4'!E8=\"\",\"\",'CR CF4'!E8)","v":""},{"$f":"IF('CR CF4'!F8=\"\",\"\",'CR CF4'!F8)","v":""},{"$f":"IF(OR(E8=\"\",H8=\"\"),\"\",VLOOKUP(H8,Détente!$A$2:$BU$157,MATCH(F8,(Détente!$B$1:$BU$1),1)+1))","v":""},{"$f":"IF('CR CF4'!H8=\"\",\"\",'CR CF4'!H8)","v":""},{"$f":"IF(OR(E8=\"\",J8=\"\"),\"\",VLOOKUP(J8,Sautillers!$A$2:$BU$99,MATCH(F8,(Sautillers!$B$1:$BU$1),1)+1))","v":""},{"$f":"IF('CR CF4'!J8=\"\",\"\",'CR CF4'!J8)","v":""},{"$f":"IF(OR(E8=\"\",L8=\"\"),\"\",VLOOKUP(L8,'Course 20 m'!$A$2:$BU$373,MATCH(F8,('Course 20 m'!$B$1:$BU$1),1)+1))","v":""},{"$f":"IF('CR CF4'!L8=\"\",\"\",'CR CF4'!L8)","v":""},{"$f":"IF(OR(E8=\"\",N8=\"\"),\"\",VLOOKUP(N8,'Ecarts D&G'!$A$2:$BU$147,MATCH(F8,('Ecarts D&G'!$B$1:$BU$1),1)+1))","v":""},{"$f":"IF('CR CF4'!N8=\"\",\"\",'CR CF4'!N8)","v":""},{"$f":"IF(OR(E8=\"\",P8=\"\"),\"\",VLOOKUP(P8,'Ecarts D&G'!$A$2:$BU$147,MATCH(F8,('Ecarts D&G'!$B$1:$BU$1),1)+1))","v":""},{"$f":"IF('CR CF4'!P8=\"\",\"\",'CR CF4'!P8)","v":""},{"$f":"IF(OR(E8=\"\",R8=\"\"),\"\",VLOOKUP(R8,'Ecart facial'!$A$2:$BU$143,MATCH(F8,('Ecart facial'!$B$1:$BU$1),1)+1))","v":""},{"$f":"IF('CR CF4'!R8=\"\",\"\",'CR CF4'!R8)","v":""},{"$f":"IF(OR(E8=\"\",T8=\"\"),\"\",VLOOKUP(T8,'Fermeture TJ'!$A$2:$BU$126,MATCH(F8,('Fermeture TJ'!$B$1:$BU$1),1)+1))","v":""},{"$f":"IF('CR CF4'!T8=\"\",\"\",'CR CF4'!T8)","v":""},{"$f":"IF(OR(E8=\"\",V8=\"\"),\"\",VLOOKUP(V8,Pont!$A$2:$BU$188,MATCH(F8,(Pont!$B$1:$BU$1),1)+1))","v":""},{"$f":"IF('CR CF4'!V8=\"\",\"\",'CR CF4'!V8)","v":""},{"$f":"IF(OR(E8=\"\",X8=\"\"),\"\",VLOOKUP(X8,Epaules!$A$2:$BU$76,MATCH(F8,(Epaules!$B$1:$BU$1),1)+1))","v":""},{"$f":"IF('CR CF4'!X8=\"\",\"\",'CR CF4'!X8)","v":""},{"$f":"IF(OR(E8=\"\",Z8=\"\"),\"\",VLOOKUP(Z8,'pointe de pieds'!$A$2:$BU$110,MATCH(F8,('pointe de pieds'!$B$1:$BU$1),1)+1))","v":""},0,{"v":0,"d":"0.00"},null,null,{"v":0,"d":"0.00"},{"$nulls":5},{"v":0,"d":"0.00"},{"$nulls":3},{"v":0,"d":"0.00"},{"v":0,"d":"0.00"},5]
[{"$f":"IF('CR CF4'!A9=\"\",\"\",Accueil!$D$6)","v":""},{"$f":"IF('CR CF4'!A9=\"\",\"\",MATCH('CR CF4'!A9,Accueil!$D$30:$D$129,0))","v":""},{"$f":"IF('CR CF4'!A9=\"\",\"\",'CR CF4'!A9)","v":""},{"$f":"IF('CR CF4'!B9=\"\",\"\",'CR CF4'!B9)","v":""},{"$f":"IF('CR CF4'!C9=\"\",\"\",'CR CF4'!C9)","v":""},{"$f":"IF(OR(Accueil!$D$6=\"\",D9=\"\",E9=\"\"),\"\",DATEDIF(E9,LOOKUP(B9,Accueil!$C$30:$C$129,Accueil!$E$30:$E$129),\"m\"))","v":""},{"$f":"IF('CR CF4'!E9=\"\",\"\",'CR CF4'!E9)","v":""},{"$f":"IF('CR CF4'!F9=\"\",\"\",'CR CF4'!F9)","v":""},{"$f":"IF(OR(E9=\"\",H9=\"\"),\"\",VLOOKUP(H9,Détente!$A$2:$BU$157,MATCH(F9,(Détente!$B$1:$BU$1),1)+1))","v":""},{"$f":"IF('CR CF4'!H9=\"\",\"\",'CR CF4'!H9)","v":""},{"$f":"IF(OR(E9=\"\",J9=\"\"),\"\",VLOOKUP(J9,Sautillers!$A$2:$BU$99,MATCH(F9,(Sautillers!$B$1:$BU$1),1)+1))","v":""},{"$f":"IF('CR CF4'!J9=\"\",\"\",'CR CF4'!J9)","v":""},{"$f":"IF(OR(E9=\"\",L9=\"\"),\"\",VLOOKUP(L9,'Course 20 m'!$A$2:$BU$373,MATCH(F9,('Course 20 m'!$B$1:$BU$1),1)+1))","v":""},{"$f":"IF('CR CF4'!L9=\"\",\"\",'CR CF4'!L9)","v":""},{"$f":"IF(OR(E9=\"\",N9=\"\"),\"\",VLOOKUP(N9,'Ecarts D&G'!$A$2:$BU$147,MATCH(F9,('Ecarts D&G'!$B$1:$BU$1),1)+1))","v":""},{"$f":"IF('CR CF4'!N9=\"\",\"\",'CR CF4'!N9)","v":""},{"$f":"IF(OR(E9=\"\",P9=\"\"),\"\",VLOOKUP(P9,'Ecarts D&G'!$A$2:$BU$147,MATCH(F9,('Ecarts D&G'!$B$1:$BU$1),1)+1))","v":""},{"$f":"IF('CR CF4'!P9=\"\",\"\",'CR CF4'!P9)","v":""},{"$f":"IF(OR(E9=\"\",R9=\"\"),\"\",VLOOKUP(R9,'Ecart facial'!$A$2:$BU$143,MATCH(F9,('Ecart facial'!$B$1:$BU$1),1)+1))","v":""},{"$f":"IF('CR CF4'!R9=\"\",\"\",'CR CF4'!R9)","v":""},{"$f":"IF(OR(E9=\"\",T9=\"\"),\"\",VLOOKUP(T9,'Fermeture TJ'!$A$2:$BU$126,MATCH(F9,('Fermeture TJ'!$B$1:$BU$1),1)+1))","v":""},{"$f":"IF('CR CF4'!T9=\"\",\"\",'CR CF4'!T9)","v":""},{"$f":"IF(OR(E9=\"\",V9=\"\"),\"\",VLOOKUP(V9,Pont!$A$2:$BU$188,MATCH(F9,(Pont!$B$1:$BU$1),1)+1))","v":""},{"$f":"IF('CR CF4'!V9=\"\",\"\",'CR CF4'!V9)","v":""},{"$f":"IF(OR(E9=\"\",X9=\"\"),\"\",VLOOKUP(X9,Epaules!$A$2:$BU$76,MATCH(F9,(Epaules!$B$1:$BU$1),1)+1))","v":""},{"$f":"IF('CR CF4'!X9=\"\",\"\",'CR CF4'!X9)","v":""},{"$f":"IF(OR(E9=\"\",Z9=\"\"),\"\",VLOOKUP(Z9,'pointe de pieds'!$A$2:$BU$110,MATCH(F9,('pointe de pieds'!$B$1:$BU$1),1)+1))","v":""},0,{"v":0,"d":"0.00"},null,null,{"v":0,"d":"0.00"},{"$nulls":5},{"v":0,"d":"0.00"},{"$nulls":3},{"v":0,"d":"0.00"},{"v":0,"d":"0.00"},6]
[{"$f":"IF('CR CF4'!A10=\"\",\"\",Accueil!$D$6)","v":""},{"$f":"IF('CR CF4'!A10=\"\",\"\",MATCH('CR CF4'!A10,Accueil!$D$30:$D$129,0))","v":""},{"$f":"IF('CR CF4'!A10=\"\",\"\",'CR CF4'!A10)","v":""},{"$f":"IF('CR CF4'!B10=\"\",\"\",'CR CF4'!B10)","v":""},{"$f":"IF('CR CF4'!C10=\"\",\"\",'CR CF4'!C10)","v":""},{"$f":"IF(OR(Accueil!$D$6=\"\",D10=\"\",E10=\"\"),\"\",DATEDIF(E10,LOOKUP(B10,Accueil!$C$30:$C$129,Accueil!$E$30:$E$129),\"m\"))","v":""},{"$f":"IF('CR CF4'!E10=\"\",\"\",'CR CF4'!E10)","v":""},{"$f":"IF('CR CF4'!F10=\"\",\"\",'CR CF4'!F10)","v":""},{"$f":"IF(OR(E10=\"\",H10=\"\"),\"\",VLOOKUP(H10,Détente!$A$2:$BU$157,MATCH(F10,(Détente!$B$1:$BU$1),1)+1))","v":""},{"$f":"IF('CR CF4'!H10=\"\",\"\",'CR CF4'!H10)","v":""},{"$f":"IF(OR(E10=\"\",J10=\"\"),\"\",VLOOKUP(J10,Sautillers!$A$2:$BU$99,MATCH(F10,(Sautillers!$B$1:$BU$1),1)+1))","v":""},{"$f":"IF('CR CF4'!J10=\"\",\"\",'CR CF4'!J10)","v":""},{"$f":"IF(OR(E10=\"\",L10=\"\"),\"\",VLOOKUP(L10,'Course 20 m'!$A$2:$BU$373,MATCH(F10,('Course 20 m'!$B$1:$BU$1),1)+1))","v":""},{"$f":"IF('CR CF4'!L10=\"\",\"\",'CR CF4'!L10)","v":""},{"$f":"IF(OR(E10=\"\",N10=\"\"),\"\",VLOOKUP(N10,'Ecarts D&G'!$A$2:$BU$147,MATCH(F10,('Ecarts D&G'!$B$1:$BU$1),1)+1))","v":""},{"$f":"IF('CR CF4'!N10=\"\",\"\",'CR CF4'!N10)","v":""},{"$f":"IF(OR(E10=\"\",P10=\"\"),\"\",VLOOKUP(P10,'Ecarts D&G'!$A$2:$BU$147,MATCH(F10,('Ecarts D&G'!$B$1:$BU$1),1)+1))","v":""},{"$f":"IF('CR CF4'!P10=\"\",\"\",'CR CF4'!P10)","v":""},{"$f":"IF(OR(E10=\"\",R10=\"\"),\"\",VLOOKUP(R10,'Ecart facial'!$A$2:$BU$143,MATCH(F10,('Ecart facial'!$B$1:$BU$1),1)+1))","v":""},{"$f":"IF('CR CF4'!R10=\"\",\"\",'CR CF4'!R10)","v":""},{"$f":"IF(OR(E10=\"\",T10=\"\"),\"\",VLOOKUP(T10,'Fermeture TJ'!$A$2:$BU$126,MATCH(F10,('Fermeture TJ'!$B$1:$BU$1),1)+1))","v":""},{"$f":"IF('CR CF4'!T10=\"\",\"\",'CR CF4'!T10)","v":""},{"$f":"IF(OR(E10=\"\",V10=\"\"),\"\",VLOOKUP(V10,Pont!$A$2:$BU$188,MATCH(F10,(Pont!$B$1:$BU$1),1)+1))","v":""},{"$f":"IF('CR CF4'!V10=\"\",\"\",'CR CF4'!V10)","v":""},{"$f":"IF(OR(E10=\"\",X10=\"\"),\"\",VLOOKUP(X10,Epaules!$A$2:$BU$76,MATCH(F10,(Epaules!$B$1:$BU$1),1)+1))","v":""},{"$f":"IF('CR CF4'!X10=\"\",\"\",'CR CF4'!X10)","v":""},{"$f":"IF(OR(E10=\"\",Z10=\"\"),\"\",VLOOKUP(Z10,'pointe de pieds'!$A$2:$BU$110,MATCH(F10,('pointe de pieds'!$B$1:$BU$1),1)+1))","v":""},0,{"v":0,"d":"0.00"},null,null,{"v":0,"d":"0.00"},{"$nulls":5},{"v":0,"d":"0.00"},{"$nulls":3},{"v":0,"d":"0.00"},{"v":0,"d":"0.00"},7]
[{"$f":"IF('CR CF4'!A11=\"\",\"\",Accueil!$D$6)","v":""},{"$f":"IF('CR CF4'!A11=\"\",\"\",MATCH('CR CF4'!A11,Accueil!$D$30:$D$129,0))","v":""},{"$f":"IF('CR CF4'!A11=\"\",\"\",'CR CF4'!A11)","v":""},{"$f":"IF('CR CF4'!B11=\"\",\"\",'CR CF4'!B11)","v":""},{"$f":"IF('CR CF4'!C11=\"\",\"\",'CR CF4'!C11)","v":""},{"$f":"IF(OR(Accueil!$D$6=\"\",D11=\"\",E11=\"\"),\"\",DATEDIF(E11,LOOKUP(B11,Accueil!$C$30:$C$129,Accueil!$E$30:$E$129),\"m\"))","v":""},{"$f":"IF('CR CF4'!E11=\"\",\"\",'CR CF4'!E11)","v":""},{"$f":"IF('CR CF4'!F11=\"\",\"\",'CR CF4'!F11)","v":""},{"$f":"IF(OR(E11=\"\",H11=\"\"),\"\",VLOOKUP(H11,Détente!$A$2:$BU$157,MATCH(F11,(Détente!$B$1:$BU$1),1)+1))","v":""},{"$f":"IF('CR CF4'!H11=\"\",\"\",'CR CF4'!H11)","v":""},{"$f":"IF(OR(E11=\"\",J11=\"\"),\"\",VLOOKUP(J11,Sautillers!$A$2:$BU$99,MATCH(F11,(Sautillers!$B$1:$BU$1),1)+1))","v":""},{"$f":"IF('CR CF4'!J11=\"\",\"\",'CR CF4'!J11)","v":""},{"$f":"IF(OR(E11=\"\",L11=\"\"),\"\",VLOOKUP(L11,'Course 20 m'!$A$2:$BU$373,MATCH(F11,('Course 20 m'!$B$1:$BU$1),1)+1))","v":""},{"$f":"IF('CR CF4'!L11=\"\",\"\",'CR CF4'!L11)","v":""},{"$f":"IF(OR(E11=\"\",N11=\"\"),\"\",VLOOKUP(N11,'Ecarts D&G'!$A$2:$BU$147,MATCH(F11,('Ecarts D&G'!$B$1:$BU$1),1)+1))","v":""},{"$f":"IF('CR CF4'!N11=\"\",\"\",'CR CF4'!N11)","v":""},{"$f":"IF(OR(E11=\"\",P11=\"\"),\"\",VLOOKUP(P11,'Ecarts D&G'!$A$2:$BU$147,MATCH(F11,('Ecarts D&G'!$B$1:$BU$1),1)+1))","v":""},{"$f":"IF('CR CF4'!P11=\"\",\"\",'CR CF4'!P11)","v":""},{"$f":"IF(OR(E11=\"\",R11=\"\"),\"\",VLOOKUP(R11,'Ecart facial'!$A$2:$BU$143,MATCH(F11,('Ecart facial'!$B$1:$BU$1),1)+1))","v":""},{"$f":"IF('CR CF4'!R11=\"\",\"\",'CR CF4'!R11)","v":""},{"$f":"IF(OR(E11=\"\",T11=\"\"),\"\",VLOOKUP(T11,'Fermeture TJ'!$A$2:$BU$126,MATCH(F11,('Fermeture TJ'!$B$1:$BU$1),1)+1))","v":""},{"$f":"IF('CR CF4'!T11=\"\",\"\",'CR CF4'!T11)","v":""},{"$f":"IF(OR(E11=\"\",V11=\"\"),\"\",VLOOKUP(V11,Pont!$A$2:$BU$188,MATCH(F11,(Pont!$B$1:$BU$1),1)+1))","v":""},{"$f":"IF('CR CF4'!V11=\"\",\"\",'CR CF4'!V11)","v":""},{"$f":"IF(OR(E11=\"\",X11=\"\"),\"\",VLOOKUP(X11,Epaules!$A$2:$BU$76,MATCH(F11,(Epaules!$B$1:$BU$1),1)+1))","v":""},{"$f":"IF('CR CF4'!X11=\"\",\"\",'CR CF4'!X11)","v":""},{"$f":"IF(OR(E11=\"\",Z11=\"\"),\"\",VLOOKUP(Z11,'pointe de pieds'!$A$2:$BU$110,MATCH(F11,('pointe de pieds'!$B$1:$BU$1),1)+1))","v":""},0,{"v":0,"d":"0.00"},null,null,{"v":0,"d":"0.00"},{"$nulls":5},{"v":0,"d":"0.00"},{"$nulls":3},{"v":0,"d":"0.00"},{"v":0,"d":"0.00"},8]
[{"$f":"IF('CR CF4'!A12=\"\",\"\",Accueil!$D$6)","v":""},{"$f":"IF('CR CF4'!A12=\"\",\"\",MATCH('CR CF4'!A12,Accueil!$D$30:$D$129,0))","v":""},{"$f":"IF('CR CF4'!A12=\"\",\"\",'CR CF4'!A12)","v":""},{"$f":"IF('CR CF4'!B12=\"\",\"\",'CR CF4'!B12)","v":""},{"$f":"IF('CR CF4'!C12=\"\",\"\",'CR CF4'!C12)","v":""},{"$f":"IF(OR(Accueil!$D$6=\"\",D12=\"\",E12=\"\"),\"\",DATEDIF(E12,LOOKUP(B12,Accueil!$C$30:$C$129,Accueil!$E$30:$E$129),\"m\"))","v":""},{"$f":"IF('CR CF4'!E12=\"\",\"\",'CR CF4'!E12)","v":""},{"$f":"IF('CR CF4'!F12=\"\",\"\",'CR CF4'!F12)","v":""},{"$f":"IF(OR(E12=\"\",H12=\"\"),\"\",VLOOKUP(H12,Détente!$A$2:$BU$157,MATCH(F12,(Détente!$B$1:$BU$1),1)+1))","v":""},{"$f":"IF('CR CF4'!H12=\"\",\"\",'CR CF4'!H12)","v":""},{"$f":"IF(OR(E12=\"\",J12=\"\"),\"\",VLOOKUP(J12,Sautillers!$A$2:$BU$99,MATCH(F12,(Sautillers!$B$1:$BU$1),1)+1))","v":""},{"$f":"IF('CR CF4'!J12=\"\",\"\",'CR CF4'!J12)","v":""},{"$f":"IF(OR(E12=\"\",L12=\"\"),\"\",VLOOKUP(L12,'Course 20 m'!$A$2:$BU$373,MATCH(F12,('Course 20 m'!$B$1:$BU$1),1)+1))","v":""},{"$f":"IF('CR CF4'!L12=\"\",\"\",'CR CF4'!L12)","v":""},{"$f":"IF(OR(E12=\"\",N12=\"\"),\"\",VLOOKUP(N12,'Ecarts D&G'!$A$2:$BU$147,MATCH(F12,('Ecarts D&G'!$B$1:$BU$1),1)+1))","v":""},{"$f":"IF('CR CF4'!N12=\"\",\"\",'CR CF4'!N12)","v":""},{"$f":"IF(OR(E12=\"\",P12=\"\"),\"\",VLOOKUP(P12,'Ecarts D&G'!$A$2:$BU$147,MATCH(F12,('Ecarts D&G'!$B$1:$BU$1),1)+1))","v":""},{"$f":"IF('CR CF4'!P12=\"\",\"\",'CR CF4'!P12)","v":""},{"$f":"IF(OR(E12=\"\",R12=\"\"),\"\",VLOOKUP(R12,'Ecart facial'!$A$2:$BU$143,MATCH(F12,('Ecart facial'!$B$1:$BU$1),1)+1))","v":""},{"$f":"IF('CR CF4'!R12=\"\",\"\",'CR CF4'!R12)","v":""},{"$f":"IF(OR(E12=\"\",T12=\"\"),\"\",VLOOKUP(T12,'Fermeture TJ'!$A$2:$BU$126,MATCH(F12,('Fermeture TJ'!$B$1:$BU$1),1)+1))","v":""},{"$f":"IF('CR CF4'!T12=\"\",\"\",'CR CF4'!T12)","v":""},{"$f":"IF(OR(E12=\"\",V12=\"\"),\"\",VLOOKUP(V12,Pont!$A$2:$BU$188,MATCH(F12,(Pont!$B$1:$BU$1),1)+1))","v":""},{"$f":"IF('CR CF4'!V12=\"\",\"\",'CR CF4'!V12)","v":""},{"$f":"IF(OR(E12=\"\",X12=\"\"),\"\",VLOOKUP(X12,Epaules!$A$2:$BU$76,MATCH(F12,(Epaules!$B$1:$BU$1),1)+1))","v":""},{"$f":"IF('CR CF4'!X12=\"\",\"\",'CR CF4'!X12)","v":""},{"$f":"IF(OR(E12=\"\",Z12=\"\"),\"\",VLOOKUP(Z12,'pointe de pieds'!$A$2:$BU$110,MATCH(F12,('pointe de pieds'!$B$1:$BU$1),1)+1))","v":""},0,{"v":0,"d":"0.00"},null,null,{"v":0,"d":"0.00"},{"$nulls":5},{"v":0,"d":"0.00"},{"$nulls":3},{"v":0,"d":"0.00"},{"v":0,"d":"0.00"},9]
[{"$f":"IF('CR CF4'!A13=\"\",\"\",Accueil!$D$6)","v":""},{"$f":"IF('CR CF4'!A13=\"\",\"\",MATCH('CR CF4'!A13,Accueil!$D$30:$D$129,0))","v":""},{"$f":"IF('CR CF4'!A13=\"\",\"\",'CR CF4'!A13)","v":""},{"$f":"IF('CR CF4'!B13=\"\",\"\",'CR CF4'!B13)","v":""},{"$f":"IF('CR CF4'!C13=\"\",\"\",'CR CF4'!C13)","v":""},{"$f":"IF(OR(Accueil!$D$6=\"\",D13=\"\",E13=\"\"),\"\",DATEDIF(E13,LOOKUP(B13,Accueil!$C$30:$C$129,Accueil!$E$30:$E$129),\"m\"))","v":""},{"$f":"IF('CR CF4'!E13=\"\",\"\",'CR CF4'!E13)","v":""},{"$f":"IF('CR CF4'!F13=\"\",\"\",'CR CF4'!F13)","v":""},{"$f":"IF(OR(E13=\"\",H13=\"\"),\"\",VLOOKUP(H13,Détente!$A$2:$BU$157,MATCH(F13,(Détente!$B$1:$BU$1),1)+1))","v":""},{"$f":"IF('CR CF4'!H13=\"\",\"\",'CR CF4'!H13)","v":""},{"$f":"IF(OR(E13=\"\",J13=\"\"),\"\",VLOOKUP(J13,Sautillers!$A$2:$BU$99,MATCH(F13,(Sautillers!$B$1:$BU$1),1)+1))","v":""},{"$f":"IF('CR CF4'!J13=\"\",\"\",'CR CF4'!J13)","v":""},{"$f":"IF(OR(E13=\"\",L13=\"\"),\"\",VLOOKUP(L13,'Course 20 m'!$A$2:$BU$373,MATCH(F13,('Course 20 m'!$B$1:$BU$1),1)+1))","v":""},{"$f":"IF('CR CF4'!L13=\"\",\"\",'CR CF4'!L13)","v":""},{"$f":"IF(OR(E13=\"\",N13=\"\"),\"\",VLOOKUP(N13,'Ecarts D&G'!$A$2:$BU$147,MATCH(F13,('Ecarts D&G'!$B$1:$BU$1),1)+1))","v":""},{"$f":"IF('CR CF4'!N13=\"\",\"\",'CR CF4'!N13)","v":""},{"$f":"IF(OR(E13=\"\",P13=\"\"),\"\",VLOOKUP(P13,'Ecarts D&G'!$A$2:$BU$147,MATCH(F13,('Ecarts D&G'!$B$1:$BU$1),1)+1))","v":""},{"$f":"IF('CR CF4'!P13=\"\",\"\",'CR CF4'!P13)","v":""},{"$f":"IF(OR(E13=\"\",R13=\"\"),\"\",VLOOKUP(R13,'Ecart facial'!$A$2:$BU$143,MATCH(F13,('Ecart facial'!$B$1:$BU$1),1)+1))","v":""},{"$f":"IF('CR CF4'!R13=\"\",\"\",'CR CF4'!R13)","v":""},{"$f":"IF(OR(E13=\"\",T13=\"\"),\"\",VLOOKUP(T13,'Fermeture TJ'!$A$2:$BU$126,MATCH(F13,('Fermeture TJ'!$B$1:$BU$1),1)+1))","v":""},{"$f":"IF('CR CF4'!T13=\"\",\"\",'CR CF4'!T13)","v":""},{"$f":"IF(OR(E13=\"\",V13=\"\"),\"\",VLOOKUP(V13,Pont!$A$2:$BU$188,MATCH(F13,(Pont!$B$1:$BU$1),1)+1))","v":""},{"$f":"IF('CR CF4'!V13=\"\",\"\",'CR CF4'!V13)","v":""},{"$f":"IF(OR(E13=\"\",X13=\"\"),\"\",VLOOKUP(X13,Epaules!$A$2:$BU$76,MATCH(F13,(Epaules!$B$1:$BU$1),1)+1))","v":""},{"$f":"IF('CR CF4'!X13=\"\",\"\",'CR CF4'!X13)","v":""},{"$f":"IF(OR(E13=\"\",Z13=\"\"),\"\",VLOOKUP(Z13,'pointe de pieds'!$A$2:$BU$110,MATCH(F13,('pointe de pieds'!$B$1:$BU$1),1)+1))","v":""},0,{"v":0,"d":"0.00"},null,null,{"v":0,"d":"0.00"},{"$nulls":5},{"v":0,"d":"0.00"},{"$nulls":3},{"v":0,"d":"0.00"},{"v":0,"d":"0.00"},10]
[{"$f":"IF('CR CF4'!A14=\"\",\"\",Accueil!$D$6)","v":""},{"$f":"IF('CR CF4'!A14=\"\",\"\",MATCH('CR CF4'!A14,Accueil!$D$30:$D$129,0))","v":""},{"$f":"IF('CR CF4'!A14=\"\",\"\",'CR CF4'!A14)","v":""},{"$f":"IF('CR CF4'!B14=\"\",\"\",'CR CF4'!B14)","v":""},{"$f":"IF('CR CF4'!C14=\"\",\"\",'CR CF4'!C14)","v":""},{"$f":"IF(OR(Accueil!$D$6=\"\",D14=\"\",E14=\"\"),\"\",DATEDIF(E14,LOOKUP(B14,Accueil!$C$30:$C$129,Accueil!$E$30:$E$129),\"m\"))","v":""},{"$f":"IF('CR CF4'!E14=\"\",\"\",'CR CF4'!E14)","v":""},{"$f":"IF('CR CF4'!F14=\"\",\"\",'CR CF4'!F14)","v":""},{"$f":"IF(OR(E14=\"\",H14=\"\"),\"\",VLOOKUP(H14,Détente!$A$2:$BU$157,MATCH(F14,(Détente!$B$1:$BU$1),1)+1))","v":""},{"$f":"IF('CR CF4'!H14=\"\",\"\",'CR CF4'!H14)","v":""},{"$f":"IF(OR(E14=\"\",J14=\"\"),\"\",VLOOKUP(J14,Sautillers!$A$2:$BU$99,MATCH(F14,(Sautillers!$B$1:$BU$1),1)+1))","v":""},{"$f":"IF('CR CF4'!J14=\"\",\"\",'CR CF4'!J14)","v":""},{"$f":"IF(OR(E14=\"\",L14=\"\"),\"\",VLOOKUP(L14,'Course 20 m'!$A$2:$BU$373,MATCH(F14,('Course 20 m'!$B$1:$BU$1),1)+1))","v":""},{"$f":"IF('CR CF4'!L14=\"\",\"\",'CR CF4'!L14)","v":""},{"$f":"IF(OR(E14=\"\",N14=\"\"),\"\",VLOOKUP(N14,'Ecarts D&G'!$A$2:$BU$147,MATCH(F14,('Ecarts D&G'!$B$1:$BU$1),1)+1))","v":""},{"$f":"IF('CR CF4'!N14=\"\",\"\",'CR CF4'!N14)","v":""},{"$f":"IF(OR(E14=\"\",P14=\"\"),\"\",VLOOKUP(P14,'Ecarts D&G'!$A$2:$BU$147,MATCH(F14,('Ecarts D&G'!$B$1:$BU$1),1)+1))","v":""},{"$f":"IF('CR CF4'!P14=\"\",\"\",'CR CF4'!P14)","v":""},{"$f":"IF(OR(E14=\"\",R14=\"\"),\"\",VLOOKUP(R14,'Ecart facial'!$A$2:$BU$143,MATCH(F14,('Ecart facial'!$B$1:$BU$1),1)+1))","v":""},{"$f":"IF('CR CF4'!R14=\"\",\"\",'CR CF4'!R14)","v":""},{"$f":"IF(OR(E14=\"\",T14=\"\"),\"\",VLOOKUP(T14,'Fermeture TJ'!$A$2:$BU$126,MATCH(F14,('Fermeture TJ'!$B$1:$BU$1),1)+1))","v":""},{"$f":"IF('CR CF4'!T14=\"\",\"\",'CR CF4'!T14)","v":""},{"$f":"IF(OR(E14=\"\",V14=\"\"),\"\",VLOOKUP(V14,Pont!$A$2:$BU$188,MATCH(F14,(Pont!$B$1:$BU$1),1)+1))","v":""},{"$f":"IF('CR CF4'!V14=\"\",\"\",'CR CF4'!V14)","v":""},{"$f":"IF(OR(E14=\"\",X14=\"\"),\"\",VLOOKUP(X14,Epaules!$A$2:$BU$76,MATCH(F14,(Epaules!$B$1:$BU$1),1)+1))","v":""},{"$f":"IF('CR CF4'!X14=\"\",\"\",'CR CF4'!X14)","v":""},{"$f":"IF(OR(E14=\"\",Z14=\"\"),\"\",VLOOKUP(Z14,'pointe de pieds'!$A$2:$BU$110,MATCH(F14,('pointe de pieds'!$B$1:$BU$1),1)+1))","v":""},0,{"v":0,"d":"0.00"},null,null,{"v":0,"d":"0.00"},{"$nulls":5},{"v":0,"d":"0.00"},{"$nulls":3},{"v":0,"d":"0.00"},{"v":0,"d":"0.00"},11]
[{"$f":"IF('CR CF4'!A15=\"\",\"\",Accueil!$D$6)","v":""},{"$f":"IF('CR CF4'!A15=\"\",\"\",MATCH('CR CF4'!A15,Accueil!$D$30:$D$129,0))","v":""},{"$f":"IF('CR CF4'!A15=\"\",\"\",'CR CF4'!A15)","v":""},{"$f":"IF('CR CF4'!B15=\"\",\"\",'CR CF4'!B15)","v":""},{"$f":"IF('CR CF4'!C15=\"\",\"\",'CR CF4'!C15)","v":""},{"$f":"IF(OR(Accueil!$D$6=\"\",D15=\"\",E15=\"\"),\"\",DATEDIF(E15,LOOKUP(B15,Accueil!$C$30:$C$129,Accueil!$E$30:$E$129),\"m\"))","v":""},{"$f":"IF('CR CF4'!E15=\"\",\"\",'CR CF4'!E15)","v":""},{"$f":"IF('CR CF4'!F15=\"\",\"\",'CR CF4'!F15)","v":""},{"$f":"IF(OR(E15=\"\",H15=\"\"),\"\",VLOOKUP(H15,Détente!$A$2:$BU$157,MATCH(F15,(Détente!$B$1:$BU$1),1)+1))","v":""},{"$f":"IF('CR CF4'!H15=\"\",\"\",'CR CF4'!H15)","v":""},{"$f":"IF(OR(E15=\"\",J15=\"\"),\"\",VLOOKUP(J15,Sautillers!$A$2:$BU$99,MATCH(F15,(Sautillers!$B$1:$BU$1),1)+1))","v":""},{"$f":"IF('CR CF4'!J15=\"\",\"\",'CR CF4'!J15)","v":""},{"$f":"IF(OR(E15=\"\",L15=\"\"),\"\",VLOOKUP(L15,'Course 20 m'!$A$2:$BU$373,MATCH(F15,('Course 20 m'!$B$1:$BU$1),1)+1))","v":""},{"$f":"IF('CR CF4'!L15=\"\",\"\",'CR CF4'!L15)","v":""},{"$f":"IF(OR(E15=\"\",N15=\"\"),\"\",VLOOKUP(N15,'Ecarts D&G'!$A$2:$BU$147,MATCH(F15,('Ecarts D&G'!$B$1:$BU$1),1)+1))","v":""},{"$f":"IF('CR CF4'!N15=\"\",\"\",'CR CF4'!N15)","v":""},{"$f":"IF(OR(E15=\"\",P15=\"\"),\"\",VLOOKUP(P15,'Ecarts D&G'!$A$2:$BU$147,MATCH(F15,('Ecarts D&G'!$B$1:$BU$1),1)+1))","v":""},{"$f":"IF('CR CF4'!P15=\"\",\"\",'CR CF4'!P15)","v":""},{"$f":"IF(OR(E15=\"\",R15=\"\"),\"\",VLOOKUP(R15,'Ecart facial'!$A$2:$BU$143,MATCH(F15,('Ecart facial'!$B$1:$BU$1),1)+1))","v":""},{"$f":"IF('CR CF4'!R15=\"\",\"\",'CR CF4'!R15)","v":""},{"$f":"IF(OR(E15=\"\",T15=\"\"),\"\",VLOOKUP(T15,'Fermeture TJ'!$A$2:$BU$126,MATCH(F15,('Fermeture TJ'!$B$1:$BU$1),1)+1))","v":""},{"$f":"IF('CR CF4'!T15=\"\",\"\",'CR CF4'!T15)","v":""},{"$f":"IF(OR(E15=\"\",V15=\"\"),\"\",VLOOKUP(V15,Pont!$A$2:$BU$188,MATCH(F15,(Pont!$B$1:$BU$1),1)+1))","v":""},{"$f":"IF('CR CF4'!V15=\"\",\"\",'CR CF4'!V15)","v":""},{"$f":"IF(OR(E15=\"\",X15=\"\"),\"\",VLOOKUP(X15,Epaules!$A$2:$BU$76,MATCH(F15,(Epaules!$B$1:$BU$1),1)+1))","v":""},{"$f":"IF('CR CF4'!X15=\"\",\"\",'CR CF4'!X15)","v":""},{"$f":"IF(OR(E15=\"\",Z15=\"\"),\"\",VLOOKUP(Z15,'pointe de pieds'!$A$2:$BU$110,MATCH(F15,('pointe de pieds'!$B$1:$BU$1),1)+1))","v":""},0,{"v":0,"d":"0.00"},null,null,{"v":0,"d":"0.00"},{"$nulls":5},{"v":0,"d":"0.00"},{"$nulls":3},{"v":0,"d":"0.00"},{"v":0,"d":"0.00"},12]
[{"$f":"IF('CR CF4'!A16=\"\",\"\",Accueil!$D$6)","v":""},{"$f":"IF('CR CF4'!A16=\"\",\"\",MATCH('CR CF4'!A16,Accueil!$D$30:$D$129,0))","v":""},{"$f":"IF('CR CF4'!A16=\"\",\"\",'CR CF4'!A16)","v":""},{"$f":"IF('CR CF4'!B16=\"\",\"\",'CR CF4'!B16)","v":""},{"$f":"IF('CR CF4'!C16=\"\",\"\",'CR CF4'!C16)","v":""},{"$f":"IF(OR(Accueil!$D$6=\"\",D16=\"\",E16=\"\"),\"\",DATEDIF(E16,LOOKUP(B16,Accueil!$C$30:$C$129,Accueil!$E$30:$E$129),\"m\"))","v":""},{"$f":"IF('CR CF4'!E16=\"\",\"\",'CR CF4'!E16)","v":""},{"$f":"IF('CR CF4'!F16=\"\",\"\",'CR CF4'!F16)","v":""},{"$f":"IF(OR(E16=\"\",H16=\"\"),\"\",VLOOKUP(H16,Détente!$A$2:$BU$157,MATCH(F16,(Détente!$B$1:$BU$1),1)+1))","v":""},{"$f":"IF('CR CF4'!H16=\"\",\"\",'CR CF4'!H16)","v":""},{"$f":"IF(OR(E16=\"\",J16=\"\"),\"\",VLOOKUP(J16,Sautillers!$A$2:$BU$99,MATCH(F16,(Sautillers!$B$1:$BU$1),1)+1))","v":""},{"$f":"IF('CR CF4'!J16=\"\",\"\",'CR CF4'!J16)","v":""},{"$f":"IF(OR(E16=\"\",L16=\"\"),\"\",VLOOKUP(L16,'Course 20 m'!$A$2:$BU$373,MATCH(F16,('Course 20 m'!$B$1:$BU$1),1)+1))","v":""},{"$f":"IF('CR CF4'!L16=\"\",\"\",'CR CF4'!L16)","v":""},{"$f":"IF(OR(E16=\"\",N16=\"\"),\"\",VLOOKUP(N16,'Ecarts D&G'!$A$2:$BU$147,MATCH(F16,('Ecarts D&G'!$B$1:$BU$1),1)+1))","v":""},{"$f":"IF('CR CF4'!N16=\"\",\"\",'CR CF4'!N16)","v":""},{"$f":"IF(OR(E16=\"\",P16=\"\"),\"\",VLOOKUP(P16,'Ecarts D&G'!$A$2:$BU$147,MATCH(F16,('Ecarts D&G'!$B$1:$BU$1),1)+1))","v":""},{"$f":"IF('CR CF4'!P16=\"\",\"\",'CR CF4'!P16)","v":""},{"$f":"IF(OR(E16=\"\",R16=\"\"),\"\",VLOOKUP(R16,'Ecart facial'!$A$2:$BU$143,MATCH(F16,('Ecart facial'!$B$1:$BU$1),1)+1))","v":""},{"$f":"IF('CR CF4'!R16=\"\",\"\",'CR CF4'!R16)","v":""},{"$f":"IF(OR(E16=\"\",T16=\"\"),\"\",VLOOKUP(T16,'Fermeture TJ'!$A$2:$BU$126,MATCH(F16,('Fermeture TJ'!$B$1:$BU$1),1)+1))","v":""},{"$f":"IF('CR CF4'!T16=\"\",\"\",'CR CF4'!T16)","v":""},{"$f":"IF(OR(E16=\"\",V16=\"\"),\"\",VLOOKUP(V16,Pont!$A$2:$BU$188,MATCH(F16,(Pont!$B$1:$BU$1),1)+1))","v":""},{"$f":"IF('CR CF4'!V16=\"\",\"\",'CR CF4'!V16)","v":""},{"$f":"IF(OR(E16=\"\",X16=\"\"),\"\",VLOOKUP(X16,Epaules!$A$2:$BU$76,MATCH(F16,(Epaules!$B$1:$BU$1),1)+1))","v":""},{"$f":"IF('CR CF4'!X16=\"\",\"\",'CR CF4'!X16)","v":""},{"$f":"IF(OR(E16=\"\",Z16=\"\"),\"\",VLOOKUP(Z16,'pointe de pieds'!$A$2:$BU$110,MATCH(F16,('pointe de pieds'!$B$1:$BU$1),1)+1))","v":""},0,{"v":0,"d":"0.00"},null,null,{"v":0,"d":"0.00"},{"$nulls":5},{"v":0,"d":"0.00"},{"$nulls":3},{"v":0,"d":"0.00"},{"v":0,"d":"0.00"},13]
[{"$f":"IF('CR CF4'!A17=\"\",\"\",Accueil!$D$6)","v":""},{"$f":"IF('CR CF4'!A17=\"\",\"\",MATCH('CR CF4'!A17,Accueil!$D$30:$D$129,0))","v":""},{"$f":"IF('CR CF4'!A17=\"\",\"\",'CR CF4'!A17)","v":""},{"$f":"IF('CR CF4'!B17=\"\",\"\",'CR CF4'!B17)","v":""},{"$f":"IF('CR CF4'!C17=\"\",\"\",'CR CF4'!C17)","v":""},{"$f":"IF(OR(Accueil!$D$6=\"\",D17=\"\",E17=\"\"),\"\",DATEDIF(E17,LOOKUP(B17,Accueil!$C$30:$C$129,Accueil!$E$30:$E$129),\"m\"))","v":""},{"$f":"IF('CR CF4'!E17=\"\",\"\",'CR CF4'!E17)","v":""},{"$f":"IF('CR CF4'!F17=\"\",\"\",'CR CF4'!F17)","v":""},{"$f":"IF(OR(E17=\"\",H17=\"\"),\"\",VLOOKUP(H17,Détente!$A$2:$BU$157,MATCH(F17,(Détente!$B$1:$BU$1),1)+1))","v":""},{"$f":"IF('CR CF4'!H17=\"\",\"\",'CR CF4'!H17)","v":""},{"$f":"IF(OR(E17=\"\",J17=\"\"),\"\",VLOOKUP(J17,Sautillers!$A$2:$BU$99,MATCH(F17,(Sautillers!$B$1:$BU$1),1)+1))","v":""},{"$f":"IF('CR CF4'!J17=\"\",\"\",'CR CF4'!J17)","v":""},{"$f":"IF(OR(E17=\"\",L17=\"\"),\"\",VLOOKUP(L17,'Course 20 m'!$A$2:$BU$373,MATCH(F17,('Course 20 m'!$B$1:$BU$1),1)+1))","v":""},{"$f":"IF('CR CF4'!L17=\"\",\"\",'CR CF4'!L17)","v":""},{"$f":"IF(OR(E17=\"\",N17=\"\"),\"\",VLOOKUP(N17,'Ecarts D&G'!$A$2:$BU$147,MATCH(F17,('Ecarts D&G'!$B$1:$BU$1),1)+1))","v":""},{"$f":"IF('CR CF4'!N17=\"\",\"\",'CR CF4'!N17)","v":""},{"$f":"IF(OR(E17=\"\",P17=\"\"),\"\",VLOOKUP(P17,'Ecarts D&G'!$A$2:$BU$147,MATCH(F17,('Ecarts D&G'!$B$1:$BU$1),1)+1))","v":""},{"$f":"IF('CR CF4'!P17=\"\",\"\",'CR CF4'!P17)","v":""},{"$f":"IF(OR(E17=\"\",R17=\"\"),\"\",VLOOKUP(R17,'Ecart facial'!$A$2:$BU$143,MATCH(F17,('Ecart facial'!$B$1:$BU$1),1)+1))","v":""},{"$f":"IF('CR CF4'!R17=\"\",\"\",'CR CF4'!R17)","v":""},{"$f":"IF(OR(E17=\"\",T17=\"\"),\"\",VLOOKUP(T17,'Fermeture TJ'!$A$2:$BU$126,MATCH(F17,('Fermeture TJ'!$B$1:$BU$1),1)+1))","v":""},{"$f":"IF('CR CF4'!T17=\"\",\"\",'CR CF4'!T17)","v":""},{"$f":"IF(OR(E17=\"\",V17=\"\"),\"\",VLOOKUP(V17,Pont!$A$2:$BU$188,MATCH(F17,(Pont!$B$1:$BU$1),1)+1))","v":""},{"$f":"IF('CR CF4'!V17=\"\",\"\",'CR CF4'!V17)","v":""},{"$f":"IF(OR(E17=\"\",X17=\"\"),\"\",VLOOKUP(X17,Epaules!$A$2:$BU$76,MATCH(F17,(Epaules!$B$1:$BU$1),1)+1))","v":""},{"$f":"IF('CR CF4'!X17=\"\",\"\",'CR CF4'!X17)","v":""},{"$f":"IF(OR(E17=\"\",Z17=\"\"),\"\",VLOOKUP(Z17,'pointe de pieds'!$A$2:$BU$110,MATCH(F17,('pointe de pieds'!$B$1:$BU$1),1)+1))","v":""},0,{"v":0,"d":"0.00"},null,null,{"v":0,"d":"0.00"},{"$nulls":5},{"v":0,"d":"0.00"},{"$nulls":3},{"v":0,"d":"0.00"},{"v":0,"d":"0.00"},14]
[{"$f":"IF('CR CF4'!A18=\"\",\"\",Accueil!$D$6)","v":""},{"$f":"IF('CR CF4'!A18=\"\",\"\",MATCH('CR CF4'!A18,Accueil!$D$30:$D$129,0))","v":""},{"$f":"IF('CR CF4'!A18=\"\",\"\",'CR CF4'!A18)","v":""},{"$f":"IF('CR CF4'!B18=\"\",\"\",'CR CF4'!B18)","v":""},{"$f":"IF('CR CF4'!C18=\"\",\"\",'CR CF4'!C18)","v":""},{"$f":"IF(OR(Accueil!$D$6=\"\",D18=\"\",E18=\"\"),\"\",DATEDIF(E18,LOOKUP(B18,Accueil!$C$30:$C$129,Accueil!$E$30:$E$129),\"m\"))","v":""},{"$f":"IF('CR CF4'!E18=\"\",\"\",'CR CF4'!E18)","v":""},{"$f":"IF('CR CF4'!F18=\"\",\"\",'CR CF4'!F18)","v":""},{"$f":"IF(OR(E18=\"\",H18=\"\"),\"\",VLOOKUP(H18,Détente!$A$2:$BU$157,MATCH(F18,(Détente!$B$1:$BU$1),1)+1))","v":""},{"$f":"IF('CR CF4'!H18=\"\",\"\",'CR CF4'!H18)","v":""},{"$f":"IF(OR(E18=\"\",J18=\"\"),\"\",VLOOKUP(J18,Sautillers!$A$2:$BU$99,MATCH(F18,(Sautillers!$B$1:$BU$1),1)+1))","v":""},{"$f":"IF('CR CF4'!J18=\"\",\"\",'CR CF4'!J18)","v":""},{"$f":"IF(OR(E18=\"\",L18=\"\"),\"\",VLOOKUP(L18,'Course 20 m'!$A$2:$BU$373,MATCH(F18,('Course 20 m'!$B$1:$BU$1),1)+1))","v":""},{"$f":"IF('CR CF4'!L18=\"\",\"\",'CR CF4'!L18)","v":""},{"$f":"IF(OR(E18=\"\",N18=\"\"),\"\",VLOOKUP(N18,'Ecarts D&G'!$A$2:$BU$147,MATCH(F18,('Ecarts D&G'!$B$1:$BU$1),1)+1))","v":""},{"$f":"IF('CR CF4'!N18=\"\",\"\",'CR CF4'!N18)","v":""},{"$f":"IF(OR(E18=\"\",P18=\"\"),\"\",VLOOKUP(P18,'Ecarts D&G'!$A$2:$BU$147,MATCH(F18,('Ecarts D&G'!$B$1:$BU$1),1)+1))","v":""},{"$f":"IF('CR CF4'!P18=\"\",\"\",'CR CF4'!P18)","v":""},{"$f":"IF(OR(E18=\"\",R18=\"\"),\"\",VLOOKUP(R18,'Ecart facial'!$A$2:$BU$143,MATCH(F18,('Ecart facial'!$B$1:$BU$1),1)+1))","v":""},{"$f":"IF('CR CF4'!R18=\"\",\"\",'CR CF4'!R18)","v":""},{"$f":"IF(OR(E18=\"\",T18=\"\"),\"\",VLOOKUP(T18,'Fermeture TJ'!$A$2:$BU$126,MATCH(F18,('Fermeture TJ'!$B$1:$BU$1),1)+1))","v":""},{"$f":"IF('CR CF4'!T18=\"\",\"\",'CR CF4'!T18)","v":""},{"$f":"IF(OR(E18=\"\",V18=\"\"),\"\",VLOOKUP(V18,Pont!$A$2:$BU$188,MATCH(F18,(Pont!$B$1:$BU$1),1)+1))","v":""},{"$f":"IF('CR CF4'!V18=\"\",\"\",'CR CF4'!V18)","v":""},{"$f":"IF(OR(E18=\"\",X18=\"\"),\"\",VLOOKUP(X18,Epaules!$A$2:$BU$76,MATCH(F18,(Epaules!$B$1:$BU$1),1)+1))","v":""},{"$f":"IF('CR CF4'!X18=\"\",\"\",'CR CF4'!X18)","v":""},{"$f":"IF(OR(E18=\"\",Z18=\"\"),\"\",VLOOKUP(Z18,'pointe de pieds'!$A$2:$BU$110,MATCH(F18,('pointe de pieds'!$B$1:$BU$1),1)+1))","v":""},0,{"v":0,"d":"0.00"},null,null,{"v":0,"d":"0.00"},{"$nulls":5},{"v":0,"d":"0.00"},{"$nulls":3},{"v":0,"d":"0.00"},{"v":0,"d":"0.00"},15]
[{"$f":"IF('CR CF4'!A19=\"\",\"\",Accueil!$D$6)","v":""},{"$f":"IF('CR CF4'!A19=\"\",\"\",MATCH('CR CF4'!A19,Accueil!$D$30:$D$129,0))","v":""},{"$f":"IF('CR CF4'!A19=\"\",\"\",'CR CF4'!A19)","v":""},{"$f":"IF('CR CF4'!B19=\"\",\"\",'CR CF4'!B19)","v":""},{"$f":"IF('CR CF4'!C19=\"\",\"\",'CR CF4'!C19)","v":""},{"$f":"IF(OR(Accueil!$D$6=\"\",D19=\"\",E19=\"\"),\"\",DATEDIF(E19,LOOKUP(B19,Accueil!$C$30:$C$129,Accueil!$E$30:$E$129),\"m\"))","v":""},{"$f":"IF('CR CF4'!E19=\"\",\"\",'CR CF4'!E19)","v":""},{"$f":"IF('CR CF4'!F19=\"\",\"\",'CR CF4'!F19)","v":""},{"$f":"IF(OR(E19=\"\",H19=\"\"),\"\",VLOOKUP(H19,Détente!$A$2:$BU$157,MATCH(F19,(Détente!$B$1:$BU$1),1)+1))","v":""},{"$f":"IF('CR CF4'!H19=\"\",\"\",'CR CF4'!H19)","v":""},{"$f":"IF(OR(E19=\"\",J19=\"\"),\"\",VLOOKUP(J19,Sautillers!$A$2:$BU$99,MATCH(F19,(Sautillers!$B$1:$BU$1),1)+1))","v":""},{"$f":"IF('CR CF4'!J19=\"\",\"\",'CR CF4'!J19)","v":""},{"$f":"IF(OR(E19=\"\",L19=\"\"),\"\",VLOOKUP(L19,'Course 20 m'!$A$2:$BU$373,MATCH(F19,('Course 20 m'!$B$1:$BU$1),1)+1))","v":""},{"$f":"IF('CR CF4'!L19=\"\",\"\",'CR CF4'!L19)","v":""},{"$f":"IF(OR(E19=\"\",N19=\"\"),\"\",VLOOKUP(N19,'Ecarts D&G'!$A$2:$BU$147,MATCH(F19,('Ecarts D&G'!$B$1:$BU$1),1)+1))","v":""},{"$f":"IF('CR CF4'!N19=\"\",\"\",'CR CF4'!N19)","v":""},{"$f":"IF(OR(E19=\"\",P19=\"\"),\"\",VLOOKUP(P19,'Ecarts D&G'!$A$2:$BU$147,MATCH(F19,('Ecarts D&G'!$B$1:$BU$1),1)+1))","v":""},{"$f":"IF('CR CF4'!P19=\"\",\"\",'CR CF4'!P19)","v":""},{"$f":"IF(OR(E19=\"\",R19=\"\"),\"\",VLOOKUP(R19,'Ecart facial'!$A$2:$BU$143,MATCH(F19,('Ecart facial'!$B$1:$BU$1),1)+1))","v":""},{"$f":"IF('CR CF4'!R19=\"\",\"\",'CR CF4'!R19)","v":""},{"$f":"IF(OR(E19=\"\",T19=\"\"),\"\",VLOOKUP(T19,'Fermeture TJ'!$A$2:$BU$126,MATCH(F19,('Fermeture TJ'!$B$1:$BU$1),1)+1))","v":""},{"$f":"IF('CR CF4'!T19=\"\",\"\",'CR CF4'!T19)","v":""},{"$f":"IF(OR(E19=\"\",V19=\"\"),\"\",VLOOKUP(V19,Pont!$A$2:$BU$188,MATCH(F19,(Pont!$B$1:$BU$1),1)+1))","v":""},{"$f":"IF('CR CF4'!V19=\"\",\"\",'CR CF4'!V19)","v":""},{"$f":"IF(OR(E19=\"\",X19=\"\"),\"\",VLOOKUP(X19,Epaules!$A$2:$BU$76,MATCH(F19,(Epaules!$B$1:$BU$1),1)+1))","v":""},{"$f":"IF('CR CF4'!X19=\"\",\"\",'CR CF4'!X19)","v":""},{"$f":"IF(OR(E19=\"\",Z19=\"\"),\"\",VLOOKUP(Z19,'pointe de pieds'!$A$2:$BU$110,MATCH(F19,('pointe de pieds'!$B$1:$BU$1),1)+1))","v":""},0,{"v":0,"d":"0.00"},null,null,{"v":0,"d":"0.00"},{"$nulls":5},{"v":0,"d":"0.00"},{"$nulls":3},{"v":0,"d":"0.00"},{"v":0,"d":"0.00"},16]
[{"$f":"IF('CR CF4'!A20=\"\",\"\",Accueil!$D$6)","v":""},{"$f":"IF('CR CF4'!A20=\"\",\"\",MATCH('CR CF4'!A20,Accueil!$D$30:$D$129,0))","v":""},{"$f":"IF('CR CF4'!A20=\"\",\"\",'CR CF4'!A20)","v":""},{"$f":"IF('CR CF4'!B20=\"\",\"\",'CR CF4'!B20)","v":""},{"$f":"IF('CR CF4'!C20=\"\",\"\",'CR CF4'!C20)","v":""},{"$f":"IF(OR(Accueil!$D$6=\"\",D20=\"\",E20=\"\"),\"\",DATEDIF(E20,LOOKUP(B20,Accueil!$C$30:$C$129,Accueil!$E$30:$E$129),\"m\"))","v":""},{"$f":"IF('CR CF4'!E20=\"\",\"\",'CR CF4'!E20)","v":""},{"$f":"IF('CR CF4'!F20=\"\",\"\",'CR CF4'!F20)","v":""},{"$f":"IF(OR(E20=\"\",H20=\"\"),\"\",VLOOKUP(H20,Détente!$A$2:$BU$157,MATCH(F20,(Détente!$B$1:$BU$1),1)+1))","v":""},{"$f":"IF('CR CF4'!H20=\"\",\"\",'CR CF4'!H20)","v":""},{"$f":"IF(OR(E20=\"\",J20=\"\"),\"\",VLOOKUP(J20,Sautillers!$A$2:$BU$99,MATCH(F20,(Sautillers!$B$1:$BU$1),1)+1))","v":""},{"$f":"IF('CR CF4'!J20=\"\",\"\",'CR CF4'!J20)","v":""},{"$f":"IF(OR(E20=\"\",L20=\"\"),\"\",VLOOKUP(L20,'Course 20 m'!$A$2:$BU$373,MATCH(F20,('Course 20 m'!$B$1:$BU$1),1)+1))","v":""},{"$f":"IF('CR CF4'!L20=\"\",\"\",'CR CF4'!L20)","v":""},{"$f":"IF(OR(E20=\"\",N20=\"\"),\"\",VLOOKUP(N20,'Ecarts D&G'!$A$2:$BU$147,MATCH(F20,('Ecarts D&G'!$B$1:$BU$1),1)+1))","v":""},{"$f":"IF('CR CF4'!N20=\"\",\"\",'CR CF4'!N20)","v":""},{"$f":"IF(OR(E20=\"\",P20=\"\"),\"\",VLOOKUP(P20,'Ecarts D&G'!$A$2:$BU$147,MATCH(F20,('Ecarts D&G'!$B$1:$BU$1),1)+1))","v":""},{"$f":"IF('CR CF4'!P20=\"\",\"\",'CR CF4'!P20)","v":""},{"$f":"IF(OR(E20=\"\",R20=\"\"),\"\",VLOOKUP(R20,'Ecart facial'!$A$2:$BU$143,MATCH(F20,('Ecart facial'!$B$1:$BU$1),1)+1))","v":""},{"$f":"IF('CR CF4'!R20=\"\",\"\",'CR CF4'!R20)","v":""},{"$f":"IF(OR(E20=\"\",T20=\"\"),\"\",VLOOKUP(T20,'Fermeture TJ'!$A$2:$BU$126,MATCH(F20,('Fermeture TJ'!$B$1:$BU$1),1)+1))","v":""},{"$f":"IF('CR CF4'!T20=\"\",\"\",'CR CF4'!T20)","v":""},{"$f":"IF(OR(E20=\"\",V20=\"\"),\"\",VLOOKUP(V20,Pont!$A$2:$BU$188,MATCH(F20,(Pont!$B$1:$BU$1),1)+1))","v":""},{"$f":"IF('CR CF4'!V20=\"\",\"\",'CR CF4'!V20)","v":""},{"$f":"IF(OR(E20=\"\",X20=\"\"),\"\",VLOOKUP(X20,Epaules!$A$2:$BU$76,MATCH(F20,(Epaules!$B$1:$BU$1),1)+1))","v":""},{"$f":"IF('CR CF4'!X20=\"\",\"\",'CR CF4'!X20)","v":""},{"$f":"IF(OR(E20=\"\",Z20=\"\"),\"\",VLOOKUP(Z20,'pointe de pieds'!$A$2:$BU$110,MATCH(F20,('pointe de pieds'!$B$1:$BU$1),1)+1))","v":""},0,{"v":0,"d":"0.00"},null,null,{"v":0,"d":"0.00"},{"$nulls":5},{"v":0,"d":"0.00"},{"$nulls":3},{"v":0,"d":"0.00"},{"v":0,"d":"0.00"},17]
[{"$f":"IF('CR CF4'!A21=\"\",\"\",Accueil!$D$6)","v":""},{"$f":"IF('CR CF4'!A21=\"\",\"\",MATCH('CR CF4'!A21,Accueil!$D$30:$D$129,0))","v":""},{"$f":"IF('CR CF4'!A21=\"\",\"\",'CR CF4'!A21)","v":""},{"$f":"IF('CR CF4'!B21=\"\",\"\",'CR CF4'!B21)","v":""},{"$f":"IF('CR CF4'!C21=\"\",\"\",'CR CF4'!C21)","v":""},{"$f":"IF(OR(Accueil!$D$6=\"\",D21=\"\",E21=\"\"),\"\",DATEDIF(E21,LOOKUP(B21,Accueil!$C$30:$C$129,Accueil!$E$30:$E$129),\"m\"))","v":""},{"$f":"IF('CR CF4'!E21=\"\",\"\",'CR CF4'!E21)","v":""},{"$f":"IF('CR CF4'!F21=\"\",\"\",'CR CF4'!F21)","v":""},{"$f":"IF(OR(E21=\"\",H21=\"\"),\"\",VLOOKUP(H21,Détente!$A$2:$BU$157,MATCH(F21,(Détente!$B$1:$BU$1),1)+1))","v":""},{"$f":"IF('CR CF4'!H21=\"\",\"\",'CR CF4'!H21)","v":""},{"$f":"IF(OR(E21=\"\",J21=\"\"),\"\",VLOOKUP(J21,Sautillers!$A$2:$BU$99,MATCH(F21,(Sautillers!$B$1:$BU$1),1)+1))","v":""},{"$f":"IF('CR CF4'!J21=\"\",\"\",'CR CF4'!J21)","v":""},{"$f":"IF(OR(E21=\"\",L21=\"\"),\"\",VLOOKUP(L21,'Course 20 m'!$A$2:$BU$373,MATCH(F21,('Course 20 m'!$B$1:$BU$1),1)+1))","v":""},{"$f":"IF('CR CF4'!L21=\"\",\"\",'CR CF4'!L21)","v":""},{"$f":"IF(OR(E21=\"\",N21=\"\"),\"\",VLOOKUP(N21,'Ecarts D&G'!$A$2:$BU$147,MATCH(F21,('Ecarts D&G'!$B$1:$BU$1),1)+1))","v":""},{"$f":"IF('CR CF4'!N21=\"\",\"\",'CR CF4'!N21)","v":""},{"$f":"IF(OR(E21=\"\",P21=\"\"),\"\",VLOOKUP(P21,'Ecarts D&G'!$A$2:$BU$147,MATCH(F21,('Ecarts D&G'!$B$1:$BU$1),1)+1))","v":""},{"$f":"IF('CR CF4'!P21=\"\",\"\",'CR CF4'!P21)","v":""},{"$f":"IF(OR(E21=\"\",R21=\"\"),\"\",VLOOKUP(R21,'Ecart facial'!$A$2:$BU$143,MATCH(F21,('Ecart facial'!$B$1:$BU$1),1)+1))","v":""},{"$f":"IF('CR CF4'!R21=\"\",\"\",'CR CF4'!R21)","v":""},{"$f":"IF(OR(E21=\"\",T21=\"\"),\"\",VLOOKUP(T21,'Fermeture TJ'!$A$2:$BU$126,MATCH(F21,('Fermeture TJ'!$B$1:$BU$1),1)+1))","v":""},{"$f":"IF('CR CF4'!T21=\"\",\"\",'CR CF4'!T21)","v":""},{"$f":"IF(OR(E21=\"\",V21=\"\"),\"\",VLOOKUP(V21,Pont!$A$2:$BU$188,MATCH(F21,(Pont!$B$1:$BU$1),1)+1))","v":""},{"$f":"IF('CR CF4'!V21=\"\",\"\",'CR CF4'!V21)","v":""},{"$f":"IF(OR(E21=\"\",X21=\"\"),\"\",VLOOKUP(X21,Epaules!$A$2:$BU$76,MATCH(F21,(Epaules!$B$1:$BU$1),1)+1))","v":""},{"$f":"IF('CR CF4'!X21=\"\",\"\",'CR CF4'!X21)","v":""},{"$f":"IF(OR(E21=\"\",Z21=\"\"),\"\",VLOOKUP(Z21,'pointe de pieds'!$A$2:$BU$110,MATCH(F21,('pointe de pieds'!$B$1:$BU$1),1)+1))","v":""},0,{"v":0,"d":"0.00"},null,null,{"v":0,"d":"0.00"},{"$nulls":5},{"v":0,"d":"0.00"},{"$nulls":3},{"v":0,"d":"0.00"},{"v":0,"d":"0.00"},18]
[{"$f":"IF('CR CF4'!A22=\"\",\"\",Accueil!$D$6)","v":""},{"$f":"IF('CR CF4'!A22=\"\",\"\",MATCH('CR CF4'!A22,Accueil!$D$30:$D$129,0))","v":""},{"$f":"IF('CR CF4'!A22=\"\",\"\",'CR CF4'!A22)","v":""},{"$f":"IF('CR CF4'!B22=\"\",\"\",'CR CF4'!B22)","v":""},{"$f":"IF('CR CF4'!C22=\"\",\"\",'CR CF4'!C22)","v":""},{"$f":"IF(OR(Accueil!$D$6=\"\",D22=\"\",E22=\"\"),\"\",DATEDIF(E22,LOOKUP(B22,Accueil!$C$30:$C$129,Accueil!$E$30:$E$129),\"m\"))","v":""},{"$f":"IF('CR CF4'!E22=\"\",\"\",'CR CF4'!E22)","v":""},{"$f":"IF('CR CF4'!F22=\"\",\"\",'CR CF4'!F22)","v":""},{"$f":"IF(OR(E22=\"\",H22=\"\"),\"\",VLOOKUP(H22,Détente!$A$2:$BU$157,MATCH(F22,(Détente!$B$1:$BU$1),1)+1))","v":""},{"$f":"IF('CR CF4'!H22=\"\",\"\",'CR CF4'!H22)","v":""},{"$f":"IF(OR(E22=\"\",J22=\"\"),\"\",VLOOKUP(J22,Sautillers!$A$2:$BU$99,MATCH(F22,(Sautillers!$B$1:$BU$1),1)+1))","v":""},{"$f":"IF('CR CF4'!J22=\"\",\"\",'CR CF4'!J22)","v":""},{"$f":"IF(OR(E22=\"\",L22=\"\"),\"\",VLOOKUP(L22,'Course 20 m'!$A$2:$BU$373,MATCH(F22,('Course 20 m'!$B$1:$BU$1),1)+1))","v":""},{"$f":"IF('CR CF4'!L22=\"\",\"\",'CR CF4'!L22)","v":""},{"$f":"IF(OR(E22=\"\",N22=\"\"),\"\",VLOOKUP(N22,'Ecarts D&G'!$A$2:$BU$147,MATCH(F22,('Ecarts D&G'!$B$1:$BU$1),1)+1))","v":""},{"$f":"IF('CR CF4'!N22=\"\",\"\",'CR CF4'!N22)","v":""},{"$f":"IF(OR(E22=\"\",P22=\"\"),\"\",VLOOKUP(P22,'Ecarts D&G'!$A$2:$BU$147,MATCH(F22,('Ecarts D&G'!$B$1:$BU$1),1)+1))","v":""},{"$f":"IF('CR CF4'!P22=\"\",\"\",'CR CF4'!P22)","v":""},{"$f":"IF(OR(E22=\"\",R22=\"\"),\"\",VLOOKUP(R22,'Ecart facial'!$A$2:$BU$143,MATCH(F22,('Ecart facial'!$B$1:$BU$1),1)+1))","v":""},{"$f":"IF('CR CF4'!R22=\"\",\"\",'CR CF4'!R22)","v":""},{"$f":"IF(OR(E22=\"\",T22=\"\"),\"\",VLOOKUP(T22,'Fermeture TJ'!$A$2:$BU$126,MATCH(F22,('Fermeture TJ'!$B$1:$BU$1),1)+1))","v":""},{"$f":"IF('CR CF4'!T22=\"\",\"\",'CR CF4'!T22)","v":""},{"$f":"IF(OR(E22=\"\",V22=\"\"),\"\",VLOOKUP(V22,Pont!$A$2:$BU$188,MATCH(F22,(Pont!$B$1:$BU$1),1)+1))","v":""},{"$f":"IF('CR CF4'!V22=\"\",\"\",'CR CF4'!V22)","v":""},{"$f":"IF(OR(E22=\"\",X22=\"\"),\"\",VLOOKUP(X22,Epaules!$A$2:$BU$76,MATCH(F22,(Epaules!$B$1:$BU$1),1)+1))","v":""},{"$f":"IF('CR CF4'!X22=\"\",\"\",'CR CF4'!X22)","v":""},{"$f":"IF(OR(E22=\"\",Z22=\"\"),\"\",VLOOKUP(Z22,'pointe de pieds'!$A$2:$BU$110,MATCH(F22,('pointe de pieds'!$B$1:$BU$1),1)+1))","v":""},0,{"v":0,"d":"0.00"},null,null,{"v":0,"d":"0.00"},{"$nulls":5},{"v":0,"d":"0.00"},{"$nulls":3},{"v":0,"d":"0.00"},{"v":0,"d":"0.00"},19]
[{"$f":"IF('CR CF4'!A23=\"\",\"\",Accueil!$D$6)","v":""},{"$f":"IF('CR CF4'!A23=\"\",\"\",MATCH('CR CF4'!A23,Accueil!$D$30:$D$129,0))","v":""},{"$f":"IF('CR CF4'!A23=\"\",\"\",'CR CF4'!A23)","v":""},{"$f":"IF('CR CF4'!B23=\"\",\"\",'CR CF4'!B23)","v":""},{"$f":"IF('CR CF4'!C23=\"\",\"\",'CR CF4'!C23)","v":""},{"$f":"IF(OR(Accueil!$D$6=\"\",D23=\"\",E23=\"\"),\"\",DATEDIF(E23,LOOKUP(B23,Accueil!$C$30:$C$129,Accueil!$E$30:$E$129),\"m\"))","v":""},{"$f":"IF('CR CF4'!E23=\"\",\"\",'CR CF4'!E23)","v":""},{"$f":"IF('CR CF4'!F23=\"\",\"\",'CR CF4'!F23)","v":""},{"$f":"IF(OR(E23=\"\",H23=\"\"),\"\",VLOOKUP(H23,Détente!$A$2:$BU$157,MATCH(F23,(Détente!$B$1:$BU$1),1)+1))","v":""},{"$f":"IF('CR CF4'!H23=\"\",\"\",'CR CF4'!H23)","v":""},{"$f":"IF(OR(E23=\"\",J23=\"\"),\"\",VLOOKUP(J23,Sautillers!$A$2:$BU$99,MATCH(F23,(Sautillers!$B$1:$BU$1),1)+1))","v":""},{"$f":"IF('CR CF4'!J23=\"\",\"\",'CR CF4'!J23)","v":""},{"$f":"IF(OR(E23=\"\",L23=\"\"),\"\",VLOOKUP(L23,'Course 20 m'!$A$2:$BU$373,MATCH(F23,('Course 20 m'!$B$1:$BU$1),1)+1))","v":""},{"$f":"IF('CR CF4'!L23=\"\",\"\",'CR CF4'!L23)","v":""},{"$f":"IF(OR(E23=\"\",N23=\"\"),\"\",VLOOKUP(N23,'Ecarts D&G'!$A$2:$BU$147,MATCH(F23,('Ecarts D&G'!$B$1:$BU$1),1)+1))","v":""},{"$f":"IF('CR CF4'!N23=\"\",\"\",'CR CF4'!N23)","v":""},{"$f":"IF(OR(E23=\"\",P23=\"\"),\"\",VLOOKUP(P23,'Ecarts D&G'!$A$2:$BU$147,MATCH(F23,('Ecarts D&G'!$B$1:$BU$1),1)+1))","v":""},{"$f":"IF('CR CF4'!P23=\"\",\"\",'CR CF4'!P23)","v":""},{"$f":"IF(OR(E23=\"\",R23=\"\"),\"\",VLOOKUP(R23,'Ecart facial'!$A$2:$BU$143,MATCH(F23,('Ecart facial'!$B$1:$BU$1),1)+1))","v":""},{"$f":"IF('CR CF4'!R23=\"\",\"\",'CR CF4'!R23)","v":""},{"$f":"IF(OR(E23=\"\",T23=\"\"),\"\",VLOOKUP(T23,'Fermeture TJ'!$A$2:$BU$126,MATCH(F23,('Fermeture TJ'!$B$1:$BU$1),1)+1))","v":""},{"$f":"IF('CR CF4'!T23=\"\",\"\",'CR CF4'!T23)","v":""},{"$f":"IF(OR(E23=\"\",V23=\"\"),\"\",VLOOKUP(V23,Pont!$A$2:$BU$188,MATCH(F23,(Pont!$B$1:$BU$1),1)+1))","v":""},{"$f":"IF('CR CF4'!V23=\"\",\"\",'CR CF4'!V23)","v":""},{"$f":"IF(OR(E23=\"\",X23=\"\"),\"\",VLOOKUP(X23,Epaules!$A$2:$BU$76,MATCH(F23,(Epaules!$B$1:$BU$1),1)+1))","v":""},{"$f":"IF('CR CF4'!X23=\"\",\"\",'CR CF4'!X23)","v":""},{"$f":"IF(OR(E23=\"\",Z23=\"\"),\"\",VLOOKUP(Z23,'pointe de pieds'!$A$2:$BU$110,MATCH(F23,('pointe de pieds'!$B$1:$BU$1),1)+1))","v":""},0,{"v":0,"d":"0.00"},null,null,{"v":0,"d":"0.00"},{"$nulls":5},{"v":0,"d":"0.00"},{"$nulls":3},{"v":0,"d":"0.00"},{"v":0,"d":"0.00"},20]
[{"$f":"IF('CR CF4'!A24=\"\",\"\",Accueil!$D$6)","v":""},{"$f":"IF('CR CF4'!A24=\"\",\"\",MATCH('CR CF4'!A24,Accueil!$D$30:$D$129,0))","v":""},{"$f":"IF('CR CF4'!A24=\"\",\"\",'CR CF4'!A24)","v":""},{"$f":"IF('CR CF4'!B24=\"\",\"\",'CR CF4'!B24)","v":""},{"$f":"IF('CR CF4'!C24=\"\",\"\",'CR CF4'!C24)","v":""},{"$f":"IF(OR(Accueil!$D$6=\"\",D24=\"\",E24=\"\"),\"\",DATEDIF(E24,LOOKUP(B24,Accueil!$C$30:$C$129,Accueil!$E$30:$E$129),\"m\"))","v":""},{"$f":"IF('CR CF4'!E24=\"\",\"\",'CR CF4'!E24)","v":""},{"$f":"IF('CR CF4'!F24=\"\",\"\",'CR CF4'!F24)","v":""},{"$f":"IF(OR(E24=\"\",H24=\"\"),\"\",VLOOKUP(H24,Détente!$A$2:$BU$157,MATCH(F24,(Détente!$B$1:$BU$1),1)+1))","v":""},{"$f":"IF('CR CF4'!H24=\"\",\"\",'CR CF4'!H24)","v":""},{"$f":"IF(OR(E24=\"\",J24=\"\"),\"\",VLOOKUP(J24,Sautillers!$A$2:$BU$99,MATCH(F24,(Sautillers!$B$1:$BU$1),1)+1))","v":""},{"$f":"IF('CR CF4'!J24=\"\",\"\",'CR CF4'!J24)","v":""},{"$f":"IF(OR(E24=\"\",L24=\"\"),\"\",VLOOKUP(L24,'Course 20 m'!$A$2:$BU$373,MATCH(F24,('Course 20 m'!$B$1:$BU$1),1)+1))","v":""},{"$f":"IF('CR CF4'!L24=\"\",\"\",'CR CF4'!L24)","v":""},{"$f":"IF(OR(E24=\"\",N24=\"\"),\"\",VLOOKUP(N24,'Ecarts D&G'!$A$2:$BU$147,MATCH(F24,('Ecarts D&G'!$B$1:$BU$1),1)+1))","v":""},{"$f":"IF('CR CF4'!N24=\"\",\"\",'CR CF4'!N24)","v":""},{"$f":"IF(OR(E24=\"\",P24=\"\"),\"\",VLOOKUP(P24,'Ecarts D&G'!$A$2:$BU$147,MATCH(F24,('Ecarts D&G'!$B$1:$BU$1),1)+1))","v":""},{"$f":"IF('CR CF4'!P24=\"\",\"\",'CR CF4'!P24)","v":""},{"$f":"IF(OR(E24=\"\",R24=\"\"),\"\",VLOOKUP(R24,'Ecart facial'!$A$2:$BU$143,MATCH(F24,('Ecart facial'!$B$1:$BU$1),1)+1))","v":""},{"$f":"IF('CR CF4'!R24=\"\",\"\",'CR CF4'!R24)","v":""},{"$f":"IF(OR(E24=\"\",T24=\"\"),\"\",VLOOKUP(T24,'Fermeture TJ'!$A$2:$BU$126,MATCH(F24,('Fermeture TJ'!$B$1:$BU$1),1)+1))","v":""},{"$f":"IF('CR CF4'!T24=\"\",\"\",'CR CF4'!T24)","v":""},{"$f":"IF(OR(E24=\"\",V24=\"\"),\"\",VLOOKUP(V24,Pont!$A$2:$BU$188,MATCH(F24,(Pont!$B$1:$BU$1),1)+1))","v":""},{"$f":"IF('CR CF4'!V24=\"\",\"\",'CR CF4'!V24)","v":""},{"$f":"IF(OR(E24=\"\",X24=\"\"),\"\",VLOOKUP(X24,Epaules!$A$2:$BU$76,MATCH(F24,(Epaules!$B$1:$BU$1),1)+1))","v":""},{"$f":"IF('CR CF4'!X24=\"\",\"\",'CR CF4'!X24)","v":""},{"$f":"IF(OR(E24=\"\",Z24=\"\"),\"\",VLOOKUP(Z24,'pointe de pieds'!$A$2:$BU$110,MATCH(F24,('pointe de pieds'!$B$1:$BU$1),1)+1))","v":""},0,{"v":0,"d":"0.00"},null,null,{"v":0,"d":"0.00"},{"$nulls":5},{"v":0,"d":"0.00"},{"$nulls":3},{"v":0,"d":"0.00"},{"v":0,"d":"0.00"},21]
[{"$f":"IF('CR CF4'!A25=\"\",\"\",Accueil!$D$6)","v":""},{"$f":"IF('CR CF4'!A25=\"\",\"\",MATCH('CR CF4'!A25,Accueil!$D$30:$D$129,0))","v":""},{"$f":"IF('CR CF4'!A25=\"\",\"\",'CR CF4'!A25)","v":""},{"$f":"IF('CR CF4'!B25=\"\",\"\",'CR CF4'!B25)","v":""},{"$f":"IF('CR CF4'!C25=\"\",\"\",'CR CF4'!C25)","v":""},{"$f":"IF(OR(Accueil!$D$6=\"\",D25=\"\",E25=\"\"),\"\",DATEDIF(E25,LOOKUP(B25,Accueil!$C$30:$C$129,Accueil!$E$30:$E$129),\"m\"))","v":""},{"$f":"IF('CR CF4'!E25=\"\",\"\",'CR CF4'!E25)","v":""},{"$f":"IF('CR CF4'!F25=\"\",\"\",'CR CF4'!F25)","v":""},{"$f":"IF(OR(E25=\"\",H25=\"\"),\"\",VLOOKUP(H25,Détente!$A$2:$BU$157,MATCH(F25,(Détente!$B$1:$BU$1),1)+1))","v":""},{"$f":"IF('CR CF4'!H25=\"\",\"\",'CR CF4'!H25)","v":""},{"$f":"IF(OR(E25=\"\",J25=\"\"),\"\",VLOOKUP(J25,Sautillers!$A$2:$BU$99,MATCH(F25,(Sautillers!$B$1:$BU$1),1)+1))","v":""},{"$f":"IF('CR CF4'!J25=\"\",\"\",'CR CF4'!J25)","v":""},{"$f":"IF(OR(E25=\"\",L25=\"\"),\"\",VLOOKUP(L25,'Course 20 m'!$A$2:$BU$373,MATCH(F25,('Course 20 m'!$B$1:$BU$1),1)+1))","v":""},{"$f":"IF('CR CF4'!L25=\"\",\"\",'CR CF4'!L25)","v":""},{"$f":"IF(OR(E25=\"\",N25=\"\"),\"\",VLOOKUP(N25,'Ecarts D&G'!$A$2:$BU$147,MATCH(F25,('Ecarts D&G'!$B$1:$BU$1),1)+1))","v":""},{"$f":"IF('CR CF4'!N25=\"\",\"\",'CR CF4'!N25)","v":""},{"$f":"IF(OR(E25=\"\",P25=\"\"),\"\",VLOOKUP(P25,'Ecarts D&G'!$A$2:$BU$147,MATCH(F25,('Ecarts D&G'!$B$1:$BU$1),1)+1))","v":""},{"$f":"IF('CR CF4'!P25=\"\",\"\",'CR CF4'!P25)","v":""},{"$f":"IF(OR(E25=\"\",R25=\"\"),\"\",VLOOKUP(R25,'Ecart facial'!$A$2:$BU$143,MATCH(F25,('Ecart facial'!$B$1:$BU$1),1)+1))","v":""},{"$f":"IF('CR CF4'!R25=\"\",\"\",'CR CF4'!R25)","v":""},{"$f":"IF(OR(E25=\"\",T25=\"\"),\"\",VLOOKUP(T25,'Fermeture TJ'!$A$2:$BU$126,MATCH(F25,('Fermeture TJ'!$B$1:$BU$1),1)+1))","v":""},{"$f":"IF('CR CF4'!T25=\"\",\"\",'CR CF4'!T25)","v":""},{"$f":"IF(OR(E25=\"\",V25=\"\"),\"\",VLOOKUP(V25,Pont!$A$2:$BU$188,MATCH(F25,(Pont!$B$1:$BU$1),1)+1))","v":""},{"$f":"IF('CR CF4'!V25=\"\",\"\",'CR CF4'!V25)","v":""},{"$f":"IF(OR(E25=\"\",X25=\"\"),\"\",VLOOKUP(X25,Epaules!$A$2:$BU$76,MATCH(F25,(Epaules!$B$1:$BU$1),1)+1))","v":""},{"$f":"IF('CR CF4'!X25=\"\",\"\",'CR CF4'!X25)","v":""},{"$f":"IF(OR(E25=\"\",Z25=\"\"),\"\",VLOOKUP(Z25,'pointe de pieds'!$A$2:$BU$110,MATCH(F25,('pointe de pieds'!$B$1:$BU$1),1)+1))","v":""},0,{"v":0,"d":"0.00"},null,null,{"v":0,"d":"0.00"},{"$nulls":5},{"v":0,"d":"0.00"},{"$nulls":3},{"v":0,"d":"0.00"},{"v":0,"d":"0.00"},22]
[{"$f":"IF('CR CF4'!A26=\"\",\"\",Accueil!$D$6)","v":""},{"$f":"IF('CR CF4'!A26=\"\",\"\",MATCH('CR CF4'!A26,Accueil!$D$30:$D$129,0))","v":""},{"$f":"IF('CR CF4'!A26=\"\",\"\",'CR CF4'!A26)","v":""},{"$f":"IF('CR CF4'!B26=\"\",\"\",'CR CF4'!B26)","v":""},{"$f":"IF('CR CF4'!C26=\"\",\"\",'CR CF4'!C26)","v":""},{"$f":"IF(OR(Accueil!$D$6=\"\",D26=\"\",E26=\"\"),\"\",DATEDIF(E26,LOOKUP(B26,Accueil!$C$30:$C$129,Accueil!$E$30:$E$129),\"m\"))","v":""},{"$f":"IF('CR CF4'!E26=\"\",\"\",'CR CF4'!E26)","v":""},{"$f":"IF('CR CF4'!F26=\"\",\"\",'CR CF4'!F26)","v":""},{"$f":"IF(OR(E26=\"\",H26=\"\"),\"\",VLOOKUP(H26,Détente!$A$2:$BU$157,MATCH(F26,(Détente!$B$1:$BU$1),1)+1))","v":""},{"$f":"IF('CR CF4'!H26=\"\",\"\",'CR CF4'!H26)","v":""},{"$f":"IF(OR(E26=\"\",J26=\"\"),\"\",VLOOKUP(J26,Sautillers!$A$2:$BU$99,MATCH(F26,(Sautillers!$B$1:$BU$1),1)+1))","v":""},{"$f":"IF('CR CF4'!J26=\"\",\"\",'CR CF4'!J26)","v":""},{"$f":"IF(OR(E26=\"\",L26=\"\"),\"\",VLOOKUP(L26,'Course 20 m'!$A$2:$BU$373,MATCH(F26,('Course 20 m'!$B$1:$BU$1),1)+1))","v":""},{"$f":"IF('CR CF4'!L26=\"\",\"\",'CR CF4'!L26)","v":""},{"$f":"IF(OR(E26=\"\",N26=\"\"),\"\",VLOOKUP(N26,'Ecarts D&G'!$A$2:$BU$147,MATCH(F26,('Ecarts D&G'!$B$1:$BU$1),1)+1))","v":""},{"$f":"IF('CR CF4'!N26=\"\",\"\",'CR CF4'!N26)","v":""},{"$f":"IF(OR(E26=\"\",P26=\"\"),\"\",VLOOKUP(P26,'Ecarts D&G'!$A$2:$BU$147,MATCH(F26,('Ecarts D&G'!$B$1:$BU$1),1)+1))","v":""},{"$f":"IF('CR CF4'!P26=\"\",\"\",'CR CF4'!P26)","v":""},{"$f":"IF(OR(E26=\"\",R26=\"\"),\"\",VLOOKUP(R26,'Ecart facial'!$A$2:$BU$143,MATCH(F26,('Ecart facial'!$B$1:$BU$1),1)+1))","v":""},{"$f":"IF('CR CF4'!R26=\"\",\"\",'CR CF4'!R26)","v":""},{"$f":"IF(OR(E26=\"\",T26=\"\"),\"\",VLOOKUP(T26,'Fermeture TJ'!$A$2:$BU$126,MATCH(F26,('Fermeture TJ'!$B$1:$BU$1),1)+1))","v":""},{"$f":"IF('CR CF4'!T26=\"\",\"\",'CR CF4'!T26)","v":""},{"$f":"IF(OR(E26=\"\",V26=\"\"),\"\",VLOOKUP(V26,Pont!$A$2:$BU$188,MATCH(F26,(Pont!$B$1:$BU$1),1)+1))","v":""},{"$f":"IF('CR CF4'!V26=\"\",\"\",'CR CF4'!V26)","v":""},{"$f":"IF(OR(E26=\"\",X26=\"\"),\"\",VLOOKUP(X26,Epaules!$A$2:$BU$76,MATCH(F26,(Epaules!$B$1:$BU$1),1)+1))","v":""},{"$f":"IF('CR CF4'!X26=\"\",\"\",'CR CF4'!X26)","v":""},{"$f":"IF(OR(E26=\"\",Z26=\"\"),\"\",VLOOKUP(Z26,'pointe de pieds'!$A$2:$BU$110,MATCH(F26,('pointe de pieds'!$B$1:$BU$1),1)+1))","v":""},0,{"v":0,"d":"0.00"},null,null,{"v":0,"d":"0.00"},{"$nulls":5},{"v":0,"d":"0.00"},{"$nulls":3},{"v":0,"d":"0.00"},{"v":0,"d":"0.00"},23]
[{"$f":"IF('CR CF4'!A27=\"\",\"\",Accueil!$D$6)","v":""},{"$f":"IF('CR CF4'!A27=\"\",\"\",MATCH('CR CF4'!A27,Accueil!$D$30:$D$129,0))","v":""},{"$f":"IF('CR CF4'!A27=\"\",\"\",'CR CF4'!A27)","v":""},{"$f":"IF('CR CF4'!B27=\"\",\"\",'CR CF4'!B27)","v":""},{"$f":"IF('CR CF4'!C27=\"\",\"\",'CR CF4'!C27)","v":""},{"$f":"IF(OR(Accueil!$D$6=\"\",D27=\"\",E27=\"\"),\"\",DATEDIF(E27,LOOKUP(B27,Accueil!$C$30:$C$129,Accueil!$E$30:$E$129),\"m\"))","v":""},{"$f":"IF('CR CF4'!E27=\"\",\"\",'CR CF4'!E27)","v":""},{"$f":"IF('CR CF4'!F27=\"\",\"\",'CR CF4'!F27)","v":""},{"$f":"IF(OR(E27=\"\",H27=\"\"),\"\",VLOOKUP(H27,Détente!$A$2:$BU$157,MATCH(F27,(Détente!$B$1:$BU$1),1)+1))","v":""},{"$f":"IF('CR CF4'!H27=\"\",\"\",'CR CF4'!H27)","v":""},{"$f":"IF(OR(E27=\"\",J27=\"\"),\"\",VLOOKUP(J27,Sautillers!$A$2:$BU$99,MATCH(F27,(Sautillers!$B$1:$BU$1),1)+1))","v":""},{"$f":"IF('CR CF4'!J27=\"\",\"\",'CR CF4'!J27)","v":""},{"$f":"IF(OR(E27=\"\",L27=\"\"),\"\",VLOOKUP(L27,'Course 20 m'!$A$2:$BU$373,MATCH(F27,('Course 20 m'!$B$1:$BU$1),1)+1))","v":""},{"$f":"IF('CR CF4'!L27=\"\",\"\",'CR CF4'!L27)","v":""},{"$f":"IF(OR(E27=\"\",N27=\"\"),\"\",VLOOKUP(N27,'Ecarts D&G'!$A$2:$BU$147,MATCH(F27,('Ecarts D&G'!$B$1:$BU$1),1)+1))","v":""},{"$f":"IF('CR CF4'!N27=\"\",\"\",'CR CF4'!N27)","v":""},{"$f":"IF(OR(E27=\"\",P27=\"\"),\"\",VLOOKUP(P27,'Ecarts D&G'!$A$2:$BU$147,MATCH(F27,('Ecarts D&G'!$B$1:$BU$1),1)+1))","v":""},{"$f":"IF('CR CF4'!P27=\"\",\"\",'CR CF4'!P27)","v":""},{"$f":"IF(OR(E27=\"\",R27=\"\"),\"\",VLOOKUP(R27,'Ecart facial'!$A$2:$BU$143,MATCH(F27,('Ecart facial'!$B$1:$BU$1),1)+1))","v":""},{"$f":"IF('CR CF4'!R27=\"\",\"\",'CR CF4'!R27)","v":""},{"$f":"IF(OR(E27=\"\",T27=\"\"),\"\",VLOOKUP(T27,'Fermeture TJ'!$A$2:$BU$126,MATCH(F27,('Fermeture TJ'!$B$1:$BU$1),1)+1))","v":""},{"$f":"IF('CR CF4'!T27=\"\",\"\",'CR CF4'!T27)","v":""},{"$f":"IF(OR(E27=\"\",V27=\"\"),\"\",VLOOKUP(V27,Pont!$A$2:$BU$188,MATCH(F27,(Pont!$B$1:$BU$1),1)+1))","v":""},{"$f":"IF('CR CF4'!V27=\"\",\"\",'CR CF4'!V27)","v":""},{"$f":"IF(OR(E27=\"\",X27=\"\"),\"\",VLOOKUP(X27,Epaules!$A$2:$BU$76,MATCH(F27,(Epaules!$B$1:$BU$1),1)+1))","v":""},{"$f":"IF('CR CF4'!X27=\"\",\"\",'CR CF4'!X27)","v":""},{"$f":"IF(OR(E27=\"\",Z27=\"\"),\"\",VLOOKUP(Z27,'pointe de pieds'!$A$2:$BU$110,MATCH(F27,('pointe de pieds'!$B$1:$BU$1),1)+1))","v":""},0,{"v":0,"d":"0.00"},null,null,{"v":0,"d":"0.00"},{"$nulls":5},{"v":0,"d":"0.00"},{"$nulls":3},{"v":0,"d":"0.00"},{"v":0,"d":"0.00"},24]
[{"$f":"IF('CR CF4'!A28=\"\",\"\",Accueil!$D$6)","v":""},{"$f":"IF('CR CF4'!A28=\"\",\"\",MATCH('CR CF4'!A28,Accueil!$D$30:$D$129,0))","v":""},{"$f":"IF('CR CF4'!A28=\"\",\"\",'CR CF4'!A28)","v":""},{"$f":"IF('CR CF4'!B28=\"\",\"\",'CR CF4'!B28)","v":""},{"$f":"IF('CR CF4'!C28=\"\",\"\",'CR CF4'!C28)","v":""},{"$f":"IF(OR(Accueil!$D$6=\"\",D28=\"\",E28=\"\"),\"\",DATEDIF(E28,LOOKUP(B28,Accueil!$C$30:$C$129,Accueil!$E$30:$E$129),\"m\"))","v":""},{"$f":"IF('CR CF4'!E28=\"\",\"\",'CR CF4'!E28)","v":""},{"$f":"IF('CR CF4'!F28=\"\",\"\",'CR CF4'!F28)","v":""},{"$f":"IF(OR(E28=\"\",H28=\"\"),\"\",VLOOKUP(H28,Détente!$A$2:$BU$157,MATCH(F28,(Détente!$B$1:$BU$1),1)+1))","v":""},{"$f":"IF('CR CF4'!H28=\"\",\"\",'CR CF4'!H28)","v":""},{"$f":"IF(OR(E28=\"\",J28=\"\"),\"\",VLOOKUP(J28,Sautillers!$A$2:$BU$99,MATCH(F28,(Sautillers!$B$1:$BU$1),1)+1))","v":""},{"$f":"IF('CR CF4'!J28=\"\",\"\",'CR CF4'!J28)","v":""},{"$f":"IF(OR(E28=\"\",L28=\"\"),\"\",VLOOKUP(L28,'Course 20 m'!$A$2:$BU$373,MATCH(F28,('Course 20 m'!$B$1:$BU$1),1)+1))","v":""},{"$f":"IF('CR CF4'!L28=\"\",\"\",'CR CF4'!L28)","v":""},{"$f":"IF(OR(E28=\"\",N28=\"\"),\"\",VLOOKUP(N28,'Ecarts D&G'!$A$2:$BU$147,MATCH(F28,('Ecarts D&G'!$B$1:$BU$1),1)+1))","v":""},{"$f":"IF('CR CF4'!N28=\"\",\"\",'CR CF4'!N28)","v":""},{"$f":"IF(OR(E28=\"\",P28=\"\"),\"\",VLOOKUP(P28,'Ecarts D&G'!$A$2:$BU$147,MATCH(F28,('Ecarts D&G'!$B$1:$BU$1),1)+1))","v":""},{"$f":"IF('CR CF4'!P28=\"\",\"\",'CR CF4'!P28)","v":""},{"$f":"IF(OR(E28=\"\",R28=\"\"),\"\",VLOOKUP(R28,'Ecart facial'!$A$2:$BU$143,MATCH(F28,('Ecart facial'!$B$1:$BU$1),1)+1))","v":""},{"$f":"IF('CR CF4'!R28=\"\",\"\",'CR CF4'!R28)","v":""},{"$f":"IF(OR(E28=\"\",T28=\"\"),\"\",VLOOKUP(T28,'Fermeture TJ'!$A$2:$BU$126,MATCH(F28,('Fermeture TJ'!$B$1:$BU$1),1)+1))","v":""},{"$f":"IF('CR CF4'!T28=\"\",\"\",'CR CF4'!T28)","v":""},{"$f":"IF(OR(E28=\"\",V28=\"\"),\"\",VLOOKUP(V28,Pont!$A$2:$BU$188,MATCH(F28,(Pont!$B$1:$BU$1),1)+1))","v":""},{"$f":"IF('CR CF4'!V28=\"\",\"\",'CR CF4'!V28)","v":""},{"$f":"IF(OR(E28=\"\",X28=\"\"),\"\",VLOOKUP(X28,Epaules!$A$2:$BU$76,MATCH(F28,(Epaules!$B$1:$BU$1),1)+1))","v":""},{"$f":"IF('CR CF4'!X28=\"\",\"\",'CR CF4'!X28)","v":""},{"$f":"IF(OR(E28=\"\",Z28=\"\"),\"\",VLOOKUP(Z28,'pointe de pieds'!$A$2:$BU$110,MATCH(F28,('pointe de pieds'!$B$1:$BU$1),1)+1))","v":""},0,{"v":0,"d":"0.00"},null,null,{"v":0,"d":"0.00"},{"$nulls":5},{"v":0,"d":"0.00"},{"$nulls":3},{"v":0,"d":"0.00"},{"v":0,"d":"0.00"},25]
[{"$f":"IF('CR CF4'!A29=\"\",\"\",Accueil!$D$6)","v":""},{"$f":"IF('CR CF4'!A29=\"\",\"\",MATCH('CR CF4'!A29,Accueil!$D$30:$D$129,0))","v":""},{"$f":"IF('CR CF4'!A29=\"\",\"\",'CR CF4'!A29)","v":""},{"$f":"IF('CR CF4'!B29=\"\",\"\",'CR CF4'!B29)","v":""},{"$f":"IF('CR CF4'!C29=\"\",\"\",'CR CF4'!C29)","v":""},{"$f":"IF(OR(Accueil!$D$6=\"\",D29=\"\",E29=\"\"),\"\",DATEDIF(E29,LOOKUP(B29,Accueil!$C$30:$C$129,Accueil!$E$30:$E$129),\"m\"))","v":""},{"$f":"IF('CR CF4'!E29=\"\",\"\",'CR CF4'!E29)","v":""},{"$f":"IF('CR CF4'!F29=\"\",\"\",'CR CF4'!F29)","v":""},{"$f":"IF(OR(E29=\"\",H29=\"\"),\"\",VLOOKUP(H29,Détente!$A$2:$BU$157,MATCH(F29,(Détente!$B$1:$BU$1),1)+1))","v":""},{"$f":"IF('CR CF4'!H29=\"\",\"\",'CR CF4'!H29)","v":""},{"$f":"IF(OR(E29=\"\",J29=\"\"),\"\",VLOOKUP(J29,Sautillers!$A$2:$BU$99,MATCH(F29,(Sautillers!$B$1:$BU$1),1)+1))","v":""},{"$f":"IF('CR CF4'!J29=\"\",\"\",'CR CF4'!J29)","v":""},{"$f":"IF(OR(E29=\"\",L29=\"\"),\"\",VLOOKUP(L29,'Course 20 m'!$A$2:$BU$373,MATCH(F29,('Course 20 m'!$B$1:$BU$1),1)+1))","v":""},{"$f":"IF('CR CF4'!L29=\"\",\"\",'CR CF4'!L29)","v":""},{"$f":"IF(OR(E29=\"\",N29=\"\"),\"\",VLOOKUP(N29,'Ecarts D&G'!$A$2:$BU$147,MATCH(F29,('Ecarts D&G'!$B$1:$BU$1),1)+1))","v":""},{"$f":"IF('CR CF4'!N29=\"\",\"\",'CR CF4'!N29)","v":""},{"$f":"IF(OR(E29=\"\",P29=\"\"),\"\",VLOOKUP(P29,'Ecarts D&G'!$A$2:$BU$147,MATCH(F29,('Ecarts D&G'!$B$1:$BU$1),1)+1))","v":""},{"$f":"IF('CR CF4'!P29=\"\",\"\",'CR CF4'!P29)","v":""},{"$f":"IF(OR(E29=\"\",R29=\"\"),\"\",VLOOKUP(R29,'Ecart facial'!$A$2:$BU$143,MATCH(F29,('Ecart facial'!$B$1:$BU$1),1)+1))","v":""},{"$f":"IF('CR CF4'!R29=\"\",\"\",'CR CF4'!R29)","v":""},{"$f":"IF(OR(E29=\"\",T29=\"\"),\"\",VLOOKUP(T29,'Fermeture TJ'!$A$2:$BU$126,MATCH(F29,('Fermeture TJ'!$B$1:$BU$1),1)+1))","v":""},{"$f":"IF('CR CF4'!T29=\"\",\"\",'CR CF4'!T29)","v":""},{"$f":"IF(OR(E29=\"\",V29=\"\"),\"\",VLOOKUP(V29,Pont!$A$2:$BU$188,MATCH(F29,(Pont!$B$1:$BU$1),1)+1))","v":""},{"$f":"IF('CR CF4'!V29=\"\",\"\",'CR CF4'!V29)","v":""},{"$f":"IF(OR(E29=\"\",X29=\"\"),\"\",VLOOKUP(X29,Epaules!$A$2:$BU$76,MATCH(F29,(Epaules!$B$1:$BU$1),1)+1))","v":""},{"$f":"IF('CR CF4'!X29=\"\",\"\",'CR CF4'!X29)","v":""},{"$f":"IF(OR(E29=\"\",Z29=\"\"),\"\",VLOOKUP(Z29,'pointe de pieds'!$A$2:$BU$110,MATCH(F29,('pointe de pieds'!$B$1:$BU$1),1)+1))","v":""},0,{"v":0,"d":"0.00"},null,null,{"v":0,"d":"0.00"},{"$nulls":5},{"v":0,"d":"0.00"},{"$nulls":3},{"v":0,"d":"0.00"},{"v":0,"d":"0.00"},26]
[{"$f":"IF('CR CF4'!A30=\"\",\"\",Accueil!$D$6)","v":""},{"$f":"IF('CR CF4'!A30=\"\",\"\",MATCH('CR CF4'!A30,Accueil!$D$30:$D$129,0))","v":""},{"$f":"IF('CR CF4'!A30=\"\",\"\",'CR CF4'!A30)","v":""},{"$f":"IF('CR CF4'!B30=\"\",\"\",'CR CF4'!B30)","v":""},{"$f":"IF('CR CF4'!C30=\"\",\"\",'CR CF4'!C30)","v":""},{"$f":"IF(OR(Accueil!$D$6=\"\",D30=\"\",E30=\"\"),\"\",DATEDIF(E30,LOOKUP(B30,Accueil!$C$30:$C$129,Accueil!$E$30:$E$129),\"m\"))","v":""},{"$f":"IF('CR CF4'!E30=\"\",\"\",'CR CF4'!E30)","v":""},{"$f":"IF('CR CF4'!F30=\"\",\"\",'CR CF4'!F30)","v":""},{"$f":"IF(OR(E30=\"\",H30=\"\"),\"\",VLOOKUP(H30,Détente!$A$2:$BU$157,MATCH(F30,(Détente!$B$1:$BU$1),1)+1))","v":""},{"$f":"IF('CR CF4'!H30=\"\",\"\",'CR CF4'!H30)","v":""},{"$f":"IF(OR(E30=\"\",J30=\"\"),\"\",VLOOKUP(J30,Sautillers!$A$2:$BU$99,MATCH(F30,(Sautillers!$B$1:$BU$1),1)+1))","v":""},{"$f":"IF('CR CF4'!J30=\"\",\"\",'CR CF4'!J30)","v":""},{"$f":"IF(OR(E30=\"\",L30=\"\"),\"\",VLOOKUP(L30,'Course 20 m'!$A$2:$BU$373,MATCH(F30,('Course 20 m'!$B$1:$BU$1),1)+1))","v":""},{"$f":"IF('CR CF4'!L30=\"\",\"\",'CR CF4'!L30)","v":""},{"$f":"IF(OR(E30=\"\",N30=\"\"),\"\",VLOOKUP(N30,'Ecarts D&G'!$A$2:$BU$147,MATCH(F30,('Ecarts D&G'!$B$1:$BU$1),1)+1))","v":""},{"$f":"IF('CR CF4'!N30=\"\",\"\",'CR CF4'!N30)","v":""},{"$f":"IF(OR(E30=\"\",P30=\"\"),\"\",VLOOKUP(P30,'Ecarts D&G'!$A$2:$BU$147,MATCH(F30,('Ecarts D&G'!$B$1:$BU$1),1)+1))","v":""},{"$f":"IF('CR CF4'!P30=\"\",\"\",'CR CF4'!P30)","v":""},{"$f":"IF(OR(E30=\"\",R30=\"\"),\"\",VLOOKUP(R30,'Ecart facial'!$A$2:$BU$143,MATCH(F30,('Ecart facial'!$B$1:$BU$1),1)+1))","v":""},{"$f":"IF('CR CF4'!R30=\"\",\"\",'CR CF4'!R30)","v":""},{"$f":"IF(OR(E30=\"\",T30=\"\"),\"\",VLOOKUP(T30,'Fermeture TJ'!$A$2:$BU$126,MATCH(F30,('Fermeture TJ'!$B$1:$BU$1),1)+1))","v":""},{"$f":"IF('CR CF4'!T30=\"\",\"\",'CR CF4'!T30)","v":""},{"$f":"IF(OR(E30=\"\",V30=\"\"),\"\",VLOOKUP(V30,Pont!$A$2:$BU$188,MATCH(F30,(Pont!$B$1:$BU$1),1)+1))","v":""},{"$f":"IF('CR CF4'!V30=\"\",\"\",'CR CF4'!V30)","v":""},{"$f":"IF(OR(E30=\"\",X30=\"\"),\"\",VLOOKUP(X30,Epaules!$A$2:$BU$76,MATCH(F30,(Epaules!$B$1:$BU$1),1)+1))","v":""},{"$f":"IF('CR CF4'!X30=\"\",\"\",'CR CF4'!X30)","v":""},{"$f":"IF(OR(E30=\"\",Z30=\"\"),\"\",VLOOKUP(Z30,'pointe de pieds'!$A$2:$BU$110,MATCH(F30,('pointe de pieds'!$B$1:$BU$1),1)+1))","v":""},0,{"v":0,"d":"0.00"},null,null,{"v":0,"d":"0.00"},{"$nulls":5},{"v":0,"d":"0.00"},{"$nulls":3},{"v":0,"d":"0.00"},{"v":0,"d":"0.00"},27]
[{"$f":"IF('CR CF4'!A31=\"\",\"\",Accueil!$D$6)","v":""},{"$f":"IF('CR CF4'!A31=\"\",\"\",MATCH('CR CF4'!A31,Accueil!$D$30:$D$129,0))","v":""},{"$f":"IF('CR CF4'!A31=\"\",\"\",'CR CF4'!A31)","v":""},{"$f":"IF('CR CF4'!B31=\"\",\"\",'CR CF4'!B31)","v":""},{"$f":"IF('CR CF4'!C31=\"\",\"\",'CR CF4'!C31)","v":""},{"$f":"IF(OR(Accueil!$D$6=\"\",D31=\"\",E31=\"\"),\"\",DATEDIF(E31,LOOKUP(B31,Accueil!$C$30:$C$129,Accueil!$E$30:$E$129),\"m\"))","v":""},{"$f":"IF('CR CF4'!E31=\"\",\"\",'CR CF4'!E31)","v":""},{"$f":"IF('CR CF4'!F31=\"\",\"\",'CR CF4'!F31)","v":""},{"$f":"IF(OR(E31=\"\",H31=\"\"),\"\",VLOOKUP(H31,Détente!$A$2:$BU$157,MATCH(F31,(Détente!$B$1:$BU$1),1)+1))","v":""},{"$f":"IF('CR CF4'!H31=\"\",\"\",'CR CF4'!H31)","v":""},{"$f":"IF(OR(E31=\"\",J31=\"\"),\"\",VLOOKUP(J31,Sautillers!$A$2:$BU$99,MATCH(F31,(Sautillers!$B$1:$BU$1),1)+1))","v":""},{"$f":"IF('CR CF4'!J31=\"\",\"\",'CR CF4'!J31)","v":""},{"$f":"IF(OR(E31=\"\",L31=\"\"),\"\",VLOOKUP(L31,'Course 20 m'!$A$2:$BU$373,MATCH(F31,('Course 20 m'!$B$1:$BU$1),1)+1))","v":""},{"$f":"IF('CR CF4'!L31=\"\",\"\",'CR CF4'!L31)","v":""},{"$f":"IF(OR(E31=\"\",N31=\"\"),\"\",VLOOKUP(N31,'Ecarts D&G'!$A$2:$BU$147,MATCH(F31,('Ecarts D&G'!$B$1:$BU$1),1)+1))","v":""},{"$f":"IF('CR CF4'!N31=\"\",\"\",'CR CF4'!N31)","v":""},{"$f":"IF(OR(E31=\"\",P31=\"\"),\"\",VLOOKUP(P31,'Ecarts D&G'!$A$2:$BU$147,MATCH(F31,('Ecarts D&G'!$B$1:$BU$1),1)+1))","v":""},{"$f":"IF('CR CF4'!P31=\"\",\"\",'CR CF4'!P31)","v":""},{"$f":"IF(OR(E31=\"\",R31=\"\"),\"\",VLOOKUP(R31,'Ecart facial'!$A$2:$BU$143,MATCH(F31,('Ecart facial'!$B$1:$BU$1),1)+1))","v":""},{"$f":"IF('CR CF4'!R31=\"\",\"\",'CR CF4'!R31)","v":""},{"$f":"IF(OR(E31=\"\",T31=\"\"),\"\",VLOOKUP(T31,'Fermeture TJ'!$A$2:$BU$126,MATCH(F31,('Fermeture TJ'!$B$1:$BU$1),1)+1))","v":""},{"$f":"IF('CR CF4'!T31=\"\",\"\",'CR CF4'!T31)","v":""},{"$f":"IF(OR(E31=\"\",V31=\"\"),\"\",VLOOKUP(V31,Pont!$A$2:$BU$188,MATCH(F31,(Pont!$B$1:$BU$1),1)+1))","v":""},{"$f":"IF('CR CF4'!V31=\"\",\"\",'CR CF4'!V31)","v":""},{"$f":"IF(OR(E31=\"\",X31=\"\"),\"\",VLOOKUP(X31,Epaules!$A$2:$BU$76,MATCH(F31,(Epaules!$B$1:$BU$1),1)+1))","v":""},{"$f":"IF('CR CF4'!X31=\"\",\"\",'CR CF4'!X31)","v":""},{"$f":"IF(OR(E31=\"\",Z31=\"\"),\"\",VLOOKUP(Z31,'pointe de pieds'!$A$2:$BU$110,MATCH(F31,('pointe de pieds'!$B$1:$BU$1),1)+1))","v":""},0,{"v":0,"d":"0.00"},null,null,{"v":0,"d":"0.00"},{"$nulls":5},{"v":0,"d":"0.00"},{"$nulls":3},{"v":0,"d":"0.00"},{"v":0,"d":"0.00"},28]
[{"$f":"IF('CR CF4'!A32=\"\",\"\",Accueil!$D$6)","v":""},{"$f":"IF('CR CF4'!A32=\"\",\"\",MATCH('CR CF4'!A32,Accueil!$D$30:$D$129,0))","v":""},{"$f":"IF('CR CF4'!A32=\"\",\"\",'CR CF4'!A32)","v":""},{"$f":"IF('CR CF4'!B32=\"\",\"\",'CR CF4'!B32)","v":""},{"$f":"IF('CR CF4'!C32=\"\",\"\",'CR CF4'!C32)","v":""},{"$f":"IF(OR(Accueil!$D$6=\"\",D32=\"\",E32=\"\"),\"\",DATEDIF(E32,LOOKUP(B32,Accueil!$C$30:$C$129,Accueil!$E$30:$E$129),\"m\"))","v":""},{"$f":"IF('CR CF4'!E32=\"\",\"\",'CR CF4'!E32)","v":""},{"$f":"IF('CR CF4'!F32=\"\",\"\",'CR CF4'!F32)","v":""},{"$f":"IF(OR(E32=\"\",H32=\"\"),\"\",VLOOKUP(H32,Détente!$A$2:$BU$157,MATCH(F32,(Détente!$B$1:$BU$1),1)+1))","v":""},{"$f":"IF('CR CF4'!H32=\"\",\"\",'CR CF4'!H32)","v":""},{"$f":"IF(OR(E32=\"\",J32=\"\"),\"\",VLOOKUP(J32,Sautillers!$A$2:$BU$99,MATCH(F32,(Sautillers!$B$1:$BU$1),1)+1))","v":""},{"$f":"IF('CR CF4'!J32=\"\",\"\",'CR CF4'!J32)","v":""},{"$f":"IF(OR(E32=\"\",L32=\"\"),\"\",VLOOKUP(L32,'Course 20 m'!$A$2:$BU$373,MATCH(F32,('Course 20 m'!$B$1:$BU$1),1)+1))","v":""},{"$f":"IF('CR CF4'!L32=\"\",\"\",'CR CF4'!L32)","v":""},{"$f":"IF(OR(E32=\"\",N32=\"\"),\"\",VLOOKUP(N32,'Ecarts D&G'!$A$2:$BU$147,MATCH(F32,('Ecarts D&G'!$B$1:$BU$1),1)+1))","v":""},{"$f":"IF('CR CF4'!N32=\"\",\"\",'CR CF4'!N32)","v":""},{"$f":"IF(OR(E32=\"\",P32=\"\"),\"\",VLOOKUP(P32,'Ecarts D&G'!$A$2:$BU$147,MATCH(F32,('Ecarts D&G'!$B$1:$BU$1),1)+1))","v":""},{"$f":"IF('CR CF4'!P32=\"\",\"\",'CR CF4'!P32)","v":""},{"$f":"IF(OR(E32=\"\",R32=\"\"),\"\",VLOOKUP(R32,'Ecart facial'!$A$2:$BU$143,MATCH(F32,('Ecart facial'!$B$1:$BU$1),1)+1))","v":""},{"$f":"IF('CR CF4'!R32=\"\",\"\",'CR CF4'!R32)","v":""},{"$f":"IF(OR(E32=\"\",T32=\"\"),\"\",VLOOKUP(T32,'Fermeture TJ'!$A$2:$BU$126,MATCH(F32,('Fermeture TJ'!$B$1:$BU$1),1)+1))","v":""},{"$f":"IF('CR CF4'!T32=\"\",\"\",'CR CF4'!T32)","v":""},{"$f":"IF(OR(E32=\"\",V32=\"\"),\"\",VLOOKUP(V32,Pont!$A$2:$BU$188,MATCH(F32,(Pont!$B$1:$BU$1),1)+1))","v":""},{"$f":"IF('CR CF4'!V32=\"\",\"\",'CR CF4'!V32)","v":""},{"$f":"IF(OR(E32=\"\",X32=\"\"),\"\",VLOOKUP(X32,Epaules!$A$2:$BU$76,MATCH(F32,(Epaules!$B$1:$BU$1),1)+1))","v":""},{"$f":"IF('CR CF4'!X32=\"\",\"\",'CR CF4'!X32)","v":""},{"$f":"IF(OR(E32=\"\",Z32=\"\"),\"\",VLOOKUP(Z32,'pointe de pieds'!$A$2:$BU$110,MATCH(F32,('pointe de pieds'!$B$1:$BU$1),1)+1))","v":""},0,{"v":0,"d":"0.00"},null,null,{"v":0,"d":"0.00"},{"$nulls":5},{"v":0,"d":"0.00"},{"$nulls":3},{"v":0,"d":"0.00"},{"v":0,"d":"0.00"},29]
[{"$f":"IF('CR CF4'!A33=\"\",\"\",Accueil!$D$6)","v":""},{"$f":"IF('CR CF4'!A33=\"\",\"\",MATCH('CR CF4'!A33,Accueil!$D$30:$D$129,0))","v":""},{"$f":"IF('CR CF4'!A33=\"\",\"\",'CR CF4'!A33)","v":""},{"$f":"IF('CR CF4'!B33=\"\",\"\",'CR CF4'!B33)","v":""},{"$f":"IF('CR CF4'!C33=\"\",\"\",'CR CF4'!C33)","v":""},{"$f":"IF(OR(Accueil!$D$6=\"\",D33=\"\",E33=\"\"),\"\",DATEDIF(E33,LOOKUP(B33,Accueil!$C$30:$C$129,Accueil!$E$30:$E$129),\"m\"))","v":""},{"$f":"IF('CR CF4'!E33=\"\",\"\",'CR CF4'!E33)","v":""},{"$f":"IF('CR CF4'!F33=\"\",\"\",'CR CF4'!F33)","v":""},{"$f":"IF(OR(E33=\"\",H33=\"\"),\"\",VLOOKUP(H33,Détente!$A$2:$BU$157,MATCH(F33,(Détente!$B$1:$BU$1),1)+1))","v":""},{"$f":"IF('CR CF4'!H33=\"\",\"\",'CR CF4'!H33)","v":""},{"$f":"IF(OR(E33=\"\",J33=\"\"),\"\",VLOOKUP(J33,Sautillers!$A$2:$BU$99,MATCH(F33,(Sautillers!$B$1:$BU$1),1)+1))","v":""},{"$f":"IF('CR CF4'!J33=\"\",\"\",'CR CF4'!J33)","v":""},{"$f":"IF(OR(E33=\"\",L33=\"\"),\"\",VLOOKUP(L33,'Course 20 m'!$A$2:$BU$373,MATCH(F33,('Course 20 m'!$B$1:$BU$1),1)+1))","v":""},{"$f":"IF('CR CF4'!L33=\"\",\"\",'CR CF4'!L33)","v":""},{"$f":"IF(OR(E33=\"\",N33=\"\"),\"\",VLOOKUP(N33,'Ecarts D&G'!$A$2:$BU$147,MATCH(F33,('Ecarts D&G'!$B$1:$BU$1),1)+1))","v":""},{"$f":"IF('CR CF4'!N33=\"\",\"\",'CR CF4'!N33)","v":""},{"$f":"IF(OR(E33=\"\",P33=\"\"),\"\",VLOOKUP(P33,'Ecarts D&G'!$A$2:$BU$147,MATCH(F33,('Ecarts D&G'!$B$1:$BU$1),1)+1))","v":""},{"$f":"IF('CR CF4'!P33=\"\",\"\",'CR CF4'!P33)","v":""},{"$f":"IF(OR(E33=\"\",R33=\"\"),\"\",VLOOKUP(R33,'Ecart facial'!$A$2:$BU$143,MATCH(F33,('Ecart facial'!$B$1:$BU$1),1)+1))","v":""},{"$f":"IF('CR CF4'!R33=\"\",\"\",'CR CF4'!R33)","v":""},{"$f":"IF(OR(E33=\"\",T33=\"\"),\"\",VLOOKUP(T33,'Fermeture TJ'!$A$2:$BU$126,MATCH(F33,('Fermeture TJ'!$B$1:$BU$1),1)+1))","v":""},{"$f":"IF('CR CF4'!T33=\"\",\"\",'CR CF4'!T33)","v":""},{"$f":"IF(OR(E33=\"\",V33=\"\"),\"\",VLOOKUP(V33,Pont!$A$2:$BU$188,MATCH(F33,(Pont!$B$1:$BU$1),1)+1))","v":""},{"$f":"IF('CR CF4'!V33=\"\",\"\",'CR CF4'!V33)","v":""},{"$f":"IF(OR(E33=\"\",X33=\"\"),\"\",VLOOKUP(X33,Epaules!$A$2:$BU$76,MATCH(F33,(Epaules!$B$1:$BU$1),1)+1))","v":""},{"$f":"IF('CR CF4'!X33=\"\",\"\",'CR CF4'!X33)","v":""},{"$f":"IF(OR(E33=\"\",Z33=\"\"),\"\",VLOOKUP(Z33,'pointe de pieds'!$A$2:$BU$110,MATCH(F33,('pointe de pieds'!$B$1:$BU$1),1)+1))","v":""},0,{"v":0,"d":"0.00"},null,null,{"v":0,"d":"0.00"},{"$nulls":5},{"v":0,"d":"0.00"},{"$nulls":3},{"v":0,"d":"0.00"},{"v":0,"d":"0.00"},30]
[{"$f":"IF('CR CF4'!A34=\"\",\"\",Accueil!$D$6)","v":""},{"$f":"IF('CR CF4'!A34=\"\",\"\",MATCH('CR CF4'!A34,Accueil!$D$30:$D$129,0))","v":""},{"$f":"IF('CR CF4'!A34=\"\",\"\",'CR CF4'!A34)","v":""},{"$f":"IF('CR CF4'!B34=\"\",\"\",'CR CF4'!B34)","v":""},{"$f":"IF('CR CF4'!C34=\"\",\"\",'CR CF4'!C34)","v":""},{"$f":"IF(OR(Accueil!$D$6=\"\",D34=\"\",E34=\"\"),\"\",DATEDIF(E34,LOOKUP(B34,Accueil!$C$30:$C$129,Accueil!$E$30:$E$129),\"m\"))","v":""},{"$f":"IF('CR CF4'!E34=\"\",\"\",'CR CF4'!E34)","v":""},{"$f":"IF('CR CF4'!F34=\"\",\"\",'CR CF4'!F34)","v":""},{"$f":"IF(OR(E34=\"\",H34=\"\"),\"\",VLOOKUP(H34,Détente!$A$2:$BU$157,MATCH(F34,(Détente!$B$1:$BU$1),1)+1))","v":""},{"$f":"IF('CR CF4'!H34=\"\",\"\",'CR CF4'!H34)","v":""},{"$f":"IF(OR(E34=\"\",J34=\"\"),\"\",VLOOKUP(J34,Sautillers!$A$2:$BU$99,MATCH(F34,(Sautillers!$B$1:$BU$1),1)+1))","v":""},{"$f":"IF('CR CF4'!J34=\"\",\"\",'CR CF4'!J34)","v":""},{"$f":"IF(OR(E34=\"\",L34=\"\"),\"\",VLOOKUP(L34,'Course 20 m'!$A$2:$BU$373,MATCH(F34,('Course 20 m'!$B$1:$BU$1),1)+1))","v":""},{"$f":"IF('CR CF4'!L34=\"\",\"\",'CR CF4'!L34)","v":""},{"$f":"IF(OR(E34=\"\",N34=\"\"),\"\",VLOOKUP(N34,'Ecarts D&G'!$A$2:$BU$147,MATCH(F34,('Ecarts D&G'!$B$1:$BU$1),1)+1))","v":""},{"$f":"IF('CR CF4'!N34=\"\",\"\",'CR CF4'!N34)","v":""},{"$f":"IF(OR(E34=\"\",P34=\"\"),\"\",VLOOKUP(P34,'Ecarts D&G'!$A$2:$BU$147,MATCH(F34,('Ecarts D&G'!$B$1:$BU$1),1)+1))","v":""},{"$f":"IF('CR CF4'!P34=\"\",\"\",'CR CF4'!P34)","v":""},{"$f":"IF(OR(E34=\"\",R34=\"\"),\"\",VLOOKUP(R34,'Ecart facial'!$A$2:$BU$143,MATCH(F34,('Ecart facial'!$B$1:$BU$1),1)+1))","v":""},{"$f":"IF('CR CF4'!R34=\"\",\"\",'CR CF4'!R34)","v":""},{"$f":"IF(OR(E34=\"\",T34=\"\"),\"\",VLOOKUP(T34,'Fermeture TJ'!$A$2:$BU$126,MATCH(F34,('Fermeture TJ'!$B$1:$BU$1),1)+1))","v":""},{"$f":"IF('CR CF4'!T34=\"\",\"\",'CR CF4'!T34)","v":""},{"$f":"IF(OR(E34=\"\",V34=\"\"),\"\",VLOOKUP(V34,Pont!$A$2:$BU$188,MATCH(F34,(Pont!$B$1:$BU$1),1)+1))","v":""},{"$f":"IF('CR CF4'!V34=\"\",\"\",'CR CF4'!V34)","v":""},{"$f":"IF(OR(E34=\"\",X34=\"\"),\"\",VLOOKUP(X34,Epaules!$A$2:$BU$76,MATCH(F34,(Epaules!$B$1:$BU$1),1)+1))","v":""},{"$f":"IF('CR CF4'!X34=\"\",\"\",'CR CF4'!X34)","v":""},{"$f":"IF(OR(E34=\"\",Z34=\"\"),\"\",VLOOKUP(Z34,'pointe de pieds'!$A$2:$BU$110,MATCH(F34,('pointe de pieds'!$B$1:$BU$1),1)+1))","v":""},0,{"v":0,"d":"0.00"},null,null,{"v":0,"d":"0.00"},{"$nulls":5},{"v":0,"d":"0.00"},{"$nulls":3},{"v":0,"d":"0.00"},{"v":0,"d":"0.00"},31]
[{"$f":"IF('CR CF4'!A35=\"\",\"\",Accueil!$D$6)","v":""},{"$f":"IF('CR CF4'!A35=\"\",\"\",MATCH('CR CF4'!A35,Accueil!$D$30:$D$129,0))","v":""},{"$f":"IF('CR CF4'!A35=\"\",\"\",'CR CF4'!A35)","v":""},{"$f":"IF('CR CF4'!B35=\"\",\"\",'CR CF4'!B35)","v":""},{"$f":"IF('CR CF4'!C35=\"\",\"\",'CR CF4'!C35)","v":""},{"$f":"IF(OR(Accueil!$D$6=\"\",D35=\"\",E35=\"\"),\"\",DATEDIF(E35,LOOKUP(B35,Accueil!$C$30:$C$129,Accueil!$E$30:$E$129),\"m\"))","v":""},{"$f":"IF('CR CF4'!E35=\"\",\"\",'CR CF4'!E35)","v":""},{"$f":"IF('CR CF4'!F35=\"\",\"\",'CR CF4'!F35)","v":""},{"$f":"IF(OR(E35=\"\",H35=\"\"),\"\",VLOOKUP(H35,Détente!$A$2:$BU$157,MATCH(F35,(Détente!$B$1:$BU$1),1)+1))","v":""},{"$f":"IF('CR CF4'!H35=\"\",\"\",'CR CF4'!H35)","v":""},{"$f":"IF(OR(E35=\"\",J35=\"\"),\"\",VLOOKUP(J35,Sautillers!$A$2:$BU$99,MATCH(F35,(Sautillers!$B$1:$BU$1),1)+1))","v":""},{"$f":"IF('CR CF4'!J35=\"\",\"\",'CR CF4'!J35)","v":""},{"$f":"IF(OR(E35=\"\",L35=\"\"),\"\",VLOOKUP(L35,'Course 20 m'!$A$2:$BU$373,MATCH(F35,('Course 20 m'!$B$1:$BU$1),1)+1))","v":""},{"$f":"IF('CR CF4'!L35=\"\",\"\",'CR CF4'!L35)","v":""},{"$f":"IF(OR(E35=\"\",N35=\"\"),\"\",VLOOKUP(N35,'Ecarts D&G'!$A$2:$BU$147,MATCH(F35,('Ecarts D&G'!$B$1:$BU$1),1)+1))","v":""},{"$f":"IF('CR CF4'!N35=\"\",\"\",'CR CF4'!N35)","v":""},{"$f":"IF(OR(E35=\"\",P35=\"\"),\"\",VLOOKUP(P35,'Ecarts D&G'!$A$2:$BU$147,MATCH(F35,('Ecarts D&G'!$B$1:$BU$1),1)+1))","v":""},{"$f":"IF('CR CF4'!P35=\"\",\"\",'CR CF4'!P35)","v":""},{"$f":"IF(OR(E35=\"\",R35=\"\"),\"\",VLOOKUP(R35,'Ecart facial'!$A$2:$BU$143,MATCH(F35,('Ecart facial'!$B$1:$BU$1),1)+1))","v":""},{"$f":"IF('CR CF4'!R35=\"\",\"\",'CR CF4'!R35)","v":""},{"$f":"IF(OR(E35=\"\",T35=\"\"),\"\",VLOOKUP(T35,'Fermeture TJ'!$A$2:$BU$126,MATCH(F35,('Fermeture TJ'!$B$1:$BU$1),1)+1))","v":""},{"$f":"IF('CR CF4'!T35=\"\",\"\",'CR CF4'!T35)","v":""},{"$f":"IF(OR(E35=\"\",V35=\"\"),\"\",VLOOKUP(V35,Pont!$A$2:$BU$188,MATCH(F35,(Pont!$B$1:$BU$1),1)+1))","v":""},{"$f":"IF('CR CF4'!V35=\"\",\"\",'CR CF4'!V35)","v":""},{"$f":"IF(OR(E35=\"\",X35=\"\"),\"\",VLOOKUP(X35,Epaules!$A$2:$BU$76,MATCH(F35,(Epaules!$B$1:$BU$1),1)+1))","v":""},{"$f":"IF('CR CF4'!X35=\"\",\"\",'CR CF4'!X35)","v":""},{"$f":"IF(OR(E35=\"\",Z35=\"\"),\"\",VLOOKUP(Z35,'pointe de pieds'!$A$2:$BU$110,MATCH(F35,('pointe de pieds'!$B$1:$BU$1),1)+1))","v":""},0,{"v":0,"d":"0.00"},null,null,{"v":0,"d":"0.00"},{"$nulls":5},{"v":0,"d":"0.00"},{"$nulls":3},{"v":0,"d":"0.00"},{"v":0,"d":"0.00"},32]
[{"$f":"IF('CR CF4'!A36=\"\",\"\",Accueil!$D$6)","v":""},{"$f":"IF('CR CF4'!A36=\"\",\"\",MATCH('CR CF4'!A36,Accueil!$D$30:$D$129,0))","v":""},{"$f":"IF('CR CF4'!A36=\"\",\"\",'CR CF4'!A36)","v":""},{"$f":"IF('CR CF4'!B36=\"\",\"\",'CR CF4'!B36)","v":""},{"$f":"IF('CR CF4'!C36=\"\",\"\",'CR CF4'!C36)","v":""},{"$f":"IF(OR(Accueil!$D$6=\"\",D36=\"\",E36=\"\"),\"\",DATEDIF(E36,LOOKUP(B36,Accueil!$C$30:$C$129,Accueil!$E$30:$E$129),\"m\"))","v":""},{"$f":"IF('CR CF4'!E36=\"\",\"\",'CR CF4'!E36)","v":""},{"$f":"IF('CR CF4'!F36=\"\",\"\",'CR CF4'!F36)","v":""},{"$f":"IF(OR(E36=\"\",H36=\"\"),\"\",VLOOKUP(H36,Détente!$A$2:$BU$157,MATCH(F36,(Détente!$B$1:$BU$1),1)+1))","v":""},{"$f":"IF('CR CF4'!H36=\"\",\"\",'CR CF4'!H36)","v":""},{"$f":"IF(OR(E36=\"\",J36=\"\"),\"\",VLOOKUP(J36,Sautillers!$A$2:$BU$99,MATCH(F36,(Sautillers!$B$1:$BU$1),1)+1))","v":""},{"$f":"IF('CR CF4'!J36=\"\",\"\",'CR CF4'!J36)","v":""},{"$f":"IF(OR(E36=\"\",L36=\"\"),\"\",VLOOKUP(L36,'Course 20 m'!$A$2:$BU$373,MATCH(F36,('Course 20 m'!$B$1:$BU$1),1)+1))","v":""},{"$f":"IF('CR CF4'!L36=\"\",\"\",'CR CF4'!L36)","v":""},{"$f":"IF(OR(E36=\"\",N36=\"\"),\"\",VLOOKUP(N36,'Ecarts D&G'!$A$2:$BU$147,MATCH(F36,('Ecarts D&G'!$B$1:$BU$1),1)+1))","v":""},{"$f":"IF('CR CF4'!N36=\"\",\"\",'CR CF4'!N36)","v":""},{"$f":"IF(OR(E36=\"\",P36=\"\"),\"\",VLOOKUP(P36,'Ecarts D&G'!$A$2:$BU$147,MATCH(F36,('Ecarts D&G'!$B$1:$BU$1),1)+1))","v":""},{"$f":"IF('CR CF4'!P36=\"\",\"\",'CR CF4'!P36)","v":""},{"$f":"IF(OR(E36=\"\",R36=\"\"),\"\",VLOOKUP(R36,'Ecart facial'!$A$2:$BU$143,MATCH(F36,('Ecart facial'!$B$1:$BU$1),1)+1))","v":""},{"$f":"IF('CR CF4'!R36=\"\",\"\",'CR CF4'!R36)","v":""},{"$f":"IF(OR(E36=\"\",T36=\"\"),\"\",VLOOKUP(T36,'Fermeture TJ'!$A$2:$BU$126,MATCH(F36,('Fermeture TJ'!$B$1:$BU$1),1)+1))","v":""},{"$f":"IF('CR CF4'!T36=\"\",\"\",'CR CF4'!T36)","v":""},{"$f":"IF(OR(E36=\"\",V36=\"\"),\"\",VLOOKUP(V36,Pont!$A$2:$BU$188,MATCH(F36,(Pont!$B$1:$BU$1),1)+1))","v":""},{"$f":"IF('CR CF4'!V36=\"\",\"\",'CR CF4'!V36)","v":""},{"$f":"IF(OR(E36=\"\",X36=\"\"),\"\",VLOOKUP(X36,Epaules!$A$2:$BU$76,MATCH(F36,(Epaules!$B$1:$BU$1),1)+1))","v":""},{"$f":"IF('CR CF4'!X36=\"\",\"\",'CR CF4'!X36)","v":""},{"$f":"IF(OR(E36=\"\",Z36=\"\"),\"\",VLOOKUP(Z36,'pointe de pieds'!$A$2:$BU$110,MATCH(F36,('pointe de pieds'!$B$1:$BU$1),1)+1))","v":""},{"$f":"IF(OR(H36=\"\",J36=\"\",L36=\"\",N36=\"\",P36=\"\",R36=\"\",T36=\"\",V36=\"\",X36=\"\",Z36=\"\"),0,SUM(I36,K36,M36,O36,Q36,S36,U36,W36,Y36,AA36))","v":0},{"$f":"IF(OR(I36=\"\",K36=\"\",M36=\"\",O36=\"\",Q36=\"\",S36=\"\",U36=\"\",W36=\"\",Y36=\"\",AA36=\"\"),0,AVERAGE(I36,K36,M36,O36,Q36,S36,U36,W36,Y36,AA36))","v":{"v":0,"d":"0.00"}},null,null,{"$f":"IF(OR(F36=\"\",AD36=\"\",AE36=\"\"),0,SUM(AD36:AE36))","v":{"v":0,"d":"0.00"}},{"$nulls":5},{"$f":"IF(OR(F36=\"\",COUNT(AG36:AK36)<4),0,IF(COUNT(AG36:AK36)=4,SUM(AG36:AK36),IF(COUNT(AG36:AK36)>4,SUM(AG36:AK36)-MIN(AG36:AK36))))","v":{"v":0,"d":"0.00"}},{"$nulls":3},{"$f":"IF(OR(F36=\"\",AM36=\"\",AN36=\"\",AO36=\"\"),0,SUM(AM36:AO36))","v":{"v":0,"d":"0.00"}},{"$f":"IF(OR(AB36=0,AF36=0,AL36=0,AP36=0),0,AC36+AF36+AL36+AP36)","v":{"v":0,"d":"0.00"}},33]
[{"$f":"IF('CR CF4'!A37=\"\",\"\",Accueil!$D$6)","v":""},{"$f":"IF('CR CF4'!A37=\"\",\"\",MATCH('CR CF4'!A37,Accueil!$D$30:$D$129,0))","v":""},{"$f":"IF('CR CF4'!A37=\"\",\"\",'CR CF4'!A37)","v":""},{"$f":"IF('CR CF4'!B37=\"\",\"\",'CR CF4'!B37)","v":""},{"$f":"IF('CR CF4'!C37=\"\",\"\",'CR CF4'!C37)","v":""},{"$f":"IF(OR(Accueil!$D$6=\"\",D37=\"\",E37=\"\"),\"\",DATEDIF(E37,LOOKUP(B37,Accueil!$C$30:$C$129,Accueil!$E$30:$E$129),\"m\"))","v":""},{"$f":"IF('CR CF4'!E37=\"\",\"\",'CR CF4'!E37)","v":""},{"$f":"IF('CR CF4'!F37=\"\",\"\",'CR CF4'!F37)","v":""},{"$f":"IF(OR(E37=\"\",H37=\"\"),\"\",VLOOKUP(H37,Détente!$A$2:$BU$157,MATCH(F37,(Détente!$B$1:$BU$1),1)+1))","v":""},{"$f":"IF('CR CF4'!H37=\"\",\"\",'CR CF4'!H37)","v":""},{"$f":"IF(OR(E37=\"\",J37=\"\"),\"\",VLOOKUP(J37,Sautillers!$A$2:$BU$99,MATCH(F37,(Sautillers!$B$1:$BU$1),1)+1))","v":""},{"$f":"IF('CR CF4'!J37=\"\",\"\",'CR CF4'!J37)","v":""},{"$f":"IF(OR(E37=\"\",L37=\"\"),\"\",VLOOKUP(L37,'Course 20 m'!$A$2:$BU$373,MATCH(F37,('Course 20 m'!$B$1:$BU$1),1)+1))","v":""},{"$f":"IF('CR CF4'!L37=\"\",\"\",'CR CF4'!L37)","v":""},{"$f":"IF(OR(E37=\"\",N37=\"\"),\"\",VLOOKUP(N37,'Ecarts D&G'!$A$2:$BU$147,MATCH(F37,('Ecarts D&G'!$B$1:$BU$1),1)+1))","v":""},{"$f":"IF('CR CF4'!N37=\"\",\"\",'CR CF4'!N37)","v":""},{"$f":"IF(OR(E37=\"\",P37=\"\"),\"\",VLOOKUP(P37,'Ecarts D&G'!$A$2:$BU$147,MATCH(F37,('Ecarts D&G'!$B$1:$BU$1),1)+1))","v":""},{"$f":"IF('CR CF4'!P37=\"\",\"\",'CR CF4'!P37)","v":""},{"$f":"IF(OR(E37=\"\",R37=\"\"),\"\",VLOOKUP(R37,'Ecart facial'!$A$2:$BU$143,MATCH(F37,('Ecart facial'!$B$1:$BU$1),1)+1))","v":""},{"$f":"IF('CR CF4'!R37=\"\",\"\",'CR CF4'!R37)","v":""},{"$f":"IF(OR(E37=\"\",T37=\"\"),\"\",VLOOKUP(T37,'Fermeture TJ'!$A$2:$BU$126,MATCH(F37,('Fermeture TJ'!$B$1:$BU$1),1)+1))","v":""},{"$f":"IF('CR CF4'!T37=\"\",\"\",'CR CF4'!T37)","v":""},{"$f":"IF(OR(E37=\"\",V37=\"\"),\"\",VLOOKUP(V37,Pont!$A$2:$BU$188,MATCH(F37,(Pont!$B$1:$BU$1),1)+1))","v":""},{"$f":"IF('CR CF4'!V37=\"\",\"\",'CR CF4'!V37)","v":""},{"$f":"IF(OR(E37=\"\",X37=\"\"),\"\",VLOOKUP(X37,Epaules!$A$2:$BU$76,MATCH(F37,(Epaules!$B$1:$BU$1),1)+1))","v":""},{"$f":"IF('CR CF4'!X37=\"\",\"\",'CR CF4'!X37)","v":""},{"$f":"IF(OR(E37=\"\",Z37=\"\"),\"\",VLOOKUP(Z37,'pointe de pieds'!$A$2:$BU$110,MATCH(F37,('pointe de pieds'!$B$1:$BU$1),1)+1))","v":""},0,{"v":0,"d":"0.00"},null,null,{"v":0,"d":"0.00"},{"$nulls":5},{"v":0,"d":"0.00"},{"$nulls":3},{"v":0,"d":"0.00"},{"v":0,"d":"0.00"},34]
[{"$f":"IF('CR CF4'!A38=\"\",\"\",Accueil!$D$6)","v":""},{"$f":"IF('CR CF4'!A38=\"\",\"\",MATCH('CR CF4'!A38,Accueil!$D$30:$D$129,0))","v":""},{"$f":"IF('CR CF4'!A38=\"\",\"\",'CR CF4'!A38)","v":""},{"$f":"IF('CR CF4'!B38=\"\",\"\",'CR CF4'!B38)","v":""},{"$f":"IF('CR CF4'!C38=\"\",\"\",'CR CF4'!C38)","v":""},{"$f":"IF(OR(Accueil!$D$6=\"\",D38=\"\",E38=\"\"),\"\",DATEDIF(E38,LOOKUP(B38,Accueil!$C$30:$C$129,Accueil!$E$30:$E$129),\"m\"))","v":""},{"$f":"IF('CR CF4'!E38=\"\",\"\",'CR CF4'!E38)","v":""},{"$f":"IF('CR CF4'!F38=\"\",\"\",'CR CF4'!F38)","v":""},{"$f":"IF(OR(E38=\"\",H38=\"\"),\"\",VLOOKUP(H38,Détente!$A$2:$BU$157,MATCH(F38,(Détente!$B$1:$BU$1),1)+1))","v":""},{"$f":"IF('CR CF4'!H38=\"\",\"\",'CR CF4'!H38)","v":""},{"$f":"IF(OR(E38=\"\",J38=\"\"),\"\",VLOOKUP(J38,Sautillers!$A$2:$BU$99,MATCH(F38,(Sautillers!$B$1:$BU$1),1)+1))","v":""},{"$f":"IF('CR CF4'!J38=\"\",\"\",'CR CF4'!J38)","v":""},{"$f":"IF(OR(E38=\"\",L38=\"\"),\"\",VLOOKUP(L38,'Course 20 m'!$A$2:$BU$373,MATCH(F38,('Course 20 m'!$B$1:$BU$1),1)+1))","v":""},{"$f":"IF('CR CF4'!L38=\"\",\"\",'CR CF4'!L38)","v":""},{"$f":"IF(OR(E38=\"\",N38=\"\"),\"\",VLOOKUP(N38,'Ecarts D&G'!$A$2:$BU$147,MATCH(F38,('Ecarts D&G'!$B$1:$BU$1),1)+1))","v":""},{"$f":"IF('CR CF4'!N38=\"\",\"\",'CR CF4'!N38)","v":""},{"$f":"IF(OR(E38=\"\",P38=\"\"),\"\",VLOOKUP(P38,'Ecarts D&G'!$A$2:$BU$147,MATCH(F38,('Ecarts D&G'!$B$1:$BU$1),1)+1))","v":""},{"$f":"IF('CR CF4'!P38=\"\",\"\",'CR CF4'!P38)","v":""},{"$f":"IF(OR(E38=\"\",R38=\"\"),\"\",VLOOKUP(R38,'Ecart facial'!$A$2:$BU$143,MATCH(F38,('Ecart facial'!$B$1:$BU$1),1)+1))","v":""},{"$f":"IF('CR CF4'!R38=\"\",\"\",'CR CF4'!R38)","v":""},{"$f":"IF(OR(E38=\"\",T38=\"\"),\"\",VLOOKUP(T38,'Fermeture TJ'!$A$2:$BU$126,MATCH(F38,('Fermeture TJ'!$B$1:$BU$1),1)+1))","v":""},{"$f":"IF('CR CF4'!T38=\"\",\"\",'CR CF4'!T38)","v":""},{"$f":"IF(OR(E38=\"\",V38=\"\"),\"\",VLOOKUP(V38,Pont!$A$2:$BU$188,MATCH(F38,(Pont!$B$1:$BU$1),1)+1))","v":""},{"$f":"IF('CR CF4'!V38=\"\",\"\",'CR CF4'!V38)","v":""},{"$f":"IF(OR(E38=\"\",X38=\"\"),\"\",VLOOKUP(X38,Epaules!$A$2:$BU$76,MATCH(F38,(Epaules!$B$1:$BU$1),1)+1))","v":""},{"$f":"IF('CR CF4'!X38=\"\",\"\",'CR CF4'!X38)","v":""},{"$f":"IF(OR(E38=\"\",Z38=\"\"),\"\",VLOOKUP(Z38,'pointe de pieds'!$A$2:$BU$110,MATCH(F38,('pointe de pieds'!$B$1:$BU$1),1)+1))","v":""},0,{"v":0,"d":"0.00"},null,null,{"v":0,"d":"0.00"},{"$nulls":5},{"v":0,"d":"0.00"},{"$nulls":3},{"v":0,"d":"0.00"},{"v":0,"d":"0.00"},35]
[{"$f":"IF('CR CF4'!A39=\"\",\"\",Accueil!$D$6)","v":""},{"$f":"IF('CR CF4'!A39=\"\",\"\",MATCH('CR CF4'!A39,Accueil!$D$30:$D$129,0))","v":""},{"$f":"IF('CR CF4'!A39=\"\",\"\",'CR CF4'!A39)","v":""},{"$f":"IF('CR CF4'!B39=\"\",\"\",'CR CF4'!B39)","v":""},{"$f":"IF('CR CF4'!C39=\"\",\"\",'CR CF4'!C39)","v":""},{"$f":"IF(OR(Accueil!$D$6=\"\",D39=\"\",E39=\"\"),\"\",DATEDIF(E39,LOOKUP(B39,Accueil!$C$30:$C$129,Accueil!$E$30:$E$129),\"m\"))","v":""},{"$f":"IF('CR CF4'!E39=\"\",\"\",'CR CF4'!E39)","v":""},{"$f":"IF('CR CF4'!F39=\"\",\"\",'CR CF4'!F39)","v":""},{"$f":"IF(OR(E39=\"\",H39=\"\"),\"\",VLOOKUP(H39,Détente!$A$2:$BU$157,MATCH(F39,(Détente!$B$1:$BU$1),1)+1))","v":""},{"$f":"IF('CR CF4'!H39=\"\",\"\",'CR CF4'!H39)","v":""},{"$f":"IF(OR(E39=\"\",J39=\"\"),\"\",VLOOKUP(J39,Sautillers!$A$2:$BU$99,MATCH(F39,(Sautillers!$B$1:$BU$1),1)+1))","v":""},{"$f":"IF('CR CF4'!J39=\"\",\"\",'CR CF4'!J39)","v":""},{"$f":"IF(OR(E39=\"\",L39=\"\"),\"\",VLOOKUP(L39,'Course 20 m'!$A$2:$BU$373,MATCH(F39,('Course 20 m'!$B$1:$BU$1),1)+1))","v":""},{"$f":"IF('CR CF4'!L39=\"\",\"\",'CR CF4'!L39)","v":""},{"$f":"IF(OR(E39=\"\",N39=\"\"),\"\",VLOOKUP(N39,'Ecarts D&G'!$A$2:$BU$147,MATCH(F39,('Ecarts D&G'!$B$1:$BU$1),1)+1))","v":""},{"$f":"IF('CR CF4'!N39=\"\",\"\",'CR CF4'!N39)","v":""},{"$f":"IF(OR(E39=\"\",P39=\"\"),\"\",VLOOKUP(P39,'Ecarts D&G'!$A$2:$BU$147,MATCH(F39,('Ecarts D&G'!$B$1:$BU$1),1)+1))","v":""},{"$f":"IF('CR CF4'!P39=\"\",\"\",'CR CF4'!P39)","v":""},{"$f":"IF(OR(E39=\"\",R39=\"\"),\"\",VLOOKUP(R39,'Ecart facial'!$A$2:$BU$143,MATCH(F39,('Ecart facial'!$B$1:$BU$1),1)+1))","v":""},{"$f":"IF('CR CF4'!R39=\"\",\"\",'CR CF4'!R39)","v":""},{"$f":"IF(OR(E39=\"\",T39=\"\"),\"\",VLOOKUP(T39,'Fermeture TJ'!$A$2:$BU$126,MATCH(F39,('Fermeture TJ'!$B$1:$BU$1),1)+1))","v":""},{"$f":"IF('CR CF4'!T39=\"\",\"\",'CR CF4'!T39)","v":""},{"$f":"IF(OR(E39=\"\",V39=\"\"),\"\",VLOOKUP(V39,Pont!$A$2:$BU$188,MATCH(F39,(Pont!$B$1:$BU$1),1)+1))","v":""},{"$f":"IF('CR CF4'!V39=\"\",\"\",'CR CF4'!V39)","v":""},{"$f":"IF(OR(E39=\"\",X39=\"\"),\"\",VLOOKUP(X39,Epaules!$A$2:$BU$76,MATCH(F39,(Epaules!$B$1:$BU$1),1)+1))","v":""},{"$f":"IF('CR CF4'!X39=\"\",\"\",'CR CF4'!X39)","v":""},{"$f":"IF(OR(E39=\"\",Z39=\"\"),\"\",VLOOKUP(Z39,'pointe de pieds'!$A$2:$BU$110,MATCH(F39,('pointe de pieds'!$B$1:$BU$1),1)+1))","v":""},0,{"v":0,"d":"0.00"},null,null,{"v":0,"d":"0.00"},{"$nulls":5},{"v":0,"d":"0.00"},{"$nulls":3},{"v":0,"d":"0.00"},{"v":0,"d":"0.00"},36]
[{"$f":"IF('CR CF4'!A40=\"\",\"\",Accueil!$D$6)","v":""},{"$f":"IF('CR CF4'!A40=\"\",\"\",MATCH('CR CF4'!A40,Accueil!$D$30:$D$129,0))","v":""},{"$f":"IF('CR CF4'!A40=\"\",\"\",'CR CF4'!A40)","v":""},{"$f":"IF('CR CF4'!B40=\"\",\"\",'CR CF4'!B40)","v":""},{"$f":"IF('CR CF4'!C40=\"\",\"\",'CR CF4'!C40)","v":""},{"$f":"IF(OR(Accueil!$D$6=\"\",D40=\"\",E40=\"\"),\"\",DATEDIF(E40,LOOKUP(B40,Accueil!$C$30:$C$129,Accueil!$E$30:$E$129),\"m\"))","v":""},{"$f":"IF('CR CF4'!E40=\"\",\"\",'CR CF4'!E40)","v":""},{"$f":"IF('CR CF4'!F40=\"\",\"\",'CR CF4'!F40)","v":""},{"$f":"IF(OR(E40=\"\",H40=\"\"),\"\",VLOOKUP(H40,Détente!$A$2:$BU$157,MATCH(F40,(Détente!$B$1:$BU$1),1)+1))","v":""},{"$f":"IF('CR CF4'!H40=\"\",\"\",'CR CF4'!H40)","v":""},{"$f":"IF(OR(E40=\"\",J40=\"\"),\"\",VLOOKUP(J40,Sautillers!$A$2:$BU$99,MATCH(F40,(Sautillers!$B$1:$BU$1),1)+1))","v":""},{"$f":"IF('CR CF4'!J40=\"\",\"\",'CR CF4'!J40)","v":""},{"$f":"IF(OR(E40=\"\",L40=\"\"),\"\",VLOOKUP(L40,'Course 20 m'!$A$2:$BU$373,MATCH(F40,('Course 20 m'!$B$1:$BU$1),1)+1))","v":""},{"$f":"IF('CR CF4'!L40=\"\",\"\",'CR CF4'!L40)","v":""},{"$f":"IF(OR(E40=\"\",N40=\"\"),\"\",VLOOKUP(N40,'Ecarts D&G'!$A$2:$BU$147,MATCH(F40,('Ecarts D&G'!$B$1:$BU$1),1)+1))","v":""},{"$f":"IF('CR CF4'!N40=\"\",\"\",'CR CF4'!N40)","v":""},{"$f":"IF(OR(E40=\"\",P40=\"\"),\"\",VLOOKUP(P40,'Ecarts D&G'!$A$2:$BU$147,MATCH(F40,('Ecarts D&G'!$B$1:$BU$1),1)+1))","v":""},{"$f":"IF('CR CF4'!P40=\"\",\"\",'CR CF4'!P40)","v":""},{"$f":"IF(OR(E40=\"\",R40=\"\"),\"\",VLOOKUP(R40,'Ecart facial'!$A$2:$BU$143,MATCH(F40,('Ecart facial'!$B$1:$BU$1),1)+1))","v":""},{"$f":"IF('CR CF4'!R40=\"\",\"\",'CR CF4'!R40)","v":""},{"$f":"IF(OR(E40=\"\",T40=\"\"),\"\",VLOOKUP(T40,'Fermeture TJ'!$A$2:$BU$126,MATCH(F40,('Fermeture TJ'!$B$1:$BU$1),1)+1))","v":""},{"$f":"IF('CR CF4'!T40=\"\",\"\",'CR CF4'!T40)","v":""},{"$f":"IF(OR(E40=\"\",V40=\"\"),\"\",VLOOKUP(V40,Pont!$A$2:$BU$188,MATCH(F40,(Pont!$B$1:$BU$1),1)+1))","v":""},{"$f":"IF('CR CF4'!V40=\"\",\"\",'CR CF4'!V40)","v":""},{"$f":"IF(OR(E40=\"\",X40=\"\"),\"\",VLOOKUP(X40,Epaules!$A$2:$BU$76,MATCH(F40,(Epaules!$B$1:$BU$1),1)+1))","v":""},{"$f":"IF('CR CF4'!X40=\"\",\"\",'CR CF4'!X40)","v":""},{"$f":"IF(OR(E40=\"\",Z40=\"\"),\"\",VLOOKUP(Z40,'pointe de pieds'!$A$2:$BU$110,MATCH(F40,('pointe de pieds'!$B$1:$BU$1),1)+1))","v":""},0,{"v":0,"d":"0.00"},null,null,{"v":0,"d":"0.00"},{"$nulls":5},{"v":0,"d":"0.00"},{"$nulls":3},{"v":0,"d":"0.00"},{"v":0,"d":"0.00"},37]
[{"$f":"IF('CR CF4'!A41=\"\",\"\",Accueil!$D$6)","v":""},{"$f":"IF('CR CF4'!A41=\"\",\"\",MATCH('CR CF4'!A41,Accueil!$D$30:$D$129,0))","v":""},{"$f":"IF('CR CF4'!A41=\"\",\"\",'CR CF4'!A41)","v":""},{"$f":"IF('CR CF4'!B41=\"\",\"\",'CR CF4'!B41)","v":""},{"$f":"IF('CR CF4'!C41=\"\",\"\",'CR CF4'!C41)","v":""},{"$f":"IF(OR(Accueil!$D$6=\"\",D41=\"\",E41=\"\"),\"\",DATEDIF(E41,LOOKUP(B41,Accueil!$C$30:$C$129,Accueil!$E$30:$E$129),\"m\"))","v":""},{"$f":"IF('CR CF4'!E41=\"\",\"\",'CR CF4'!E41)","v":""},{"$f":"IF('CR CF4'!F41=\"\",\"\",'CR CF4'!F41)","v":""},{"$f":"IF(OR(E41=\"\",H41=\"\"),\"\",VLOOKUP(H41,Détente!$A$2:$BU$157,MATCH(F41,(Détente!$B$1:$BU$1),1)+1))","v":""},{"$f":"IF('CR CF4'!H41=\"\",\"\",'CR CF4'!H41)","v":""},{"$f":"IF(OR(E41=\"\",J41=\"\"),\"\",VLOOKUP(J41,Sautillers!$A$2:$BU$99,MATCH(F41,(Sautillers!$B$1:$BU$1),1)+1))","v":""},{"$f":"IF('CR CF4'!J41=\"\",\"\",'CR CF4'!J41)","v":""},{"$f":"IF(OR(E41=\"\",L41=\"\"),\"\",VLOOKUP(L41,'Course 20 m'!$A$2:$BU$373,MATCH(F41,('Course 20 m'!$B$1:$BU$1),1)+1))","v":""},{"$f":"IF('CR CF4'!L41=\"\",\"\",'CR CF4'!L41)","v":""},{"$f":"IF(OR(E41=\"\",N41=\"\"),\"\",VLOOKUP(N41,'Ecarts D&G'!$A$2:$BU$147,MATCH(F41,('Ecarts D&G'!$B$1:$BU$1),1)+1))","v":""},{"$f":"IF('CR CF4'!N41=\"\",\"\",'CR CF4'!N41)","v":""},{"$f":"IF(OR(E41=\"\",P41=\"\"),\"\",VLOOKUP(P41,'Ecarts D&G'!$A$2:$BU$147,MATCH(F41,('Ecarts D&G'!$B$1:$BU$1),1)+1))","v":""},{"$f":"IF('CR CF4'!P41=\"\",\"\",'CR CF4'!P41)","v":""},{"$f":"IF(OR(E41=\"\",R41=\"\"),\"\",VLOOKUP(R41,'Ecart facial'!$A$2:$BU$143,MATCH(F41,('Ecart facial'!$B$1:$BU$1),1)+1))","v":""},{"$f":"IF('CR CF4'!R41=\"\",\"\",'CR CF4'!R41)","v":""},{"$f":"IF(OR(E41=\"\",T41=\"\"),\"\",VLOOKUP(T41,'Fermeture TJ'!$A$2:$BU$126,MATCH(F41,('Fermeture TJ'!$B$1:$BU$1),1)+1))","v":""},{"$f":"IF('CR CF4'!T41=\"\",\"\",'CR CF4'!T41)","v":""},{"$f":"IF(OR(E41=\"\",V41=\"\"),\"\",VLOOKUP(V41,Pont!$A$2:$BU$188,MATCH(F41,(Pont!$B$1:$BU$1),1)+1))","v":""},{"$f":"IF('CR CF4'!V41=\"\",\"\",'CR CF4'!V41)","v":""},{"$f":"IF(OR(E41=\"\",X41=\"\"),\"\",VLOOKUP(X41,Epaules!$A$2:$BU$76,MATCH(F41,(Epaules!$B$1:$BU$1),1)+1))","v":""},{"$f":"IF('CR CF4'!X41=\"\",\"\",'CR CF4'!X41)","v":""},{"$f":"IF(OR(E41=\"\",Z41=\"\"),\"\",VLOOKUP(Z41,'pointe de pieds'!$A$2:$BU$110,MATCH(F41,('pointe de pieds'!$B$1:$BU$1),1)+1))","v":""},0,{"v":0,"d":"0.00"},null,null,{"v":0,"d":"0.00"},{"$nulls":5},{"v":0,"d":"0.00"},{"$nulls":3},{"v":0,"d":"0.00"},{"v":0,"d":"0.00"},38]
[{"$f":"IF('CR CF4'!A42=\"\",\"\",Accueil!$D$6)","v":""},{"$f":"IF('CR CF4'!A42=\"\",\"\",MATCH('CR CF4'!A42,Accueil!$D$30:$D$129,0))","v":""},{"$f":"IF('CR CF4'!A42=\"\",\"\",'CR CF4'!A42)","v":""},{"$f":"IF('CR CF4'!B42=\"\",\"\",'CR CF4'!B42)","v":""},{"$f":"IF('CR CF4'!C42=\"\",\"\",'CR CF4'!C42)","v":""},{"$f":"IF(OR(Accueil!$D$6=\"\",D42=\"\",E42=\"\"),\"\",DATEDIF(E42,LOOKUP(B42,Accueil!$C$30:$C$129,Accueil!$E$30:$E$129),\"m\"))","v":""},{"$f":"IF('CR CF4'!E42=\"\",\"\",'CR CF4'!E42)","v":""},{"$f":"IF('CR CF4'!F42=\"\",\"\",'CR CF4'!F42)","v":""},{"$f":"IF(OR(E42=\"\",H42=\"\"),\"\",VLOOKUP(H42,Détente!$A$2:$BU$157,MATCH(F42,(Détente!$B$1:$BU$1),1)+1))","v":""},{"$f":"IF('CR CF4'!H42=\"\",\"\",'CR CF4'!H42)","v":""},{"$f":"IF(OR(E42=\"\",J42=\"\"),\"\",VLOOKUP(J42,Sautillers!$A$2:$BU$99,MATCH(F42,(Sautillers!$B$1:$BU$1),1)+1))","v":""},{"$f":"IF('CR CF4'!J42=\"\",\"\",'CR CF4'!J42)","v":""},{"$f":"IF(OR(E42=\"\",L42=\"\"),\"\",VLOOKUP(L42,'Course 20 m'!$A$2:$BU$373,MATCH(F42,('Course 20 m'!$B$1:$BU$1),1)+1))","v":""},{"$f":"IF('CR CF4'!L42=\"\",\"\",'CR CF4'!L42)","v":""},{"$f":"IF(OR(E42=\"\",N42=\"\"),\"\",VLOOKUP(N42,'Ecarts D&G'!$A$2:$BU$147,MATCH(F42,('Ecarts D&G'!$B$1:$BU$1),1)+1))","v":""},{"$f":"IF('CR CF4'!N42=\"\",\"\",'CR CF4'!N42)","v":""},{"$f":"IF(OR(E42=\"\",P42=\"\"),\"\",VLOOKUP(P42,'Ecarts D&G'!$A$2:$BU$147,MATCH(F42,('Ecarts D&G'!$B$1:$BU$1),1)+1))","v":""},{"$f":"IF('CR CF4'!P42=\"\",\"\",'CR CF4'!P42)","v":""},{"$f":"IF(OR(E42=\"\",R42=\"\"),\"\",VLOOKUP(R42,'Ecart facial'!$A$2:$BU$143,MATCH(F42,('Ecart facial'!$B$1:$BU$1),1)+1))","v":""},{"$f":"IF('CR CF4'!R42=\"\",\"\",'CR CF4'!R42)","v":""},{"$f":"IF(OR(E42=\"\",T42=\"\"),\"\",VLOOKUP(T42,'Fermeture TJ'!$A$2:$BU$126,MATCH(F42,('Fermeture TJ'!$B$1:$BU$1),1)+1))","v":""},{"$f":"IF('CR CF4'!T42=\"\",\"\",'CR CF4'!T42)","v":""},{"$f":"IF(OR(E42=\"\",V42=\"\"),\"\",VLOOKUP(V42,Pont!$A$2:$BU$188,MATCH(F42,(Pont!$B$1:$BU$1),1)+1))","v":""},{"$f":"IF('CR CF4'!V42=\"\",\"\",'CR CF4'!V42)","v":""},{"$f":"IF(OR(E42=\"\",X42=\"\"),\"\",VLOOKUP(X42,Epaules!$A$2:$BU$76,MATCH(F42,(Epaules!$B$1:$BU$1),1)+1))","v":""},{"$f":"IF('CR CF4'!X42=\"\",\"\",'CR CF4'!X42)","v":""},{"$f":"IF(OR(E42=\"\",Z42=\"\"),\"\",VLOOKUP(Z42,'pointe de pieds'!$A$2:$BU$110,MATCH(F42,('pointe de pieds'!$B$1:$BU$1),1)+1))","v":""},0,{"v":0,"d":"0.00"},null,null,{"v":0,"d":"0.00"},{"$nulls":5},{"v":0,"d":"0.00"},{"$nulls":3},{"v":0,"d":"0.00"},{"v":0,"d":"0.00"},39]
[{"$f":"IF('CR CF4'!A43=\"\",\"\",Accueil!$D$6)","v":""},{"$f":"IF('CR CF4'!A43=\"\",\"\",MATCH('CR CF4'!A43,Accueil!$D$30:$D$129,0))","v":""},{"$f":"IF('CR CF4'!A43=\"\",\"\",'CR CF4'!A43)","v":""},{"$f":"IF('CR CF4'!B43=\"\",\"\",'CR CF4'!B43)","v":""},{"$f":"IF('CR CF4'!C43=\"\",\"\",'CR CF4'!C43)","v":""},{"$f":"IF(OR(Accueil!$D$6=\"\",D43=\"\",E43=\"\"),\"\",DATEDIF(E43,LOOKUP(B43,Accueil!$C$30:$C$129,Accueil!$E$30:$E$129),\"m\"))","v":""},{"$f":"IF('CR CF4'!E43=\"\",\"\",'CR CF4'!E43)","v":""},{"$f":"IF('CR CF4'!F43=\"\",\"\",'CR CF4'!F43)","v":""},{"$f":"IF(OR(E43=\"\",H43=\"\"),\"\",VLOOKUP(H43,Détente!$A$2:$BU$157,MATCH(F43,(Détente!$B$1:$BU$1),1)+1))","v":""},{"$f":"IF('CR CF4'!H43=\"\",\"\",'CR CF4'!H43)","v":""},{"$f":"IF(OR(E43=\"\",J43=\"\"),\"\",VLOOKUP(J43,Sautillers!$A$2:$BU$99,MATCH(F43,(Sautillers!$B$1:$BU$1),1)+1))","v":""},{"$f":"IF('CR CF4'!J43=\"\",\"\",'CR CF4'!J43)","v":""},{"$f":"IF(OR(E43=\"\",L43=\"\"),\"\",VLOOKUP(L43,'Course 20 m'!$A$2:$BU$373,MATCH(F43,('Course 20 m'!$B$1:$BU$1),1)+1))","v":""},{"$f":"IF('CR CF4'!L43=\"\",\"\",'CR CF4'!L43)","v":""},{"$f":"IF(OR(E43=\"\",N43=\"\"),\"\",VLOOKUP(N43,'Ecarts D&G'!$A$2:$BU$147,MATCH(F43,('Ecarts D&G'!$B$1:$BU$1),1)+1))","v":""},{"$f":"IF('CR CF4'!N43=\"\",\"\",'CR CF4'!N43)","v":""},{"$f":"IF(OR(E43=\"\",P43=\"\"),\"\",VLOOKUP(P43,'Ecarts D&G'!$A$2:$BU$147,MATCH(F43,('Ecarts D&G'!$B$1:$BU$1),1)+1))","v":""},{"$f":"IF('CR CF4'!P43=\"\",\"\",'CR CF4'!P43)","v":""},{"$f":"IF(OR(E43=\"\",R43=\"\"),\"\",VLOOKUP(R43,'Ecart facial'!$A$2:$BU$143,MATCH(F43,('Ecart facial'!$B$1:$BU$1),1)+1))","v":""},{"$f":"IF('CR CF4'!R43=\"\",\"\",'CR CF4'!R43)","v":""},{"$f":"IF(OR(E43=\"\",T43=\"\"),\"\",VLOOKUP(T43,'Fermeture TJ'!$A$2:$BU$126,MATCH(F43,('Fermeture TJ'!$B$1:$BU$1),1)+1))","v":""},{"$f":"IF('CR CF4'!T43=\"\",\"\",'CR CF4'!T43)","v":""},{"$f":"IF(OR(E43=\"\",V43=\"\"),\"\",VLOOKUP(V43,Pont!$A$2:$BU$188,MATCH(F43,(Pont!$B$1:$BU$1),1)+1))","v":""},{"$f":"IF('CR CF4'!V43=\"\",\"\",'CR CF4'!V43)","v":""},{"$f":"IF(OR(E43=\"\",X43=\"\"),\"\",VLOOKUP(X43,Epaules!$A$2:$BU$76,MATCH(F43,(Epaules!$B$1:$BU$1),1)+1))","v":""},{"$f":"IF('CR CF4'!X43=\"\",\"\",'CR CF4'!X43)","v":""},{"$f":"IF(OR(E43=\"\",Z43=\"\"),\"\",VLOOKUP(Z43,'pointe de pieds'!$A$2:$BU$110,MATCH(F43,('pointe de pieds'!$B$1:$BU$1),1)+1))","v":""},0,{"v":0,"d":"0.00"},null,null,{"v":0,"d":"0.00"},{"$nulls":5},{"v":0,"d":"0.00"},{"$nulls":3},{"v":0,"d":"0.00"},{"v":0,"d":"0.00"},40]
[{"$f":"IF('CR CF4'!A44=\"\",\"\",Accueil!$D$6)","v":""},{"$f":"IF('CR CF4'!A44=\"\",\"\",MATCH('CR CF4'!A44,Accueil!$D$30:$D$129,0))","v":""},{"$f":"IF('CR CF4'!A44=\"\",\"\",'CR CF4'!A44)","v":""},{"$f":"IF('CR CF4'!B44=\"\",\"\",'CR CF4'!B44)","v":""},{"$f":"IF('CR CF4'!C44=\"\",\"\",'CR CF4'!C44)","v":""},{"$f":"IF(OR(Accueil!$D$6=\"\",D44=\"\",E44=\"\"),\"\",DATEDIF(E44,LOOKUP(B44,Accueil!$C$30:$C$129,Accueil!$E$30:$E$129),\"m\"))","v":""},{"$f":"IF('CR CF4'!E44=\"\",\"\",'CR CF4'!E44)","v":""},{"$f":"IF('CR CF4'!F44=\"\",\"\",'CR CF4'!F44)","v":""},{"$f":"IF(OR(E44=\"\",H44=\"\"),\"\",VLOOKUP(H44,Détente!$A$2:$BU$157,MATCH(F44,(Détente!$B$1:$BU$1),1)+1))","v":""},{"$f":"IF('CR CF4'!H44=\"\",\"\",'CR CF4'!H44)","v":""},{"$f":"IF(OR(E44=\"\",J44=\"\"),\"\",VLOOKUP(J44,Sautillers!$A$2:$BU$99,MATCH(F44,(Sautillers!$B$1:$BU$1),1)+1))","v":""},{"$f":"IF('CR CF4'!J44=\"\",\"\",'CR CF4'!J44)","v":""},{"$f":"IF(OR(E44=\"\",L44=\"\"),\"\",VLOOKUP(L44,'Course 20 m'!$A$2:$BU$373,MATCH(F44,('Course 20 m'!$B$1:$BU$1),1)+1))","v":""},{"$f":"IF('CR CF4'!L44=\"\",\"\",'CR CF4'!L44)","v":""},{"$f":"IF(OR(E44=\"\",N44=\"\"),\"\",VLOOKUP(N44,'Ecarts D&G'!$A$2:$BU$147,MATCH(F44,('Ecarts D&G'!$B$1:$BU$1),1)+1))","v":""},{"$f":"IF('CR CF4'!N44=\"\",\"\",'CR CF4'!N44)","v":""},{"$f":"IF(OR(E44=\"\",P44=\"\"),\"\",VLOOKUP(P44,'Ecarts D&G'!$A$2:$BU$147,MATCH(F44,('Ecarts D&G'!$B$1:$BU$1),1)+1))","v":""},{"$f":"IF('CR CF4'!P44=\"\",\"\",'CR CF4'!P44)","v":""},{"$f":"IF(OR(E44=\"\",R44=\"\"),\"\",VLOOKUP(R44,'Ecart facial'!$A$2:$BU$143,MATCH(F44,('Ecart facial'!$B$1:$BU$1),1)+1))","v":""},{"$f":"IF('CR CF4'!R44=\"\",\"\",'CR CF4'!R44)","v":""},{"$f":"IF(OR(E44=\"\",T44=\"\"),\"\",VLOOKUP(T44,'Fermeture TJ'!$A$2:$BU$126,MATCH(F44,('Fermeture TJ'!$B$1:$BU$1),1)+1))","v":""},{"$f":"IF('CR CF4'!T44=\"\",\"\",'CR CF4'!T44)","v":""},{"$f":"IF(OR(E44=\"\",V44=\"\"),\"\",VLOOKUP(V44,Pont!$A$2:$BU$188,MATCH(F44,(Pont!$B$1:$BU$1),1)+1))","v":""},{"$f":"IF('CR CF4'!V44=\"\",\"\",'CR CF4'!V44)","v":""},{"$f":"IF(OR(E44=\"\",X44=\"\"),\"\",VLOOKUP(X44,Epaules!$A$2:$BU$76,MATCH(F44,(Epaules!$B$1:$BU$1),1)+1))","v":""},{"$f":"IF('CR CF4'!X44=\"\",\"\",'CR CF4'!X44)","v":""},{"$f":"IF(OR(E44=\"\",Z44=\"\"),\"\",VLOOKUP(Z44,'pointe de pieds'!$A$2:$BU$110,MATCH(F44,('pointe de pieds'!$B$1:$BU$1),1)+1))","v":""},0,{"v":0,"d":"0.00"},null,null,{"v":0,"d":"0.00"},{"$nulls":5},{"v":0,"d":"0.00"},{"$nulls":3},{"v":0,"d":"0.00"},{"v":0,"d":"0.00"},41]
[{"$f":"IF('CR CF4'!A45=\"\",\"\",Accueil!$D$6)","v":""},{"$f":"IF('CR CF4'!A45=\"\",\"\",MATCH('CR CF4'!A45,Accueil!$D$30:$D$129,0))","v":""},{"$f":"IF('CR CF4'!A45=\"\",\"\",'CR CF4'!A45)","v":""},{"$f":"IF('CR CF4'!B45=\"\",\"\",'CR CF4'!B45)","v":""},{"$f":"IF('CR CF4'!C45=\"\",\"\",'CR CF4'!C45)","v":""},{"$f":"IF(OR(Accueil!$D$6=\"\",D45=\"\",E45=\"\"),\"\",DATEDIF(E45,LOOKUP(B45,Accueil!$C$30:$C$129,Accueil!$E$30:$E$129),\"m\"))","v":""},{"$f":"IF('CR CF4'!E45=\"\",\"\",'CR CF4'!E45)","v":""},{"$f":"IF('CR CF4'!F45=\"\",\"\",'CR CF4'!F45)","v":""},{"$f":"IF(OR(E45=\"\",H45=\"\"),\"\",VLOOKUP(H45,Détente!$A$2:$BU$157,MATCH(F45,(Détente!$B$1:$BU$1),1)+1))","v":""},{"$f":"IF('CR CF4'!H45=\"\",\"\",'CR CF4'!H45)","v":""},{"$f":"IF(OR(E45=\"\",J45=\"\"),\"\",VLOOKUP(J45,Sautillers!$A$2:$BU$99,MATCH(F45,(Sautillers!$B$1:$BU$1),1)+1))","v":""},{"$f":"IF('CR CF4'!J45=\"\",\"\",'CR CF4'!J45)","v":""},{"$f":"IF(OR(E45=\"\",L45=\"\"),\"\",VLOOKUP(L45,'Course 20 m'!$A$2:$BU$373,MATCH(F45,('Course 20 m'!$B$1:$BU$1),1)+1))","v":""},{"$f":"IF('CR CF4'!L45=\"\",\"\",'CR CF4'!L45)","v":""},{"$f":"IF(OR(E45=\"\",N45=\"\"),\"\",VLOOKUP(N45,'Ecarts D&G'!$A$2:$BU$147,MATCH(F45,('Ecarts D&G'!$B$1:$BU$1),1)+1))","v":""},{"$f":"IF('CR CF4'!N45=\"\",\"\",'CR CF4'!N45)","v":""},{"$f":"IF(OR(E45=\"\",P45=\"\"),\"\",VLOOKUP(P45,'Ecarts D&G'!$A$2:$BU$147,MATCH(F45,('Ecarts D&G'!$B$1:$BU$1),1)+1))","v":""},{"$f":"IF('CR CF4'!P45=\"\",\"\",'CR CF4'!P45)","v":""},{"$f":"IF(OR(E45=\"\",R45=\"\"),\"\",VLOOKUP(R45,'Ecart facial'!$A$2:$BU$143,MATCH(F45,('Ecart facial'!$B$1:$BU$1),1)+1))","v":""},{"$f":"IF('CR CF4'!R45=\"\",\"\",'CR CF4'!R45)","v":""},{"$f":"IF(OR(E45=\"\",T45=\"\"),\"\",VLOOKUP(T45,'Fermeture TJ'!$A$2:$BU$126,MATCH(F45,('Fermeture TJ'!$B$1:$BU$1),1)+1))","v":""},{"$f":"IF('CR CF4'!T45=\"\",\"\",'CR CF4'!T45)","v":""},{"$f":"IF(OR(E45=\"\",V45=\"\"),\"\",VLOOKUP(V45,Pont!$A$2:$BU$188,MATCH(F45,(Pont!$B$1:$BU$1),1)+1))","v":""},{"$f":"IF('CR CF4'!V45=\"\",\"\",'CR CF4'!V45)","v":""},{"$f":"IF(OR(E45=\"\",X45=\"\"),\"\",VLOOKUP(X45,Epaules!$A$2:$BU$76,MATCH(F45,(Epaules!$B$1:$BU$1),1)+1))","v":""},{"$f":"IF('CR CF4'!X45=\"\",\"\",'CR CF4'!X45)","v":""},{"$f":"IF(OR(E45=\"\",Z45=\"\"),\"\",VLOOKUP(Z45,'pointe de pieds'!$A$2:$BU$110,MATCH(F45,('pointe de pieds'!$B$1:$BU$1),1)+1))","v":""},0,{"v":0,"d":"0.00"},null,null,{"v":0,"d":"0.00"},{"$nulls":5},{"v":0,"d":"0.00"},{"$nulls":3},{"v":0,"d":"0.00"},{"v":0,"d":"0.00"},42]
[{"$f":"IF('CR CF4'!A46=\"\",\"\",Accueil!$D$6)","v":""},{"$f":"IF('CR CF4'!A46=\"\",\"\",MATCH('CR CF4'!A46,Accueil!$D$30:$D$129,0))","v":""},{"$f":"IF('CR CF4'!A46=\"\",\"\",'CR CF4'!A46)","v":""},{"$f":"IF('CR CF4'!B46=\"\",\"\",'CR CF4'!B46)","v":""},{"$f":"IF('CR CF4'!C46=\"\",\"\",'CR CF4'!C46)","v":""},{"$f":"IF(OR(Accueil!$D$6=\"\",D46=\"\",E46=\"\"),\"\",DATEDIF(E46,LOOKUP(B46,Accueil!$C$30:$C$129,Accueil!$E$30:$E$129),\"m\"))","v":""},{"$f":"IF('CR CF4'!E46=\"\",\"\",'CR CF4'!E46)","v":""},{"$f":"IF('CR CF4'!F46=\"\",\"\",'CR CF4'!F46)","v":""},{"$f":"IF(OR(E46=\"\",H46=\"\"),\"\",VLOOKUP(H46,Détente!$A$2:$BU$157,MATCH(F46,(Détente!$B$1:$BU$1),1)+1))","v":""},{"$f":"IF('CR CF4'!H46=\"\",\"\",'CR CF4'!H46)","v":""},{"$f":"IF(OR(E46=\"\",J46=\"\"),\"\",VLOOKUP(J46,Sautillers!$A$2:$BU$99,MATCH(F46,(Sautillers!$B$1:$BU$1),1)+1))","v":""},{"$f":"IF('CR CF4'!J46=\"\",\"\",'CR CF4'!J46)","v":""},{"$f":"IF(OR(E46=\"\",L46=\"\"),\"\",VLOOKUP(L46,'Course 20 m'!$A$2:$BU$373,MATCH(F46,('Course 20 m'!$B$1:$BU$1),1)+1))","v":""},{"$f":"IF('CR CF4'!L46=\"\",\"\",'CR CF4'!L46)","v":""},{"$f":"IF(OR(E46=\"\",N46=\"\"),\"\",VLOOKUP(N46,'Ecarts D&G'!$A$2:$BU$147,MATCH(F46,('Ecarts D&G'!$B$1:$BU$1),1)+1))","v":""},{"$f":"IF('CR CF4'!N46=\"\",\"\",'CR CF4'!N46)","v":""},{"$f":"IF(OR(E46=\"\",P46=\"\"),\"\",VLOOKUP(P46,'Ecarts D&G'!$A$2:$BU$147,MATCH(F46,('Ecarts D&G'!$B$1:$BU$1),1)+1))","v":""},{"$f":"IF('CR CF4'!P46=\"\",\"\",'CR CF4'!P46)","v":""},{"$f":"IF(OR(E46=\"\",R46=\"\"),\"\",VLOOKUP(R46,'Ecart facial'!$A$2:$BU$143,MATCH(F46,('Ecart facial'!$B$1:$BU$1),1)+1))","v":""},{"$f":"IF('CR CF4'!R46=\"\",\"\",'CR CF4'!R46)","v":""},{"$f":"IF(OR(E46=\"\",T46=\"\"),\"\",VLOOKUP(T46,'Fermeture TJ'!$A$2:$BU$126,MATCH(F46,('Fermeture TJ'!$B$1:$BU$1),1)+1))","v":""},{"$f":"IF('CR CF4'!T46=\"\",\"\",'CR CF4'!T46)","v":""},{"$f":"IF(OR(E46=\"\",V46=\"\"),\"\",VLOOKUP(V46,Pont!$A$2:$BU$188,MATCH(F46,(Pont!$B$1:$BU$1),1)+1))","v":""},{"$f":"IF('CR CF4'!V46=\"\",\"\",'CR CF4'!V46)","v":""},{"$f":"IF(OR(E46=\"\",X46=\"\"),\"\",VLOOKUP(X46,Epaules!$A$2:$BU$76,MATCH(F46,(Epaules!$B$1:$BU$1),1)+1))","v":""},{"$f":"IF('CR CF4'!X46=\"\",\"\",'CR CF4'!X46)","v":""},{"$f":"IF(OR(E46=\"\",Z46=\"\"),\"\",VLOOKUP(Z46,'pointe de pieds'!$A$2:$BU$110,MATCH(F46,('pointe de pieds'!$B$1:$BU$1),1)+1))","v":""},0,{"v":0,"d":"0.00"},null,null,{"v":0,"d":"0.00"},{"$nulls":5},{"v":0,"d":"0.00"},{"$nulls":3},{"v":0,"d":"0.00"},{"v":0,"d":"0.00"},43]
[{"$f":"IF('CR CF4'!A47=\"\",\"\",Accueil!$D$6)","v":""},{"$f":"IF('CR CF4'!A47=\"\",\"\",MATCH('CR CF4'!A47,Accueil!$D$30:$D$129,0))","v":""},{"$f":"IF('CR CF4'!A47=\"\",\"\",'CR CF4'!A47)","v":""},{"$f":"IF('CR CF4'!B47=\"\",\"\",'CR CF4'!B47)","v":""},{"$f":"IF('CR CF4'!C47=\"\",\"\",'CR CF4'!C47)","v":""},{"$f":"IF(OR(Accueil!$D$6=\"\",D47=\"\",E47=\"\"),\"\",DATEDIF(E47,LOOKUP(B47,Accueil!$C$30:$C$129,Accueil!$E$30:$E$129),\"m\"))","v":""},{"$f":"IF('CR CF4'!E47=\"\",\"\",'CR CF4'!E47)","v":""},{"$f":"IF('CR CF4'!F47=\"\",\"\",'CR CF4'!F47)","v":""},{"$f":"IF(OR(E47=\"\",H47=\"\"),\"\",VLOOKUP(H47,Détente!$A$2:$BU$157,MATCH(F47,(Détente!$B$1:$BU$1),1)+1))","v":""},{"$f":"IF('CR CF4'!H47=\"\",\"\",'CR CF4'!H47)","v":""},{"$f":"IF(OR(E47=\"\",J47=\"\"),\"\",VLOOKUP(J47,Sautillers!$A$2:$BU$99,MATCH(F47,(Sautillers!$B$1:$BU$1),1)+1))","v":""},{"$f":"IF('CR CF4'!J47=\"\",\"\",'CR CF4'!J47)","v":""},{"$f":"IF(OR(E47=\"\",L47=\"\"),\"\",VLOOKUP(L47,'Course 20 m'!$A$2:$BU$373,MATCH(F47,('Course 20 m'!$B$1:$BU$1),1)+1))","v":""},{"$f":"IF('CR CF4'!L47=\"\",\"\",'CR CF4'!L47)","v":""},{"$f":"IF(OR(E47=\"\",N47=\"\"),\"\",VLOOKUP(N47,'Ecarts D&G'!$A$2:$BU$147,MATCH(F47,('Ecarts D&G'!$B$1:$BU$1),1)+1))","v":""},{"$f":"IF('CR CF4'!N47=\"\",\"\",'CR CF4'!N47)","v":""},{"$f":"IF(OR(E47=\"\",P47=\"\"),\"\",VLOOKUP(P47,'Ecarts D&G'!$A$2:$BU$147,MATCH(F47,('Ecarts D&G'!$B$1:$BU$1),1)+1))","v":""},{"$f":"IF('CR CF4'!P47=\"\",\"\",'CR CF4'!P47)","v":""},{"$f":"IF(OR(E47=\"\",R47=\"\"),\"\",VLOOKUP(R47,'Ecart facial'!$A$2:$BU$143,MATCH(F47,('Ecart facial'!$B$1:$BU$1),1)+1))","v":""},{"$f":"IF('CR CF4'!R47=\"\",\"\",'CR CF4'!R47)","v":""},{"$f":"IF(OR(E47=\"\",T47=\"\"),\"\",VLOOKUP(T47,'Fermeture TJ'!$A$2:$BU$126,MATCH(F47,('Fermeture TJ'!$B$1:$BU$1),1)+1))","v":""},{"$f":"IF('CR CF4'!T47=\"\",\"\",'CR CF4'!T47)","v":""},{"$f":"IF(OR(E47=\"\",V47=\"\"),\"\",VLOOKUP(V47,Pont!$A$2:$BU$188,MATCH(F47,(Pont!$B$1:$BU$1),1)+1))","v":""},{"$f":"IF('CR CF4'!V47=\"\",\"\",'CR CF4'!V47)","v":""},{"$f":"IF(OR(E47=\"\",X47=\"\"),\"\",VLOOKUP(X47,Epaules!$A$2:$BU$76,MATCH(F47,(Epaules!$B$1:$BU$1),1)+1))","v":""},{"$f":"IF('CR CF4'!X47=\"\",\"\",'CR CF4'!X47)","v":""},{"$f":"IF(OR(E47=\"\",Z47=\"\"),\"\",VLOOKUP(Z47,'pointe de pieds'!$A$2:$BU$110,MATCH(F47,('pointe de pieds'!$B$1:$BU$1),1)+1))","v":""},0,{"v":0,"d":"0.00"},null,null,{"v":0,"d":"0.00"},{"$nulls":5},{"v":0,"d":"0.00"},{"$nulls":3},{"v":0,"d":"0.00"},{"v":0,"d":"0.00"},44]
[{"$f":"IF('CR CF4'!A48=\"\",\"\",Accueil!$D$6)","v":""},{"$f":"IF('CR CF4'!A48=\"\",\"\",MATCH('CR CF4'!A48,Accueil!$D$30:$D$129,0))","v":""},{"$f":"IF('CR CF4'!A48=\"\",\"\",'CR CF4'!A48)","v":""},{"$f":"IF('CR CF4'!B48=\"\",\"\",'CR CF4'!B48)","v":""},{"$f":"IF('CR CF4'!C48=\"\",\"\",'CR CF4'!C48)","v":""},{"$f":"IF(OR(Accueil!$D$6=\"\",D48=\"\",E48=\"\"),\"\",DATEDIF(E48,LOOKUP(B48,Accueil!$C$30:$C$129,Accueil!$E$30:$E$129),\"m\"))","v":""},{"$f":"IF('CR CF4'!E48=\"\",\"\",'CR CF4'!E48)","v":""},{"$f":"IF('CR CF4'!F48=\"\",\"\",'CR CF4'!F48)","v":""},{"$f":"IF(OR(E48=\"\",H48=\"\"),\"\",VLOOKUP(H48,Détente!$A$2:$BU$157,MATCH(F48,(Détente!$B$1:$BU$1),1)+1))","v":""},{"$f":"IF('CR CF4'!H48=\"\",\"\",'CR CF4'!H48)","v":""},{"$f":"IF(OR(E48=\"\",J48=\"\"),\"\",VLOOKUP(J48,Sautillers!$A$2:$BU$99,MATCH(F48,(Sautillers!$B$1:$BU$1),1)+1))","v":""},{"$f":"IF('CR CF4'!J48=\"\",\"\",'CR CF4'!J48)","v":""},{"$f":"IF(OR(E48=\"\",L48=\"\"),\"\",VLOOKUP(L48,'Course 20 m'!$A$2:$BU$373,MATCH(F48,('Course 20 m'!$B$1:$BU$1),1)+1))","v":""},{"$f":"IF('CR CF4'!L48=\"\",\"\",'CR CF4'!L48)","v":""},{"$f":"IF(OR(E48=\"\",N48=\"\"),\"\",VLOOKUP(N48,'Ecarts D&G'!$A$2:$BU$147,MATCH(F48,('Ecarts D&G'!$B$1:$BU$1),1)+1))","v":""},{"$f":"IF('CR CF4'!N48=\"\",\"\",'CR CF4'!N48)","v":""},{"$f":"IF(OR(E48=\"\",P48=\"\"),\"\",VLOOKUP(P48,'Ecarts D&G'!$A$2:$BU$147,MATCH(F48,('Ecarts D&G'!$B$1:$BU$1),1)+1))","v":""},{"$f":"IF('CR CF4'!P48=\"\",\"\",'CR CF4'!P48)","v":""},{"$f":"IF(OR(E48=\"\",R48=\"\"),\"\",VLOOKUP(R48,'Ecart facial'!$A$2:$BU$143,MATCH(F48,('Ecart facial'!$B$1:$BU$1),1)+1))","v":""},{"$f":"IF('CR CF4'!R48=\"\",\"\",'CR CF4'!R48)","v":""},{"$f":"IF(OR(E48=\"\",T48=\"\"),\"\",VLOOKUP(T48,'Fermeture TJ'!$A$2:$BU$126,MATCH(F48,('Fermeture TJ'!$B$1:$BU$1),1)+1))","v":""},{"$f":"IF('CR CF4'!T48=\"\",\"\",'CR CF4'!T48)","v":""},{"$f":"IF(OR(E48=\"\",V48=\"\"),\"\",VLOOKUP(V48,Pont!$A$2:$BU$188,MATCH(F48,(Pont!$B$1:$BU$1),1)+1))","v":""},{"$f":"IF('CR CF4'!V48=\"\",\"\",'CR CF4'!V48)","v":""},{"$f":"IF(OR(E48=\"\",X48=\"\"),\"\",VLOOKUP(X48,Epaules!$A$2:$BU$76,MATCH(F48,(Epaules!$B$1:$BU$1),1)+1))","v":""},{"$f":"IF('CR CF4'!X48=\"\",\"\",'CR CF4'!X48)","v":""},{"$f":"IF(OR(E48=\"\",Z48=\"\"),\"\",VLOOKUP(Z48,'pointe de pieds'!$A$2:$BU$110,MATCH(F48,('pointe de pieds'!$B$1:$BU$1),1)+1))","v":""},0,{"v":0,"d":"0.00"},null,null,{"v":0,"d":"0.00"},{"$nulls":5},{"v":0,"d":"0.00"},{"$nulls":3},{"v":0,"d":"0.00"},{"v":0,"d":"0.00"},45]
[{"$f":"IF('CR CF4'!A49=\"\",\"\",Accueil!$D$6)","v":""},{"$f":"IF('CR CF4'!A49=\"\",\"\",MATCH('CR CF4'!A49,Accueil!$D$30:$D$129,0))","v":""},{"$f":"IF('CR CF4'!A49=\"\",\"\",'CR CF4'!A49)","v":""},{"$f":"IF('CR CF4'!B49=\"\",\"\",'CR CF4'!B49)","v":""},{"$f":"IF('CR CF4'!C49=\"\",\"\",'CR CF4'!C49)","v":""},{"$f":"IF(OR(Accueil!$D$6=\"\",D49=\"\",E49=\"\"),\"\",DATEDIF(E49,LOOKUP(B49,Accueil!$C$30:$C$129,Accueil!$E$30:$E$129),\"m\"))","v":""},{"$f":"IF('CR CF4'!E49=\"\",\"\",'CR CF4'!E49)","v":""},{"$f":"IF('CR CF4'!F49=\"\",\"\",'CR CF4'!F49)","v":""},{"$f":"IF(OR(E49=\"\",H49=\"\"),\"\",VLOOKUP(H49,Détente!$A$2:$BU$157,MATCH(F49,(Détente!$B$1:$BU$1),1)+1))","v":""},{"$f":"IF('CR CF4'!H49=\"\",\"\",'CR CF4'!H49)","v":""},{"$f":"IF(OR(E49=\"\",J49=\"\"),\"\",VLOOKUP(J49,Sautillers!$A$2:$BU$99,MATCH(F49,(Sautillers!$B$1:$BU$1),1)+1))","v":""},{"$f":"IF('CR CF4'!J49=\"\",\"\",'CR CF4'!J49)","v":""},{"$f":"IF(OR(E49=\"\",L49=\"\"),\"\",VLOOKUP(L49,'Course 20 m'!$A$2:$BU$373,MATCH(F49,('Course 20 m'!$B$1:$BU$1),1)+1))","v":""},{"$f":"IF('CR CF4'!L49=\"\",\"\",'CR CF4'!L49)","v":""},{"$f":"IF(OR(E49=\"\",N49=\"\"),\"\",VLOOKUP(N49,'Ecarts D&G'!$A$2:$BU$147,MATCH(F49,('Ecarts D&G'!$B$1:$BU$1),1)+1))","v":""},{"$f":"IF('CR CF4'!N49=\"\",\"\",'CR CF4'!N49)","v":""},{"$f":"IF(OR(E49=\"\",P49=\"\"),\"\",VLOOKUP(P49,'Ecarts D&G'!$A$2:$BU$147,MATCH(F49,('Ecarts D&G'!$B$1:$BU$1),1)+1))","v":""},{"$f":"IF('CR CF4'!P49=\"\",\"\",'CR CF4'!P49)","v":""},{"$f":"IF(OR(E49=\"\",R49=\"\"),\"\",VLOOKUP(R49,'Ecart facial'!$A$2:$BU$143,MATCH(F49,('Ecart facial'!$B$1:$BU$1),1)+1))","v":""},{"$f":"IF('CR CF4'!R49=\"\",\"\",'CR CF4'!R49)","v":""},{"$f":"IF(OR(E49=\"\",T49=\"\"),\"\",VLOOKUP(T49,'Fermeture TJ'!$A$2:$BU$126,MATCH(F49,('Fermeture TJ'!$B$1:$BU$1),1)+1))","v":""},{"$f":"IF('CR CF4'!T49=\"\",\"\",'CR CF4'!T49)","v":""},{"$f":"IF(OR(E49=\"\",V49=\"\"),\"\",VLOOKUP(V49,Pont!$A$2:$BU$188,MATCH(F49,(Pont!$B$1:$BU$1),1)+1))","v":""},{"$f":"IF('CR CF4'!V49=\"\",\"\",'CR CF4'!V49)","v":""},{"$f":"IF(OR(E49=\"\",X49=\"\"),\"\",VLOOKUP(X49,Epaules!$A$2:$BU$76,MATCH(F49,(Epaules!$B$1:$BU$1),1)+1))","v":""},{"$f":"IF('CR CF4'!X49=\"\",\"\",'CR CF4'!X49)","v":""},{"$f":"IF(OR(E49=\"\",Z49=\"\"),\"\",VLOOKUP(Z49,'pointe de pieds'!$A$2:$BU$110,MATCH(F49,('pointe de pieds'!$B$1:$BU$1),1)+1))","v":""},0,{"v":0,"d":"0.00"},null,null,{"v":0,"d":"0.00"},{"$nulls":5},{"v":0,"d":"0.00"},{"$nulls":3},{"v":0,"d":"0.00"},{"v":0,"d":"0.00"},46]
[{"$f":"IF('CR CF4'!A50=\"\",\"\",Accueil!$D$6)","v":""},{"$f":"IF('CR CF4'!A50=\"\",\"\",MATCH('CR CF4'!A50,Accueil!$D$30:$D$129,0))","v":""},{"$f":"IF('CR CF4'!A50=\"\",\"\",'CR CF4'!A50)","v":""},{"$f":"IF('CR CF4'!B50=\"\",\"\",'CR CF4'!B50)","v":""},{"$f":"IF('CR CF4'!C50=\"\",\"\",'CR CF4'!C50)","v":""},{"$f":"IF(OR(Accueil!$D$6=\"\",D50=\"\",E50=\"\"),\"\",DATEDIF(E50,LOOKUP(B50,Accueil!$C$30:$C$129,Accueil!$E$30:$E$129),\"m\"))","v":""},{"$f":"IF('CR CF4'!E50=\"\",\"\",'CR CF4'!E50)","v":""},{"$f":"IF('CR CF4'!F50=\"\",\"\",'CR CF4'!F50)","v":""},{"$f":"IF(OR(E50=\"\",H50=\"\"),\"\",VLOOKUP(H50,Détente!$A$2:$BU$157,MATCH(F50,(Détente!$B$1:$BU$1),1)+1))","v":""},{"$f":"IF('CR CF4'!H50=\"\",\"\",'CR CF4'!H50)","v":""},{"$f":"IF(OR(E50=\"\",J50=\"\"),\"\",VLOOKUP(J50,Sautillers!$A$2:$BU$99,MATCH(F50,(Sautillers!$B$1:$BU$1),1)+1))","v":""},{"$f":"IF('CR CF4'!J50=\"\",\"\",'CR CF4'!J50)","v":""},{"$f":"IF(OR(E50=\"\",L50=\"\"),\"\",VLOOKUP(L50,'Course 20 m'!$A$2:$BU$373,MATCH(F50,('Course 20 m'!$B$1:$BU$1),1)+1))","v":""},{"$f":"IF('CR CF4'!L50=\"\",\"\",'CR CF4'!L50)","v":""},{"$f":"IF(OR(E50=\"\",N50=\"\"),\"\",VLOOKUP(N50,'Ecarts D&G'!$A$2:$BU$147,MATCH(F50,('Ecarts D&G'!$B$1:$BU$1),1)+1))","v":""},{"$f":"IF('CR CF4'!N50=\"\",\"\",'CR CF4'!N50)","v":""},{"$f":"IF(OR(E50=\"\",P50=\"\"),\"\",VLOOKUP(P50,'Ecarts D&G'!$A$2:$BU$147,MATCH(F50,('Ecarts D&G'!$B$1:$BU$1),1)+1))","v":""},{"$f":"IF('CR CF4'!P50=\"\",\"\",'CR CF4'!P50)","v":""},{"$f":"IF(OR(E50=\"\",R50=\"\"),\"\",VLOOKUP(R50,'Ecart facial'!$A$2:$BU$143,MATCH(F50,('Ecart facial'!$B$1:$BU$1),1)+1))","v":""},{"$f":"IF('CR CF4'!R50=\"\",\"\",'CR CF4'!R50)","v":""},{"$f":"IF(OR(E50=\"\",T50=\"\"),\"\",VLOOKUP(T50,'Fermeture TJ'!$A$2:$BU$126,MATCH(F50,('Fermeture TJ'!$B$1:$BU$1),1)+1))","v":""},{"$f":"IF('CR CF4'!T50=\"\",\"\",'CR CF4'!T50)","v":""},{"$f":"IF(OR(E50=\"\",V50=\"\"),\"\",VLOOKUP(V50,Pont!$A$2:$BU$188,MATCH(F50,(Pont!$B$1:$BU$1),1)+1))","v":""},{"$f":"IF('CR CF4'!V50=\"\",\"\",'CR CF4'!V50)","v":""},{"$f":"IF(OR(E50=\"\",X50=\"\"),\"\",VLOOKUP(X50,Epaules!$A$2:$BU$76,MATCH(F50,(Epaules!$B$1:$BU$1),1)+1))","v":""},{"$f":"IF('CR CF4'!X50=\"\",\"\",'CR CF4'!X50)","v":""},{"$f":"IF(OR(E50=\"\",Z50=\"\"),\"\",VLOOKUP(Z50,'pointe de pieds'!$A$2:$BU$110,MATCH(F50,('pointe de pieds'!$B$1:$BU$1),1)+1))","v":""},0,{"v":0,"d":"0.00"},null,null,{"v":0,"d":"0.00"},{"$nulls":5},{"v":0,"d":"0.00"},{"$nulls":3},{"v":0,"d":"0.00"},{"v":0,"d":"0.00"},47]
[{"$f":"IF('CR CF4'!A51=\"\",\"\",Accueil!$D$6)","v":""},{"$f":"IF('CR CF4'!A51=\"\",\"\",MATCH('CR CF4'!A51,Accueil!$D$30:$D$129,0))","v":""},{"$f":"IF('CR CF4'!A51=\"\",\"\",'CR CF4'!A51)","v":""},{"$f":"IF('CR CF4'!B51=\"\",\"\",'CR CF4'!B51)","v":""},{"$f":"IF('CR CF4'!C51=\"\",\"\",'CR CF4'!C51)","v":""},{"$f":"IF(OR(Accueil!$D$6=\"\",D51=\"\",E51=\"\"),\"\",DATEDIF(E51,LOOKUP(B51,Accueil!$C$30:$C$129,Accueil!$E$30:$E$129),\"m\"))","v":""},{"$f":"IF('CR CF4'!E51=\"\",\"\",'CR CF4'!E51)","v":""},{"$f":"IF('CR CF4'!F51=\"\",\"\",'CR CF4'!F51)","v":""},{"$f":"IF(OR(E51=\"\",H51=\"\"),\"\",VLOOKUP(H51,Détente!$A$2:$BU$157,MATCH(F51,(Détente!$B$1:$BU$1),1)+1))","v":""},{"$f":"IF('CR CF4'!H51=\"\",\"\",'CR CF4'!H51)","v":""},{"$f":"IF(OR(E51=\"\",J51=\"\"),\"\",VLOOKUP(J51,Sautillers!$A$2:$BU$99,MATCH(F51,(Sautillers!$B$1:$BU$1),1)+1))","v":""},{"$f":"IF('CR CF4'!J51=\"\",\"\",'CR CF4'!J51)","v":""},{"$f":"IF(OR(E51=\"\",L51=\"\"),\"\",VLOOKUP(L51,'Course 20 m'!$A$2:$BU$373,MATCH(F51,('Course 20 m'!$B$1:$BU$1),1)+1))","v":""},{"$f":"IF('CR CF4'!L51=\"\",\"\",'CR CF4'!L51)","v":""},{"$f":"IF(OR(E51=\"\",N51=\"\"),\"\",VLOOKUP(N51,'Ecarts D&G'!$A$2:$BU$147,MATCH(F51,('Ecarts D&G'!$B$1:$BU$1),1)+1))","v":""},{"$f":"IF('CR CF4'!N51=\"\",\"\",'CR CF4'!N51)","v":""},{"$f":"IF(OR(E51=\"\",P51=\"\"),\"\",VLOOKUP(P51,'Ecarts D&G'!$A$2:$BU$147,MATCH(F51,('Ecarts D&G'!$B$1:$BU$1),1)+1))","v":""},{"$f":"IF('CR CF4'!P51=\"\",\"\",'CR CF4'!P51)","v":""},{"$f":"IF(OR(E51=\"\",R51=\"\"),\"\",VLOOKUP(R51,'Ecart facial'!$A$2:$BU$143,MATCH(F51,('Ecart facial'!$B$1:$BU$1),1)+1))","v":""},{"$f":"IF('CR CF4'!R51=\"\",\"\",'CR CF4'!R51)","v":""},{"$f":"IF(OR(E51=\"\",T51=\"\"),\"\",VLOOKUP(T51,'Fermeture TJ'!$A$2:$BU$126,MATCH(F51,('Fermeture TJ'!$B$1:$BU$1),1)+1))","v":""},{"$f":"IF('CR CF4'!T51=\"\",\"\",'CR CF4'!T51)","v":""},{"$f":"IF(OR(E51=\"\",V51=\"\"),\"\",VLOOKUP(V51,Pont!$A$2:$BU$188,MATCH(F51,(Pont!$B$1:$BU$1),1)+1))","v":""},{"$f":"IF('CR CF4'!V51=\"\",\"\",'CR CF4'!V51)","v":""},{"$f":"IF(OR(E51=\"\",X51=\"\"),\"\",VLOOKUP(X51,Epaules!$A$2:$BU$76,MATCH(F51,(Epaules!$B$1:$BU$1),1)+1))","v":""},{"$f":"IF('CR CF4'!X51=\"\",\"\",'CR CF4'!X51)","v":""},{"$f":"IF(OR(E51=\"\",Z51=\"\"),\"\",VLOOKUP(Z51,'pointe de pieds'!$A$2:$BU$110,MATCH(F51,('pointe de pieds'!$B$1:$BU$1),1)+1))","v":""},0,{"v":0,"d":"0.00"},null,null,{"v":0,"d":"0.00"},{"$nulls":5},{"v":0,"d":"0.00"},{"$nulls":3},{"v":0,"d":"0.00"},{"v":0,"d":"0.00"},48]
[{"$f":"IF('CR CF4'!A52=\"\",\"\",Accueil!$D$6)","v":""},{"$f":"IF('CR CF4'!A52=\"\",\"\",MATCH('CR CF4'!A52,Accueil!$D$30:$D$129,0))","v":""},{"$f":"IF('CR CF4'!A52=\"\",\"\",'CR CF4'!A52)","v":""},{"$f":"IF('CR CF4'!B52=\"\",\"\",'CR CF4'!B52)","v":""},{"$f":"IF('CR CF4'!C52=\"\",\"\",'CR CF4'!C52)","v":""},{"$f":"IF(OR(Accueil!$D$6=\"\",D52=\"\",E52=\"\"),\"\",DATEDIF(E52,LOOKUP(B52,Accueil!$C$30:$C$129,Accueil!$E$30:$E$129),\"m\"))","v":""},{"$f":"IF('CR CF4'!E52=\"\",\"\",'CR CF4'!E52)","v":""},{"$f":"IF('CR CF4'!F52=\"\",\"\",'CR CF4'!F52)","v":""},{"$f":"IF(OR(E52=\"\",H52=\"\"),\"\",VLOOKUP(H52,Détente!$A$2:$BU$157,MATCH(F52,(Détente!$B$1:$BU$1),1)+1))","v":""},{"$f":"IF('CR CF4'!H52=\"\",\"\",'CR CF4'!H52)","v":""},{"$f":"IF(OR(E52=\"\",J52=\"\"),\"\",VLOOKUP(J52,Sautillers!$A$2:$BU$99,MATCH(F52,(Sautillers!$B$1:$BU$1),1)+1))","v":""},{"$f":"IF('CR CF4'!J52=\"\",\"\",'CR CF4'!J52)","v":""},{"$f":"IF(OR(E52=\"\",L52=\"\"),\"\",VLOOKUP(L52,'Course 20 m'!$A$2:$BU$373,MATCH(F52,('Course 20 m'!$B$1:$BU$1),1)+1))","v":""},{"$f":"IF('CR CF4'!L52=\"\",\"\",'CR CF4'!L52)","v":""},{"$f":"IF(OR(E52=\"\",N52=\"\"),\"\",VLOOKUP(N52,'Ecarts D&G'!$A$2:$BU$147,MATCH(F52,('Ecarts D&G'!$B$1:$BU$1),1)+1))","v":""},{"$f":"IF('CR CF4'!N52=\"\",\"\",'CR CF4'!N52)","v":""},{"$f":"IF(OR(E52=\"\",P52=\"\"),\"\",VLOOKUP(P52,'Ecarts D&G'!$A$2:$BU$147,MATCH(F52,('Ecarts D&G'!$B$1:$BU$1),1)+1))","v":""},{"$f":"IF('CR CF4'!P52=\"\",\"\",'CR CF4'!P52)","v":""},{"$f":"IF(OR(E52=\"\",R52=\"\"),\"\",VLOOKUP(R52,'Ecart facial'!$A$2:$BU$143,MATCH(F52,('Ecart facial'!$B$1:$BU$1),1)+1))","v":""},{"$f":"IF('CR CF4'!R52=\"\",\"\",'CR CF4'!R52)","v":""},{"$f":"IF(OR(E52=\"\",T52=\"\"),\"\",VLOOKUP(T52,'Fermeture TJ'!$A$2:$BU$126,MATCH(F52,('Fermeture TJ'!$B$1:$BU$1),1)+1))","v":""},{"$f":"IF('CR CF4'!T52=\"\",\"\",'CR CF4'!T52)","v":""},{"$f":"IF(OR(E52=\"\",V52=\"\"),\"\",VLOOKUP(V52,Pont!$A$2:$BU$188,MATCH(F52,(Pont!$B$1:$BU$1),1)+1))","v":""},{"$f":"IF('CR CF4'!V52=\"\",\"\",'CR CF4'!V52)","v":""},{"$f":"IF(OR(E52=\"\",X52=\"\"),\"\",VLOOKUP(X52,Epaules!$A$2:$BU$76,MATCH(F52,(Epaules!$B$1:$BU$1),1)+1))","v":""},{"$f":"IF('CR CF4'!X52=\"\",\"\",'CR CF4'!X52)","v":""},{"$f":"IF(OR(E52=\"\",Z52=\"\"),\"\",VLOOKUP(Z52,'pointe de pieds'!$A$2:$BU$110,MATCH(F52,('pointe de pieds'!$B$1:$BU$1),1)+1))","v":""},0,{"v":0,"d":"0.00"},null,null,{"v":0,"d":"0.00"},{"$nulls":5},{"v":0,"d":"0.00"},{"$nulls":3},{"v":0,"d":"0.00"},{"v":0,"d":"0.00"},49]
[{"$f":"IF('CR CF4'!A53=\"\",\"\",Accueil!$D$6)","v":""},{"$f":"IF('CR CF4'!A53=\"\",\"\",MATCH('CR CF4'!A53,Accueil!$D$30:$D$129,0))","v":""},{"$f":"IF('CR CF4'!A53=\"\",\"\",'CR CF4'!A53)","v":""},{"$f":"IF('CR CF4'!B53=\"\",\"\",'CR CF4'!B53)","v":""},{"$f":"IF('CR CF4'!C53=\"\",\"\",'CR CF4'!C53)","v":""},{"$f":"IF(OR(Accueil!$D$6=\"\",D53=\"\",E53=\"\"),\"\",DATEDIF(E53,LOOKUP(B53,Accueil!$C$30:$C$129,Accueil!$E$30:$E$129),\"m\"))","v":""},{"$f":"IF('CR CF4'!E53=\"\",\"\",'CR CF4'!E53)","v":""},{"$f":"IF('CR CF4'!F53=\"\",\"\",'CR CF4'!F53)","v":""},{"$f":"IF(OR(E53=\"\",H53=\"\"),\"\",VLOOKUP(H53,Détente!$A$2:$BU$157,MATCH(F53,(Détente!$B$1:$BU$1),1)+1))","v":""},{"$f":"IF('CR CF4'!H53=\"\",\"\",'CR CF4'!H53)","v":""},{"$f":"IF(OR(E53=\"\",J53=\"\"),\"\",VLOOKUP(J53,Sautillers!$A$2:$BU$99,MATCH(F53,(Sautillers!$B$1:$BU$1),1)+1))","v":""},{"$f":"IF('CR CF4'!J53=\"\",\"\",'CR CF4'!J53)","v":""},{"$f":"IF(OR(E53=\"\",L53=\"\"),\"\",VLOOKUP(L53,'Course 20 m'!$A$2:$BU$373,MATCH(F53,('Course 20 m'!$B$1:$BU$1),1)+1))","v":""},{"$f":"IF('CR CF4'!L53=\"\",\"\",'CR CF4'!L53)","v":""},{"$f":"IF(OR(E53=\"\",N53=\"\"),\"\",VLOOKUP(N53,'Ecarts D&G'!$A$2:$BU$147,MATCH(F53,('Ecarts D&G'!$B$1:$BU$1),1)+1))","v":""},{"$f":"IF('CR CF4'!N53=\"\",\"\",'CR CF4'!N53)","v":""},{"$f":"IF(OR(E53=\"\",P53=\"\"),\"\",VLOOKUP(P53,'Ecarts D&G'!$A$2:$BU$147,MATCH(F53,('Ecarts D&G'!$B$1:$BU$1),1)+1))","v":""},{"$f":"IF('CR CF4'!P53=\"\",\"\",'CR CF4'!P53)","v":""},{"$f":"IF(OR(E53=\"\",R53=\"\"),\"\",VLOOKUP(R53,'Ecart facial'!$A$2:$BU$143,MATCH(F53,('Ecart facial'!$B$1:$BU$1),1)+1))","v":""},{"$f":"IF('CR CF4'!R53=\"\",\"\",'CR CF4'!R53)","v":""},{"$f":"IF(OR(E53=\"\",T53=\"\"),\"\",VLOOKUP(T53,'Fermeture TJ'!$A$2:$BU$126,MATCH(F53,('Fermeture TJ'!$B$1:$BU$1),1)+1))","v":""},{"$f":"IF('CR CF4'!T53=\"\",\"\",'CR CF4'!T53)","v":""},{"$f":"IF(OR(E53=\"\",V53=\"\"),\"\",VLOOKUP(V53,Pont!$A$2:$BU$188,MATCH(F53,(Pont!$B$1:$BU$1),1)+1))","v":""},{"$f":"IF('CR CF4'!V53=\"\",\"\",'CR CF4'!V53)","v":""},{"$f":"IF(OR(E53=\"\",X53=\"\"),\"\",VLOOKUP(X53,Epaules!$A$2:$BU$76,MATCH(F53,(Epaules!$B$1:$BU$1),1)+1))","v":""},{"$f":"IF('CR CF4'!X53=\"\",\"\",'CR CF4'!X53)","v":""},{"$f":"IF(OR(E53=\"\",Z53=\"\"),\"\",VLOOKUP(Z53,'pointe de pieds'!$A$2:$BU$110,MATCH(F53,('pointe de pieds'!$B$1:$BU$1),1)+1))","v":""},0,{"v":0,"d":"0.00"},null,null,{"v":0,"d":"0.00"},{"$nulls":5},{"v":0,"d":"0.00"},{"$nulls":3},{"v":0,"d":"0.00"},{"v":0,"d":"0.00"},50]
[{"$f":"IF('CR CF4'!A54=\"\",\"\",Accueil!$D$6)","v":""},{"$f":"IF('CR CF4'!A54=\"\",\"\",MATCH('CR CF4'!A54,Accueil!$D$30:$D$129,0))","v":""},{"$f":"IF('CR CF4'!A54=\"\",\"\",'CR CF4'!A54)","v":""},{"$f":"IF('CR CF4'!B54=\"\",\"\",'CR CF4'!B54)","v":""},{"$f":"IF('CR CF4'!C54=\"\",\"\",'CR CF4'!C54)","v":""},{"$f":"IF(OR(Accueil!$D$6=\"\",D54=\"\",E54=\"\"),\"\",DATEDIF(E54,LOOKUP(B54,Accueil!$C$30:$C$129,Accueil!$E$30:$E$129),\"m\"))","v":""},{"$f":"IF('CR CF4'!E54=\"\",\"\",'CR CF4'!E54)","v":""},{"$f":"IF('CR CF4'!F54=\"\",\"\",'CR CF4'!F54)","v":""},{"$f":"IF(OR(E54=\"\",H54=\"\"),\"\",VLOOKUP(H54,Détente!$A$2:$BU$157,MATCH(F54,(Détente!$B$1:$BU$1),1)+1))","v":""},{"$f":"IF('CR CF4'!H54=\"\",\"\",'CR CF4'!H54)","v":""},{"$f":"IF(OR(E54=\"\",J54=\"\"),\"\",VLOOKUP(J54,Sautillers!$A$2:$BU$99,MATCH(F54,(Sautillers!$B$1:$BU$1),1)+1))","v":""},{"$f":"IF('CR CF4'!J54=\"\",\"\",'CR CF4'!J54)","v":""},{"$f":"IF(OR(E54=\"\",L54=\"\"),\"\",VLOOKUP(L54,'Course 20 m'!$A$2:$BU$373,MATCH(F54,('Course 20 m'!$B$1:$BU$1),1)+1))","v":""},{"$f":"IF('CR CF4'!L54=\"\",\"\",'CR CF4'!L54)","v":""},{"$f":"IF(OR(E54=\"\",N54=\"\"),\"\",VLOOKUP(N54,'Ecarts D&G'!$A$2:$BU$147,MATCH(F54,('Ecarts D&G'!$B$1:$BU$1),1)+1))","v":""},{"$f":"IF('CR CF4'!N54=\"\",\"\",'CR CF4'!N54)","v":""},{"$f":"IF(OR(E54=\"\",P54=\"\"),\"\",VLOOKUP(P54,'Ecarts D&G'!$A$2:$BU$147,MATCH(F54,('Ecarts D&G'!$B$1:$BU$1),1)+1))","v":""},{"$f":"IF('CR CF4'!P54=\"\",\"\",'CR CF4'!P54)","v":""},{"$f":"IF(OR(E54=\"\",R54=\"\"),\"\",VLOOKUP(R54,'Ecart facial'!$A$2:$BU$143,MATCH(F54,('Ecart facial'!$B$1:$BU$1),1)+1))","v":""},{"$f":"IF('CR CF4'!R54=\"\",\"\",'CR CF4'!R54)","v":""},{"$f":"IF(OR(E54=\"\",T54=\"\"),\"\",VLOOKUP(T54,'Fermeture TJ'!$A$2:$BU$126,MATCH(F54,('Fermeture TJ'!$B$1:$BU$1),1)+1))","v":""},{"$f":"IF('CR CF4'!T54=\"\",\"\",'CR CF4'!T54)","v":""},{"$f":"IF(OR(E54=\"\",V54=\"\"),\"\",VLOOKUP(V54,Pont!$A$2:$BU$188,MATCH(F54,(Pont!$B$1:$BU$1),1)+1))","v":""},{"$f":"IF('CR CF4'!V54=\"\",\"\",'CR CF4'!V54)","v":""},{"$f":"IF(OR(E54=\"\",X54=\"\"),\"\",VLOOKUP(X54,Epaules!$A$2:$BU$76,MATCH(F54,(Epaules!$B$1:$BU$1),1)+1))","v":""},{"$f":"IF('CR CF4'!X54=\"\",\"\",'CR CF4'!X54)","v":""},{"$f":"IF(OR(E54=\"\",Z54=\"\"),\"\",VLOOKUP(Z54,'pointe de pieds'!$A$2:$BU$110,MATCH(F54,('pointe de pieds'!$B$1:$BU$1),1)+1))","v":""},0,{"v":0,"d":"0.00"},null,null,{"v":0,"d":"0.00"},{"$nulls":5},{"v":0,"d":"0.00"},{"$nulls":3},{"v":0,"d":"0.00"},{"v":0,"d":"0.00"},51]
[{"$f":"IF('CR CF4'!A55=\"\",\"\",Accueil!$D$6)","v":""},{"$f":"IF('CR CF4'!A55=\"\",\"\",MATCH('CR CF4'!A55,Accueil!$D$30:$D$129,0))","v":""},{"$f":"IF('CR CF4'!A55=\"\",\"\",'CR CF4'!A55)","v":""},{"$f":"IF('CR CF4'!B55=\"\",\"\",'CR CF4'!B55)","v":""},{"$f":"IF('CR CF4'!C55=\"\",\"\",'CR CF4'!C55)","v":""},{"$f":"IF(OR(Accueil!$D$6=\"\",D55=\"\",E55=\"\"),\"\",DATEDIF(E55,LOOKUP(B55,Accueil!$C$30:$C$129,Accueil!$E$30:$E$129),\"m\"))","v":""},{"$f":"IF('CR CF4'!E55=\"\",\"\",'CR CF4'!E55)","v":""},{"$f":"IF('CR CF4'!F55=\"\",\"\",'CR CF4'!F55)","v":""},{"$f":"IF(OR(E55=\"\",H55=\"\"),\"\",VLOOKUP(H55,Détente!$A$2:$BU$157,MATCH(F55,(Détente!$B$1:$BU$1),1)+1))","v":""},{"$f":"IF('CR CF4'!H55=\"\",\"\",'CR CF4'!H55)","v":""},{"$f":"IF(OR(E55=\"\",J55=\"\"),\"\",VLOOKUP(J55,Sautillers!$A$2:$BU$99,MATCH(F55,(Sautillers!$B$1:$BU$1),1)+1))","v":""},{"$f":"IF('CR CF4'!J55=\"\",\"\",'CR CF4'!J55)","v":""},{"$f":"IF(OR(E55=\"\",L55=\"\"),\"\",VLOOKUP(L55,'Course 20 m'!$A$2:$BU$373,MATCH(F55,('Course 20 m'!$B$1:$BU$1),1)+1))","v":""},{"$f":"IF('CR CF4'!L55=\"\",\"\",'CR CF4'!L55)","v":""},{"$f":"IF(OR(E55=\"\",N55=\"\"),\"\",VLOOKUP(N55,'Ecarts D&G'!$A$2:$BU$147,MATCH(F55,('Ecarts D&G'!$B$1:$BU$1),1)+1))","v":""},{"$f":"IF('CR CF4'!N55=\"\",\"\",'CR CF4'!N55)","v":""},{"$f":"IF(OR(E55=\"\",P55=\"\"),\"\",VLOOKUP(P55,'Ecarts D&G'!$A$2:$BU$147,MATCH(F55,('Ecarts D&G'!$B$1:$BU$1),1)+1))","v":""},{"$f":"IF('CR CF4'!P55=\"\",\"\",'CR CF4'!P55)","v":""},{"$f":"IF(OR(E55=\"\",R55=\"\"),\"\",VLOOKUP(R55,'Ecart facial'!$A$2:$BU$143,MATCH(F55,('Ecart facial'!$B$1:$BU$1),1)+1))","v":""},{"$f":"IF('CR CF4'!R55=\"\",\"\",'CR CF4'!R55)","v":""},{"$f":"IF(OR(E55=\"\",T55=\"\"),\"\",VLOOKUP(T55,'Fermeture TJ'!$A$2:$BU$126,MATCH(F55,('Fermeture TJ'!$B$1:$BU$1),1)+1))","v":""},{"$f":"IF('CR CF4'!T55=\"\",\"\",'CR CF4'!T55)","v":""},{"$f":"IF(OR(E55=\"\",V55=\"\"),\"\",VLOOKUP(V55,Pont!$A$2:$BU$188,MATCH(F55,(Pont!$B$1:$BU$1),1)+1))","v":""},{"$f":"IF('CR CF4'!V55=\"\",\"\",'CR CF4'!V55)","v":""},{"$f":"IF(OR(E55=\"\",X55=\"\"),\"\",VLOOKUP(X55,Epaules!$A$2:$BU$76,MATCH(F55,(Epaules!$B$1:$BU$1),1)+1))","v":""},{"$f":"IF('CR CF4'!X55=\"\",\"\",'CR CF4'!X55)","v":""},{"$f":"IF(OR(E55=\"\",Z55=\"\"),\"\",VLOOKUP(Z55,'pointe de pieds'!$A$2:$BU$110,MATCH(F55,('pointe de pieds'!$B$1:$BU$1),1)+1))","v":""},0,{"v":0,"d":"0.00"},null,null,{"v":0,"d":"0.00"},{"$nulls":5},{"v":0,"d":"0.00"},{"$nulls":3},{"v":0,"d":"0.00"},{"v":0,"d":"0.00"},52]
[{"$f":"IF('CR CF4'!A56=\"\",\"\",Accueil!$D$6)","v":""},{"$f":"IF('CR CF4'!A56=\"\",\"\",MATCH('CR CF4'!A56,Accueil!$D$30:$D$129,0))","v":""},{"$f":"IF('CR CF4'!A56=\"\",\"\",'CR CF4'!A56)","v":""},{"$f":"IF('CR CF4'!B56=\"\",\"\",'CR CF4'!B56)","v":""},{"$f":"IF('CR CF4'!C56=\"\",\"\",'CR CF4'!C56)","v":""},{"$f":"IF(OR(Accueil!$D$6=\"\",D56=\"\",E56=\"\"),\"\",DATEDIF(E56,LOOKUP(B56,Accueil!$C$30:$C$129,Accueil!$E$30:$E$129),\"m\"))","v":""},{"$f":"IF('CR CF4'!E56=\"\",\"\",'CR CF4'!E56)","v":""},{"$f":"IF('CR CF4'!F56=\"\",\"\",'CR CF4'!F56)","v":""},{"$f":"IF(OR(E56=\"\",H56=\"\"),\"\",VLOOKUP(H56,Détente!$A$2:$BU$157,MATCH(F56,(Détente!$B$1:$BU$1),1)+1))","v":""},{"$f":"IF('CR CF4'!H56=\"\",\"\",'CR CF4'!H56)","v":""},{"$f":"IF(OR(E56=\"\",J56=\"\"),\"\",VLOOKUP(J56,Sautillers!$A$2:$BU$99,MATCH(F56,(Sautillers!$B$1:$BU$1),1)+1))","v":""},{"$f":"IF('CR CF4'!J56=\"\",\"\",'CR CF4'!J56)","v":""},{"$f":"IF(OR(E56=\"\",L56=\"\"),\"\",VLOOKUP(L56,'Course 20 m'!$A$2:$BU$373,MATCH(F56,('Course 20 m'!$B$1:$BU$1),1)+1))","v":""},{"$f":"IF('CR CF4'!L56=\"\",\"\",'CR CF4'!L56)","v":""},{"$f":"IF(OR(E56=\"\",N56=\"\"),\"\",VLOOKUP(N56,'Ecarts D&G'!$A$2:$BU$147,MATCH(F56,('Ecarts D&G'!$B$1:$BU$1),1)+1))","v":""},{"$f":"IF('CR CF4'!N56=\"\",\"\",'CR CF4'!N56)","v":""},{"$f":"IF(OR(E56=\"\",P56=\"\"),\"\",VLOOKUP(P56,'Ecarts D&G'!$A$2:$BU$147,MATCH(F56,('Ecarts D&G'!$B$1:$BU$1),1)+1))","v":""},{"$f":"IF('CR CF4'!P56=\"\",\"\",'CR CF4'!P56)","v":""},{"$f":"IF(OR(E56=\"\",R56=\"\"),\"\",VLOOKUP(R56,'Ecart facial'!$A$2:$BU$143,MATCH(F56,('Ecart facial'!$B$1:$BU$1),1)+1))","v":""},{"$f":"IF('CR CF4'!R56=\"\",\"\",'CR CF4'!R56)","v":""},{"$f":"IF(OR(E56=\"\",T56=\"\"),\"\",VLOOKUP(T56,'Fermeture TJ'!$A$2:$BU$126,MATCH(F56,('Fermeture TJ'!$B$1:$BU$1),1)+1))","v":""},{"$f":"IF('CR CF4'!T56=\"\",\"\",'CR CF4'!T56)","v":""},{"$f":"IF(OR(E56=\"\",V56=\"\"),\"\",VLOOKUP(V56,Pont!$A$2:$BU$188,MATCH(F56,(Pont!$B$1:$BU$1),1)+1))","v":""},{"$f":"IF('CR CF4'!V56=\"\",\"\",'CR CF4'!V56)","v":""},{"$f":"IF(OR(E56=\"\",X56=\"\"),\"\",VLOOKUP(X56,Epaules!$A$2:$BU$76,MATCH(F56,(Epaules!$B$1:$BU$1),1)+1))","v":""},{"$f":"IF('CR CF4'!X56=\"\",\"\",'CR CF4'!X56)","v":""},{"$f":"IF(OR(E56=\"\",Z56=\"\"),\"\",VLOOKUP(Z56,'pointe de pieds'!$A$2:$BU$110,MATCH(F56,('pointe de pieds'!$B$1:$BU$1),1)+1))","v":""},0,{"v":0,"d":"0.00"},null,null,{"v":0,"d":"0.00"},{"$nulls":5},{"v":0,"d":"0.00"},{"$nulls":3},{"v":0,"d":"0.00"},{"v":0,"d":"0.00"},53]
[{"$f":"IF('CR CF4'!A57=\"\",\"\",Accueil!$D$6)","v":""},{"$f":"IF('CR CF4'!A57=\"\",\"\",MATCH('CR CF4'!A57,Accueil!$D$30:$D$129,0))","v":""},{"$f":"IF('CR CF4'!A57=\"\",\"\",'CR CF4'!A57)","v":""},{"$f":"IF('CR CF4'!B57=\"\",\"\",'CR CF4'!B57)","v":""},{"$f":"IF('CR CF4'!C57=\"\",\"\",'CR CF4'!C57)","v":""},{"$f":"IF(OR(Accueil!$D$6=\"\",D57=\"\",E57=\"\"),\"\",DATEDIF(E57,LOOKUP(B57,Accueil!$C$30:$C$129,Accueil!$E$30:$E$129),\"m\"))","v":""},{"$f":"IF('CR CF4'!E57=\"\",\"\",'CR CF4'!E57)","v":""},{"$f":"IF('CR CF4'!F57=\"\",\"\",'CR CF4'!F57)","v":""},{"$f":"IF(OR(E57=\"\",H57=\"\"),\"\",VLOOKUP(H57,Détente!$A$2:$BU$157,MATCH(F57,(Détente!$B$1:$BU$1),1)+1))","v":""},{"$f":"IF('CR CF4'!H57=\"\",\"\",'CR CF4'!H57)","v":""},{"$f":"IF(OR(E57=\"\",J57=\"\"),\"\",VLOOKUP(J57,Sautillers!$A$2:$BU$99,MATCH(F57,(Sautillers!$B$1:$BU$1),1)+1))","v":""},{"$f":"IF('CR CF4'!J57=\"\",\"\",'CR CF4'!J57)","v":""},{"$f":"IF(OR(E57=\"\",L57=\"\"),\"\",VLOOKUP(L57,'Course 20 m'!$A$2:$BU$373,MATCH(F57,('Course 20 m'!$B$1:$BU$1),1)+1))","v":""},{"$f":"IF('CR CF4'!L57=\"\",\"\",'CR CF4'!L57)","v":""},{"$f":"IF(OR(E57=\"\",N57=\"\"),\"\",VLOOKUP(N57,'Ecarts D&G'!$A$2:$BU$147,MATCH(F57,('Ecarts D&G'!$B$1:$BU$1),1)+1))","v":""},{"$f":"IF('CR CF4'!N57=\"\",\"\",'CR CF4'!N57)","v":""},{"$f":"IF(OR(E57=\"\",P57=\"\"),\"\",VLOOKUP(P57,'Ecarts D&G'!$A$2:$BU$147,MATCH(F57,('Ecarts D&G'!$B$1:$BU$1),1)+1))","v":""},{"$f":"IF('CR CF4'!P57=\"\",\"\",'CR CF4'!P57)","v":""},{"$f":"IF(OR(E57=\"\",R57=\"\"),\"\",VLOOKUP(R57,'Ecart facial'!$A$2:$BU$143,MATCH(F57,('Ecart facial'!$B$1:$BU$1),1)+1))","v":""},{"$f":"IF('CR CF4'!R57=\"\",\"\",'CR CF4'!R57)","v":""},{"$f":"IF(OR(E57=\"\",T57=\"\"),\"\",VLOOKUP(T57,'Fermeture TJ'!$A$2:$BU$126,MATCH(F57,('Fermeture TJ'!$B$1:$BU$1),1)+1))","v":""},{"$f":"IF('CR CF4'!T57=\"\",\"\",'CR CF4'!T57)","v":""},{"$f":"IF(OR(E57=\"\",V57=\"\"),\"\",VLOOKUP(V57,Pont!$A$2:$BU$188,MATCH(F57,(Pont!$B$1:$BU$1),1)+1))","v":""},{"$f":"IF('CR CF4'!V57=\"\",\"\",'CR CF4'!V57)","v":""},{"$f":"IF(OR(E57=\"\",X57=\"\"),\"\",VLOOKUP(X57,Epaules!$A$2:$BU$76,MATCH(F57,(Epaules!$B$1:$BU$1),1)+1))","v":""},{"$f":"IF('CR CF4'!X57=\"\",\"\",'CR CF4'!X57)","v":""},{"$f":"IF(OR(E57=\"\",Z57=\"\"),\"\",VLOOKUP(Z57,'pointe de pieds'!$A$2:$BU$110,MATCH(F57,('pointe de pieds'!$B$1:$BU$1),1)+1))","v":""},0,{"v":0,"d":"0.00"},null,null,{"v":0,"d":"0.00"},{"$nulls":5},{"v":0,"d":"0.00"},{"$nulls":3},{"v":0,"d":"0.00"},{"v":0,"d":"0.00"},54]
[{"$f":"IF('CR CF4'!A58=\"\",\"\",Accueil!$D$6)","v":""},{"$f":"IF('CR CF4'!A58=\"\",\"\",MATCH('CR CF4'!A58,Accueil!$D$30:$D$129,0))","v":""},{"$f":"IF('CR CF4'!A58=\"\",\"\",'CR CF4'!A58)","v":""},{"$f":"IF('CR CF4'!B58=\"\",\"\",'CR CF4'!B58)","v":""},{"$f":"IF('CR CF4'!C58=\"\",\"\",'CR CF4'!C58)","v":""},{"$f":"IF(OR(Accueil!$D$6=\"\",D58=\"\",E58=\"\"),\"\",DATEDIF(E58,LOOKUP(B58,Accueil!$C$30:$C$129,Accueil!$E$30:$E$129),\"m\"))","v":""},{"$f":"IF('CR CF4'!E58=\"\",\"\",'CR CF4'!E58)","v":""},{"$f":"IF('CR CF4'!F58=\"\",\"\",'CR CF4'!F58)","v":""},{"$f":"IF(OR(E58=\"\",H58=\"\"),\"\",VLOOKUP(H58,Détente!$A$2:$BU$157,MATCH(F58,(Détente!$B$1:$BU$1),1)+1))","v":""},{"$f":"IF('CR CF4'!H58=\"\",\"\",'CR CF4'!H58)","v":""},{"$f":"IF(OR(E58=\"\",J58=\"\"),\"\",VLOOKUP(J58,Sautillers!$A$2:$BU$99,MATCH(F58,(Sautillers!$B$1:$BU$1),1)+1))","v":""},{"$f":"IF('CR CF4'!J58=\"\",\"\",'CR CF4'!J58)","v":""},{"$f":"IF(OR(E58=\"\",L58=\"\"),\"\",VLOOKUP(L58,'Course 20 m'!$A$2:$BU$373,MATCH(F58,('Course 20 m'!$B$1:$BU$1),1)+1))","v":""},{"$f":"IF('CR CF4'!L58=\"\",\"\",'CR CF4'!L58)","v":""},{"$f":"IF(OR(E58=\"\",N58=\"\"),\"\",VLOOKUP(N58,'Ecarts D&G'!$A$2:$BU$147,MATCH(F58,('Ecarts D&G'!$B$1:$BU$1),1)+1))","v":""},{"$f":"IF('CR CF4'!N58=\"\",\"\",'CR CF4'!N58)","v":""},{"$f":"IF(OR(E58=\"\",P58=\"\"),\"\",VLOOKUP(P58,'Ecarts D&G'!$A$2:$BU$147,MATCH(F58,('Ecarts D&G'!$B$1:$BU$1),1)+1))","v":""},{"$f":"IF('CR CF4'!P58=\"\",\"\",'CR CF4'!P58)","v":""},{"$f":"IF(OR(E58=\"\",R58=\"\"),\"\",VLOOKUP(R58,'Ecart facial'!$A$2:$BU$143,MATCH(F58,('Ecart facial'!$B$1:$BU$1),1)+1))","v":""},{"$f":"IF('CR CF4'!R58=\"\",\"\",'CR CF4'!R58)","v":""},{"$f":"IF(OR(E58=\"\",T58=\"\"),\"\",VLOOKUP(T58,'Fermeture TJ'!$A$2:$BU$126,MATCH(F58,('Fermeture TJ'!$B$1:$BU$1),1)+1))","v":""},{"$f":"IF('CR CF4'!T58=\"\",\"\",'CR CF4'!T58)","v":""},{"$f":"IF(OR(E58=\"\",V58=\"\"),\"\",VLOOKUP(V58,Pont!$A$2:$BU$188,MATCH(F58,(Pont!$B$1:$BU$1),1)+1))","v":""},{"$f":"IF('CR CF4'!V58=\"\",\"\",'CR CF4'!V58)","v":""},{"$f":"IF(OR(E58=\"\",X58=\"\"),\"\",VLOOKUP(X58,Epaules!$A$2:$BU$76,MATCH(F58,(Epaules!$B$1:$BU$1),1)+1))","v":""},{"$f":"IF('CR CF4'!X58=\"\",\"\",'CR CF4'!X58)","v":""},{"$f":"IF(OR(E58=\"\",Z58=\"\"),\"\",VLOOKUP(Z58,'pointe de pieds'!$A$2:$BU$110,MATCH(F58,('pointe de pieds'!$B$1:$BU$1),1)+1))","v":""},0,{"v":0,"d":"0.00"},null,null,{"v":0,"d":"0.00"},{"$nulls":5},{"v":0,"d":"0.00"},{"$nulls":3},{"v":0,"d":"0.00"},{"v":0,"d":"0.00"},55]
[{"$f":"IF('CR CF4'!A59=\"\",\"\",Accueil!$D$6)","v":""},{"$f":"IF('CR CF4'!A59=\"\",\"\",MATCH('CR CF4'!A59,Accueil!$D$30:$D$129,0))","v":""},{"$f":"IF('CR CF4'!A59=\"\",\"\",'CR CF4'!A59)","v":""},{"$f":"IF('CR CF4'!B59=\"\",\"\",'CR CF4'!B59)","v":""},{"$f":"IF('CR CF4'!C59=\"\",\"\",'CR CF4'!C59)","v":""},{"$f":"IF(OR(Accueil!$D$6=\"\",D59=\"\",E59=\"\"),\"\",DATEDIF(E59,LOOKUP(B59,Accueil!$C$30:$C$129,Accueil!$E$30:$E$129),\"m\"))","v":""},{"$f":"IF('CR CF4'!E59=\"\",\"\",'CR CF4'!E59)","v":""},{"$f":"IF('CR CF4'!F59=\"\",\"\",'CR CF4'!F59)","v":""},{"$f":"IF(OR(E59=\"\",H59=\"\"),\"\",VLOOKUP(H59,Détente!$A$2:$BU$157,MATCH(F59,(Détente!$B$1:$BU$1),1)+1))","v":""},{"$f":"IF('CR CF4'!H59=\"\",\"\",'CR CF4'!H59)","v":""},{"$f":"IF(OR(E59=\"\",J59=\"\"),\"\",VLOOKUP(J59,Sautillers!$A$2:$BU$99,MATCH(F59,(Sautillers!$B$1:$BU$1),1)+1))","v":""},{"$f":"IF('CR CF4'!J59=\"\",\"\",'CR CF4'!J59)","v":""},{"$f":"IF(OR(E59=\"\",L59=\"\"),\"\",VLOOKUP(L59,'Course 20 m'!$A$2:$BU$373,MATCH(F59,('Course 20 m'!$B$1:$BU$1),1)+1))","v":""},{"$f":"IF('CR CF4'!L59=\"\",\"\",'CR CF4'!L59)","v":""},{"$f":"IF(OR(E59=\"\",N59=\"\"),\"\",VLOOKUP(N59,'Ecarts D&G'!$A$2:$BU$147,MATCH(F59,('Ecarts D&G'!$B$1:$BU$1),1)+1))","v":""},{"$f":"IF('CR CF4'!N59=\"\",\"\",'CR CF4'!N59)","v":""},{"$f":"IF(OR(E59=\"\",P59=\"\"),\"\",VLOOKUP(P59,'Ecarts D&G'!$A$2:$BU$147,MATCH(F59,('Ecarts D&G'!$B$1:$BU$1),1)+1))","v":""},{"$f":"IF('CR CF4'!P59=\"\",\"\",'CR CF4'!P59)","v":""},{"$f":"IF(OR(E59=\"\",R59=\"\"),\"\",VLOOKUP(R59,'Ecart facial'!$A$2:$BU$143,MATCH(F59,('Ecart facial'!$B$1:$BU$1),1)+1))","v":""},{"$f":"IF('CR CF4'!R59=\"\",\"\",'CR CF4'!R59)","v":""},{"$f":"IF(OR(E59=\"\",T59=\"\"),\"\",VLOOKUP(T59,'Fermeture TJ'!$A$2:$BU$126,MATCH(F59,('Fermeture TJ'!$B$1:$BU$1),1)+1))","v":""},{"$f":"IF('CR CF4'!T59=\"\",\"\",'CR CF4'!T59)","v":""},{"$f":"IF(OR(E59=\"\",V59=\"\"),\"\",VLOOKUP(V59,Pont!$A$2:$BU$188,MATCH(F59,(Pont!$B$1:$BU$1),1)+1))","v":""},{"$f":"IF('CR CF4'!V59=\"\",\"\",'CR CF4'!V59)","v":""},{"$f":"IF(OR(E59=\"\",X59=\"\"),\"\",VLOOKUP(X59,Epaules!$A$2:$BU$76,MATCH(F59,(Epaules!$B$1:$BU$1),1)+1))","v":""},{"$f":"IF('CR CF4'!X59=\"\",\"\",'CR CF4'!X59)","v":""},{"$f":"IF(OR(E59=\"\",Z59=\"\"),\"\",VLOOKUP(Z59,'pointe de pieds'!$A$2:$BU$110,MATCH(F59,('pointe de pieds'!$B$1:$BU$1),1)+1))","v":""},0,{"v":0,"d":"0.00"},null,null,{"v":0,"d":"0.00"},{"$nulls":5},{"v":0,"d":"0.00"},{"$nulls":3},{"v":0,"d":"0.00"},{"v":0,"d":"0.00"},56]
[{"$f":"IF('CR CF4'!A60=\"\",\"\",Accueil!$D$6)","v":""},{"$f":"IF('CR CF4'!A60=\"\",\"\",MATCH('CR CF4'!A60,Accueil!$D$30:$D$129,0))","v":""},{"$f":"IF('CR CF4'!A60=\"\",\"\",'CR CF4'!A60)","v":""},{"$f":"IF('CR CF4'!B60=\"\",\"\",'CR CF4'!B60)","v":""},{"$f":"IF('CR CF4'!C60=\"\",\"\",'CR CF4'!C60)","v":""},{"$f":"IF(OR(Accueil!$D$6=\"\",D60=\"\",E60=\"\"),\"\",DATEDIF(E60,LOOKUP(B60,Accueil!$C$30:$C$129,Accueil!$E$30:$E$129),\"m\"))","v":""},{"$f":"IF('CR CF4'!E60=\"\",\"\",'CR CF4'!E60)","v":""},{"$f":"IF('CR CF4'!F60=\"\",\"\",'CR CF4'!F60)","v":""},{"$f":"IF(OR(E60=\"\",H60=\"\"),\"\",VLOOKUP(H60,Détente!$A$2:$BU$157,MATCH(F60,(Détente!$B$1:$BU$1),1)+1))","v":""},{"$f":"IF('CR CF4'!H60=\"\",\"\",'CR CF4'!H60)","v":""},{"$f":"IF(OR(E60=\"\",J60=\"\"),\"\",VLOOKUP(J60,Sautillers!$A$2:$BU$99,MATCH(F60,(Sautillers!$B$1:$BU$1),1)+1))","v":""},{"$f":"IF('CR CF4'!J60=\"\",\"\",'CR CF4'!J60)","v":""},{"$f":"IF(OR(E60=\"\",L60=\"\"),\"\",VLOOKUP(L60,'Course 20 m'!$A$2:$BU$373,MATCH(F60,('Course 20 m'!$B$1:$BU$1),1)+1))","v":""},{"$f":"IF('CR CF4'!L60=\"\",\"\",'CR CF4'!L60)","v":""},{"$f":"IF(OR(E60=\"\",N60=\"\"),\"\",VLOOKUP(N60,'Ecarts D&G'!$A$2:$BU$147,MATCH(F60,('Ecarts D&G'!$B$1:$BU$1),1)+1))","v":""},{"$f":"IF('CR CF4'!N60=\"\",\"\",'CR CF4'!N60)","v":""},{"$f":"IF(OR(E60=\"\",P60=\"\"),\"\",VLOOKUP(P60,'Ecarts D&G'!$A$2:$BU$147,MATCH(F60,('Ecarts D&G'!$B$1:$BU$1),1)+1))","v":""},{"$f":"IF('CR CF4'!P60=\"\",\"\",'CR CF4'!P60)","v":""},{"$f":"IF(OR(E60=\"\",R60=\"\"),\"\",VLOOKUP(R60,'Ecart facial'!$A$2:$BU$143,MATCH(F60,('Ecart facial'!$B$1:$BU$1),1)+1))","v":""},{"$f":"IF('CR CF4'!R60=\"\",\"\",'CR CF4'!R60)","v":""},{"$f":"IF(OR(E60=\"\",T60=\"\"),\"\",VLOOKUP(T60,'Fermeture TJ'!$A$2:$BU$126,MATCH(F60,('Fermeture TJ'!$B$1:$BU$1),1)+1))","v":""},{"$f":"IF('CR CF4'!T60=\"\",\"\",'CR CF4'!T60)","v":""},{"$f":"IF(OR(E60=\"\",V60=\"\"),\"\",VLOOKUP(V60,Pont!$A$2:$BU$188,MATCH(F60,(Pont!$B$1:$BU$1),1)+1))","v":""},{"$f":"IF('CR CF4'!V60=\"\",\"\",'CR CF4'!V60)","v":""},{"$f":"IF(OR(E60=\"\",X60=\"\"),\"\",VLOOKUP(X60,Epaules!$A$2:$BU$76,MATCH(F60,(Epaules!$B$1:$BU$1),1)+1))","v":""},{"$f":"IF('CR CF4'!X60=\"\",\"\",'CR CF4'!X60)","v":""},{"$f":"IF(OR(E60=\"\",Z60=\"\"),\"\",VLOOKUP(Z60,'pointe de pieds'!$A$2:$BU$110,MATCH(F60,('pointe de pieds'!$B$1:$BU$1),1)+1))","v":""},0,{"v":0,"d":"0.00"},null,null,{"v":0,"d":"0.00"},{"$nulls":5},{"v":0,"d":"0.00"},{"$nulls":3},{"v":0,"d":"0.00"},{"v":0,"d":"0.00"},57]
[{"$f":"IF('CR CF4'!A61=\"\",\"\",Accueil!$D$6)","v":""},{"$f":"IF('CR CF4'!A61=\"\",\"\",MATCH('CR CF4'!A61,Accueil!$D$30:$D$129,0))","v":""},{"$f":"IF('CR CF4'!A61=\"\",\"\",'CR CF4'!A61)","v":""},{"$f":"IF('CR CF4'!B61=\"\",\"\",'CR CF4'!B61)","v":""},{"$f":"IF('CR CF4'!C61=\"\",\"\",'CR CF4'!C61)","v":""},{"$f":"IF(OR(Accueil!$D$6=\"\",D61=\"\",E61=\"\"),\"\",DATEDIF(E61,LOOKUP(B61,Accueil!$C$30:$C$129,Accueil!$E$30:$E$129),\"m\"))","v":""},{"$f":"IF('CR CF4'!E61=\"\",\"\",'CR CF4'!E61)","v":""},{"$f":"IF('CR CF4'!F61=\"\",\"\",'CR CF4'!F61)","v":""},{"$f":"IF(OR(E61=\"\",H61=\"\"),\"\",VLOOKUP(H61,Détente!$A$2:$BU$157,MATCH(F61,(Détente!$B$1:$BU$1),1)+1))","v":""},{"$f":"IF('CR CF4'!H61=\"\",\"\",'CR CF4'!H61)","v":""},{"$f":"IF(OR(E61=\"\",J61=\"\"),\"\",VLOOKUP(J61,Sautillers!$A$2:$BU$99,MATCH(F61,(Sautillers!$B$1:$BU$1),1)+1))","v":""},{"$f":"IF('CR CF4'!J61=\"\",\"\",'CR CF4'!J61)","v":""},{"$f":"IF(OR(E61=\"\",L61=\"\"),\"\",VLOOKUP(L61,'Course 20 m'!$A$2:$BU$373,MATCH(F61,('Course 20 m'!$B$1:$BU$1),1)+1))","v":""},{"$f":"IF('CR CF4'!L61=\"\",\"\",'CR CF4'!L61)","v":""},{"$f":"IF(OR(E61=\"\",N61=\"\"),\"\",VLOOKUP(N61,'Ecarts D&G'!$A$2:$BU$147,MATCH(F61,('Ecarts D&G'!$B$1:$BU$1),1)+1))","v":""},{"$f":"IF('CR CF4'!N61=\"\",\"\",'CR CF4'!N61)","v":""},{"$f":"IF(OR(E61=\"\",P61=\"\"),\"\",VLOOKUP(P61,'Ecarts D&G'!$A$2:$BU$147,MATCH(F61,('Ecarts D&G'!$B$1:$BU$1),1)+1))","v":""},{"$f":"IF('CR CF4'!P61=\"\",\"\",'CR CF4'!P61)","v":""},{"$f":"IF(OR(E61=\"\",R61=\"\"),\"\",VLOOKUP(R61,'Ecart facial'!$A$2:$BU$143,MATCH(F61,('Ecart facial'!$B$1:$BU$1),1)+1))","v":""},{"$f":"IF('CR CF4'!R61=\"\",\"\",'CR CF4'!R61)","v":""},{"$f":"IF(OR(E61=\"\",T61=\"\"),\"\",VLOOKUP(T61,'Fermeture TJ'!$A$2:$BU$126,MATCH(F61,('Fermeture TJ'!$B$1:$BU$1),1)+1))","v":""},{"$f":"IF('CR CF4'!T61=\"\",\"\",'CR CF4'!T61)","v":""},{"$f":"IF(OR(E61=\"\",V61=\"\"),\"\",VLOOKUP(V61,Pont!$A$2:$BU$188,MATCH(F61,(Pont!$B$1:$BU$1),1)+1))","v":""},{"$f":"IF('CR CF4'!V61=\"\",\"\",'CR CF4'!V61)","v":""},{"$f":"IF(OR(E61=\"\",X61=\"\"),\"\",VLOOKUP(X61,Epaules!$A$2:$BU$76,MATCH(F61,(Epaules!$B$1:$BU$1),1)+1))","v":""},{"$f":"IF('CR CF4'!X61=\"\",\"\",'CR CF4'!X61)","v":""},{"$f":"IF(OR(E61=\"\",Z61=\"\"),\"\",VLOOKUP(Z61,'pointe de pieds'!$A$2:$BU$110,MATCH(F61,('pointe de pieds'!$B$1:$BU$1),1)+1))","v":""},0,{"v":0,"d":"0.00"},null,null,{"v":0,"d":"0.00"},{"$nulls":5},{"v":0,"d":"0.00"},{"$nulls":3},{"v":0,"d":"0.00"},{"v":0,"d":"0.00"},58]
[{"$f":"IF('CR CF4'!A62=\"\",\"\",Accueil!$D$6)","v":""},{"$f":"IF('CR CF4'!A62=\"\",\"\",MATCH('CR CF4'!A62,Accueil!$D$30:$D$129,0))","v":""},{"$f":"IF('CR CF4'!A62=\"\",\"\",'CR CF4'!A62)","v":""},{"$f":"IF('CR CF4'!B62=\"\",\"\",'CR CF4'!B62)","v":""},{"$f":"IF('CR CF4'!C62=\"\",\"\",'CR CF4'!C62)","v":""},{"$f":"IF(OR(Accueil!$D$6=\"\",D62=\"\",E62=\"\"),\"\",DATEDIF(E62,LOOKUP(B62,Accueil!$C$30:$C$129,Accueil!$E$30:$E$129),\"m\"))","v":""},{"$f":"IF('CR CF4'!E62=\"\",\"\",'CR CF4'!E62)","v":""},{"$f":"IF('CR CF4'!F62=\"\",\"\",'CR CF4'!F62)","v":""},{"$f":"IF(OR(E62=\"\",H62=\"\"),\"\",VLOOKUP(H62,Détente!$A$2:$BU$157,MATCH(F62,(Détente!$B$1:$BU$1),1)+1))","v":""},{"$f":"IF('CR CF4'!H62=\"\",\"\",'CR CF4'!H62)","v":""},{"$f":"IF(OR(E62=\"\",J62=\"\"),\"\",VLOOKUP(J62,Sautillers!$A$2:$BU$99,MATCH(F62,(Sautillers!$B$1:$BU$1),1)+1))","v":""},{"$f":"IF('CR CF4'!J62=\"\",\"\",'CR CF4'!J62)","v":""},{"$f":"IF(OR(E62=\"\",L62=\"\"),\"\",VLOOKUP(L62,'Course 20 m'!$A$2:$BU$373,MATCH(F62,('Course 20 m'!$B$1:$BU$1),1)+1))","v":""},{"$f":"IF('CR CF4'!L62=\"\",\"\",'CR CF4'!L62)","v":""},{"$f":"IF(OR(E62=\"\",N62=\"\"),\"\",VLOOKUP(N62,'Ecarts D&G'!$A$2:$BU$147,MATCH(F62,('Ecarts D&G'!$B$1:$BU$1),1)+1))","v":""},{"$f":"IF('CR CF4'!N62=\"\",\"\",'CR CF4'!N62)","v":""},{"$f":"IF(OR(E62=\"\",P62=\"\"),\"\",VLOOKUP(P62,'Ecarts D&G'!$A$2:$BU$147,MATCH(F62,('Ecarts D&G'!$B$1:$BU$1),1)+1))","v":""},{"$f":"IF('CR CF4'!P62=\"\",\"\",'CR CF4'!P62)","v":""},{"$f":"IF(OR(E62=\"\",R62=\"\"),\"\",VLOOKUP(R62,'Ecart facial'!$A$2:$BU$143,MATCH(F62,('Ecart facial'!$B$1:$BU$1),1)+1))","v":""},{"$f":"IF('CR CF4'!R62=\"\",\"\",'CR CF4'!R62)","v":""},{"$f":"IF(OR(E62=\"\",T62=\"\"),\"\",VLOOKUP(T62,'Fermeture TJ'!$A$2:$BU$126,MATCH(F62,('Fermeture TJ'!$B$1:$BU$1),1)+1))","v":""},{"$f":"IF('CR CF4'!T62=\"\",\"\",'CR CF4'!T62)","v":""},{"$f":"IF(OR(E62=\"\",V62=\"\"),\"\",VLOOKUP(V62,Pont!$A$2:$BU$188,MATCH(F62,(Pont!$B$1:$BU$1),1)+1))","v":""},{"$f":"IF('CR CF4'!V62=\"\",\"\",'CR CF4'!V62)","v":""},{"$f":"IF(OR(E62=\"\",X62=\"\"),\"\",VLOOKUP(X62,Epaules!$A$2:$BU$76,MATCH(F62,(Epaules!$B$1:$BU$1),1)+1))","v":""},{"$f":"IF('CR CF4'!X62=\"\",\"\",'CR CF4'!X62)","v":""},{"$f":"IF(OR(E62=\"\",Z62=\"\"),\"\",VLOOKUP(Z62,'pointe de pieds'!$A$2:$BU$110,MATCH(F62,('pointe de pieds'!$B$1:$BU$1),1)+1))","v":""},0,{"v":0,"d":"0.00"},null,null,{"v":0,"d":"0.00"},{"$nulls":5},{"v":0,"d":"0.00"},{"$nulls":3},{"v":0,"d":"0.00"},{"v":0,"d":"0.00"},59]
[{"$f":"IF('CR CF4'!A63=\"\",\"\",Accueil!$D$6)","v":""},{"$f":"IF('CR CF4'!A63=\"\",\"\",MATCH('CR CF4'!A63,Accueil!$D$30:$D$129,0))","v":""},{"$f":"IF('CR CF4'!A63=\"\",\"\",'CR CF4'!A63)","v":""},{"$f":"IF('CR CF4'!B63=\"\",\"\",'CR CF4'!B63)","v":""},{"$f":"IF('CR CF4'!C63=\"\",\"\",'CR CF4'!C63)","v":""},{"$f":"IF(OR(Accueil!$D$6=\"\",D63=\"\",E63=\"\"),\"\",DATEDIF(E63,LOOKUP(B63,Accueil!$C$30:$C$129,Accueil!$E$30:$E$129),\"m\"))","v":""},{"$f":"IF('CR CF4'!E63=\"\",\"\",'CR CF4'!E63)","v":""},{"$f":"IF('CR CF4'!F63=\"\",\"\",'CR CF4'!F63)","v":""},{"$f":"IF(OR(E63=\"\",H63=\"\"),\"\",VLOOKUP(H63,Détente!$A$2:$BU$157,MATCH(F63,(Détente!$B$1:$BU$1),1)+1))","v":""},{"$f":"IF('CR CF4'!H63=\"\",\"\",'CR CF4'!H63)","v":""},{"$f":"IF(OR(E63=\"\",J63=\"\"),\"\",VLOOKUP(J63,Sautillers!$A$2:$BU$99,MATCH(F63,(Sautillers!$B$1:$BU$1),1)+1))","v":""},{"$f":"IF('CR CF4'!J63=\"\",\"\",'CR CF4'!J63)","v":""},{"$f":"IF(OR(E63=\"\",L63=\"\"),\"\",VLOOKUP(L63,'Course 20 m'!$A$2:$BU$373,MATCH(F63,('Course 20 m'!$B$1:$BU$1),1)+1))","v":""},{"$f":"IF('CR CF4'!L63=\"\",\"\",'CR CF4'!L63)","v":""},{"$f":"IF(OR(E63=\"\",N63=\"\"),\"\",VLOOKUP(N63,'Ecarts D&G'!$A$2:$BU$147,MATCH(F63,('Ecarts D&G'!$B$1:$BU$1),1)+1))","v":""},{"$f":"IF('CR CF4'!N63=\"\",\"\",'CR CF4'!N63)","v":""},{"$f":"IF(OR(E63=\"\",P63=\"\"),\"\",VLOOKUP(P63,'Ecarts D&G'!$A$2:$BU$147,MATCH(F63,('Ecarts D&G'!$B$1:$BU$1),1)+1))","v":""},{"$f":"IF('CR CF4'!P63=\"\",\"\",'CR CF4'!P63)","v":""},{"$f":"IF(OR(E63=\"\",R63=\"\"),\"\",VLOOKUP(R63,'Ecart facial'!$A$2:$BU$143,MATCH(F63,('Ecart facial'!$B$1:$BU$1),1)+1))","v":""},{"$f":"IF('CR CF4'!R63=\"\",\"\",'CR CF4'!R63)","v":""},{"$f":"IF(OR(E63=\"\",T63=\"\"),\"\",VLOOKUP(T63,'Fermeture TJ'!$A$2:$BU$126,MATCH(F63,('Fermeture TJ'!$B$1:$BU$1),1)+1))","v":""},{"$f":"IF('CR CF4'!T63=\"\",\"\",'CR CF4'!T63)","v":""},{"$f":"IF(OR(E63=\"\",V63=\"\"),\"\",VLOOKUP(V63,Pont!$A$2:$BU$188,MATCH(F63,(Pont!$B$1:$BU$1),1)+1))","v":""},{"$f":"IF('CR CF4'!V63=\"\",\"\",'CR CF4'!V63)","v":""},{"$f":"IF(OR(E63=\"\",X63=\"\"),\"\",VLOOKUP(X63,Epaules!$A$2:$BU$76,MATCH(F63,(Epaules!$B$1:$BU$1),1)+1))","v":""},{"$f":"IF('CR CF4'!X63=\"\",\"\",'CR CF4'!X63)","v":""},{"$f":"IF(OR(E63=\"\",Z63=\"\"),\"\",VLOOKUP(Z63,'pointe de pieds'!$A$2:$BU$110,MATCH(F63,('pointe de pieds'!$B$1:$BU$1),1)+1))","v":""},0,{"v":0,"d":"0.00"},null,null,{"v":0,"d":"0.00"},{"$nulls":5},{"v":0,"d":"0.00"},{"$nulls":3},{"v":0,"d":"0.00"},{"v":0,"d":"0.00"},60]
[{"$f":"IF('CR CF4'!A64=\"\",\"\",Accueil!$D$6)","v":""},{"$f":"IF('CR CF4'!A64=\"\",\"\",MATCH('CR CF4'!A64,Accueil!$D$30:$D$129,0))","v":""},{"$f":"IF('CR CF4'!A64=\"\",\"\",'CR CF4'!A64)","v":""},{"$f":"IF('CR CF4'!B64=\"\",\"\",'CR CF4'!B64)","v":""},{"$f":"IF('CR CF4'!C64=\"\",\"\",'CR CF4'!C64)","v":""},{"$f":"IF(OR(Accueil!$D$6=\"\",D64=\"\",E64=\"\"),\"\",DATEDIF(E64,LOOKUP(B64,Accueil!$C$30:$C$129,Accueil!$E$30:$E$129),\"m\"))","v":""},{"$f":"IF('CR CF4'!E64=\"\",\"\",'CR CF4'!E64)","v":""},{"$f":"IF('CR CF4'!F64=\"\",\"\",'CR CF4'!F64)","v":""},{"$f":"IF(OR(E64=\"\",H64=\"\"),\"\",VLOOKUP(H64,Détente!$A$2:$BU$157,MATCH(F64,(Détente!$B$1:$BU$1),1)+1))","v":""},{"$f":"IF('CR CF4'!H64=\"\",\"\",'CR CF4'!H64)","v":""},{"$f":"IF(OR(E64=\"\",J64=\"\"),\"\",VLOOKUP(J64,Sautillers!$A$2:$BU$99,MATCH(F64,(Sautillers!$B$1:$BU$1),1)+1))","v":""},{"$f":"IF('CR CF4'!J64=\"\",\"\",'CR CF4'!J64)","v":""},{"$f":"IF(OR(E64=\"\",L64=\"\"),\"\",VLOOKUP(L64,'Course 20 m'!$A$2:$BU$373,MATCH(F64,('Course 20 m'!$B$1:$BU$1),1)+1))","v":""},{"$f":"IF('CR CF4'!L64=\"\",\"\",'CR CF4'!L64)","v":""},{"$f":"IF(OR(E64=\"\",N64=\"\"),\"\",VLOOKUP(N64,'Ecarts D&G'!$A$2:$BU$147,MATCH(F64,('Ecarts D&G'!$B$1:$BU$1),1)+1))","v":""},{"$f":"IF('CR CF4'!N64=\"\",\"\",'CR CF4'!N64)","v":""},{"$f":"IF(OR(E64=\"\",P64=\"\"),\"\",VLOOKUP(P64,'Ecarts D&G'!$A$2:$BU$147,MATCH(F64,('Ecarts D&G'!$B$1:$BU$1),1)+1))","v":""},{"$f":"IF('CR CF4'!P64=\"\",\"\",'CR CF4'!P64)","v":""},{"$f":"IF(OR(E64=\"\",R64=\"\"),\"\",VLOOKUP(R64,'Ecart facial'!$A$2:$BU$143,MATCH(F64,('Ecart facial'!$B$1:$BU$1),1)+1))","v":""},{"$f":"IF('CR CF4'!R64=\"\",\"\",'CR CF4'!R64)","v":""},{"$f":"IF(OR(E64=\"\",T64=\"\"),\"\",VLOOKUP(T64,'Fermeture TJ'!$A$2:$BU$126,MATCH(F64,('Fermeture TJ'!$B$1:$BU$1),1)+1))","v":""},{"$f":"IF('CR CF4'!T64=\"\",\"\",'CR CF4'!T64)","v":""},{"$f":"IF(OR(E64=\"\",V64=\"\"),\"\",VLOOKUP(V64,Pont!$A$2:$BU$188,MATCH(F64,(Pont!$B$1:$BU$1),1)+1))","v":""},{"$f":"IF('CR CF4'!V64=\"\",\"\",'CR CF4'!V64)","v":""},{"$f":"IF(OR(E64=\"\",X64=\"\"),\"\",VLOOKUP(X64,Epaules!$A$2:$BU$76,MATCH(F64,(Epaules!$B$1:$BU$1),1)+1))","v":""},{"$f":"IF('CR CF4'!X64=\"\",\"\",'CR CF4'!X64)","v":""},{"$f":"IF(OR(E64=\"\",Z64=\"\"),\"\",VLOOKUP(Z64,'pointe de pieds'!$A$2:$BU$110,MATCH(F64,('pointe de pieds'!$B$1:$BU$1),1)+1))","v":""},0,{"v":0,"d":"0.00"},null,null,{"v":0,"d":"0.00"},{"$nulls":5},{"v":0,"d":"0.00"},{"$nulls":3},{"v":0,"d":"0.00"},{"v":0,"d":"0.00"},61]
[{"$f":"IF('CR CF4'!A65=\"\",\"\",Accueil!$D$6)","v":""},{"$f":"IF('CR CF4'!A65=\"\",\"\",MATCH('CR CF4'!A65,Accueil!$D$30:$D$129,0))","v":""},{"$f":"IF('CR CF4'!A65=\"\",\"\",'CR CF4'!A65)","v":""},{"$f":"IF('CR CF4'!B65=\"\",\"\",'CR CF4'!B65)","v":""},{"$f":"IF('CR CF4'!C65=\"\",\"\",'CR CF4'!C65)","v":""},{"$f":"IF(OR(Accueil!$D$6=\"\",D65=\"\",E65=\"\"),\"\",DATEDIF(E65,LOOKUP(B65,Accueil!$C$30:$C$129,Accueil!$E$30:$E$129),\"m\"))","v":""},{"$f":"IF('CR CF4'!E65=\"\",\"\",'CR CF4'!E65)","v":""},{"$f":"IF('CR CF4'!F65=\"\",\"\",'CR CF4'!F65)","v":""},{"$f":"IF(OR(E65=\"\",H65=\"\"),\"\",VLOOKUP(H65,Détente!$A$2:$BU$157,MATCH(F65,(Détente!$B$1:$BU$1),1)+1))","v":""},{"$f":"IF('CR CF4'!H65=\"\",\"\",'CR CF4'!H65)","v":""},{"$f":"IF(OR(E65=\"\",J65=\"\"),\"\",VLOOKUP(J65,Sautillers!$A$2:$BU$99,MATCH(F65,(Sautillers!$B$1:$BU$1),1)+1))","v":""},{"$f":"IF('CR CF4'!J65=\"\",\"\",'CR CF4'!J65)","v":""},{"$f":"IF(OR(E65=\"\",L65=\"\"),\"\",VLOOKUP(L65,'Course 20 m'!$A$2:$BU$373,MATCH(F65,('Course 20 m'!$B$1:$BU$1),1)+1))","v":""},{"$f":"IF('CR CF4'!L65=\"\",\"\",'CR CF4'!L65)","v":""},{"$f":"IF(OR(E65=\"\",N65=\"\"),\"\",VLOOKUP(N65,'Ecarts D&G'!$A$2:$BU$147,MATCH(F65,('Ecarts D&G'!$B$1:$BU$1),1)+1))","v":""},{"$f":"IF('CR CF4'!N65=\"\",\"\",'CR CF4'!N65)","v":""},{"$f":"IF(OR(E65=\"\",P65=\"\"),\"\",VLOOKUP(P65,'Ecarts D&G'!$A$2:$BU$147,MATCH(F65,('Ecarts D&G'!$B$1:$BU$1),1)+1))","v":""},{"$f":"IF('CR CF4'!P65=\"\",\"\",'CR CF4'!P65)","v":""},{"$f":"IF(OR(E65=\"\",R65=\"\"),\"\",VLOOKUP(R65,'Ecart facial'!$A$2:$BU$143,MATCH(F65,('Ecart facial'!$B$1:$BU$1),1)+1))","v":""},{"$f":"IF('CR CF4'!R65=\"\",\"\",'CR CF4'!R65)","v":""},{"$f":"IF(OR(E65=\"\",T65=\"\"),\"\",VLOOKUP(T65,'Fermeture TJ'!$A$2:$BU$126,MATCH(F65,('Fermeture TJ'!$B$1:$BU$1),1)+1))","v":""},{"$f":"IF('CR CF4'!T65=\"\",\"\",'CR CF4'!T65)","v":""},{"$f":"IF(OR(E65=\"\",V65=\"\"),\"\",VLOOKUP(V65,Pont!$A$2:$BU$188,MATCH(F65,(Pont!$B$1:$BU$1),1)+1))","v":""},{"$f":"IF('CR CF4'!V65=\"\",\"\",'CR CF4'!V65)","v":""},{"$f":"IF(OR(E65=\"\",X65=\"\"),\"\",VLOOKUP(X65,Epaules!$A$2:$BU$76,MATCH(F65,(Epaules!$B$1:$BU$1),1)+1))","v":""},{"$f":"IF('CR CF4'!X65=\"\",\"\",'CR CF4'!X65)","v":""},{"$f":"IF(OR(E65=\"\",Z65=\"\"),\"\",VLOOKUP(Z65,'pointe de pieds'!$A$2:$BU$110,MATCH(F65,('pointe de pieds'!$B$1:$BU$1),1)+1))","v":""},0,{"v":0,"d":"0.00"},null,null,{"v":0,"d":"0.00"},{"$nulls":5},{"v":0,"d":"0.00"},{"$nulls":3},{"v":0,"d":"0.00"},{"v":0,"d":"0.00"},62]
[{"$f":"IF('CR CF4'!A66=\"\",\"\",Accueil!$D$6)","v":""},{"$f":"IF('CR CF4'!A66=\"\",\"\",MATCH('CR CF4'!A66,Accueil!$D$30:$D$129,0))","v":""},{"$f":"IF('CR CF4'!A66=\"\",\"\",'CR CF4'!A66)","v":""},{"$f":"IF('CR CF4'!B66=\"\",\"\",'CR CF4'!B66)","v":""},{"$f":"IF('CR CF4'!C66=\"\",\"\",'CR CF4'!C66)","v":""},{"$f":"IF(OR(Accueil!$D$6=\"\",D66=\"\",E66=\"\"),\"\",DATEDIF(E66,LOOKUP(B66,Accueil!$C$30:$C$129,Accueil!$E$30:$E$129),\"m\"))","v":""},{"$f":"IF('CR CF4'!E66=\"\",\"\",'CR CF4'!E66)","v":""},{"$f":"IF('CR CF4'!F66=\"\",\"\",'CR CF4'!F66)","v":""},{"$f":"IF(OR(E66=\"\",H66=\"\"),\"\",VLOOKUP(H66,Détente!$A$2:$BU$157,MATCH(F66,(Détente!$B$1:$BU$1),1)+1))","v":""},{"$f":"IF('CR CF4'!H66=\"\",\"\",'CR CF4'!H66)","v":""},{"$f":"IF(OR(E66=\"\",J66=\"\"),\"\",VLOOKUP(J66,Sautillers!$A$2:$BU$99,MATCH(F66,(Sautillers!$B$1:$BU$1),1)+1))","v":""},{"$f":"IF('CR CF4'!J66=\"\",\"\",'CR CF4'!J66)","v":""},{"$f":"IF(OR(E66=\"\",L66=\"\"),\"\",VLOOKUP(L66,'Course 20 m'!$A$2:$BU$373,MATCH(F66,('Course 20 m'!$B$1:$BU$1),1)+1))","v":""},{"$f":"IF('CR CF4'!L66=\"\",\"\",'CR CF4'!L66)","v":""},{"$f":"IF(OR(E66=\"\",N66=\"\"),\"\",VLOOKUP(N66,'Ecarts D&G'!$A$2:$BU$147,MATCH(F66,('Ecarts D&G'!$B$1:$BU$1),1)+1))","v":""},{"$f":"IF('CR CF4'!N66=\"\",\"\",'CR CF4'!N66)","v":""},{"$f":"IF(OR(E66=\"\",P66=\"\"),\"\",VLOOKUP(P66,'Ecarts D&G'!$A$2:$BU$147,MATCH(F66,('Ecarts D&G'!$B$1:$BU$1),1)+1))","v":""},{"$f":"IF('CR CF4'!P66=\"\",\"\",'CR CF4'!P66)","v":""},{"$f":"IF(OR(E66=\"\",R66=\"\"),\"\",VLOOKUP(R66,'Ecart facial'!$A$2:$BU$143,MATCH(F66,('Ecart facial'!$B$1:$BU$1),1)+1))","v":""},{"$f":"IF('CR CF4'!R66=\"\",\"\",'CR CF4'!R66)","v":""},{"$f":"IF(OR(E66=\"\",T66=\"\"),\"\",VLOOKUP(T66,'Fermeture TJ'!$A$2:$BU$126,MATCH(F66,('Fermeture TJ'!$B$1:$BU$1),1)+1))","v":""},{"$f":"IF('CR CF4'!T66=\"\",\"\",'CR CF4'!T66)","v":""},{"$f":"IF(OR(E66=\"\",V66=\"\"),\"\",VLOOKUP(V66,Pont!$A$2:$BU$188,MATCH(F66,(Pont!$B$1:$BU$1),1)+1))","v":""},{"$f":"IF('CR CF4'!V66=\"\",\"\",'CR CF4'!V66)","v":""},{"$f":"IF(OR(E66=\"\",X66=\"\"),\"\",VLOOKUP(X66,Epaules!$A$2:$BU$76,MATCH(F66,(Epaules!$B$1:$BU$1),1)+1))","v":""},{"$f":"IF('CR CF4'!X66=\"\",\"\",'CR CF4'!X66)","v":""},{"$f":"IF(OR(E66=\"\",Z66=\"\"),\"\",VLOOKUP(Z66,'pointe de pieds'!$A$2:$BU$110,MATCH(F66,('pointe de pieds'!$B$1:$BU$1),1)+1))","v":""},0,{"v":0,"d":"0.00"},null,null,{"v":0,"d":"0.00"},{"$nulls":5},{"v":0,"d":"0.00"},{"$nulls":3},{"v":0,"d":"0.00"},{"v":0,"d":"0.00"},63]
[{"$f":"IF('CR CF4'!A67=\"\",\"\",Accueil!$D$6)","v":""},{"$f":"IF('CR CF4'!A67=\"\",\"\",MATCH('CR CF4'!A67,Accueil!$D$30:$D$129,0))","v":""},{"$f":"IF('CR CF4'!A67=\"\",\"\",'CR CF4'!A67)","v":""},{"$f":"IF('CR CF4'!B67=\"\",\"\",'CR CF4'!B67)","v":""},{"$f":"IF('CR CF4'!C67=\"\",\"\",'CR CF4'!C67)","v":""},{"$f":"IF(OR(Accueil!$D$6=\"\",D67=\"\",E67=\"\"),\"\",DATEDIF(E67,LOOKUP(B67,Accueil!$C$30:$C$129,Accueil!$E$30:$E$129),\"m\"))","v":""},{"$f":"IF('CR CF4'!E67=\"\",\"\",'CR CF4'!E67)","v":""},{"$f":"IF('CR CF4'!F67=\"\",\"\",'CR CF4'!F67)","v":""},{"$f":"IF(OR(E67=\"\",H67=\"\"),\"\",VLOOKUP(H67,Détente!$A$2:$BU$157,MATCH(F67,(Détente!$B$1:$BU$1),1)+1))","v":""},{"$f":"IF('CR CF4'!H67=\"\",\"\",'CR CF4'!H67)","v":""},{"$f":"IF(OR(E67=\"\",J67=\"\"),\"\",VLOOKUP(J67,Sautillers!$A$2:$BU$99,MATCH(F67,(Sautillers!$B$1:$BU$1),1)+1))","v":""},{"$f":"IF('CR CF4'!J67=\"\",\"\",'CR CF4'!J67)","v":""},{"$f":"IF(OR(E67=\"\",L67=\"\"),\"\",VLOOKUP(L67,'Course 20 m'!$A$2:$BU$373,MATCH(F67,('Course 20 m'!$B$1:$BU$1),1)+1))","v":""},{"$f":"IF('CR CF4'!L67=\"\",\"\",'CR CF4'!L67)","v":""},{"$f":"IF(OR(E67=\"\",N67=\"\"),\"\",VLOOKUP(N67,'Ecarts D&G'!$A$2:$BU$147,MATCH(F67,('Ecarts D&G'!$B$1:$BU$1),1)+1))","v":""},{"$f":"IF('CR CF4'!N67=\"\",\"\",'CR CF4'!N67)","v":""},{"$f":"IF(OR(E67=\"\",P67=\"\"),\"\",VLOOKUP(P67,'Ecarts D&G'!$A$2:$BU$147,MATCH(F67,('Ecarts D&G'!$B$1:$BU$1),1)+1))","v":""},{"$f":"IF('CR CF4'!P67=\"\",\"\",'CR CF4'!P67)","v":""},{"$f":"IF(OR(E67=\"\",R67=\"\"),\"\",VLOOKUP(R67,'Ecart facial'!$A$2:$BU$143,MATCH(F67,('Ecart facial'!$B$1:$BU$1),1)+1))","v":""},{"$f":"IF('CR CF4'!R67=\"\",\"\",'CR CF4'!R67)","v":""},{"$f":"IF(OR(E67=\"\",T67=\"\"),\"\",VLOOKUP(T67,'Fermeture TJ'!$A$2:$BU$126,MATCH(F67,('Fermeture TJ'!$B$1:$BU$1),1)+1))","v":""},{"$f":"IF('CR CF4'!T67=\"\",\"\",'CR CF4'!T67)","v":""},{"$f":"IF(OR(E67=\"\",V67=\"\"),\"\",VLOOKUP(V67,Pont!$A$2:$BU$188,MATCH(F67,(Pont!$B$1:$BU$1),1)+1))","v":""},{"$f":"IF('CR CF4'!V67=\"\",\"\",'CR CF4'!V67)","v":""},{"$f":"IF(OR(E67=\"\",X67=\"\"),\"\",VLOOKUP(X67,Epaules!$A$2:$BU$76,MATCH(F67,(Epaules!$B$1:$BU$1),1)+1))","v":""},{"$f":"IF('CR CF4'!X67=\"\",\"\",'CR CF4'!X67)","v":""},{"$f":"IF(OR(E67=\"\",Z67=\"\"),\"\",VLOOKUP(Z67,'pointe de pieds'!$A$2:$BU$110,MATCH(F67,('pointe de pieds'!$B$1:$BU$1),1)+1))","v":""},0,{"v":0,"d":"0.00"},null,null,{"v":0,"d":"0.00"},{"$nulls":5},{"v":0,"d":"0.00"},{"$nulls":3},{"v":0,"d":"0.00"},{"v":0,"d":"0.00"},64]
[{"$f":"IF('CR CF4'!A68=\"\",\"\",Accueil!$D$6)","v":""},{"$f":"IF('CR CF4'!A68=\"\",\"\",MATCH('CR CF4'!A68,Accueil!$D$30:$D$129,0))","v":""},{"$f":"IF('CR CF4'!A68=\"\",\"\",'CR CF4'!A68)","v":""},{"$f":"IF('CR CF4'!B68=\"\",\"\",'CR CF4'!B68)","v":""},{"$f":"IF('CR CF4'!C68=\"\",\"\",'CR CF4'!C68)","v":""},{"$f":"IF(OR(Accueil!$D$6=\"\",D68=\"\",E68=\"\"),\"\",DATEDIF(E68,LOOKUP(B68,Accueil!$C$30:$C$129,Accueil!$E$30:$E$129),\"m\"))","v":""},{"$f":"IF('CR CF4'!E68=\"\",\"\",'CR CF4'!E68)","v":""},{"$f":"IF('CR CF4'!F68=\"\",\"\",'CR CF4'!F68)","v":""},{"$f":"IF(OR(E68=\"\",H68=\"\"),\"\",VLOOKUP(H68,Détente!$A$2:$BU$157,MATCH(F68,(Détente!$B$1:$BU$1),1)+1))","v":""},{"$f":"IF('CR CF4'!H68=\"\",\"\",'CR CF4'!H68)","v":""},{"$f":"IF(OR(E68=\"\",J68=\"\"),\"\",VLOOKUP(J68,Sautillers!$A$2:$BU$99,MATCH(F68,(Sautillers!$B$1:$BU$1),1)+1))","v":""},{"$f":"IF('CR CF4'!J68=\"\",\"\",'CR CF4'!J68)","v":""},{"$f":"IF(OR(E68=\"\",L68=\"\"),\"\",VLOOKUP(L68,'Course 20 m'!$A$2:$BU$373,MATCH(F68,('Course 20 m'!$B$1:$BU$1),1)+1))","v":""},{"$f":"IF('CR CF4'!L68=\"\",\"\",'CR CF4'!L68)","v":""},{"$f":"IF(OR(E68=\"\",N68=\"\"),\"\",VLOOKUP(N68,'Ecarts D&G'!$A$2:$BU$147,MATCH(F68,('Ecarts D&G'!$B$1:$BU$1),1)+1))","v":""},{"$f":"IF('CR CF4'!N68=\"\",\"\",'CR CF4'!N68)","v":""},{"$f":"IF(OR(E68=\"\",P68=\"\"),\"\",VLOOKUP(P68,'Ecarts D&G'!$A$2:$BU$147,MATCH(F68,('Ecarts D&G'!$B$1:$BU$1),1)+1))","v":""},{"$f":"IF('CR CF4'!P68=\"\",\"\",'CR CF4'!P68)","v":""},{"$f":"IF(OR(E68=\"\",R68=\"\"),\"\",VLOOKUP(R68,'Ecart facial'!$A$2:$BU$143,MATCH(F68,('Ecart facial'!$B$1:$BU$1),1)+1))","v":""},{"$f":"IF('CR CF4'!R68=\"\",\"\",'CR CF4'!R68)","v":""},{"$f":"IF(OR(E68=\"\",T68=\"\"),\"\",VLOOKUP(T68,'Fermeture TJ'!$A$2:$BU$126,MATCH(F68,('Fermeture TJ'!$B$1:$BU$1),1)+1))","v":""},{"$f":"IF('CR CF4'!T68=\"\",\"\",'CR CF4'!T68)","v":""},{"$f":"IF(OR(E68=\"\",V68=\"\"),\"\",VLOOKUP(V68,Pont!$A$2:$BU$188,MATCH(F68,(Pont!$B$1:$BU$1),1)+1))","v":""},{"$f":"IF('CR CF4'!V68=\"\",\"\",'CR CF4'!V68)","v":""},{"$f":"IF(OR(E68=\"\",X68=\"\"),\"\",VLOOKUP(X68,Epaules!$A$2:$BU$76,MATCH(F68,(Epaules!$B$1:$BU$1),1)+1))","v":""},{"$f":"IF('CR CF4'!X68=\"\",\"\",'CR CF4'!X68)","v":""},{"$f":"IF(OR(E68=\"\",Z68=\"\"),\"\",VLOOKUP(Z68,'pointe de pieds'!$A$2:$BU$110,MATCH(F68,('pointe de pieds'!$B$1:$BU$1),1)+1))","v":""},{"$f":"IF(OR(H68=\"\",J68=\"\",L68=\"\",N68=\"\",P68=\"\",R68=\"\",T68=\"\",V68=\"\",X68=\"\",Z68=\"\"),0,SUM(I68,K68,M68,O68,Q68,S68,U68,W68,Y68,AA68))","v":0},{"$f":"IF(OR(I68=\"\",K68=\"\",M68=\"\",O68=\"\",Q68=\"\",S68=\"\",U68=\"\",W68=\"\",Y68=\"\",AA68=\"\"),0,AVERAGE(I68,K68,M68,O68,Q68,S68,U68,W68,Y68,AA68))","v":{"v":0,"d":"0.00"}},null,null,{"$f":"IF(OR(F68=\"\",AD68=\"\",AE68=\"\"),0,SUM(AD68:AE68))","v":{"v":0,"d":"0.00"}},{"$nulls":5},{"$f":"IF(OR(F68=\"\",COUNT(AG68:AK68)<4),0,IF(COUNT(AG68:AK68)=4,SUM(AG68:AK68),IF(COUNT(AG68:AK68)>4,SUM(AG68:AK68)-MIN(AG68:AK68))))","v":{"v":0,"d":"0.00"}},{"$nulls":3},{"$f":"IF(OR(F68=\"\",AM68=\"\",AN68=\"\",AO68=\"\"),0,SUM(AM68:AO68))","v":{"v":0,"d":"0.00"}},{"$f":"IF(OR(AB68=0,AF68=0,AL68=0,AP68=0),0,AC68+AF68+AL68+AP68)","v":{"v":0,"d":"0.00"}},65]
[{"$f":"IF('CR CF4'!A69=\"\",\"\",Accueil!$D$6)","v":""},{"$f":"IF('CR CF4'!A69=\"\",\"\",MATCH('CR CF4'!A69,Accueil!$D$30:$D$129,0))","v":""},{"$f":"IF('CR CF4'!A69=\"\",\"\",'CR CF4'!A69)","v":""},{"$f":"IF('CR CF4'!B69=\"\",\"\",'CR CF4'!B69)","v":""},{"$f":"IF('CR CF4'!C69=\"\",\"\",'CR CF4'!C69)","v":""},{"$f":"IF(OR(Accueil!$D$6=\"\",D69=\"\",E69=\"\"),\"\",DATEDIF(E69,LOOKUP(B69,Accueil!$C$30:$C$129,Accueil!$E$30:$E$129),\"m\"))","v":""},{"$f":"IF('CR CF4'!E69=\"\",\"\",'CR CF4'!E69)","v":""},{"$f":"IF('CR CF4'!F69=\"\",\"\",'CR CF4'!F69)","v":""},{"$f":"IF(OR(E69=\"\",H69=\"\"),\"\",VLOOKUP(H69,Détente!$A$2:$BU$157,MATCH(F69,(Détente!$B$1:$BU$1),1)+1))","v":""},{"$f":"IF('CR CF4'!H69=\"\",\"\",'CR CF4'!H69)","v":""},{"$f":"IF(OR(E69=\"\",J69=\"\"),\"\",VLOOKUP(J69,Sautillers!$A$2:$BU$99,MATCH(F69,(Sautillers!$B$1:$BU$1),1)+1))","v":""},{"$f":"IF('CR CF4'!J69=\"\",\"\",'CR CF4'!J69)","v":""},{"$f":"IF(OR(E69=\"\",L69=\"\"),\"\",VLOOKUP(L69,'Course 20 m'!$A$2:$BU$373,MATCH(F69,('Course 20 m'!$B$1:$BU$1),1)+1))","v":""},{"$f":"IF('CR CF4'!L69=\"\",\"\",'CR CF4'!L69)","v":""},{"$f":"IF(OR(E69=\"\",N69=\"\"),\"\",VLOOKUP(N69,'Ecarts D&G'!$A$2:$BU$147,MATCH(F69,('Ecarts D&G'!$B$1:$BU$1),1)+1))","v":""},{"$f":"IF('CR CF4'!N69=\"\",\"\",'CR CF4'!N69)","v":""},{"$f":"IF(OR(E69=\"\",P69=\"\"),\"\",VLOOKUP(P69,'Ecarts D&G'!$A$2:$BU$147,MATCH(F69,('Ecarts D&G'!$B$1:$BU$1),1)+1))","v":""},{"$f":"IF('CR CF4'!P69=\"\",\"\",'CR CF4'!P69)","v":""},{"$f":"IF(OR(E69=\"\",R69=\"\"),\"\",VLOOKUP(R69,'Ecart facial'!$A$2:$BU$143,MATCH(F69,('Ecart facial'!$B$1:$BU$1),1)+1))","v":""},{"$f":"IF('CR CF4'!R69=\"\",\"\",'CR CF4'!R69)","v":""},{"$f":"IF(OR(E69=\"\",T69=\"\"),\"\",VLOOKUP(T69,'Fermeture TJ'!$A$2:$BU$126,MATCH(F69,('Fermeture TJ'!$B$1:$BU$1),1)+1))","v":""},{"$f":"IF('CR CF4'!T69=\"\",\"\",'CR CF4'!T69)","v":""},{"$f":"IF(OR(E69=\"\",V69=\"\"),\"\",VLOOKUP(V69,Pont!$A$2:$BU$188,MATCH(F69,(Pont!$B$1:$BU$1),1)+1))","v":""},{"$f":"IF('CR CF4'!V69=\"\",\"\",'CR CF4'!V69)","v":""},{"$f":"IF(OR(E69=\"\",X69=\"\"),\"\",VLOOKUP(X69,Epaules!$A$2:$BU$76,MATCH(F69,(Epaules!$B$1:$BU$1),1)+1))","v":""},{"$f":"IF('CR CF4'!X69=\"\",\"\",'CR CF4'!X69)","v":""},{"$f":"IF(OR(E69=\"\",Z69=\"\"),\"\",VLOOKUP(Z69,'pointe de pieds'!$A$2:$BU$110,MATCH(F69,('pointe de pieds'!$B$1:$BU$1),1)+1))","v":""},0,{"v":0,"d":"0.00"},null,null,{"v":0,"d":"0.00"},{"$nulls":5},{"v":0,"d":"0.00"},{"$nulls":3},{"v":0,"d":"0.00"},{"v":0,"d":"0.00"},66]
[{"$f":"IF('CR CF4'!A70=\"\",\"\",Accueil!$D$6)","v":""},{"$f":"IF('CR CF4'!A70=\"\",\"\",MATCH('CR CF4'!A70,Accueil!$D$30:$D$129,0))","v":""},{"$f":"IF('CR CF4'!A70=\"\",\"\",'CR CF4'!A70)","v":""},{"$f":"IF('CR CF4'!B70=\"\",\"\",'CR CF4'!B70)","v":""},{"$f":"IF('CR CF4'!C70=\"\",\"\",'CR CF4'!C70)","v":""},{"$f":"IF(OR(Accueil!$D$6=\"\",D70=\"\",E70=\"\"),\"\",DATEDIF(E70,LOOKUP(B70,Accueil!$C$30:$C$129,Accueil!$E$30:$E$129),\"m\"))","v":""},{"$f":"IF('CR CF4'!E70=\"\",\"\",'CR CF4'!E70)","v":""},{"$f":"IF('CR CF4'!F70=\"\",\"\",'CR CF4'!F70)","v":""},{"$f":"IF(OR(E70=\"\",H70=\"\"),\"\",VLOOKUP(H70,Détente!$A$2:$BU$157,MATCH(F70,(Détente!$B$1:$BU$1),1)+1))","v":""},{"$f":"IF('CR CF4'!H70=\"\",\"\",'CR CF4'!H70)","v":""},{"$f":"IF(OR(E70=\"\",J70=\"\"),\"\",VLOOKUP(J70,Sautillers!$A$2:$BU$99,MATCH(F70,(Sautillers!$B$1:$BU$1),1)+1))","v":""},{"$f":"IF('CR CF4'!J70=\"\",\"\",'CR CF4'!J70)","v":""},{"$f":"IF(OR(E70=\"\",L70=\"\"),\"\",VLOOKUP(L70,'Course 20 m'!$A$2:$BU$373,MATCH(F70,('Course 20 m'!$B$1:$BU$1),1)+1))","v":""},{"$f":"IF('CR CF4'!L70=\"\",\"\",'CR CF4'!L70)","v":""},{"$f":"IF(OR(E70=\"\",N70=\"\"),\"\",VLOOKUP(N70,'Ecarts D&G'!$A$2:$BU$147,MATCH(F70,('Ecarts D&G'!$B$1:$BU$1),1)+1))","v":""},{"$f":"IF('CR CF4'!N70=\"\",\"\",'CR CF4'!N70)","v":""},{"$f":"IF(OR(E70=\"\",P70=\"\"),\"\",VLOOKUP(P70,'Ecarts D&G'!$A$2:$BU$147,MATCH(F70,('Ecarts D&G'!$B$1:$BU$1),1)+1))","v":""},{"$f":"IF('CR CF4'!P70=\"\",\"\",'CR CF4'!P70)","v":""},{"$f":"IF(OR(E70=\"\",R70=\"\"),\"\",VLOOKUP(R70,'Ecart facial'!$A$2:$BU$143,MATCH(F70,('Ecart facial'!$B$1:$BU$1),1)+1))","v":""},{"$f":"IF('CR CF4'!R70=\"\",\"\",'CR CF4'!R70)","v":""},{"$f":"IF(OR(E70=\"\",T70=\"\"),\"\",VLOOKUP(T70,'Fermeture TJ'!$A$2:$BU$126,MATCH(F70,('Fermeture TJ'!$B$1:$BU$1),1)+1))","v":""},{"$f":"IF('CR CF4'!T70=\"\",\"\",'CR CF4'!T70)","v":""},{"$f":"IF(OR(E70=\"\",V70=\"\"),\"\",VLOOKUP(V70,Pont!$A$2:$BU$188,MATCH(F70,(Pont!$B$1:$BU$1),1)+1))","v":""},{"$f":"IF('CR CF4'!V70=\"\",\"\",'CR CF4'!V70)","v":""},{"$f":"IF(OR(E70=\"\",X70=\"\"),\"\",VLOOKUP(X70,Epaules!$A$2:$BU$76,MATCH(F70,(Epaules!$B$1:$BU$1),1)+1))","v":""},{"$f":"IF('CR CF4'!X70=\"\",\"\",'CR CF4'!X70)","v":""},{"$f":"IF(OR(E70=\"\",Z70=\"\"),\"\",VLOOKUP(Z70,'pointe de pieds'!$A$2:$BU$110,MATCH(F70,('pointe de pieds'!$B$1:$BU$1),1)+1))","v":""},0,{"v":0,"d":"0.00"},null,null,{"v":0,"d":"0.00"},{"$nulls":5},{"v":0,"d":"0.00"},{"$nulls":3},{"v":0,"d":"0.00"},{"v":0,"d":"0.00"},67]
[{"$f":"IF('CR CF4'!A71=\"\",\"\",Accueil!$D$6)","v":""},{"$f":"IF('CR CF4'!A71=\"\",\"\",MATCH('CR CF4'!A71,Accueil!$D$30:$D$129,0))","v":""},{"$f":"IF('CR CF4'!A71=\"\",\"\",'CR CF4'!A71)","v":""},{"$f":"IF('CR CF4'!B71=\"\",\"\",'CR CF4'!B71)","v":""},{"$f":"IF('CR CF4'!C71=\"\",\"\",'CR CF4'!C71)","v":""},{"$f":"IF(OR(Accueil!$D$6=\"\",D71=\"\",E71=\"\"),\"\",DATEDIF(E71,LOOKUP(B71,Accueil!$C$30:$C$129,Accueil!$E$30:$E$129),\"m\"))","v":""},{"$f":"IF('CR CF4'!E71=\"\",\"\",'CR CF4'!E71)","v":""},{"$f":"IF('CR CF4'!F71=\"\",\"\",'CR CF4'!F71)","v":""},{"$f":"IF(OR(E71=\"\",H71=\"\"),\"\",VLOOKUP(H71,Détente!$A$2:$BU$157,MATCH(F71,(Détente!$B$1:$BU$1),1)+1))","v":""},{"$f":"IF('CR CF4'!H71=\"\",\"\",'CR CF4'!H71)","v":""},{"$f":"IF(OR(E71=\"\",J71=\"\"),\"\",VLOOKUP(J71,Sautillers!$A$2:$BU$99,MATCH(F71,(Sautillers!$B$1:$BU$1),1)+1))","v":""},{"$f":"IF('CR CF4'!J71=\"\",\"\",'CR CF4'!J71)","v":""},{"$f":"IF(OR(E71=\"\",L71=\"\"),\"\",VLOOKUP(L71,'Course 20 m'!$A$2:$BU$373,MATCH(F71,('Course 20 m'!$B$1:$BU$1),1)+1))","v":""},{"$f":"IF('CR CF4'!L71=\"\",\"\",'CR CF4'!L71)","v":""},{"$f":"IF(OR(E71=\"\",N71=\"\"),\"\",VLOOKUP(N71,'Ecarts D&G'!$A$2:$BU$147,MATCH(F71,('Ecarts D&G'!$B$1:$BU$1),1)+1))","v":""},{"$f":"IF('CR CF4'!N71=\"\",\"\",'CR CF4'!N71)","v":""},{"$f":"IF(OR(E71=\"\",P71=\"\"),\"\",VLOOKUP(P71,'Ecarts D&G'!$A$2:$BU$147,MATCH(F71,('Ecarts D&G'!$B$1:$BU$1),1)+1))","v":""},{"$f":"IF('CR CF4'!P71=\"\",\"\",'CR CF4'!P71)","v":""},{"$f":"IF(OR(E71=\"\",R71=\"\"),\"\",VLOOKUP(R71,'Ecart facial'!$A$2:$BU$143,MATCH(F71,('Ecart facial'!$B$1:$BU$1),1)+1))","v":""},{"$f":"IF('CR CF4'!R71=\"\",\"\",'CR CF4'!R71)","v":""},{"$f":"IF(OR(E71=\"\",T71=\"\"),\"\",VLOOKUP(T71,'Fermeture TJ'!$A$2:$BU$126,MATCH(F71,('Fermeture TJ'!$B$1:$BU$1),1)+1))","v":""},{"$f":"IF('CR CF4'!T71=\"\",\"\",'CR CF4'!T71)","v":""},{"$f":"IF(OR(E71=\"\",V71=\"\"),\"\",VLOOKUP(V71,Pont!$A$2:$BU$188,MATCH(F71,(Pont!$B$1:$BU$1),1)+1))","v":""},{"$f":"IF('CR CF4'!V71=\"\",\"\",'CR CF4'!V71)","v":""},{"$f":"IF(OR(E71=\"\",X71=\"\"),\"\",VLOOKUP(X71,Epaules!$A$2:$BU$76,MATCH(F71,(Epaules!$B$1:$BU$1),1)+1))","v":""},{"$f":"IF('CR CF4'!X71=\"\",\"\",'CR CF4'!X71)","v":""},{"$f":"IF(OR(E71=\"\",Z71=\"\"),\"\",VLOOKUP(Z71,'pointe de pieds'!$A$2:$BU$110,MATCH(F71,('pointe de pieds'!$B$1:$BU$1),1)+1))","v":""},0,{"v":0,"d":"0.00"},null,null,{"v":0,"d":"0.00"},{"$nulls":5},{"v":0,"d":"0.00"},{"$nulls":3},{"v":0,"d":"0.00"},{"v":0,"d":"0.00"},68]
[{"$f":"IF('CR CF4'!A72=\"\",\"\",Accueil!$D$6)","v":""},{"$f":"IF('CR CF4'!A72=\"\",\"\",MATCH('CR CF4'!A72,Accueil!$D$30:$D$129,0))","v":""},{"$f":"IF('CR CF4'!A72=\"\",\"\",'CR CF4'!A72)","v":""},{"$f":"IF('CR CF4'!B72=\"\",\"\",'CR CF4'!B72)","v":""},{"$f":"IF('CR CF4'!C72=\"\",\"\",'CR CF4'!C72)","v":""},{"$f":"IF(OR(Accueil!$D$6=\"\",D72=\"\",E72=\"\"),\"\",DATEDIF(E72,LOOKUP(B72,Accueil!$C$30:$C$129,Accueil!$E$30:$E$129),\"m\"))","v":""},{"$f":"IF('CR CF4'!E72=\"\",\"\",'CR CF4'!E72)","v":""},{"$f":"IF('CR CF4'!F72=\"\",\"\",'CR CF4'!F72)","v":""},{"$f":"IF(OR(E72=\"\",H72=\"\"),\"\",VLOOKUP(H72,Détente!$A$2:$BU$157,MATCH(F72,(Détente!$B$1:$BU$1),1)+1))","v":""},{"$f":"IF('CR CF4'!H72=\"\",\"\",'CR CF4'!H72)","v":""},{"$f":"IF(OR(E72=\"\",J72=\"\"),\"\",VLOOKUP(J72,Sautillers!$A$2:$BU$99,MATCH(F72,(Sautillers!$B$1:$BU$1),1)+1))","v":""},{"$f":"IF('CR CF4'!J72=\"\",\"\",'CR CF4'!J72)","v":""},{"$f":"IF(OR(E72=\"\",L72=\"\"),\"\",VLOOKUP(L72,'Course 20 m'!$A$2:$BU$373,MATCH(F72,('Course 20 m'!$B$1:$BU$1),1)+1))","v":""},{"$f":"IF('CR CF4'!L72=\"\",\"\",'CR CF4'!L72)","v":""},{"$f":"IF(OR(E72=\"\",N72=\"\"),\"\",VLOOKUP(N72,'Ecarts D&G'!$A$2:$BU$147,MATCH(F72,('Ecarts D&G'!$B$1:$BU$1),1)+1))","v":""},{"$f":"IF('CR CF4'!N72=\"\",\"\",'CR CF4'!N72)","v":""},{"$f":"IF(OR(E72=\"\",P72=\"\"),\"\",VLOOKUP(P72,'Ecarts D&G'!$A$2:$BU$147,MATCH(F72,('Ecarts D&G'!$B$1:$BU$1),1)+1))","v":""},{"$f":"IF('CR CF4'!P72=\"\",\"\",'CR CF4'!P72)","v":""},{"$f":"IF(OR(E72=\"\",R72=\"\"),\"\",VLOOKUP(R72,'Ecart facial'!$A$2:$BU$143,MATCH(F72,('Ecart facial'!$B$1:$BU$1),1)+1))","v":""},{"$f":"IF('CR CF4'!R72=\"\",\"\",'CR CF4'!R72)","v":""},{"$f":"IF(OR(E72=\"\",T72=\"\"),\"\",VLOOKUP(T72,'Fermeture TJ'!$A$2:$BU$126,MATCH(F72,('Fermeture TJ'!$B$1:$BU$1),1)+1))","v":""},{"$f":"IF('CR CF4'!T72=\"\",\"\",'CR CF4'!T72)","v":""},{"$f":"IF(OR(E72=\"\",V72=\"\"),\"\",VLOOKUP(V72,Pont!$A$2:$BU$188,MATCH(F72,(Pont!$B$1:$BU$1),1)+1))","v":""},{"$f":"IF('CR CF4'!V72=\"\",\"\",'CR CF4'!V72)","v":""},{"$f":"IF(OR(E72=\"\",X72=\"\"),\"\",VLOOKUP(X72,Epaules!$A$2:$BU$76,MATCH(F72,(Epaules!$B$1:$BU$1),1)+1))","v":""},{"$f":"IF('CR CF4'!X72=\"\",\"\",'CR CF4'!X72)","v":""},{"$f":"IF(OR(E72=\"\",Z72=\"\"),\"\",VLOOKUP(Z72,'pointe de pieds'!$A$2:$BU$110,MATCH(F72,('pointe de pieds'!$B$1:$BU$1),1)+1))","v":""},0,{"v":0,"d":"0.00"},null,null,{"v":0,"d":"0.00"},{"$nulls":5},{"v":0,"d":"0.00"},{"$nulls":3},{"v":0,"d":"0.00"},{"v":0,"d":"0.00"},69]
[{"$f":"IF('CR CF4'!A73=\"\",\"\",Accueil!$D$6)","v":""},{"$f":"IF('CR CF4'!A73=\"\",\"\",MATCH('CR CF4'!A73,Accueil!$D$30:$D$129,0))","v":""},{"$f":"IF('CR CF4'!A73=\"\",\"\",'CR CF4'!A73)","v":""},{"$f":"IF('CR CF4'!B73=\"\",\"\",'CR CF4'!B73)","v":""},{"$f":"IF('CR CF4'!C73=\"\",\"\",'CR CF4'!C73)","v":""},{"$f":"IF(OR(Accueil!$D$6=\"\",D73=\"\",E73=\"\"),\"\",DATEDIF(E73,LOOKUP(B73,Accueil!$C$30:$C$129,Accueil!$E$30:$E$129),\"m\"))","v":""},{"$f":"IF('CR CF4'!E73=\"\",\"\",'CR CF4'!E73)","v":""},{"$f":"IF('CR CF4'!F73=\"\",\"\",'CR CF4'!F73)","v":""},{"$f":"IF(OR(E73=\"\",H73=\"\"),\"\",VLOOKUP(H73,Détente!$A$2:$BU$157,MATCH(F73,(Détente!$B$1:$BU$1),1)+1))","v":""},{"$f":"IF('CR CF4'!H73=\"\",\"\",'CR CF4'!H73)","v":""},{"$f":"IF(OR(E73=\"\",J73=\"\"),\"\",VLOOKUP(J73,Sautillers!$A$2:$BU$99,MATCH(F73,(Sautillers!$B$1:$BU$1),1)+1))","v":""},{"$f":"IF('CR CF4'!J73=\"\",\"\",'CR CF4'!J73)","v":""},{"$f":"IF(OR(E73=\"\",L73=\"\"),\"\",VLOOKUP(L73,'Course 20 m'!$A$2:$BU$373,MATCH(F73,('Course 20 m'!$B$1:$BU$1),1)+1))","v":""},{"$f":"IF('CR CF4'!L73=\"\",\"\",'CR CF4'!L73)","v":""},{"$f":"IF(OR(E73=\"\",N73=\"\"),\"\",VLOOKUP(N73,'Ecarts D&G'!$A$2:$BU$147,MATCH(F73,('Ecarts D&G'!$B$1:$BU$1),1)+1))","v":""},{"$f":"IF('CR CF4'!N73=\"\",\"\",'CR CF4'!N73)","v":""},{"$f":"IF(OR(E73=\"\",P73=\"\"),\"\",VLOOKUP(P73,'Ecarts D&G'!$A$2:$BU$147,MATCH(F73,('Ecarts D&G'!$B$1:$BU$1),1)+1))","v":""},{"$f":"IF('CR CF4'!P73=\"\",\"\",'CR CF4'!P73)","v":""},{"$f":"IF(OR(E73=\"\",R73=\"\"),\"\",VLOOKUP(R73,'Ecart facial'!$A$2:$BU$143,MATCH(F73,('Ecart facial'!$B$1:$BU$1),1)+1))","v":""},{"$f":"IF('CR CF4'!R73=\"\",\"\",'CR CF4'!R73)","v":""},{"$f":"IF(OR(E73=\"\",T73=\"\"),\"\",VLOOKUP(T73,'Fermeture TJ'!$A$2:$BU$126,MATCH(F73,('Fermeture TJ'!$B$1:$BU$1),1)+1))","v":""},{"$f":"IF('CR CF4'!T73=\"\",\"\",'CR CF4'!T73)","v":""},{"$f":"IF(OR(E73=\"\",V73=\"\"),\"\",VLOOKUP(V73,Pont!$A$2:$BU$188,MATCH(F73,(Pont!$B$1:$BU$1),1)+1))","v":""},{"$f":"IF('CR CF4'!V73=\"\",\"\",'CR CF4'!V73)","v":""},{"$f":"IF(OR(E73=\"\",X73=\"\"),\"\",VLOOKUP(X73,Epaules!$A$2:$BU$76,MATCH(F73,(Epaules!$B$1:$BU$1),1)+1))","v":""},{"$f":"IF('CR CF4'!X73=\"\",\"\",'CR CF4'!X73)","v":""},{"$f":"IF(OR(E73=\"\",Z73=\"\"),\"\",VLOOKUP(Z73,'pointe de pieds'!$A$2:$BU$110,MATCH(F73,('pointe de pieds'!$B$1:$BU$1),1)+1))","v":""},0,{"v":0,"d":"0.00"},null,null,{"v":0,"d":"0.00"},{"$nulls":5},{"v":0,"d":"0.00"},{"$nulls":3},{"v":0,"d":"0.00"},{"v":0,"d":"0.00"},70]
[{"$f":"IF('CR CF4'!A74=\"\",\"\",Accueil!$D$6)","v":""},{"$f":"IF('CR CF4'!A74=\"\",\"\",MATCH('CR CF4'!A74,Accueil!$D$30:$D$129,0))","v":""},{"$f":"IF('CR CF4'!A74=\"\",\"\",'CR CF4'!A74)","v":""},{"$f":"IF('CR CF4'!B74=\"\",\"\",'CR CF4'!B74)","v":""},{"$f":"IF('CR CF4'!C74=\"\",\"\",'CR CF4'!C74)","v":""},{"$f":"IF(OR(Accueil!$D$6=\"\",D74=\"\",E74=\"\"),\"\",DATEDIF(E74,LOOKUP(B74,Accueil!$C$30:$C$129,Accueil!$E$30:$E$129),\"m\"))","v":""},{"$f":"IF('CR CF4'!E74=\"\",\"\",'CR CF4'!E74)","v":""},{"$f":"IF('CR CF4'!F74=\"\",\"\",'CR CF4'!F74)","v":""},{"$f":"IF(OR(E74=\"\",H74=\"\"),\"\",VLOOKUP(H74,Détente!$A$2:$BU$157,MATCH(F74,(Détente!$B$1:$BU$1),1)+1))","v":""},{"$f":"IF('CR CF4'!H74=\"\",\"\",'CR CF4'!H74)","v":""},{"$f":"IF(OR(E74=\"\",J74=\"\"),\"\",VLOOKUP(J74,Sautillers!$A$2:$BU$99,MATCH(F74,(Sautillers!$B$1:$BU$1),1)+1))","v":""},{"$f":"IF('CR CF4'!J74=\"\",\"\",'CR CF4'!J74)","v":""},{"$f":"IF(OR(E74=\"\",L74=\"\"),\"\",VLOOKUP(L74,'Course 20 m'!$A$2:$BU$373,MATCH(F74,('Course 20 m'!$B$1:$BU$1),1)+1))","v":""},{"$f":"IF('CR CF4'!L74=\"\",\"\",'CR CF4'!L74)","v":""},{"$f":"IF(OR(E74=\"\",N74=\"\"),\"\",VLOOKUP(N74,'Ecarts D&G'!$A$2:$BU$147,MATCH(F74,('Ecarts D&G'!$B$1:$BU$1),1)+1))","v":""},{"$f":"IF('CR CF4'!N74=\"\",\"\",'CR CF4'!N74)","v":""},{"$f":"IF(OR(E74=\"\",P74=\"\"),\"\",VLOOKUP(P74,'Ecarts D&G'!$A$2:$BU$147,MATCH(F74,('Ecarts D&G'!$B$1:$BU$1),1)+1))","v":""},{"$f":"IF('CR CF4'!P74=\"\",\"\",'CR CF4'!P74)","v":""},{"$f":"IF(OR(E74=\"\",R74=\"\"),\"\",VLOOKUP(R74,'Ecart facial'!$A$2:$BU$143,MATCH(F74,('Ecart facial'!$B$1:$BU$1),1)+1))","v":""},{"$f":"IF('CR CF4'!R74=\"\",\"\",'CR CF4'!R74)","v":""},{"$f":"IF(OR(E74=\"\",T74=\"\"),\"\",VLOOKUP(T74,'Fermeture TJ'!$A$2:$BU$126,MATCH(F74,('Fermeture TJ'!$B$1:$BU$1),1)+1))","v":""},{"$f":"IF('CR CF4'!T74=\"\",\"\",'CR CF4'!T74)","v":""},{"$f":"IF(OR(E74=\"\",V74=\"\"),\"\",VLOOKUP(V74,Pont!$A$2:$BU$188,MATCH(F74,(Pont!$B$1:$BU$1),1)+1))","v":""},{"$f":"IF('CR CF4'!V74=\"\",\"\",'CR CF4'!V74)","v":""},{"$f":"IF(OR(E74=\"\",X74=\"\"),\"\",VLOOKUP(X74,Epaules!$A$2:$BU$76,MATCH(F74,(Epaules!$B$1:$BU$1),1)+1))","v":""},{"$f":"IF('CR CF4'!X74=\"\",\"\",'CR CF4'!X74)","v":""},{"$f":"IF(OR(E74=\"\",Z74=\"\"),\"\",VLOOKUP(Z74,'pointe de pieds'!$A$2:$BU$110,MATCH(F74,('pointe de pieds'!$B$1:$BU$1),1)+1))","v":""},0,{"v":0,"d":"0.00"},null,null,{"v":0,"d":"0.00"},{"$nulls":5},{"v":0,"d":"0.00"},{"$nulls":3},{"v":0,"d":"0.00"},{"v":0,"d":"0.00"},71]
[{"$f":"IF('CR CF4'!A75=\"\",\"\",Accueil!$D$6)","v":""},{"$f":"IF('CR CF4'!A75=\"\",\"\",MATCH('CR CF4'!A75,Accueil!$D$30:$D$129,0))","v":""},{"$f":"IF('CR CF4'!A75=\"\",\"\",'CR CF4'!A75)","v":""},{"$f":"IF('CR CF4'!B75=\"\",\"\",'CR CF4'!B75)","v":""},{"$f":"IF('CR CF4'!C75=\"\",\"\",'CR CF4'!C75)","v":""},{"$f":"IF(OR(Accueil!$D$6=\"\",D75=\"\",E75=\"\"),\"\",DATEDIF(E75,LOOKUP(B75,Accueil!$C$30:$C$129,Accueil!$E$30:$E$129),\"m\"))","v":""},{"$f":"IF('CR CF4'!E75=\"\",\"\",'CR CF4'!E75)","v":""},{"$f":"IF('CR CF4'!F75=\"\",\"\",'CR CF4'!F75)","v":""},{"$f":"IF(OR(E75=\"\",H75=\"\"),\"\",VLOOKUP(H75,Détente!$A$2:$BU$157,MATCH(F75,(Détente!$B$1:$BU$1),1)+1))","v":""},{"$f":"IF('CR CF4'!H75=\"\",\"\",'CR CF4'!H75)","v":""},{"$f":"IF(OR(E75=\"\",J75=\"\"),\"\",VLOOKUP(J75,Sautillers!$A$2:$BU$99,MATCH(F75,(Sautillers!$B$1:$BU$1),1)+1))","v":""},{"$f":"IF('CR CF4'!J75=\"\",\"\",'CR CF4'!J75)","v":""},{"$f":"IF(OR(E75=\"\",L75=\"\"),\"\",VLOOKUP(L75,'Course 20 m'!$A$2:$BU$373,MATCH(F75,('Course 20 m'!$B$1:$BU$1),1)+1))","v":""},{"$f":"IF('CR CF4'!L75=\"\",\"\",'CR CF4'!L75)","v":""},{"$f":"IF(OR(E75=\"\",N75=\"\"),\"\",VLOOKUP(N75,'Ecarts D&G'!$A$2:$BU$147,MATCH(F75,('Ecarts D&G'!$B$1:$BU$1),1)+1))","v":""},{"$f":"IF('CR CF4'!N75=\"\",\"\",'CR CF4'!N75)","v":""},{"$f":"IF(OR(E75=\"\",P75=\"\"),\"\",VLOOKUP(P75,'Ecarts D&G'!$A$2:$BU$147,MATCH(F75,('Ecarts D&G'!$B$1:$BU$1),1)+1))","v":""},{"$f":"IF('CR CF4'!P75=\"\",\"\",'CR CF4'!P75)","v":""},{"$f":"IF(OR(E75=\"\",R75=\"\"),\"\",VLOOKUP(R75,'Ecart facial'!$A$2:$BU$143,MATCH(F75,('Ecart facial'!$B$1:$BU$1),1)+1))","v":""},{"$f":"IF('CR CF4'!R75=\"\",\"\",'CR CF4'!R75)","v":""},{"$f":"IF(OR(E75=\"\",T75=\"\"),\"\",VLOOKUP(T75,'Fermeture TJ'!$A$2:$BU$126,MATCH(F75,('Fermeture TJ'!$B$1:$BU$1),1)+1))","v":""},{"$f":"IF('CR CF4'!T75=\"\",\"\",'CR CF4'!T75)","v":""},{"$f":"IF(OR(E75=\"\",V75=\"\"),\"\",VLOOKUP(V75,Pont!$A$2:$BU$188,MATCH(F75,(Pont!$B$1:$BU$1),1)+1))","v":""},{"$f":"IF('CR CF4'!V75=\"\",\"\",'CR CF4'!V75)","v":""},{"$f":"IF(OR(E75=\"\",X75=\"\"),\"\",VLOOKUP(X75,Epaules!$A$2:$BU$76,MATCH(F75,(Epaules!$B$1:$BU$1),1)+1))","v":""},{"$f":"IF('CR CF4'!X75=\"\",\"\",'CR CF4'!X75)","v":""},{"$f":"IF(OR(E75=\"\",Z75=\"\"),\"\",VLOOKUP(Z75,'pointe de pieds'!$A$2:$BU$110,MATCH(F75,('pointe de pieds'!$B$1:$BU$1),1)+1))","v":""},0,{"v":0,"d":"0.00"},null,null,{"v":0,"d":"0.00"},{"$nulls":5},{"v":0,"d":"0.00"},{"$nulls":3},{"v":0,"d":"0.00"},{"v":0,"d":"0.00"},72]
[{"$f":"IF('CR CF4'!A76=\"\",\"\",Accueil!$D$6)","v":""},{"$f":"IF('CR CF4'!A76=\"\",\"\",MATCH('CR CF4'!A76,Accueil!$D$30:$D$129,0))","v":""},{"$f":"IF('CR CF4'!A76=\"\",\"\",'CR CF4'!A76)","v":""},{"$f":"IF('CR CF4'!B76=\"\",\"\",'CR CF4'!B76)","v":""},{"$f":"IF('CR CF4'!C76=\"\",\"\",'CR CF4'!C76)","v":""},{"$f":"IF(OR(Accueil!$D$6=\"\",D76=\"\",E76=\"\"),\"\",DATEDIF(E76,LOOKUP(B76,Accueil!$C$30:$C$129,Accueil!$E$30:$E$129),\"m\"))","v":""},{"$f":"IF('CR CF4'!E76=\"\",\"\",'CR CF4'!E76)","v":""},{"$f":"IF('CR CF4'!F76=\"\",\"\",'CR CF4'!F76)","v":""},{"$f":"IF(OR(E76=\"\",H76=\"\"),\"\",VLOOKUP(H76,Détente!$A$2:$BU$157,MATCH(F76,(Détente!$B$1:$BU$1),1)+1))","v":""},{"$f":"IF('CR CF4'!H76=\"\",\"\",'CR CF4'!H76)","v":""},{"$f":"IF(OR(E76=\"\",J76=\"\"),\"\",VLOOKUP(J76,Sautillers!$A$2:$BU$99,MATCH(F76,(Sautillers!$B$1:$BU$1),1)+1))","v":""},{"$f":"IF('CR CF4'!J76=\"\",\"\",'CR CF4'!J76)","v":""},{"$f":"IF(OR(E76=\"\",L76=\"\"),\"\",VLOOKUP(L76,'Course 20 m'!$A$2:$BU$373,MATCH(F76,('Course 20 m'!$B$1:$BU$1),1)+1))","v":""},{"$f":"IF('CR CF4'!L76=\"\",\"\",'CR CF4'!L76)","v":""},{"$f":"IF(OR(E76=\"\",N76=\"\"),\"\",VLOOKUP(N76,'Ecarts D&G'!$A$2:$BU$147,MATCH(F76,('Ecarts D&G'!$B$1:$BU$1),1)+1))","v":""},{"$f":"IF('CR CF4'!N76=\"\",\"\",'CR CF4'!N76)","v":""},{"$f":"IF(OR(E76=\"\",P76=\"\"),\"\",VLOOKUP(P76,'Ecarts D&G'!$A$2:$BU$147,MATCH(F76,('Ecarts D&G'!$B$1:$BU$1),1)+1))","v":""},{"$f":"IF('CR CF4'!P76=\"\",\"\",'CR CF4'!P76)","v":""},{"$f":"IF(OR(E76=\"\",R76=\"\"),\"\",VLOOKUP(R76,'Ecart facial'!$A$2:$BU$143,MATCH(F76,('Ecart facial'!$B$1:$BU$1),1)+1))","v":""},{"$f":"IF('CR CF4'!R76=\"\",\"\",'CR CF4'!R76)","v":""},{"$f":"IF(OR(E76=\"\",T76=\"\"),\"\",VLOOKUP(T76,'Fermeture TJ'!$A$2:$BU$126,MATCH(F76,('Fermeture TJ'!$B$1:$BU$1),1)+1))","v":""},{"$f":"IF('CR CF4'!T76=\"\",\"\",'CR CF4'!T76)","v":""},{"$f":"IF(OR(E76=\"\",V76=\"\"),\"\",VLOOKUP(V76,Pont!$A$2:$BU$188,MATCH(F76,(Pont!$B$1:$BU$1),1)+1))","v":""},{"$f":"IF('CR CF4'!V76=\"\",\"\",'CR CF4'!V76)","v":""},{"$f":"IF(OR(E76=\"\",X76=\"\"),\"\",VLOOKUP(X76,Epaules!$A$2:$BU$76,MATCH(F76,(Epaules!$B$1:$BU$1),1)+1))","v":""},{"$f":"IF('CR CF4'!X76=\"\",\"\",'CR CF4'!X76)","v":""},{"$f":"IF(OR(E76=\"\",Z76=\"\"),\"\",VLOOKUP(Z76,'pointe de pieds'!$A$2:$BU$110,MATCH(F76,('pointe de pieds'!$B$1:$BU$1),1)+1))","v":""},0,{"v":0,"d":"0.00"},null,null,{"v":0,"d":"0.00"},{"$nulls":5},{"v":0,"d":"0.00"},{"$nulls":3},{"v":0,"d":"0.00"},{"v":0,"d":"0.00"},73]
[{"$f":"IF('CR CF4'!A77=\"\",\"\",Accueil!$D$6)","v":""},{"$f":"IF('CR CF4'!A77=\"\",\"\",MATCH('CR CF4'!A77,Accueil!$D$30:$D$129,0))","v":""},{"$f":"IF('CR CF4'!A77=\"\",\"\",'CR CF4'!A77)","v":""},{"$f":"IF('CR CF4'!B77=\"\",\"\",'CR CF4'!B77)","v":""},{"$f":"IF('CR CF4'!C77=\"\",\"\",'CR CF4'!C77)","v":""},{"$f":"IF(OR(Accueil!$D$6=\"\",D77=\"\",E77=\"\"),\"\",DATEDIF(E77,LOOKUP(B77,Accueil!$C$30:$C$129,Accueil!$E$30:$E$129),\"m\"))","v":""},{"$f":"IF('CR CF4'!E77=\"\",\"\",'CR CF4'!E77)","v":""},{"$f":"IF('CR CF4'!F77=\"\",\"\",'CR CF4'!F77)","v":""},{"$f":"IF(OR(E77=\"\",H77=\"\"),\"\",VLOOKUP(H77,Détente!$A$2:$BU$157,MATCH(F77,(Détente!$B$1:$BU$1),1)+1))","v":""},{"$f":"IF('CR CF4'!H77=\"\",\"\",'CR CF4'!H77)","v":""},{"$f":"IF(OR(E77=\"\",J77=\"\"),\"\",VLOOKUP(J77,Sautillers!$A$2:$BU$99,MATCH(F77,(Sautillers!$B$1:$BU$1),1)+1))","v":""},{"$f":"IF('CR CF4'!J77=\"\",\"\",'CR CF4'!J77)","v":""},{"$f":"IF(OR(E77=\"\",L77=\"\"),\"\",VLOOKUP(L77,'Course 20 m'!$A$2:$BU$373,MATCH(F77,('Course 20 m'!$B$1:$BU$1),1)+1))","v":""},{"$f":"IF('CR CF4'!L77=\"\",\"\",'CR CF4'!L77)","v":""},{"$f":"IF(OR(E77=\"\",N77=\"\"),\"\",VLOOKUP(N77,'Ecarts D&G'!$A$2:$BU$147,MATCH(F77,('Ecarts D&G'!$B$1:$BU$1),1)+1))","v":""},{"$f":"IF('CR CF4'!N77=\"\",\"\",'CR CF4'!N77)","v":""},{"$f":"IF(OR(E77=\"\",P77=\"\"),\"\",VLOOKUP(P77,'Ecarts D&G'!$A$2:$BU$147,MATCH(F77,('Ecarts D&G'!$B$1:$BU$1),1)+1))","v":""},{"$f":"IF('CR CF4'!P77=\"\",\"\",'CR CF4'!P77)","v":""},{"$f":"IF(OR(E77=\"\",R77=\"\"),\"\",VLOOKUP(R77,'Ecart facial'!$A$2:$BU$143,MATCH(F77,('Ecart facial'!$B$1:$BU$1),1)+1))","v":""},{"$f":"IF('CR CF4'!R77=\"\",\"\",'CR CF4'!R77)","v":""},{"$f":"IF(OR(E77=\"\",T77=\"\"),\"\",VLOOKUP(T77,'Fermeture TJ'!$A$2:$BU$126,MATCH(F77,('Fermeture TJ'!$B$1:$BU$1),1)+1))","v":""},{"$f":"IF('CR CF4'!T77=\"\",\"\",'CR CF4'!T77)","v":""},{"$f":"IF(OR(E77=\"\",V77=\"\"),\"\",VLOOKUP(V77,Pont!$A$2:$BU$188,MATCH(F77,(Pont!$B$1:$BU$1),1)+1))","v":""},{"$f":"IF('CR CF4'!V77=\"\",\"\",'CR CF4'!V77)","v":""},{"$f":"IF(OR(E77=\"\",X77=\"\"),\"\",VLOOKUP(X77,Epaules!$A$2:$BU$76,MATCH(F77,(Epaules!$B$1:$BU$1),1)+1))","v":""},{"$f":"IF('CR CF4'!X77=\"\",\"\",'CR CF4'!X77)","v":""},{"$f":"IF(OR(E77=\"\",Z77=\"\"),\"\",VLOOKUP(Z77,'pointe de pieds'!$A$2:$BU$110,MATCH(F77,('pointe de pieds'!$B$1:$BU$1),1)+1))","v":""},0,{"v":0,"d":"0.00"},null,null,{"v":0,"d":"0.00"},{"$nulls":5},{"v":0,"d":"0.00"},{"$nulls":3},{"v":0,"d":"0.00"},{"v":0,"d":"0.00"},74]
[{"$f":"IF('CR CF4'!A78=\"\",\"\",Accueil!$D$6)","v":""},{"$f":"IF('CR CF4'!A78=\"\",\"\",MATCH('CR CF4'!A78,Accueil!$D$30:$D$129,0))","v":""},{"$f":"IF('CR CF4'!A78=\"\",\"\",'CR CF4'!A78)","v":""},{"$f":"IF('CR CF4'!B78=\"\",\"\",'CR CF4'!B78)","v":""},{"$f":"IF('CR CF4'!C78=\"\",\"\",'CR CF4'!C78)","v":""},{"$f":"IF(OR(Accueil!$D$6=\"\",D78=\"\",E78=\"\"),\"\",DATEDIF(E78,LOOKUP(B78,Accueil!$C$30:$C$129,Accueil!$E$30:$E$129),\"m\"))","v":""},{"$f":"IF('CR CF4'!E78=\"\",\"\",'CR CF4'!E78)","v":""},{"$f":"IF('CR CF4'!F78=\"\",\"\",'CR CF4'!F78)","v":""},{"$f":"IF(OR(E78=\"\",H78=\"\"),\"\",VLOOKUP(H78,Détente!$A$2:$BU$157,MATCH(F78,(Détente!$B$1:$BU$1),1)+1))","v":""},{"$f":"IF('CR CF4'!H78=\"\",\"\",'CR CF4'!H78)","v":""},{"$f":"IF(OR(E78=\"\",J78=\"\"),\"\",VLOOKUP(J78,Sautillers!$A$2:$BU$99,MATCH(F78,(Sautillers!$B$1:$BU$1),1)+1))","v":""},{"$f":"IF('CR CF4'!J78=\"\",\"\",'CR CF4'!J78)","v":""},{"$f":"IF(OR(E78=\"\",L78=\"\"),\"\",VLOOKUP(L78,'Course 20 m'!$A$2:$BU$373,MATCH(F78,('Course 20 m'!$B$1:$BU$1),1)+1))","v":""},{"$f":"IF('CR CF4'!L78=\"\",\"\",'CR CF4'!L78)","v":""},{"$f":"IF(OR(E78=\"\",N78=\"\"),\"\",VLOOKUP(N78,'Ecarts D&G'!$A$2:$BU$147,MATCH(F78,('Ecarts D&G'!$B$1:$BU$1),1)+1))","v":""},{"$f":"IF('CR CF4'!N78=\"\",\"\",'CR CF4'!N78)","v":""},{"$f":"IF(OR(E78=\"\",P78=\"\"),\"\",VLOOKUP(P78,'Ecarts D&G'!$A$2:$BU$147,MATCH(F78,('Ecarts D&G'!$B$1:$BU$1),1)+1))","v":""},{"$f":"IF('CR CF4'!P78=\"\",\"\",'CR CF4'!P78)","v":""},{"$f":"IF(OR(E78=\"\",R78=\"\"),\"\",VLOOKUP(R78,'Ecart facial'!$A$2:$BU$143,MATCH(F78,('Ecart facial'!$B$1:$BU$1),1)+1))","v":""},{"$f":"IF('CR CF4'!R78=\"\",\"\",'CR CF4'!R78)","v":""},{"$f":"IF(OR(E78=\"\",T78=\"\"),\"\",VLOOKUP(T78,'Fermeture TJ'!$A$2:$BU$126,MATCH(F78,('Fermeture TJ'!$B$1:$BU$1),1)+1))","v":""},{"$f":"IF('CR CF4'!T78=\"\",\"\",'CR CF4'!T78)","v":""},{"$f":"IF(OR(E78=\"\",V78=\"\"),\"\",VLOOKUP(V78,Pont!$A$2:$BU$188,MATCH(F78,(Pont!$B$1:$BU$1),1)+1))","v":""},{"$f":"IF('CR CF4'!V78=\"\",\"\",'CR CF4'!V78)","v":""},{"$f":"IF(OR(E78=\"\",X78=\"\"),\"\",VLOOKUP(X78,Epaules!$A$2:$BU$76,MATCH(F78,(Epaules!$B$1:$BU$1),1)+1))","v":""},{"$f":"IF('CR CF4'!X78=\"\",\"\",'CR CF4'!X78)","v":""},{"$f":"IF(OR(E78=\"\",Z78=\"\"),\"\",VLOOKUP(Z78,'pointe de pieds'!$A$2:$BU$110,MATCH(F78,('pointe de pieds'!$B$1:$BU$1),1)+1))","v":""},0,{"v":0,"d":"0.00"},null,null,{"v":0,"d":"0.00"},{"$nulls":5},{"v":0,"d":"0.00"},{"$nulls":3},{"v":0,"d":"0.00"},{"v":0,"d":"0.00"},75]
[{"$f":"IF('CR CF4'!A79=\"\",\"\",Accueil!$D$6)","v":""},{"$f":"IF('CR CF4'!A79=\"\",\"\",MATCH('CR CF4'!A79,Accueil!$D$30:$D$129,0))","v":""},{"$f":"IF('CR CF4'!A79=\"\",\"\",'CR CF4'!A79)","v":""},{"$f":"IF('CR CF4'!B79=\"\",\"\",'CR CF4'!B79)","v":""},{"$f":"IF('CR CF4'!C79=\"\",\"\",'CR CF4'!C79)","v":""},{"$f":"IF(OR(Accueil!$D$6=\"\",D79=\"\",E79=\"\"),\"\",DATEDIF(E79,LOOKUP(B79,Accueil!$C$30:$C$129,Accueil!$E$30:$E$129),\"m\"))","v":""},{"$f":"IF('CR CF4'!E79=\"\",\"\",'CR CF4'!E79)","v":""},{"$f":"IF('CR CF4'!F79=\"\",\"\",'CR CF4'!F79)","v":""},{"$f":"IF(OR(E79=\"\",H79=\"\"),\"\",VLOOKUP(H79,Détente!$A$2:$BU$157,MATCH(F79,(Détente!$B$1:$BU$1),1)+1))","v":""},{"$f":"IF('CR CF4'!H79=\"\",\"\",'CR CF4'!H79)","v":""},{"$f":"IF(OR(E79=\"\",J79=\"\"),\"\",VLOOKUP(J79,Sautillers!$A$2:$BU$99,MATCH(F79,(Sautillers!$B$1:$BU$1),1)+1))","v":""},{"$f":"IF('CR CF4'!J79=\"\",\"\",'CR CF4'!J79)","v":""},{"$f":"IF(OR(E79=\"\",L79=\"\"),\"\",VLOOKUP(L79,'Course 20 m'!$A$2:$BU$373,MATCH(F79,('Course 20 m'!$B$1:$BU$1),1)+1))","v":""},{"$f":"IF('CR CF4'!L79=\"\",\"\",'CR CF4'!L79)","v":""},{"$f":"IF(OR(E79=\"\",N79=\"\"),\"\",VLOOKUP(N79,'Ecarts D&G'!$A$2:$BU$147,MATCH(F79,('Ecarts D&G'!$B$1:$BU$1),1)+1))","v":""},{"$f":"IF('CR CF4'!N79=\"\",\"\",'CR CF4'!N79)","v":""},{"$f":"IF(OR(E79=\"\",P79=\"\"),\"\",VLOOKUP(P79,'Ecarts D&G'!$A$2:$BU$147,MATCH(F79,('Ecarts D&G'!$B$1:$BU$1),1)+1))","v":""},{"$f":"IF('CR CF4'!P79=\"\",\"\",'CR CF4'!P79)","v":""},{"$f":"IF(OR(E79=\"\",R79=\"\"),\"\",VLOOKUP(R79,'Ecart facial'!$A$2:$BU$143,MATCH(F79,('Ecart facial'!$B$1:$BU$1),1)+1))","v":""},{"$f":"IF('CR CF4'!R79=\"\",\"\",'CR CF4'!R79)","v":""},{"$f":"IF(OR(E79=\"\",T79=\"\"),\"\",VLOOKUP(T79,'Fermeture TJ'!$A$2:$BU$126,MATCH(F79,('Fermeture TJ'!$B$1:$BU$1),1)+1))","v":""},{"$f":"IF('CR CF4'!T79=\"\",\"\",'CR CF4'!T79)","v":""},{"$f":"IF(OR(E79=\"\",V79=\"\"),\"\",VLOOKUP(V79,Pont!$A$2:$BU$188,MATCH(F79,(Pont!$B$1:$BU$1),1)+1))","v":""},{"$f":"IF('CR CF4'!V79=\"\",\"\",'CR CF4'!V79)","v":""},{"$f":"IF(OR(E79=\"\",X79=\"\"),\"\",VLOOKUP(X79,Epaules!$A$2:$BU$76,MATCH(F79,(Epaules!$B$1:$BU$1),1)+1))","v":""},{"$f":"IF('CR CF4'!X79=\"\",\"\",'CR CF4'!X79)","v":""},{"$f":"IF(OR(E79=\"\",Z79=\"\"),\"\",VLOOKUP(Z79,'pointe de pieds'!$A$2:$BU$110,MATCH(F79,('pointe de pieds'!$B$1:$BU$1),1)+1))","v":""},0,{"v":0,"d":"0.00"},null,null,{"v":0,"d":"0.00"},{"$nulls":5},{"v":0,"d":"0.00"},{"$nulls":3},{"v":0,"d":"0.00"},{"v":0,"d":"0.00"},76]
[{"$f":"IF('CR CF4'!A80=\"\",\"\",Accueil!$D$6)","v":""},{"$f":"IF('CR CF4'!A80=\"\",\"\",MATCH('CR CF4'!A80,Accueil!$D$30:$D$129,0))","v":""},{"$f":"IF('CR CF4'!A80=\"\",\"\",'CR CF4'!A80)","v":""},{"$f":"IF('CR CF4'!B80=\"\",\"\",'CR CF4'!B80)","v":""},{"$f":"IF('CR CF4'!C80=\"\",\"\",'CR CF4'!C80)","v":""},{"$f":"IF(OR(Accueil!$D$6=\"\",D80=\"\",E80=\"\"),\"\",DATEDIF(E80,LOOKUP(B80,Accueil!$C$30:$C$129,Accueil!$E$30:$E$129),\"m\"))","v":""},{"$f":"IF('CR CF4'!E80=\"\",\"\",'CR CF4'!E80)","v":""},{"$f":"IF('CR CF4'!F80=\"\",\"\",'CR CF4'!F80)","v":""},{"$f":"IF(OR(E80=\"\",H80=\"\"),\"\",VLOOKUP(H80,Détente!$A$2:$BU$157,MATCH(F80,(Détente!$B$1:$BU$1),1)+1))","v":""},{"$f":"IF('CR CF4'!H80=\"\",\"\",'CR CF4'!H80)","v":""},{"$f":"IF(OR(E80=\"\",J80=\"\"),\"\",VLOOKUP(J80,Sautillers!$A$2:$BU$99,MATCH(F80,(Sautillers!$B$1:$BU$1),1)+1))","v":""},{"$f":"IF('CR CF4'!J80=\"\",\"\",'CR CF4'!J80)","v":""},{"$f":"IF(OR(E80=\"\",L80=\"\"),\"\",VLOOKUP(L80,'Course 20 m'!$A$2:$BU$373,MATCH(F80,('Course 20 m'!$B$1:$BU$1),1)+1))","v":""},{"$f":"IF('CR CF4'!L80=\"\",\"\",'CR CF4'!L80)","v":""},{"$f":"IF(OR(E80=\"\",N80=\"\"),\"\",VLOOKUP(N80,'Ecarts D&G'!$A$2:$BU$147,MATCH(F80,('Ecarts D&G'!$B$1:$BU$1),1)+1))","v":""},{"$f":"IF('CR CF4'!N80=\"\",\"\",'CR CF4'!N80)","v":""},{"$f":"IF(OR(E80=\"\",P80=\"\"),\"\",VLOOKUP(P80,'Ecarts D&G'!$A$2:$BU$147,MATCH(F80,('Ecarts D&G'!$B$1:$BU$1),1)+1))","v":""},{"$f":"IF('CR CF4'!P80=\"\",\"\",'CR CF4'!P80)","v":""},{"$f":"IF(OR(E80=\"\",R80=\"\"),\"\",VLOOKUP(R80,'Ecart facial'!$A$2:$BU$143,MATCH(F80,('Ecart facial'!$B$1:$BU$1),1)+1))","v":""},{"$f":"IF('CR CF4'!R80=\"\",\"\",'CR CF4'!R80)","v":""},{"$f":"IF(OR(E80=\"\",T80=\"\"),\"\",VLOOKUP(T80,'Fermeture TJ'!$A$2:$BU$126,MATCH(F80,('Fermeture TJ'!$B$1:$BU$1),1)+1))","v":""},{"$f":"IF('CR CF4'!T80=\"\",\"\",'CR CF4'!T80)","v":""},{"$f":"IF(OR(E80=\"\",V80=\"\"),\"\",VLOOKUP(V80,Pont!$A$2:$BU$188,MATCH(F80,(Pont!$B$1:$BU$1),1)+1))","v":""},{"$f":"IF('CR CF4'!V80=\"\",\"\",'CR CF4'!V80)","v":""},{"$f":"IF(OR(E80=\"\",X80=\"\"),\"\",VLOOKUP(X80,Epaules!$A$2:$BU$76,MATCH(F80,(Epaules!$B$1:$BU$1),1)+1))","v":""},{"$f":"IF('CR CF4'!X80=\"\",\"\",'CR CF4'!X80)","v":""},{"$f":"IF(OR(E80=\"\",Z80=\"\"),\"\",VLOOKUP(Z80,'pointe de pieds'!$A$2:$BU$110,MATCH(F80,('pointe de pieds'!$B$1:$BU$1),1)+1))","v":""},0,{"v":0,"d":"0.00"},null,null,{"v":0,"d":"0.00"},{"$nulls":5},{"v":0,"d":"0.00"},{"$nulls":3},{"v":0,"d":"0.00"},{"v":0,"d":"0.00"},77]
[{"$f":"IF('CR CF4'!A81=\"\",\"\",Accueil!$D$6)","v":""},{"$f":"IF('CR CF4'!A81=\"\",\"\",MATCH('CR CF4'!A81,Accueil!$D$30:$D$129,0))","v":""},{"$f":"IF('CR CF4'!A81=\"\",\"\",'CR CF4'!A81)","v":""},{"$f":"IF('CR CF4'!B81=\"\",\"\",'CR CF4'!B81)","v":""},{"$f":"IF('CR CF4'!C81=\"\",\"\",'CR CF4'!C81)","v":""},{"$f":"IF(OR(Accueil!$D$6=\"\",D81=\"\",E81=\"\"),\"\",DATEDIF(E81,LOOKUP(B81,Accueil!$C$30:$C$129,Accueil!$E$30:$E$129),\"m\"))","v":""},{"$f":"IF('CR CF4'!E81=\"\",\"\",'CR CF4'!E81)","v":""},{"$f":"IF('CR CF4'!F81=\"\",\"\",'CR CF4'!F81)","v":""},{"$f":"IF(OR(E81=\"\",H81=\"\"),\"\",VLOOKUP(H81,Détente!$A$2:$BU$157,MATCH(F81,(Détente!$B$1:$BU$1),1)+1))","v":""},{"$f":"IF('CR CF4'!H81=\"\",\"\",'CR CF4'!H81)","v":""},{"$f":"IF(OR(E81=\"\",J81=\"\"),\"\",VLOOKUP(J81,Sautillers!$A$2:$BU$99,MATCH(F81,(Sautillers!$B$1:$BU$1),1)+1))","v":""},{"$f":"IF('CR CF4'!J81=\"\",\"\",'CR CF4'!J81)","v":""},{"$f":"IF(OR(E81=\"\",L81=\"\"),\"\",VLOOKUP(L81,'Course 20 m'!$A$2:$BU$373,MATCH(F81,('Course 20 m'!$B$1:$BU$1),1)+1))","v":""},{"$f":"IF('CR CF4'!L81=\"\",\"\",'CR CF4'!L81)","v":""},{"$f":"IF(OR(E81=\"\",N81=\"\"),\"\",VLOOKUP(N81,'Ecarts D&G'!$A$2:$BU$147,MATCH(F81,('Ecarts D&G'!$B$1:$BU$1),1)+1))","v":""},{"$f":"IF('CR CF4'!N81=\"\",\"\",'CR CF4'!N81)","v":""},{"$f":"IF(OR(E81=\"\",P81=\"\"),\"\",VLOOKUP(P81,'Ecarts D&G'!$A$2:$BU$147,MATCH(F81,('Ecarts D&G'!$B$1:$BU$1),1)+1))","v":""},{"$f":"IF('CR CF4'!P81=\"\",\"\",'CR CF4'!P81)","v":""},{"$f":"IF(OR(E81=\"\",R81=\"\"),\"\",VLOOKUP(R81,'Ecart facial'!$A$2:$BU$143,MATCH(F81,('Ecart facial'!$B$1:$BU$1),1)+1))","v":""},{"$f":"IF('CR CF4'!R81=\"\",\"\",'CR CF4'!R81)","v":""},{"$f":"IF(OR(E81=\"\",T81=\"\"),\"\",VLOOKUP(T81,'Fermeture TJ'!$A$2:$BU$126,MATCH(F81,('Fermeture TJ'!$B$1:$BU$1),1)+1))","v":""},{"$f":"IF('CR CF4'!T81=\"\",\"\",'CR CF4'!T81)","v":""},{"$f":"IF(OR(E81=\"\",V81=\"\"),\"\",VLOOKUP(V81,Pont!$A$2:$BU$188,MATCH(F81,(Pont!$B$1:$BU$1),1)+1))","v":""},{"$f":"IF('CR CF4'!V81=\"\",\"\",'CR CF4'!V81)","v":""},{"$f":"IF(OR(E81=\"\",X81=\"\"),\"\",VLOOKUP(X81,Epaules!$A$2:$BU$76,MATCH(F81,(Epaules!$B$1:$BU$1),1)+1))","v":""},{"$f":"IF('CR CF4'!X81=\"\",\"\",'CR CF4'!X81)","v":""},{"$f":"IF(OR(E81=\"\",Z81=\"\"),\"\",VLOOKUP(Z81,'pointe de pieds'!$A$2:$BU$110,MATCH(F81,('pointe de pieds'!$B$1:$BU$1),1)+1))","v":""},0,{"v":0,"d":"0.00"},null,null,{"v":0,"d":"0.00"},{"$nulls":5},{"v":0,"d":"0.00"},{"$nulls":3},{"v":0,"d":"0.00"},{"v":0,"d":"0.00"},78]
[{"$f":"IF('CR CF4'!A82=\"\",\"\",Accueil!$D$6)","v":""},{"$f":"IF('CR CF4'!A82=\"\",\"\",MATCH('CR CF4'!A82,Accueil!$D$30:$D$129,0))","v":""},{"$f":"IF('CR CF4'!A82=\"\",\"\",'CR CF4'!A82)","v":""},{"$f":"IF('CR CF4'!B82=\"\",\"\",'CR CF4'!B82)","v":""},{"$f":"IF('CR CF4'!C82=\"\",\"\",'CR CF4'!C82)","v":""},{"$f":"IF(OR(Accueil!$D$6=\"\",D82=\"\",E82=\"\"),\"\",DATEDIF(E82,LOOKUP(B82,Accueil!$C$30:$C$129,Accueil!$E$30:$E$129),\"m\"))","v":""},{"$f":"IF('CR CF4'!E82=\"\",\"\",'CR CF4'!E82)","v":""},{"$f":"IF('CR CF4'!F82=\"\",\"\",'CR CF4'!F82)","v":""},{"$f":"IF(OR(E82=\"\",H82=\"\"),\"\",VLOOKUP(H82,Détente!$A$2:$BU$157,MATCH(F82,(Détente!$B$1:$BU$1),1)+1))","v":""},{"$f":"IF('CR CF4'!H82=\"\",\"\",'CR CF4'!H82)","v":""},{"$f":"IF(OR(E82=\"\",J82=\"\"),\"\",VLOOKUP(J82,Sautillers!$A$2:$BU$99,MATCH(F82,(Sautillers!$B$1:$BU$1),1)+1))","v":""},{"$f":"IF('CR CF4'!J82=\"\",\"\",'CR CF4'!J82)","v":""},{"$f":"IF(OR(E82=\"\",L82=\"\"),\"\",VLOOKUP(L82,'Course 20 m'!$A$2:$BU$373,MATCH(F82,('Course 20 m'!$B$1:$BU$1),1)+1))","v":""},{"$f":"IF('CR CF4'!L82=\"\",\"\",'CR CF4'!L82)","v":""},{"$f":"IF(OR(E82=\"\",N82=\"\"),\"\",VLOOKUP(N82,'Ecarts D&G'!$A$2:$BU$147,MATCH(F82,('Ecarts D&G'!$B$1:$BU$1),1)+1))","v":""},{"$f":"IF('CR CF4'!N82=\"\",\"\",'CR CF4'!N82)","v":""},{"$f":"IF(OR(E82=\"\",P82=\"\"),\"\",VLOOKUP(P82,'Ecarts D&G'!$A$2:$BU$147,MATCH(F82,('Ecarts D&G'!$B$1:$BU$1),1)+1))","v":""},{"$f":"IF('CR CF4'!P82=\"\",\"\",'CR CF4'!P82)","v":""},{"$f":"IF(OR(E82=\"\",R82=\"\"),\"\",VLOOKUP(R82,'Ecart facial'!$A$2:$BU$143,MATCH(F82,('Ecart facial'!$B$1:$BU$1),1)+1))","v":""},{"$f":"IF('CR CF4'!R82=\"\",\"\",'CR CF4'!R82)","v":""},{"$f":"IF(OR(E82=\"\",T82=\"\"),\"\",VLOOKUP(T82,'Fermeture TJ'!$A$2:$BU$126,MATCH(F82,('Fermeture TJ'!$B$1:$BU$1),1)+1))","v":""},{"$f":"IF('CR CF4'!T82=\"\",\"\",'CR CF4'!T82)","v":""},{"$f":"IF(OR(E82=\"\",V82=\"\"),\"\",VLOOKUP(V82,Pont!$A$2:$BU$188,MATCH(F82,(Pont!$B$1:$BU$1),1)+1))","v":""},{"$f":"IF('CR CF4'!V82=\"\",\"\",'CR CF4'!V82)","v":""},{"$f":"IF(OR(E82=\"\",X82=\"\"),\"\",VLOOKUP(X82,Epaules!$A$2:$BU$76,MATCH(F82,(Epaules!$B$1:$BU$1),1)+1))","v":""},{"$f":"IF('CR CF4'!X82=\"\",\"\",'CR CF4'!X82)","v":""},{"$f":"IF(OR(E82=\"\",Z82=\"\"),\"\",VLOOKUP(Z82,'pointe de pieds'!$A$2:$BU$110,MATCH(F82,('pointe de pieds'!$B$1:$BU$1),1)+1))","v":""},0,{"v":0,"d":"0.00"},null,null,{"v":0,"d":"0.00"},{"$nulls":5},{"v":0,"d":"0.00"},{"$nulls":3},{"v":0,"d":"0.00"},{"v":0,"d":"0.00"},79]
[{"$f":"IF('CR CF4'!A83=\"\",\"\",Accueil!$D$6)","v":""},{"$f":"IF('CR CF4'!A83=\"\",\"\",MATCH('CR CF4'!A83,Accueil!$D$30:$D$129,0))","v":""},{"$f":"IF('CR CF4'!A83=\"\",\"\",'CR CF4'!A83)","v":""},{"$f":"IF('CR CF4'!B83=\"\",\"\",'CR CF4'!B83)","v":""},{"$f":"IF('CR CF4'!C83=\"\",\"\",'CR CF4'!C83)","v":""},{"$f":"IF(OR(Accueil!$D$6=\"\",D83=\"\",E83=\"\"),\"\",DATEDIF(E83,LOOKUP(B83,Accueil!$C$30:$C$129,Accueil!$E$30:$E$129),\"m\"))","v":""},{"$f":"IF('CR CF4'!E83=\"\",\"\",'CR CF4'!E83)","v":""},{"$f":"IF('CR CF4'!F83=\"\",\"\",'CR CF4'!F83)","v":""},{"$f":"IF(OR(E83=\"\",H83=\"\"),\"\",VLOOKUP(H83,Détente!$A$2:$BU$157,MATCH(F83,(Détente!$B$1:$BU$1),1)+1))","v":""},{"$f":"IF('CR CF4'!H83=\"\",\"\",'CR CF4'!H83)","v":""},{"$f":"IF(OR(E83=\"\",J83=\"\"),\"\",VLOOKUP(J83,Sautillers!$A$2:$BU$99,MATCH(F83,(Sautillers!$B$1:$BU$1),1)+1))","v":""},{"$f":"IF('CR CF4'!J83=\"\",\"\",'CR CF4'!J83)","v":""},{"$f":"IF(OR(E83=\"\",L83=\"\"),\"\",VLOOKUP(L83,'Course 20 m'!$A$2:$BU$373,MATCH(F83,('Course 20 m'!$B$1:$BU$1),1)+1))","v":""},{"$f":"IF('CR CF4'!L83=\"\",\"\",'CR CF4'!L83)","v":""},{"$f":"IF(OR(E83=\"\",N83=\"\"),\"\",VLOOKUP(N83,'Ecarts D&G'!$A$2:$BU$147,MATCH(F83,('Ecarts D&G'!$B$1:$BU$1),1)+1))","v":""},{"$f":"IF('CR CF4'!N83=\"\",\"\",'CR CF4'!N83)","v":""},{"$f":"IF(OR(E83=\"\",P83=\"\"),\"\",VLOOKUP(P83,'Ecarts D&G'!$A$2:$BU$147,MATCH(F83,('Ecarts D&G'!$B$1:$BU$1),1)+1))","v":""},{"$f":"IF('CR CF4'!P83=\"\",\"\",'CR CF4'!P83)","v":""},{"$f":"IF(OR(E83=\"\",R83=\"\"),\"\",VLOOKUP(R83,'Ecart facial'!$A$2:$BU$143,MATCH(F83,('Ecart facial'!$B$1:$BU$1),1)+1))","v":""},{"$f":"IF('CR CF4'!R83=\"\",\"\",'CR CF4'!R83)","v":""},{"$f":"IF(OR(E83=\"\",T83=\"\"),\"\",VLOOKUP(T83,'Fermeture TJ'!$A$2:$BU$126,MATCH(F83,('Fermeture TJ'!$B$1:$BU$1),1)+1))","v":""},{"$f":"IF('CR CF4'!T83=\"\",\"\",'CR CF4'!T83)","v":""},{"$f":"IF(OR(E83=\"\",V83=\"\"),\"\",VLOOKUP(V83,Pont!$A$2:$BU$188,MATCH(F83,(Pont!$B$1:$BU$1),1)+1))","v":""},{"$f":"IF('CR CF4'!V83=\"\",\"\",'CR CF4'!V83)","v":""},{"$f":"IF(OR(E83=\"\",X83=\"\"),\"\",VLOOKUP(X83,Epaules!$A$2:$BU$76,MATCH(F83,(Epaules!$B$1:$BU$1),1)+1))","v":""},{"$f":"IF('CR CF4'!X83=\"\",\"\",'CR CF4'!X83)","v":""},{"$f":"IF(OR(E83=\"\",Z83=\"\"),\"\",VLOOKUP(Z83,'pointe de pieds'!$A$2:$BU$110,MATCH(F83,('pointe de pieds'!$B$1:$BU$1),1)+1))","v":""},0,{"v":0,"d":"0.00"},null,null,{"v":0,"d":"0.00"},{"$nulls":5},{"v":0,"d":"0.00"},{"$nulls":3},{"v":0,"d":"0.00"},{"v":0,"d":"0.00"},80]
[{"$f":"IF('CR CF4'!A84=\"\",\"\",Accueil!$D$6)","v":""},{"$f":"IF('CR CF4'!A84=\"\",\"\",MATCH('CR CF4'!A84,Accueil!$D$30:$D$129,0))","v":""},{"$f":"IF('CR CF4'!A84=\"\",\"\",'CR CF4'!A84)","v":""},{"$f":"IF('CR CF4'!B84=\"\",\"\",'CR CF4'!B84)","v":""},{"$f":"IF('CR CF4'!C84=\"\",\"\",'CR CF4'!C84)","v":""},{"$f":"IF(OR(Accueil!$D$6=\"\",D84=\"\",E84=\"\"),\"\",DATEDIF(E84,LOOKUP(B84,Accueil!$C$30:$C$129,Accueil!$E$30:$E$129),\"m\"))","v":""},{"$f":"IF('CR CF4'!E84=\"\",\"\",'CR CF4'!E84)","v":""},{"$f":"IF('CR CF4'!F84=\"\",\"\",'CR CF4'!F84)","v":""},{"$f":"IF(OR(E84=\"\",H84=\"\"),\"\",VLOOKUP(H84,Détente!$A$2:$BU$157,MATCH(F84,(Détente!$B$1:$BU$1),1)+1))","v":""},{"$f":"IF('CR CF4'!H84=\"\",\"\",'CR CF4'!H84)","v":""},{"$f":"IF(OR(E84=\"\",J84=\"\"),\"\",VLOOKUP(J84,Sautillers!$A$2:$BU$99,MATCH(F84,(Sautillers!$B$1:$BU$1),1)+1))","v":""},{"$f":"IF('CR CF4'!J84=\"\",\"\",'CR CF4'!J84)","v":""},{"$f":"IF(OR(E84=\"\",L84=\"\"),\"\",VLOOKUP(L84,'Course 20 m'!$A$2:$BU$373,MATCH(F84,('Course 20 m'!$B$1:$BU$1),1)+1))","v":""},{"$f":"IF('CR CF4'!L84=\"\",\"\",'CR CF4'!L84)","v":""},{"$f":"IF(OR(E84=\"\",N84=\"\"),\"\",VLOOKUP(N84,'Ecarts D&G'!$A$2:$BU$147,MATCH(F84,('Ecarts D&G'!$B$1:$BU$1),1)+1))","v":""},{"$f":"IF('CR CF4'!N84=\"\",\"\",'CR CF4'!N84)","v":""},{"$f":"IF(OR(E84=\"\",P84=\"\"),\"\",VLOOKUP(P84,'Ecarts D&G'!$A$2:$BU$147,MATCH(F84,('Ecarts D&G'!$B$1:$BU$1),1)+1))","v":""},{"$f":"IF('CR CF4'!P84=\"\",\"\",'CR CF4'!P84)","v":""},{"$f":"IF(OR(E84=\"\",R84=\"\"),\"\",VLOOKUP(R84,'Ecart facial'!$A$2:$BU$143,MATCH(F84,('Ecart facial'!$B$1:$BU$1),1)+1))","v":""},{"$f":"IF('CR CF4'!R84=\"\",\"\",'CR CF4'!R84)","v":""},{"$f":"IF(OR(E84=\"\",T84=\"\"),\"\",VLOOKUP(T84,'Fermeture TJ'!$A$2:$BU$126,MATCH(F84,('Fermeture TJ'!$B$1:$BU$1),1)+1))","v":""},{"$f":"IF('CR CF4'!T84=\"\",\"\",'CR CF4'!T84)","v":""},{"$f":"IF(OR(E84=\"\",V84=\"\"),\"\",VLOOKUP(V84,Pont!$A$2:$BU$188,MATCH(F84,(Pont!$B$1:$BU$1),1)+1))","v":""},{"$f":"IF('CR CF4'!V84=\"\",\"\",'CR CF4'!V84)","v":""},{"$f":"IF(OR(E84=\"\",X84=\"\"),\"\",VLOOKUP(X84,Epaules!$A$2:$BU$76,MATCH(F84,(Epaules!$B$1:$BU$1),1)+1))","v":""},{"$f":"IF('CR CF4'!X84=\"\",\"\",'CR CF4'!X84)","v":""},{"$f":"IF(OR(E84=\"\",Z84=\"\"),\"\",VLOOKUP(Z84,'pointe de pieds'!$A$2:$BU$110,MATCH(F84,('pointe de pieds'!$B$1:$BU$1),1)+1))","v":""},0,{"v":0,"d":"0.00"},null,null,{"v":0,"d":"0.00"},{"$nulls":5},{"v":0,"d":"0.00"},{"$nulls":3},{"v":0,"d":"0.00"},{"v":0,"d":"0.00"},81]
[{"$f":"IF('CR CF4'!A85=\"\",\"\",Accueil!$D$6)","v":""},{"$f":"IF('CR CF4'!A85=\"\",\"\",MATCH('CR CF4'!A85,Accueil!$D$30:$D$129,0))","v":""},{"$f":"IF('CR CF4'!A85=\"\",\"\",'CR CF4'!A85)","v":""},{"$f":"IF('CR CF4'!B85=\"\",\"\",'CR CF4'!B85)","v":""},{"$f":"IF('CR CF4'!C85=\"\",\"\",'CR CF4'!C85)","v":""},{"$f":"IF(OR(Accueil!$D$6=\"\",D85=\"\",E85=\"\"),\"\",DATEDIF(E85,LOOKUP(B85,Accueil!$C$30:$C$129,Accueil!$E$30:$E$129),\"m\"))","v":""},{"$f":"IF('CR CF4'!E85=\"\",\"\",'CR CF4'!E85)","v":""},{"$f":"IF('CR CF4'!F85=\"\",\"\",'CR CF4'!F85)","v":""},{"$f":"IF(OR(E85=\"\",H85=\"\"),\"\",VLOOKUP(H85,Détente!$A$2:$BU$157,MATCH(F85,(Détente!$B$1:$BU$1),1)+1))","v":""},{"$f":"IF('CR CF4'!H85=\"\",\"\",'CR CF4'!H85)","v":""},{"$f":"IF(OR(E85=\"\",J85=\"\"),\"\",VLOOKUP(J85,Sautillers!$A$2:$BU$99,MATCH(F85,(Sautillers!$B$1:$BU$1),1)+1))","v":""},{"$f":"IF('CR CF4'!J85=\"\",\"\",'CR CF4'!J85)","v":""},{"$f":"IF(OR(E85=\"\",L85=\"\"),\"\",VLOOKUP(L85,'Course 20 m'!$A$2:$BU$373,MATCH(F85,('Course 20 m'!$B$1:$BU$1),1)+1))","v":""},{"$f":"IF('CR CF4'!L85=\"\",\"\",'CR CF4'!L85)","v":""},{"$f":"IF(OR(E85=\"\",N85=\"\"),\"\",VLOOKUP(N85,'Ecarts D&G'!$A$2:$BU$147,MATCH(F85,('Ecarts D&G'!$B$1:$BU$1),1)+1))","v":""},{"$f":"IF('CR CF4'!N85=\"\",\"\",'CR CF4'!N85)","v":""},{"$f":"IF(OR(E85=\"\",P85=\"\"),\"\",VLOOKUP(P85,'Ecarts D&G'!$A$2:$BU$147,MATCH(F85,('Ecarts D&G'!$B$1:$BU$1),1)+1))","v":""},{"$f":"IF('CR CF4'!P85=\"\",\"\",'CR CF4'!P85)","v":""},{"$f":"IF(OR(E85=\"\",R85=\"\"),\"\",VLOOKUP(R85,'Ecart facial'!$A$2:$BU$143,MATCH(F85,('Ecart facial'!$B$1:$BU$1),1)+1))","v":""},{"$f":"IF('CR CF4'!R85=\"\",\"\",'CR CF4'!R85)","v":""},{"$f":"IF(OR(E85=\"\",T85=\"\"),\"\",VLOOKUP(T85,'Fermeture TJ'!$A$2:$BU$126,MATCH(F85,('Fermeture TJ'!$B$1:$BU$1),1)+1))","v":""},{"$f":"IF('CR CF4'!T85=\"\",\"\",'CR CF4'!T85)","v":""},{"$f":"IF(OR(E85=\"\",V85=\"\"),\"\",VLOOKUP(V85,Pont!$A$2:$BU$188,MATCH(F85,(Pont!$B$1:$BU$1),1)+1))","v":""},{"$f":"IF('CR CF4'!V85=\"\",\"\",'CR CF4'!V85)","v":""},{"$f":"IF(OR(E85=\"\",X85=\"\"),\"\",VLOOKUP(X85,Epaules!$A$2:$BU$76,MATCH(F85,(Epaules!$B$1:$BU$1),1)+1))","v":""},{"$f":"IF('CR CF4'!X85=\"\",\"\",'CR CF4'!X85)","v":""},{"$f":"IF(OR(E85=\"\",Z85=\"\"),\"\",VLOOKUP(Z85,'pointe de pieds'!$A$2:$BU$110,MATCH(F85,('pointe de pieds'!$B$1:$BU$1),1)+1))","v":""},0,{"v":0,"d":"0.00"},null,null,{"v":0,"d":"0.00"},{"$nulls":5},{"v":0,"d":"0.00"},{"$nulls":3},{"v":0,"d":"0.00"},{"v":0,"d":"0.00"},82]
[{"$f":"IF('CR CF4'!A86=\"\",\"\",Accueil!$D$6)","v":""},{"$f":"IF('CR CF4'!A86=\"\",\"\",MATCH('CR CF4'!A86,Accueil!$D$30:$D$129,0))","v":""},{"$f":"IF('CR CF4'!A86=\"\",\"\",'CR CF4'!A86)","v":""},{"$f":"IF('CR CF4'!B86=\"\",\"\",'CR CF4'!B86)","v":""},{"$f":"IF('CR CF4'!C86=\"\",\"\",'CR CF4'!C86)","v":""},{"$f":"IF(OR(Accueil!$D$6=\"\",D86=\"\",E86=\"\"),\"\",DATEDIF(E86,LOOKUP(B86,Accueil!$C$30:$C$129,Accueil!$E$30:$E$129),\"m\"))","v":""},{"$f":"IF('CR CF4'!E86=\"\",\"\",'CR CF4'!E86)","v":""},{"$f":"IF('CR CF4'!F86=\"\",\"\",'CR CF4'!F86)","v":""},{"$f":"IF(OR(E86=\"\",H86=\"\"),\"\",VLOOKUP(H86,Détente!$A$2:$BU$157,MATCH(F86,(Détente!$B$1:$BU$1),1)+1))","v":""},{"$f":"IF('CR CF4'!H86=\"\",\"\",'CR CF4'!H86)","v":""},{"$f":"IF(OR(E86=\"\",J86=\"\"),\"\",VLOOKUP(J86,Sautillers!$A$2:$BU$99,MATCH(F86,(Sautillers!$B$1:$BU$1),1)+1))","v":""},{"$f":"IF('CR CF4'!J86=\"\",\"\",'CR CF4'!J86)","v":""},{"$f":"IF(OR(E86=\"\",L86=\"\"),\"\",VLOOKUP(L86,'Course 20 m'!$A$2:$BU$373,MATCH(F86,('Course 20 m'!$B$1:$BU$1),1)+1))","v":""},{"$f":"IF('CR CF4'!L86=\"\",\"\",'CR CF4'!L86)","v":""},{"$f":"IF(OR(E86=\"\",N86=\"\"),\"\",VLOOKUP(N86,'Ecarts D&G'!$A$2:$BU$147,MATCH(F86,('Ecarts D&G'!$B$1:$BU$1),1)+1))","v":""},{"$f":"IF('CR CF4'!N86=\"\",\"\",'CR CF4'!N86)","v":""},{"$f":"IF(OR(E86=\"\",P86=\"\"),\"\",VLOOKUP(P86,'Ecarts D&G'!$A$2:$BU$147,MATCH(F86,('Ecarts D&G'!$B$1:$BU$1),1)+1))","v":""},{"$f":"IF('CR CF4'!P86=\"\",\"\",'CR CF4'!P86)","v":""},{"$f":"IF(OR(E86=\"\",R86=\"\"),\"\",VLOOKUP(R86,'Ecart facial'!$A$2:$BU$143,MATCH(F86,('Ecart facial'!$B$1:$BU$1),1)+1))","v":""},{"$f":"IF('CR CF4'!R86=\"\",\"\",'CR CF4'!R86)","v":""},{"$f":"IF(OR(E86=\"\",T86=\"\"),\"\",VLOOKUP(T86,'Fermeture TJ'!$A$2:$BU$126,MATCH(F86,('Fermeture TJ'!$B$1:$BU$1),1)+1))","v":""},{"$f":"IF('CR CF4'!T86=\"\",\"\",'CR CF4'!T86)","v":""},{"$f":"IF(OR(E86=\"\",V86=\"\"),\"\",VLOOKUP(V86,Pont!$A$2:$BU$188,MATCH(F86,(Pont!$B$1:$BU$1),1)+1))","v":""},{"$f":"IF('CR CF4'!V86=\"\",\"\",'CR CF4'!V86)","v":""},{"$f":"IF(OR(E86=\"\",X86=\"\"),\"\",VLOOKUP(X86,Epaules!$A$2:$BU$76,MATCH(F86,(Epaules!$B$1:$BU$1),1)+1))","v":""},{"$f":"IF('CR CF4'!X86=\"\",\"\",'CR CF4'!X86)","v":""},{"$f":"IF(OR(E86=\"\",Z86=\"\"),\"\",VLOOKUP(Z86,'pointe de pieds'!$A$2:$BU$110,MATCH(F86,('pointe de pieds'!$B$1:$BU$1),1)+1))","v":""},0,{"v":0,"d":"0.00"},null,null,{"v":0,"d":"0.00"},{"$nulls":5},{"v":0,"d":"0.00"},{"$nulls":3},{"v":0,"d":"0.00"},{"v":0,"d":"0.00"},83]
[{"$f":"IF('CR CF4'!A87=\"\",\"\",Accueil!$D$6)","v":""},{"$f":"IF('CR CF4'!A87=\"\",\"\",MATCH('CR CF4'!A87,Accueil!$D$30:$D$129,0))","v":""},{"$f":"IF('CR CF4'!A87=\"\",\"\",'CR CF4'!A87)","v":""},{"$f":"IF('CR CF4'!B87=\"\",\"\",'CR CF4'!B87)","v":""},{"$f":"IF('CR CF4'!C87=\"\",\"\",'CR CF4'!C87)","v":""},{"$f":"IF(OR(Accueil!$D$6=\"\",D87=\"\",E87=\"\"),\"\",DATEDIF(E87,LOOKUP(B87,Accueil!$C$30:$C$129,Accueil!$E$30:$E$129),\"m\"))","v":""},{"$f":"IF('CR CF4'!E87=\"\",\"\",'CR CF4'!E87)","v":""},{"$f":"IF('CR CF4'!F87=\"\",\"\",'CR CF4'!F87)","v":""},{"$f":"IF(OR(E87=\"\",H87=\"\"),\"\",VLOOKUP(H87,Détente!$A$2:$BU$157,MATCH(F87,(Détente!$B$1:$BU$1),1)+1))","v":""},{"$f":"IF('CR CF4'!H87=\"\",\"\",'CR CF4'!H87)","v":""},{"$f":"IF(OR(E87=\"\",J87=\"\"),\"\",VLOOKUP(J87,Sautillers!$A$2:$BU$99,MATCH(F87,(Sautillers!$B$1:$BU$1),1)+1))","v":""},{"$f":"IF('CR CF4'!J87=\"\",\"\",'CR CF4'!J87)","v":""},{"$f":"IF(OR(E87=\"\",L87=\"\"),\"\",VLOOKUP(L87,'Course 20 m'!$A$2:$BU$373,MATCH(F87,('Course 20 m'!$B$1:$BU$1),1)+1))","v":""},{"$f":"IF('CR CF4'!L87=\"\",\"\",'CR CF4'!L87)","v":""},{"$f":"IF(OR(E87=\"\",N87=\"\"),\"\",VLOOKUP(N87,'Ecarts D&G'!$A$2:$BU$147,MATCH(F87,('Ecarts D&G'!$B$1:$BU$1),1)+1))","v":""},{"$f":"IF('CR CF4'!N87=\"\",\"\",'CR CF4'!N87)","v":""},{"$f":"IF(OR(E87=\"\",P87=\"\"),\"\",VLOOKUP(P87,'Ecarts D&G'!$A$2:$BU$147,MATCH(F87,('Ecarts D&G'!$B$1:$BU$1),1)+1))","v":""},{"$f":"IF('CR CF4'!P87=\"\",\"\",'CR CF4'!P87)","v":""},{"$f":"IF(OR(E87=\"\",R87=\"\"),\"\",VLOOKUP(R87,'Ecart facial'!$A$2:$BU$143,MATCH(F87,('Ecart facial'!$B$1:$BU$1),1)+1))","v":""},{"$f":"IF('CR CF4'!R87=\"\",\"\",'CR CF4'!R87)","v":""},{"$f":"IF(OR(E87=\"\",T87=\"\"),\"\",VLOOKUP(T87,'Fermeture TJ'!$A$2:$BU$126,MATCH(F87,('Fermeture TJ'!$B$1:$BU$1),1)+1))","v":""},{"$f":"IF('CR CF4'!T87=\"\",\"\",'CR CF4'!T87)","v":""},{"$f":"IF(OR(E87=\"\",V87=\"\"),\"\",VLOOKUP(V87,Pont!$A$2:$BU$188,MATCH(F87,(Pont!$B$1:$BU$1),1)+1))","v":""},{"$f":"IF('CR CF4'!V87=\"\",\"\",'CR CF4'!V87)","v":""},{"$f":"IF(OR(E87=\"\",X87=\"\"),\"\",VLOOKUP(X87,Epaules!$A$2:$BU$76,MATCH(F87,(Epaules!$B$1:$BU$1),1)+1))","v":""},{"$f":"IF('CR CF4'!X87=\"\",\"\",'CR CF4'!X87)","v":""},{"$f":"IF(OR(E87=\"\",Z87=\"\"),\"\",VLOOKUP(Z87,'pointe de pieds'!$A$2:$BU$110,MATCH(F87,('pointe de pieds'!$B$1:$BU$1),1)+1))","v":""},0,{"v":0,"d":"0.00"},null,null,{"v":0,"d":"0.00"},{"$nulls":5},{"v":0,"d":"0.00"},{"$nulls":3},{"v":0,"d":"0.00"},{"v":0,"d":"0.00"},84]
[{"$f":"IF('CR CF4'!A88=\"\",\"\",Accueil!$D$6)","v":""},{"$f":"IF('CR CF4'!A88=\"\",\"\",MATCH('CR CF4'!A88,Accueil!$D$30:$D$129,0))","v":""},{"$f":"IF('CR CF4'!A88=\"\",\"\",'CR CF4'!A88)","v":""},{"$f":"IF('CR CF4'!B88=\"\",\"\",'CR CF4'!B88)","v":""},{"$f":"IF('CR CF4'!C88=\"\",\"\",'CR CF4'!C88)","v":""},{"$f":"IF(OR(Accueil!$D$6=\"\",D88=\"\",E88=\"\"),\"\",DATEDIF(E88,LOOKUP(B88,Accueil!$C$30:$C$129,Accueil!$E$30:$E$129),\"m\"))","v":""},{"$f":"IF('CR CF4'!E88=\"\",\"\",'CR CF4'!E88)","v":""},{"$f":"IF('CR CF4'!F88=\"\",\"\",'CR CF4'!F88)","v":""},{"$f":"IF(OR(E88=\"\",H88=\"\"),\"\",VLOOKUP(H88,Détente!$A$2:$BU$157,MATCH(F88,(Détente!$B$1:$BU$1),1)+1))","v":""},{"$f":"IF('CR CF4'!H88=\"\",\"\",'CR CF4'!H88)","v":""},{"$f":"IF(OR(E88=\"\",J88=\"\"),\"\",VLOOKUP(J88,Sautillers!$A$2:$BU$99,MATCH(F88,(Sautillers!$B$1:$BU$1),1)+1))","v":""},{"$f":"IF('CR CF4'!J88=\"\",\"\",'CR CF4'!J88)","v":""},{"$f":"IF(OR(E88=\"\",L88=\"\"),\"\",VLOOKUP(L88,'Course 20 m'!$A$2:$BU$373,MATCH(F88,('Course 20 m'!$B$1:$BU$1),1)+1))","v":""},{"$f":"IF('CR CF4'!L88=\"\",\"\",'CR CF4'!L88)","v":""},{"$f":"IF(OR(E88=\"\",N88=\"\"),\"\",VLOOKUP(N88,'Ecarts D&G'!$A$2:$BU$147,MATCH(F88,('Ecarts D&G'!$B$1:$BU$1),1)+1))","v":""},{"$f":"IF('CR CF4'!N88=\"\",\"\",'CR CF4'!N88)","v":""},{"$f":"IF(OR(E88=\"\",P88=\"\"),\"\",VLOOKUP(P88,'Ecarts D&G'!$A$2:$BU$147,MATCH(F88,('Ecarts D&G'!$B$1:$BU$1),1)+1))","v":""},{"$f":"IF('CR CF4'!P88=\"\",\"\",'CR CF4'!P88)","v":""},{"$f":"IF(OR(E88=\"\",R88=\"\"),\"\",VLOOKUP(R88,'Ecart facial'!$A$2:$BU$143,MATCH(F88,('Ecart facial'!$B$1:$BU$1),1)+1))","v":""},{"$f":"IF('CR CF4'!R88=\"\",\"\",'CR CF4'!R88)","v":""},{"$f":"IF(OR(E88=\"\",T88=\"\"),\"\",VLOOKUP(T88,'Fermeture TJ'!$A$2:$BU$126,MATCH(F88,('Fermeture TJ'!$B$1:$BU$1),1)+1))","v":""},{"$f":"IF('CR CF4'!T88=\"\",\"\",'CR CF4'!T88)","v":""},{"$f":"IF(OR(E88=\"\",V88=\"\"),\"\",VLOOKUP(V88,Pont!$A$2:$BU$188,MATCH(F88,(Pont!$B$1:$BU$1),1)+1))","v":""},{"$f":"IF('CR CF4'!V88=\"\",\"\",'CR CF4'!V88)","v":""},{"$f":"IF(OR(E88=\"\",X88=\"\"),\"\",VLOOKUP(X88,Epaules!$A$2:$BU$76,MATCH(F88,(Epaules!$B$1:$BU$1),1)+1))","v":""},{"$f":"IF('CR CF4'!X88=\"\",\"\",'CR CF4'!X88)","v":""},{"$f":"IF(OR(E88=\"\",Z88=\"\"),\"\",VLOOKUP(Z88,'pointe de pieds'!$A$2:$BU$110,MATCH(F88,('pointe de pieds'!$B$1:$BU$1),1)+1))","v":""},0,{"v":0,"d":"0.00"},null,null,{"v":0,"d":"0.00"},{"$nulls":5},{"v":0,"d":"0.00"},{"$nulls":3},{"v":0,"d":"0.00"},{"v":0,"d":"0.00"},85]
[{"$f":"IF('CR CF4'!A89=\"\",\"\",Accueil!$D$6)","v":""},{"$f":"IF('CR CF4'!A89=\"\",\"\",MATCH('CR CF4'!A89,Accueil!$D$30:$D$129,0))","v":""},{"$f":"IF('CR CF4'!A89=\"\",\"\",'CR CF4'!A89)","v":""},{"$f":"IF('CR CF4'!B89=\"\",\"\",'CR CF4'!B89)","v":""},{"$f":"IF('CR CF4'!C89=\"\",\"\",'CR CF4'!C89)","v":""},{"$f":"IF(OR(Accueil!$D$6=\"\",D89=\"\",E89=\"\"),\"\",DATEDIF(E89,LOOKUP(B89,Accueil!$C$30:$C$129,Accueil!$E$30:$E$129),\"m\"))","v":""},{"$f":"IF('CR CF4'!E89=\"\",\"\",'CR CF4'!E89)","v":""},{"$f":"IF('CR CF4'!F89=\"\",\"\",'CR CF4'!F89)","v":""},{"$f":"IF(OR(E89=\"\",H89=\"\"),\"\",VLOOKUP(H89,Détente!$A$2:$BU$157,MATCH(F89,(Détente!$B$1:$BU$1),1)+1))","v":""},{"$f":"IF('CR CF4'!H89=\"\",\"\",'CR CF4'!H89)","v":""},{"$f":"IF(OR(E89=\"\",J89=\"\"),\"\",VLOOKUP(J89,Sautillers!$A$2:$BU$99,MATCH(F89,(Sautillers!$B$1:$BU$1),1)+1))","v":""},{"$f":"IF('CR CF4'!J89=\"\",\"\",'CR CF4'!J89)","v":""},{"$f":"IF(OR(E89=\"\",L89=\"\"),\"\",VLOOKUP(L89,'Course 20 m'!$A$2:$BU$373,MATCH(F89,('Course 20 m'!$B$1:$BU$1),1)+1))","v":""},{"$f":"IF('CR CF4'!L89=\"\",\"\",'CR CF4'!L89)","v":""},{"$f":"IF(OR(E89=\"\",N89=\"\"),\"\",VLOOKUP(N89,'Ecarts D&G'!$A$2:$BU$147,MATCH(F89,('Ecarts D&G'!$B$1:$BU$1),1)+1))","v":""},{"$f":"IF('CR CF4'!N89=\"\",\"\",'CR CF4'!N89)","v":""},{"$f":"IF(OR(E89=\"\",P89=\"\"),\"\",VLOOKUP(P89,'Ecarts D&G'!$A$2:$BU$147,MATCH(F89,('Ecarts D&G'!$B$1:$BU$1),1)+1))","v":""},{"$f":"IF('CR CF4'!P89=\"\",\"\",'CR CF4'!P89)","v":""},{"$f":"IF(OR(E89=\"\",R89=\"\"),\"\",VLOOKUP(R89,'Ecart facial'!$A$2:$BU$143,MATCH(F89,('Ecart facial'!$B$1:$BU$1),1)+1))","v":""},{"$f":"IF('CR CF4'!R89=\"\",\"\",'CR CF4'!R89)","v":""},{"$f":"IF(OR(E89=\"\",T89=\"\"),\"\",VLOOKUP(T89,'Fermeture TJ'!$A$2:$BU$126,MATCH(F89,('Fermeture TJ'!$B$1:$BU$1),1)+1))","v":""},{"$f":"IF('CR CF4'!T89=\"\",\"\",'CR CF4'!T89)","v":""},{"$f":"IF(OR(E89=\"\",V89=\"\"),\"\",VLOOKUP(V89,Pont!$A$2:$BU$188,MATCH(F89,(Pont!$B$1:$BU$1),1)+1))","v":""},{"$f":"IF('CR CF4'!V89=\"\",\"\",'CR CF4'!V89)","v":""},{"$f":"IF(OR(E89=\"\",X89=\"\"),\"\",VLOOKUP(X89,Epaules!$A$2:$BU$76,MATCH(F89,(Epaules!$B$1:$BU$1),1)+1))","v":""},{"$f":"IF('CR CF4'!X89=\"\",\"\",'CR CF4'!X89)","v":""},{"$f":"IF(OR(E89=\"\",Z89=\"\"),\"\",VLOOKUP(Z89,'pointe de pieds'!$A$2:$BU$110,MATCH(F89,('pointe de pieds'!$B$1:$BU$1),1)+1))","v":""},0,{"v":0,"d":"0.00"},null,null,{"v":0,"d":"0.00"},{"$nulls":5},{"v":0,"d":"0.00"},{"$nulls":3},{"v":0,"d":"0.00"},{"v":0,"d":"0.00"},86]
[{"$f":"IF('CR CF4'!A90=\"\",\"\",Accueil!$D$6)","v":""},{"$f":"IF('CR CF4'!A90=\"\",\"\",MATCH('CR CF4'!A90,Accueil!$D$30:$D$129,0))","v":""},{"$f":"IF('CR CF4'!A90=\"\",\"\",'CR CF4'!A90)","v":""},{"$f":"IF('CR CF4'!B90=\"\",\"\",'CR CF4'!B90)","v":""},{"$f":"IF('CR CF4'!C90=\"\",\"\",'CR CF4'!C90)","v":""},{"$f":"IF(OR(Accueil!$D$6=\"\",D90=\"\",E90=\"\"),\"\",DATEDIF(E90,LOOKUP(B90,Accueil!$C$30:$C$129,Accueil!$E$30:$E$129),\"m\"))","v":""},{"$f":"IF('CR CF4'!E90=\"\",\"\",'CR CF4'!E90)","v":""},{"$f":"IF('CR CF4'!F90=\"\",\"\",'CR CF4'!F90)","v":""},{"$f":"IF(OR(E90=\"\",H90=\"\"),\"\",VLOOKUP(H90,Détente!$A$2:$BU$157,MATCH(F90,(Détente!$B$1:$BU$1),1)+1))","v":""},{"$f":"IF('CR CF4'!H90=\"\",\"\",'CR CF4'!H90)","v":""},{"$f":"IF(OR(E90=\"\",J90=\"\"),\"\",VLOOKUP(J90,Sautillers!$A$2:$BU$99,MATCH(F90,(Sautillers!$B$1:$BU$1),1)+1))","v":""},{"$f":"IF('CR CF4'!J90=\"\",\"\",'CR CF4'!J90)","v":""},{"$f":"IF(OR(E90=\"\",L90=\"\"),\"\",VLOOKUP(L90,'Course 20 m'!$A$2:$BU$373,MATCH(F90,('Course 20 m'!$B$1:$BU$1),1)+1))","v":""},{"$f":"IF('CR CF4'!L90=\"\",\"\",'CR CF4'!L90)","v":""},{"$f":"IF(OR(E90=\"\",N90=\"\"),\"\",VLOOKUP(N90,'Ecarts D&G'!$A$2:$BU$147,MATCH(F90,('Ecarts D&G'!$B$1:$BU$1),1)+1))","v":""},{"$f":"IF('CR CF4'!N90=\"\",\"\",'CR CF4'!N90)","v":""},{"$f":"IF(OR(E90=\"\",P90=\"\"),\"\",VLOOKUP(P90,'Ecarts D&G'!$A$2:$BU$147,MATCH(F90,('Ecarts D&G'!$B$1:$BU$1),1)+1))","v":""},{"$f":"IF('CR CF4'!P90=\"\",\"\",'CR CF4'!P90)","v":""},{"$f":"IF(OR(E90=\"\",R90=\"\"),\"\",VLOOKUP(R90,'Ecart facial'!$A$2:$BU$143,MATCH(F90,('Ecart facial'!$B$1:$BU$1),1)+1))","v":""},{"$f":"IF('CR CF4'!R90=\"\",\"\",'CR CF4'!R90)","v":""},{"$f":"IF(OR(E90=\"\",T90=\"\"),\"\",VLOOKUP(T90,'Fermeture TJ'!$A$2:$BU$126,MATCH(F90,('Fermeture TJ'!$B$1:$BU$1),1)+1))","v":""},{"$f":"IF('CR CF4'!T90=\"\",\"\",'CR CF4'!T90)","v":""},{"$f":"IF(OR(E90=\"\",V90=\"\"),\"\",VLOOKUP(V90,Pont!$A$2:$BU$188,MATCH(F90,(Pont!$B$1:$BU$1),1)+1))","v":""},{"$f":"IF('CR CF4'!V90=\"\",\"\",'CR CF4'!V90)","v":""},{"$f":"IF(OR(E90=\"\",X90=\"\"),\"\",VLOOKUP(X90,Epaules!$A$2:$BU$76,MATCH(F90,(Epaules!$B$1:$BU$1),1)+1))","v":""},{"$f":"IF('CR CF4'!X90=\"\",\"\",'CR CF4'!X90)","v":""},{"$f":"IF(OR(E90=\"\",Z90=\"\"),\"\",VLOOKUP(Z90,'pointe de pieds'!$A$2:$BU$110,MATCH(F90,('pointe de pieds'!$B$1:$BU$1),1)+1))","v":""},0,{"v":0,"d":"0.00"},null,null,{"v":0,"d":"0.00"},{"$nulls":5},{"v":0,"d":"0.00"},{"$nulls":3},{"v":0,"d":"0.00"},{"v":0,"d":"0.00"},87]
[{"$f":"IF('CR CF4'!A91=\"\",\"\",Accueil!$D$6)","v":""},{"$f":"IF('CR CF4'!A91=\"\",\"\",MATCH('CR CF4'!A91,Accueil!$D$30:$D$129,0))","v":""},{"$f":"IF('CR CF4'!A91=\"\",\"\",'CR CF4'!A91)","v":""},{"$f":"IF('CR CF4'!B91=\"\",\"\",'CR CF4'!B91)","v":""},{"$f":"IF('CR CF4'!C91=\"\",\"\",'CR CF4'!C91)","v":""},{"$f":"IF(OR(Accueil!$D$6=\"\",D91=\"\",E91=\"\"),\"\",DATEDIF(E91,LOOKUP(B91,Accueil!$C$30:$C$129,Accueil!$E$30:$E$129),\"m\"))","v":""},{"$f":"IF('CR CF4'!E91=\"\",\"\",'CR CF4'!E91)","v":""},{"$f":"IF('CR CF4'!F91=\"\",\"\",'CR CF4'!F91)","v":""},{"$f":"IF(OR(E91=\"\",H91=\"\"),\"\",VLOOKUP(H91,Détente!$A$2:$BU$157,MATCH(F91,(Détente!$B$1:$BU$1),1)+1))","v":""},{"$f":"IF('CR CF4'!H91=\"\",\"\",'CR CF4'!H91)","v":""},{"$f":"IF(OR(E91=\"\",J91=\"\"),\"\",VLOOKUP(J91,Sautillers!$A$2:$BU$99,MATCH(F91,(Sautillers!$B$1:$BU$1),1)+1))","v":""},{"$f":"IF('CR CF4'!J91=\"\",\"\",'CR CF4'!J91)","v":""},{"$f":"IF(OR(E91=\"\",L91=\"\"),\"\",VLOOKUP(L91,'Course 20 m'!$A$2:$BU$373,MATCH(F91,('Course 20 m'!$B$1:$BU$1),1)+1))","v":""},{"$f":"IF('CR CF4'!L91=\"\",\"\",'CR CF4'!L91)","v":""},{"$f":"IF(OR(E91=\"\",N91=\"\"),\"\",VLOOKUP(N91,'Ecarts D&G'!$A$2:$BU$147,MATCH(F91,('Ecarts D&G'!$B$1:$BU$1),1)+1))","v":""},{"$f":"IF('CR CF4'!N91=\"\",\"\",'CR CF4'!N91)","v":""},{"$f":"IF(OR(E91=\"\",P91=\"\"),\"\",VLOOKUP(P91,'Ecarts D&G'!$A$2:$BU$147,MATCH(F91,('Ecarts D&G'!$B$1:$BU$1),1)+1))","v":""},{"$f":"IF('CR CF4'!P91=\"\",\"\",'CR CF4'!P91)","v":""},{"$f":"IF(OR(E91=\"\",R91=\"\"),\"\",VLOOKUP(R91,'Ecart facial'!$A$2:$BU$143,MATCH(F91,('Ecart facial'!$B$1:$BU$1),1)+1))","v":""},{"$f":"IF('CR CF4'!R91=\"\",\"\",'CR CF4'!R91)","v":""},{"$f":"IF(OR(E91=\"\",T91=\"\"),\"\",VLOOKUP(T91,'Fermeture TJ'!$A$2:$BU$126,MATCH(F91,('Fermeture TJ'!$B$1:$BU$1),1)+1))","v":""},{"$f":"IF('CR CF4'!T91=\"\",\"\",'CR CF4'!T91)","v":""},{"$f":"IF(OR(E91=\"\",V91=\"\"),\"\",VLOOKUP(V91,Pont!$A$2:$BU$188,MATCH(F91,(Pont!$B$1:$BU$1),1)+1))","v":""},{"$f":"IF('CR CF4'!V91=\"\",\"\",'CR CF4'!V91)","v":""},{"$f":"IF(OR(E91=\"\",X91=\"\"),\"\",VLOOKUP(X91,Epaules!$A$2:$BU$76,MATCH(F91,(Epaules!$B$1:$BU$1),1)+1))","v":""},{"$f":"IF('CR CF4'!X91=\"\",\"\",'CR CF4'!X91)","v":""},{"$f":"IF(OR(E91=\"\",Z91=\"\"),\"\",VLOOKUP(Z91,'pointe de pieds'!$A$2:$BU$110,MATCH(F91,('pointe de pieds'!$B$1:$BU$1),1)+1))","v":""},0,{"v":0,"d":"0.00"},null,null,{"v":0,"d":"0.00"},{"$nulls":5},{"v":0,"d":"0.00"},{"$nulls":3},{"v":0,"d":"0.00"},{"v":0,"d":"0.00"},88]
[{"$f":"IF('CR CF4'!A92=\"\",\"\",Accueil!$D$6)","v":""},{"$f":"IF('CR CF4'!A92=\"\",\"\",MATCH('CR CF4'!A92,Accueil!$D$30:$D$129,0))","v":""},{"$f":"IF('CR CF4'!A92=\"\",\"\",'CR CF4'!A92)","v":""},{"$f":"IF('CR CF4'!B92=\"\",\"\",'CR CF4'!B92)","v":""},{"$f":"IF('CR CF4'!C92=\"\",\"\",'CR CF4'!C92)","v":""},{"$f":"IF(OR(Accueil!$D$6=\"\",D92=\"\",E92=\"\"),\"\",DATEDIF(E92,LOOKUP(B92,Accueil!$C$30:$C$129,Accueil!$E$30:$E$129),\"m\"))","v":""},{"$f":"IF('CR CF4'!E92=\"\",\"\",'CR CF4'!E92)","v":""},{"$f":"IF('CR CF4'!F92=\"\",\"\",'CR CF4'!F92)","v":""},{"$f":"IF(OR(E92=\"\",H92=\"\"),\"\",VLOOKUP(H92,Détente!$A$2:$BU$157,MATCH(F92,(Détente!$B$1:$BU$1),1)+1))","v":""},{"$f":"IF('CR CF4'!H92=\"\",\"\",'CR CF4'!H92)","v":""},{"$f":"IF(OR(E92=\"\",J92=\"\"),\"\",VLOOKUP(J92,Sautillers!$A$2:$BU$99,MATCH(F92,(Sautillers!$B$1:$BU$1),1)+1))","v":""},{"$f":"IF('CR CF4'!J92=\"\",\"\",'CR CF4'!J92)","v":""},{"$f":"IF(OR(E92=\"\",L92=\"\"),\"\",VLOOKUP(L92,'Course 20 m'!$A$2:$BU$373,MATCH(F92,('Course 20 m'!$B$1:$BU$1),1)+1))","v":""},{"$f":"IF('CR CF4'!L92=\"\",\"\",'CR CF4'!L92)","v":""},{"$f":"IF(OR(E92=\"\",N92=\"\"),\"\",VLOOKUP(N92,'Ecarts D&G'!$A$2:$BU$147,MATCH(F92,('Ecarts D&G'!$B$1:$BU$1),1)+1))","v":""},{"$f":"IF('CR CF4'!N92=\"\",\"\",'CR CF4'!N92)","v":""},{"$f":"IF(OR(E92=\"\",P92=\"\"),\"\",VLOOKUP(P92,'Ecarts D&G'!$A$2:$BU$147,MATCH(F92,('Ecarts D&G'!$B$1:$BU$1),1)+1))","v":""},{"$f":"IF('CR CF4'!P92=\"\",\"\",'CR CF4'!P92)","v":""},{"$f":"IF(OR(E92=\"\",R92=\"\"),\"\",VLOOKUP(R92,'Ecart facial'!$A$2:$BU$143,MATCH(F92,('Ecart facial'!$B$1:$BU$1),1)+1))","v":""},{"$f":"IF('CR CF4'!R92=\"\",\"\",'CR CF4'!R92)","v":""},{"$f":"IF(OR(E92=\"\",T92=\"\"),\"\",VLOOKUP(T92,'Fermeture TJ'!$A$2:$BU$126,MATCH(F92,('Fermeture TJ'!$B$1:$BU$1),1)+1))","v":""},{"$f":"IF('CR CF4'!T92=\"\",\"\",'CR CF4'!T92)","v":""},{"$f":"IF(OR(E92=\"\",V92=\"\"),\"\",VLOOKUP(V92,Pont!$A$2:$BU$188,MATCH(F92,(Pont!$B$1:$BU$1),1)+1))","v":""},{"$f":"IF('CR CF4'!V92=\"\",\"\",'CR CF4'!V92)","v":""},{"$f":"IF(OR(E92=\"\",X92=\"\"),\"\",VLOOKUP(X92,Epaules!$A$2:$BU$76,MATCH(F92,(Epaules!$B$1:$BU$1),1)+1))","v":""},{"$f":"IF('CR CF4'!X92=\"\",\"\",'CR CF4'!X92)","v":""},{"$f":"IF(OR(E92=\"\",Z92=\"\"),\"\",VLOOKUP(Z92,'pointe de pieds'!$A$2:$BU$110,MATCH(F92,('pointe de pieds'!$B$1:$BU$1),1)+1))","v":""},0,{"v":0,"d":"0.00"},null,null,{"v":0,"d":"0.00"},{"$nulls":5},{"v":0,"d":"0.00"},{"$nulls":3},{"v":0,"d":"0.00"},{"v":0,"d":"0.00"},89]
[{"$f":"IF('CR CF4'!A93=\"\",\"\",Accueil!$D$6)","v":""},{"$f":"IF('CR CF4'!A93=\"\",\"\",MATCH('CR CF4'!A93,Accueil!$D$30:$D$129,0))","v":""},{"$f":"IF('CR CF4'!A93=\"\",\"\",'CR CF4'!A93)","v":""},{"$f":"IF('CR CF4'!B93=\"\",\"\",'CR CF4'!B93)","v":""},{"$f":"IF('CR CF4'!C93=\"\",\"\",'CR CF4'!C93)","v":""},{"$f":"IF(OR(Accueil!$D$6=\"\",D93=\"\",E93=\"\"),\"\",DATEDIF(E93,LOOKUP(B93,Accueil!$C$30:$C$129,Accueil!$E$30:$E$129),\"m\"))","v":""},{"$f":"IF('CR CF4'!E93=\"\",\"\",'CR CF4'!E93)","v":""},{"$f":"IF('CR CF4'!F93=\"\",\"\",'CR CF4'!F93)","v":""},{"$f":"IF(OR(E93=\"\",H93=\"\"),\"\",VLOOKUP(H93,Détente!$A$2:$BU$157,MATCH(F93,(Détente!$B$1:$BU$1),1)+1))","v":""},{"$f":"IF('CR CF4'!H93=\"\",\"\",'CR CF4'!H93)","v":""},{"$f":"IF(OR(E93=\"\",J93=\"\"),\"\",VLOOKUP(J93,Sautillers!$A$2:$BU$99,MATCH(F93,(Sautillers!$B$1:$BU$1),1)+1))","v":""},{"$f":"IF('CR CF4'!J93=\"\",\"\",'CR CF4'!J93)","v":""},{"$f":"IF(OR(E93=\"\",L93=\"\"),\"\",VLOOKUP(L93,'Course 20 m'!$A$2:$BU$373,MATCH(F93,('Course 20 m'!$B$1:$BU$1),1)+1))","v":""},{"$f":"IF('CR CF4'!L93=\"\",\"\",'CR CF4'!L93)","v":""},{"$f":"IF(OR(E93=\"\",N93=\"\"),\"\",VLOOKUP(N93,'Ecarts D&G'!$A$2:$BU$147,MATCH(F93,('Ecarts D&G'!$B$1:$BU$1),1)+1))","v":""},{"$f":"IF('CR CF4'!N93=\"\",\"\",'CR CF4'!N93)","v":""},{"$f":"IF(OR(E93=\"\",P93=\"\"),\"\",VLOOKUP(P93,'Ecarts D&G'!$A$2:$BU$147,MATCH(F93,('Ecarts D&G'!$B$1:$BU$1),1)+1))","v":""},{"$f":"IF('CR CF4'!P93=\"\",\"\",'CR CF4'!P93)","v":""},{"$f":"IF(OR(E93=\"\",R93=\"\"),\"\",VLOOKUP(R93,'Ecart facial'!$A$2:$BU$143,MATCH(F93,('Ecart facial'!$B$1:$BU$1),1)+1))","v":""},{"$f":"IF('CR CF4'!R93=\"\",\"\",'CR CF4'!R93)","v":""},{"$f":"IF(OR(E93=\"\",T93=\"\"),\"\",VLOOKUP(T93,'Fermeture TJ'!$A$2:$BU$126,MATCH(F93,('Fermeture TJ'!$B$1:$BU$1),1)+1))","v":""},{"$f":"IF('CR CF4'!T93=\"\",\"\",'CR CF4'!T93)","v":""},{"$f":"IF(OR(E93=\"\",V93=\"\"),\"\",VLOOKUP(V93,Pont!$A$2:$BU$188,MATCH(F93,(Pont!$B$1:$BU$1),1)+1))","v":""},{"$f":"IF('CR CF4'!V93=\"\",\"\",'CR CF4'!V93)","v":""},{"$f":"IF(OR(E93=\"\",X93=\"\"),\"\",VLOOKUP(X93,Epaules!$A$2:$BU$76,MATCH(F93,(Epaules!$B$1:$BU$1),1)+1))","v":""},{"$f":"IF('CR CF4'!X93=\"\",\"\",'CR CF4'!X93)","v":""},{"$f":"IF(OR(E93=\"\",Z93=\"\"),\"\",VLOOKUP(Z93,'pointe de pieds'!$A$2:$BU$110,MATCH(F93,('pointe de pieds'!$B$1:$BU$1),1)+1))","v":""},0,{"v":0,"d":"0.00"},null,null,{"v":0,"d":"0.00"},{"$nulls":5},{"v":0,"d":"0.00"},{"$nulls":3},{"v":0,"d":"0.00"},{"v":0,"d":"0.00"},90]
[{"$f":"IF('CR CF4'!A94=\"\",\"\",Accueil!$D$6)","v":""},{"$f":"IF('CR CF4'!A94=\"\",\"\",MATCH('CR CF4'!A94,Accueil!$D$30:$D$129,0))","v":""},{"$f":"IF('CR CF4'!A94=\"\",\"\",'CR CF4'!A94)","v":""},{"$f":"IF('CR CF4'!B94=\"\",\"\",'CR CF4'!B94)","v":""},{"$f":"IF('CR CF4'!C94=\"\",\"\",'CR CF4'!C94)","v":""},{"$f":"IF(OR(Accueil!$D$6=\"\",D94=\"\",E94=\"\"),\"\",DATEDIF(E94,LOOKUP(B94,Accueil!$C$30:$C$129,Accueil!$E$30:$E$129),\"m\"))","v":""},{"$f":"IF('CR CF4'!E94=\"\",\"\",'CR CF4'!E94)","v":""},{"$f":"IF('CR CF4'!F94=\"\",\"\",'CR CF4'!F94)","v":""},{"$f":"IF(OR(E94=\"\",H94=\"\"),\"\",VLOOKUP(H94,Détente!$A$2:$BU$157,MATCH(F94,(Détente!$B$1:$BU$1),1)+1))","v":""},{"$f":"IF('CR CF4'!H94=\"\",\"\",'CR CF4'!H94)","v":""},{"$f":"IF(OR(E94=\"\",J94=\"\"),\"\",VLOOKUP(J94,Sautillers!$A$2:$BU$99,MATCH(F94,(Sautillers!$B$1:$BU$1),1)+1))","v":""},{"$f":"IF('CR CF4'!J94=\"\",\"\",'CR CF4'!J94)","v":""},{"$f":"IF(OR(E94=\"\",L94=\"\"),\"\",VLOOKUP(L94,'Course 20 m'!$A$2:$BU$373,MATCH(F94,('Course 20 m'!$B$1:$BU$1),1)+1))","v":""},{"$f":"IF('CR CF4'!L94=\"\",\"\",'CR CF4'!L94)","v":""},{"$f":"IF(OR(E94=\"\",N94=\"\"),\"\",VLOOKUP(N94,'Ecarts D&G'!$A$2:$BU$147,MATCH(F94,('Ecarts D&G'!$B$1:$BU$1),1)+1))","v":""},{"$f":"IF('CR CF4'!N94=\"\",\"\",'CR CF4'!N94)","v":""},{"$f":"IF(OR(E94=\"\",P94=\"\"),\"\",VLOOKUP(P94,'Ecarts D&G'!$A$2:$BU$147,MATCH(F94,('Ecarts D&G'!$B$1:$BU$1),1)+1))","v":""},{"$f":"IF('CR CF4'!P94=\"\",\"\",'CR CF4'!P94)","v":""},{"$f":"IF(OR(E94=\"\",R94=\"\"),\"\",VLOOKUP(R94,'Ecart facial'!$A$2:$BU$143,MATCH(F94,('Ecart facial'!$B$1:$BU$1),1)+1))","v":""},{"$f":"IF('CR CF4'!R94=\"\",\"\",'CR CF4'!R94)","v":""},{"$f":"IF(OR(E94=\"\",T94=\"\"),\"\",VLOOKUP(T94,'Fermeture TJ'!$A$2:$BU$126,MATCH(F94,('Fermeture TJ'!$B$1:$BU$1),1)+1))","v":""},{"$f":"IF('CR CF4'!T94=\"\",\"\",'CR CF4'!T94)","v":""},{"$f":"IF(OR(E94=\"\",V94=\"\"),\"\",VLOOKUP(V94,Pont!$A$2:$BU$188,MATCH(F94,(Pont!$B$1:$BU$1),1)+1))","v":""},{"$f":"IF('CR CF4'!V94=\"\",\"\",'CR CF4'!V94)","v":""},{"$f":"IF(OR(E94=\"\",X94=\"\"),\"\",VLOOKUP(X94,Epaules!$A$2:$BU$76,MATCH(F94,(Epaules!$B$1:$BU$1),1)+1))","v":""},{"$f":"IF('CR CF4'!X94=\"\",\"\",'CR CF4'!X94)","v":""},{"$f":"IF(OR(E94=\"\",Z94=\"\"),\"\",VLOOKUP(Z94,'pointe de pieds'!$A$2:$BU$110,MATCH(F94,('pointe de pieds'!$B$1:$BU$1),1)+1))","v":""},0,{"v":0,"d":"0.00"},null,null,{"v":0,"d":"0.00"},{"$nulls":5},{"v":0,"d":"0.00"},{"$nulls":3},{"v":0,"d":"0.00"},{"v":0,"d":"0.00"},91]
[{"$f":"IF('CR CF4'!A95=\"\",\"\",Accueil!$D$6)","v":""},{"$f":"IF('CR CF4'!A95=\"\",\"\",MATCH('CR CF4'!A95,Accueil!$D$30:$D$129,0))","v":""},{"$f":"IF('CR CF4'!A95=\"\",\"\",'CR CF4'!A95)","v":""},{"$f":"IF('CR CF4'!B95=\"\",\"\",'CR CF4'!B95)","v":""},{"$f":"IF('CR CF4'!C95=\"\",\"\",'CR CF4'!C95)","v":""},{"$f":"IF(OR(Accueil!$D$6=\"\",D95=\"\",E95=\"\"),\"\",DATEDIF(E95,LOOKUP(B95,Accueil!$C$30:$C$129,Accueil!$E$30:$E$129),\"m\"))","v":""},{"$f":"IF('CR CF4'!E95=\"\",\"\",'CR CF4'!E95)","v":""},{"$f":"IF('CR CF4'!F95=\"\",\"\",'CR CF4'!F95)","v":""},{"$f":"IF(OR(E95=\"\",H95=\"\"),\"\",VLOOKUP(H95,Détente!$A$2:$BU$157,MATCH(F95,(Détente!$B$1:$BU$1),1)+1))","v":""},{"$f":"IF('CR CF4'!H95=\"\",\"\",'CR CF4'!H95)","v":""},{"$f":"IF(OR(E95=\"\",J95=\"\"),\"\",VLOOKUP(J95,Sautillers!$A$2:$BU$99,MATCH(F95,(Sautillers!$B$1:$BU$1),1)+1))","v":""},{"$f":"IF('CR CF4'!J95=\"\",\"\",'CR CF4'!J95)","v":""},{"$f":"IF(OR(E95=\"\",L95=\"\"),\"\",VLOOKUP(L95,'Course 20 m'!$A$2:$BU$373,MATCH(F95,('Course 20 m'!$B$1:$BU$1),1)+1))","v":""},{"$f":"IF('CR CF4'!L95=\"\",\"\",'CR CF4'!L95)","v":""},{"$f":"IF(OR(E95=\"\",N95=\"\"),\"\",VLOOKUP(N95,'Ecarts D&G'!$A$2:$BU$147,MATCH(F95,('Ecarts D&G'!$B$1:$BU$1),1)+1))","v":""},{"$f":"IF('CR CF4'!N95=\"\",\"\",'CR CF4'!N95)","v":""},{"$f":"IF(OR(E95=\"\",P95=\"\"),\"\",VLOOKUP(P95,'Ecarts D&G'!$A$2:$BU$147,MATCH(F95,('Ecarts D&G'!$B$1:$BU$1),1)+1))","v":""},{"$f":"IF('CR CF4'!P95=\"\",\"\",'CR CF4'!P95)","v":""},{"$f":"IF(OR(E95=\"\",R95=\"\"),\"\",VLOOKUP(R95,'Ecart facial'!$A$2:$BU$143,MATCH(F95,('Ecart facial'!$B$1:$BU$1),1)+1))","v":""},{"$f":"IF('CR CF4'!R95=\"\",\"\",'CR CF4'!R95)","v":""},{"$f":"IF(OR(E95=\"\",T95=\"\"),\"\",VLOOKUP(T95,'Fermeture TJ'!$A$2:$BU$126,MATCH(F95,('Fermeture TJ'!$B$1:$BU$1),1)+1))","v":""},{"$f":"IF('CR CF4'!T95=\"\",\"\",'CR CF4'!T95)","v":""},{"$f":"IF(OR(E95=\"\",V95=\"\"),\"\",VLOOKUP(V95,Pont!$A$2:$BU$188,MATCH(F95,(Pont!$B$1:$BU$1),1)+1))","v":""},{"$f":"IF('CR CF4'!V95=\"\",\"\",'CR CF4'!V95)","v":""},{"$f":"IF(OR(E95=\"\",X95=\"\"),\"\",VLOOKUP(X95,Epaules!$A$2:$BU$76,MATCH(F95,(Epaules!$B$1:$BU$1),1)+1))","v":""},{"$f":"IF('CR CF4'!X95=\"\",\"\",'CR CF4'!X95)","v":""},{"$f":"IF(OR(E95=\"\",Z95=\"\"),\"\",VLOOKUP(Z95,'pointe de pieds'!$A$2:$BU$110,MATCH(F95,('pointe de pieds'!$B$1:$BU$1),1)+1))","v":""},0,{"v":0,"d":"0.00"},null,null,{"v":0,"d":"0.00"},{"$nulls":5},{"v":0,"d":"0.00"},{"$nulls":3},{"v":0,"d":"0.00"},{"v":0,"d":"0.00"},92]
[{"$f":"IF('CR CF4'!A96=\"\",\"\",Accueil!$D$6)","v":""},{"$f":"IF('CR CF4'!A96=\"\",\"\",MATCH('CR CF4'!A96,Accueil!$D$30:$D$129,0))","v":""},{"$f":"IF('CR CF4'!A96=\"\",\"\",'CR CF4'!A96)","v":""},{"$f":"IF('CR CF4'!B96=\"\",\"\",'CR CF4'!B96)","v":""},{"$f":"IF('CR CF4'!C96=\"\",\"\",'CR CF4'!C96)","v":""},{"$f":"IF(OR(Accueil!$D$6=\"\",D96=\"\",E96=\"\"),\"\",DATEDIF(E96,LOOKUP(B96,Accueil!$C$30:$C$129,Accueil!$E$30:$E$129),\"m\"))","v":""},{"$f":"IF('CR CF4'!E96=\"\",\"\",'CR CF4'!E96)","v":""},{"$f":"IF('CR CF4'!F96=\"\",\"\",'CR CF4'!F96)","v":""},{"$f":"IF(OR(E96=\"\",H96=\"\"),\"\",VLOOKUP(H96,Détente!$A$2:$BU$157,MATCH(F96,(Détente!$B$1:$BU$1),1)+1))","v":""},{"$f":"IF('CR CF4'!H96=\"\",\"\",'CR CF4'!H96)","v":""},{"$f":"IF(OR(E96=\"\",J96=\"\"),\"\",VLOOKUP(J96,Sautillers!$A$2:$BU$99,MATCH(F96,(Sautillers!$B$1:$BU$1),1)+1))","v":""},{"$f":"IF('CR CF4'!J96=\"\",\"\",'CR CF4'!J96)","v":""},{"$f":"IF(OR(E96=\"\",L96=\"\"),\"\",VLOOKUP(L96,'Course 20 m'!$A$2:$BU$373,MATCH(F96,('Course 20 m'!$B$1:$BU$1),1)+1))","v":""},{"$f":"IF('CR CF4'!L96=\"\",\"\",'CR CF4'!L96)","v":""},{"$f":"IF(OR(E96=\"\",N96=\"\"),\"\",VLOOKUP(N96,'Ecarts D&G'!$A$2:$BU$147,MATCH(F96,('Ecarts D&G'!$B$1:$BU$1),1)+1))","v":""},{"$f":"IF('CR CF4'!N96=\"\",\"\",'CR CF4'!N96)","v":""},{"$f":"IF(OR(E96=\"\",P96=\"\"),\"\",VLOOKUP(P96,'Ecarts D&G'!$A$2:$BU$147,MATCH(F96,('Ecarts D&G'!$B$1:$BU$1),1)+1))","v":""},{"$f":"IF('CR CF4'!P96=\"\",\"\",'CR CF4'!P96)","v":""},{"$f":"IF(OR(E96=\"\",R96=\"\"),\"\",VLOOKUP(R96,'Ecart facial'!$A$2:$BU$143,MATCH(F96,('Ecart facial'!$B$1:$BU$1),1)+1))","v":""},{"$f":"IF('CR CF4'!R96=\"\",\"\",'CR CF4'!R96)","v":""},{"$f":"IF(OR(E96=\"\",T96=\"\"),\"\",VLOOKUP(T96,'Fermeture TJ'!$A$2:$BU$126,MATCH(F96,('Fermeture TJ'!$B$1:$BU$1),1)+1))","v":""},{"$f":"IF('CR CF4'!T96=\"\",\"\",'CR CF4'!T96)","v":""},{"$f":"IF(OR(E96=\"\",V96=\"\"),\"\",VLOOKUP(V96,Pont!$A$2:$BU$188,MATCH(F96,(Pont!$B$1:$BU$1),1)+1))","v":""},{"$f":"IF('CR CF4'!V96=\"\",\"\",'CR CF4'!V96)","v":""},{"$f":"IF(OR(E96=\"\",X96=\"\"),\"\",VLOOKUP(X96,Epaules!$A$2:$BU$76,MATCH(F96,(Epaules!$B$1:$BU$1),1)+1))","v":""},{"$f":"IF('CR CF4'!X96=\"\",\"\",'CR CF4'!X96)","v":""},{"$f":"IF(OR(E96=\"\",Z96=\"\"),\"\",VLOOKUP(Z96,'pointe de pieds'!$A$2:$BU$110,MATCH(F96,('pointe de pieds'!$B$1:$BU$1),1)+1))","v":""},0,{"v":0,"d":"0.00"},null,null,{"v":0,"d":"0.00"},{"$nulls":5},{"v":0,"d":"0.00"},{"$nulls":3},{"v":0,"d":"0.00"},{"v":0,"d":"0.00"},93]
[{"$f":"IF('CR CF4'!A97=\"\",\"\",Accueil!$D$6)","v":""},{"$f":"IF('CR CF4'!A97=\"\",\"\",MATCH('CR CF4'!A97,Accueil!$D$30:$D$129,0))","v":""},{"$f":"IF('CR CF4'!A97=\"\",\"\",'CR CF4'!A97)","v":""},{"$f":"IF('CR CF4'!B97=\"\",\"\",'CR CF4'!B97)","v":""},{"$f":"IF('CR CF4'!C97=\"\",\"\",'CR CF4'!C97)","v":""},{"$f":"IF(OR(Accueil!$D$6=\"\",D97=\"\",E97=\"\"),\"\",DATEDIF(E97,LOOKUP(B97,Accueil!$C$30:$C$129,Accueil!$E$30:$E$129),\"m\"))","v":""},{"$f":"IF('CR CF4'!E97=\"\",\"\",'CR CF4'!E97)","v":""},{"$f":"IF('CR CF4'!F97=\"\",\"\",'CR CF4'!F97)","v":""},{"$f":"IF(OR(E97=\"\",H97=\"\"),\"\",VLOOKUP(H97,Détente!$A$2:$BU$157,MATCH(F97,(Détente!$B$1:$BU$1),1)+1))","v":""},{"$f":"IF('CR CF4'!H97=\"\",\"\",'CR CF4'!H97)","v":""},{"$f":"IF(OR(E97=\"\",J97=\"\"),\"\",VLOOKUP(J97,Sautillers!$A$2:$BU$99,MATCH(F97,(Sautillers!$B$1:$BU$1),1)+1))","v":""},{"$f":"IF('CR CF4'!J97=\"\",\"\",'CR CF4'!J97)","v":""},{"$f":"IF(OR(E97=\"\",L97=\"\"),\"\",VLOOKUP(L97,'Course 20 m'!$A$2:$BU$373,MATCH(F97,('Course 20 m'!$B$1:$BU$1),1)+1))","v":""},{"$f":"IF('CR CF4'!L97=\"\",\"\",'CR CF4'!L97)","v":""},{"$f":"IF(OR(E97=\"\",N97=\"\"),\"\",VLOOKUP(N97,'Ecarts D&G'!$A$2:$BU$147,MATCH(F97,('Ecarts D&G'!$B$1:$BU$1),1)+1))","v":""},{"$f":"IF('CR CF4'!N97=\"\",\"\",'CR CF4'!N97)","v":""},{"$f":"IF(OR(E97=\"\",P97=\"\"),\"\",VLOOKUP(P97,'Ecarts D&G'!$A$2:$BU$147,MATCH(F97,('Ecarts D&G'!$B$1:$BU$1),1)+1))","v":""},{"$f":"IF('CR CF4'!P97=\"\",\"\",'CR CF4'!P97)","v":""},{"$f":"IF(OR(E97=\"\",R97=\"\"),\"\",VLOOKUP(R97,'Ecart facial'!$A$2:$BU$143,MATCH(F97,('Ecart facial'!$B$1:$BU$1),1)+1))","v":""},{"$f":"IF('CR CF4'!R97=\"\",\"\",'CR CF4'!R97)","v":""},{"$f":"IF(OR(E97=\"\",T97=\"\"),\"\",VLOOKUP(T97,'Fermeture TJ'!$A$2:$BU$126,MATCH(F97,('Fermeture TJ'!$B$1:$BU$1),1)+1))","v":""},{"$f":"IF('CR CF4'!T97=\"\",\"\",'CR CF4'!T97)","v":""},{"$f":"IF(OR(E97=\"\",V97=\"\"),\"\",VLOOKUP(V97,Pont!$A$2:$BU$188,MATCH(F97,(Pont!$B$1:$BU$1),1)+1))","v":""},{"$f":"IF('CR CF4'!V97=\"\",\"\",'CR CF4'!V97)","v":""},{"$f":"IF(OR(E97=\"\",X97=\"\"),\"\",VLOOKUP(X97,Epaules!$A$2:$BU$76,MATCH(F97,(Epaules!$B$1:$BU$1),1)+1))","v":""},{"$f":"IF('CR CF4'!X97=\"\",\"\",'CR CF4'!X97)","v":""},{"$f":"IF(OR(E97=\"\",Z97=\"\"),\"\",VLOOKUP(Z97,'pointe de pieds'!$A$2:$BU$110,MATCH(F97,('pointe de pieds'!$B$1:$BU$1),1)+1))","v":""},0,{"v":0,"d":"0.00"},null,null,{"v":0,"d":"0.00"},{"$nulls":5},{"v":0,"d":"0.00"},{"$nulls":3},{"v":0,"d":"0.00"},{"v":0,"d":"0.00"},94]
[{"$f":"IF('CR CF4'!A98=\"\",\"\",Accueil!$D$6)","v":""},{"$f":"IF('CR CF4'!A98=\"\",\"\",MATCH('CR CF4'!A98,Accueil!$D$30:$D$129,0))","v":""},{"$f":"IF('CR CF4'!A98=\"\",\"\",'CR CF4'!A98)","v":""},{"$f":"IF('CR CF4'!B98=\"\",\"\",'CR CF4'!B98)","v":""},{"$f":"IF('CR CF4'!C98=\"\",\"\",'CR CF4'!C98)","v":""},{"$f":"IF(OR(Accueil!$D$6=\"\",D98=\"\",E98=\"\"),\"\",DATEDIF(E98,LOOKUP(B98,Accueil!$C$30:$C$129,Accueil!$E$30:$E$129),\"m\"))","v":""},{"$f":"IF('CR CF4'!E98=\"\",\"\",'CR CF4'!E98)","v":""},{"$f":"IF('CR CF4'!F98=\"\",\"\",'CR CF4'!F98)","v":""},{"$f":"IF(OR(E98=\"\",H98=\"\"),\"\",VLOOKUP(H98,Détente!$A$2:$BU$157,MATCH(F98,(Détente!$B$1:$BU$1),1)+1))","v":""},{"$f":"IF('CR CF4'!H98=\"\",\"\",'CR CF4'!H98)","v":""},{"$f":"IF(OR(E98=\"\",J98=\"\"),\"\",VLOOKUP(J98,Sautillers!$A$2:$BU$99,MATCH(F98,(Sautillers!$B$1:$BU$1),1)+1))","v":""},{"$f":"IF('CR CF4'!J98=\"\",\"\",'CR CF4'!J98)","v":""},{"$f":"IF(OR(E98=\"\",L98=\"\"),\"\",VLOOKUP(L98,'Course 20 m'!$A$2:$BU$373,MATCH(F98,('Course 20 m'!$B$1:$BU$1),1)+1))","v":""},{"$f":"IF('CR CF4'!L98=\"\",\"\",'CR CF4'!L98)","v":""},{"$f":"IF(OR(E98=\"\",N98=\"\"),\"\",VLOOKUP(N98,'Ecarts D&G'!$A$2:$BU$147,MATCH(F98,('Ecarts D&G'!$B$1:$BU$1),1)+1))","v":""},{"$f":"IF('CR CF4'!N98=\"\",\"\",'CR CF4'!N98)","v":""},{"$f":"IF(OR(E98=\"\",P98=\"\"),\"\",VLOOKUP(P98,'Ecarts D&G'!$A$2:$BU$147,MATCH(F98,('Ecarts D&G'!$B$1:$BU$1),1)+1))","v":""},{"$f":"IF('CR CF4'!P98=\"\",\"\",'CR CF4'!P98)","v":""},{"$f":"IF(OR(E98=\"\",R98=\"\"),\"\",VLOOKUP(R98,'Ecart facial'!$A$2:$BU$143,MATCH(F98,('Ecart facial'!$B$1:$BU$1),1)+1))","v":""},{"$f":"IF('CR CF4'!R98=\"\",\"\",'CR CF4'!R98)","v":""},{"$f":"IF(OR(E98=\"\",T98=\"\"),\"\",VLOOKUP(T98,'Fermeture TJ'!$A$2:$BU$126,MATCH(F98,('Fermeture TJ'!$B$1:$BU$1),1)+1))","v":""},{"$f":"IF('CR CF4'!T98=\"\",\"\",'CR CF4'!T98)","v":""},{"$f":"IF(OR(E98=\"\",V98=\"\"),\"\",VLOOKUP(V98,Pont!$A$2:$BU$188,MATCH(F98,(Pont!$B$1:$BU$1),1)+1))","v":""},{"$f":"IF('CR CF4'!V98=\"\",\"\",'CR CF4'!V98)","v":""},{"$f":"IF(OR(E98=\"\",X98=\"\"),\"\",VLOOKUP(X98,Epaules!$A$2:$BU$76,MATCH(F98,(Epaules!$B$1:$BU$1),1)+1))","v":""},{"$f":"IF('CR CF4'!X98=\"\",\"\",'CR CF4'!X98)","v":""},{"$f":"IF(OR(E98=\"\",Z98=\"\"),\"\",VLOOKUP(Z98,'pointe de pieds'!$A$2:$BU$110,MATCH(F98,('pointe de pieds'!$B$1:$BU$1),1)+1))","v":""},0,{"v":0,"d":"0.00"},null,null,{"v":0,"d":"0.00"},{"$nulls":5},{"v":0,"d":"0.00"},{"$nulls":3},{"v":0,"d":"0.00"},{"v":0,"d":"0.00"},95]
[{"$f":"IF('CR CF4'!A99=\"\",\"\",Accueil!$D$6)","v":""},{"$f":"IF('CR CF4'!A99=\"\",\"\",MATCH('CR CF4'!A99,Accueil!$D$30:$D$129,0))","v":""},{"$f":"IF('CR CF4'!A99=\"\",\"\",'CR CF4'!A99)","v":""},{"$f":"IF('CR CF4'!B99=\"\",\"\",'CR CF4'!B99)","v":""},{"$f":"IF('CR CF4'!C99=\"\",\"\",'CR CF4'!C99)","v":""},{"$f":"IF(OR(Accueil!$D$6=\"\",D99=\"\",E99=\"\"),\"\",DATEDIF(E99,LOOKUP(B99,Accueil!$C$30:$C$129,Accueil!$E$30:$E$129),\"m\"))","v":""},{"$f":"IF('CR CF4'!E99=\"\",\"\",'CR CF4'!E99)","v":""},{"$f":"IF('CR CF4'!F99=\"\",\"\",'CR CF4'!F99)","v":""},{"$f":"IF(OR(E99=\"\",H99=\"\"),\"\",VLOOKUP(H99,Détente!$A$2:$BU$157,MATCH(F99,(Détente!$B$1:$BU$1),1)+1))","v":""},{"$f":"IF('CR CF4'!H99=\"\",\"\",'CR CF4'!H99)","v":""},{"$f":"IF(OR(E99=\"\",J99=\"\"),\"\",VLOOKUP(J99,Sautillers!$A$2:$BU$99,MATCH(F99,(Sautillers!$B$1:$BU$1),1)+1))","v":""},{"$f":"IF('CR CF4'!J99=\"\",\"\",'CR CF4'!J99)","v":""},{"$f":"IF(OR(E99=\"\",L99=\"\"),\"\",VLOOKUP(L99,'Course 20 m'!$A$2:$BU$373,MATCH(F99,('Course 20 m'!$B$1:$BU$1),1)+1))","v":""},{"$f":"IF('CR CF4'!L99=\"\",\"\",'CR CF4'!L99)","v":""},{"$f":"IF(OR(E99=\"\",N99=\"\"),\"\",VLOOKUP(N99,'Ecarts D&G'!$A$2:$BU$147,MATCH(F99,('Ecarts D&G'!$B$1:$BU$1),1)+1))","v":""},{"$f":"IF('CR CF4'!N99=\"\",\"\",'CR CF4'!N99)","v":""},{"$f":"IF(OR(E99=\"\",P99=\"\"),\"\",VLOOKUP(P99,'Ecarts D&G'!$A$2:$BU$147,MATCH(F99,('Ecarts D&G'!$B$1:$BU$1),1)+1))","v":""},{"$f":"IF('CR CF4'!P99=\"\",\"\",'CR CF4'!P99)","v":""},{"$f":"IF(OR(E99=\"\",R99=\"\"),\"\",VLOOKUP(R99,'Ecart facial'!$A$2:$BU$143,MATCH(F99,('Ecart facial'!$B$1:$BU$1),1)+1))","v":""},{"$f":"IF('CR CF4'!R99=\"\",\"\",'CR CF4'!R99)","v":""},{"$f":"IF(OR(E99=\"\",T99=\"\"),\"\",VLOOKUP(T99,'Fermeture TJ'!$A$2:$BU$126,MATCH(F99,('Fermeture TJ'!$B$1:$BU$1),1)+1))","v":""},{"$f":"IF('CR CF4'!T99=\"\",\"\",'CR CF4'!T99)","v":""},{"$f":"IF(OR(E99=\"\",V99=\"\"),\"\",VLOOKUP(V99,Pont!$A$2:$BU$188,MATCH(F99,(Pont!$B$1:$BU$1),1)+1))","v":""},{"$f":"IF('CR CF4'!V99=\"\",\"\",'CR CF4'!V99)","v":""},{"$f":"IF(OR(E99=\"\",X99=\"\"),\"\",VLOOKUP(X99,Epaules!$A$2:$BU$76,MATCH(F99,(Epaules!$B$1:$BU$1),1)+1))","v":""},{"$f":"IF('CR CF4'!X99=\"\",\"\",'CR CF4'!X99)","v":""},{"$f":"IF(OR(E99=\"\",Z99=\"\"),\"\",VLOOKUP(Z99,'pointe de pieds'!$A$2:$BU$110,MATCH(F99,('pointe de pieds'!$B$1:$BU$1),1)+1))","v":""},0,{"v":0,"d":"0.00"},null,null,{"v":0,"d":"0.00"},{"$nulls":5},{"v":0,"d":"0.00"},{"$nulls":3},{"v":0,"d":"0.00"},{"v":0,"d":"0.00"},96]
[{"$f":"IF('CR CF4'!A100=\"\",\"\",Accueil!$D$6)","v":""},{"$f":"IF('CR CF4'!A100=\"\",\"\",MATCH('CR CF4'!A100,Accueil!$D$30:$D$129,0))","v":""},{"$f":"IF('CR CF4'!A100=\"\",\"\",'CR CF4'!A100)","v":""},{"$f":"IF('CR CF4'!B100=\"\",\"\",'CR CF4'!B100)","v":""},{"$f":"IF('CR CF4'!C100=\"\",\"\",'CR CF4'!C100)","v":""},{"$f":"IF(OR(Accueil!$D$6=\"\",D100=\"\",E100=\"\"),\"\",DATEDIF(E100,LOOKUP(B100,Accueil!$C$30:$C$129,Accueil!$E$30:$E$129),\"m\"))","v":""},{"$f":"IF('CR CF4'!E100=\"\",\"\",'CR CF4'!E100)","v":""},{"$f":"IF('CR CF4'!F100=\"\",\"\",'CR CF4'!F100)","v":""},{"$f":"IF(OR(E100=\"\",H100=\"\"),\"\",VLOOKUP(H100,Détente!$A$2:$BU$157,MATCH(F100,(Détente!$B$1:$BU$1),1)+1))","v":""},{"$f":"IF('CR CF4'!H100=\"\",\"\",'CR CF4'!H100)","v":""},{"$f":"IF(OR(E100=\"\",J100=\"\"),\"\",VLOOKUP(J100,Sautillers!$A$2:$BU$99,MATCH(F100,(Sautillers!$B$1:$BU$1),1)+1))","v":""},{"$f":"IF('CR CF4'!J100=\"\",\"\",'CR CF4'!J100)","v":""},{"$f":"IF(OR(E100=\"\",L100=\"\"),\"\",VLOOKUP(L100,'Course 20 m'!$A$2:$BU$373,MATCH(F100,('Course 20 m'!$B$1:$BU$1),1)+1))","v":""},{"$f":"IF('CR CF4'!L100=\"\",\"\",'CR CF4'!L100)","v":""},{"$f":"IF(OR(E100=\"\",N100=\"\"),\"\",VLOOKUP(N100,'Ecarts D&G'!$A$2:$BU$147,MATCH(F100,('Ecarts D&G'!$B$1:$BU$1),1)+1))","v":""},{"$f":"IF('CR CF4'!N100=\"\",\"\",'CR CF4'!N100)","v":""},{"$f":"IF(OR(E100=\"\",P100=\"\"),\"\",VLOOKUP(P100,'Ecarts D&G'!$A$2:$BU$147,MATCH(F100,('Ecarts D&G'!$B$1:$BU$1),1)+1))","v":""},{"$f":"IF('CR CF4'!P100=\"\",\"\",'CR CF4'!P100)","v":""},{"$f":"IF(OR(E100=\"\",R100=\"\"),\"\",VLOOKUP(R100,'Ecart facial'!$A$2:$BU$143,MATCH(F100,('Ecart facial'!$B$1:$BU$1),1)+1))","v":""},{"$f":"IF('CR CF4'!R100=\"\",\"\",'CR CF4'!R100)","v":""},{"$f":"IF(OR(E100=\"\",T100=\"\"),\"\",VLOOKUP(T100,'Fermeture TJ'!$A$2:$BU$126,MATCH(F100,('Fermeture TJ'!$B$1:$BU$1),1)+1))","v":""},{"$f":"IF('CR CF4'!T100=\"\",\"\",'CR CF4'!T100)","v":""},{"$f":"IF(OR(E100=\"\",V100=\"\"),\"\",VLOOKUP(V100,Pont!$A$2:$BU$188,MATCH(F100,(Pont!$B$1:$BU$1),1)+1))","v":""},{"$f":"IF('CR CF4'!V100=\"\",\"\",'CR CF4'!V100)","v":""},{"$f":"IF(OR(E100=\"\",X100=\"\"),\"\",VLOOKUP(X100,Epaules!$A$2:$BU$76,MATCH(F100,(Epaules!$B$1:$BU$1),1)+1))","v":""},{"$f":"IF('CR CF4'!X100=\"\",\"\",'CR CF4'!X100)","v":""},{"$f":"IF(OR(E100=\"\",Z100=\"\"),\"\",VLOOKUP(Z100,'pointe de pieds'!$A$2:$BU$110,MATCH(F100,('pointe de pieds'!$B$1:$BU$1),1)+1))","v":""},{"$f":"IF(OR(H100=\"\",J100=\"\",L100=\"\",N100=\"\",P100=\"\",R100=\"\",T100=\"\",V100=\"\",X100=\"\",Z100=\"\"),0,SUM(I100,K100,M100,O100,Q100,S100,U100,W100,Y100,AA100))","v":0},{"v":0,"d":"0.00"},null,null,{"$f":"IF(OR(F100=\"\",AD100=\"\",AE100=\"\"),0,SUM(AD100:AE100))","v":{"v":0,"d":"0.00"}},{"$nulls":5},{"$f":"IF(OR(F100=\"\",COUNT(AG100:AK100)<4),0,IF(COUNT(AG100:AK100)=4,SUM(AG100:AK100),IF(COUNT(AG100:AK100)>4,SUM(AG100:AK100)-MIN(AG100:AK100))))","v":{"v":0,"d":"0.00"}},{"$nulls":3},{"$f":"IF(OR(F100=\"\",AM100=\"\",AN100=\"\",AO100=\"\"),0,SUM(AM100:AO100))","v":{"v":0,"d":"0.00"}},{"$f":"IF(OR(AB100=0,AF100=0,AL100=0,AP100=0),0,AC100+AF100+AL100+AP100)","v":{"v":0,"d":"0.00"}},97]
[{"$f":"IF('CR CF4'!A101=\"\",\"\",Accueil!$D$6)","v":""},{"$f":"IF('CR CF4'!A101=\"\",\"\",MATCH('CR CF4'!A101,Accueil!$D$30:$D$129,0))","v":""},{"$f":"IF('CR CF4'!A101=\"\",\"\",'CR CF4'!A101)","v":""},{"$f":"IF('CR CF4'!B101=\"\",\"\",'CR CF4'!B101)","v":""},{"$f":"IF('CR CF4'!C101=\"\",\"\",'CR CF4'!C101)","v":""},{"$f":"IF(OR(Accueil!$D$6=\"\",D101=\"\",E101=\"\"),\"\",DATEDIF(E101,LOOKUP(B101,Accueil!$C$30:$C$129,Accueil!$E$30:$E$129),\"m\"))","v":""},{"$f":"IF('CR CF4'!E101=\"\",\"\",'CR CF4'!E101)","v":""},{"$f":"IF('CR CF4'!F101=\"\",\"\",'CR CF4'!F101)","v":""},{"$f":"IF(OR(E101=\"\",H101=\"\"),\"\",VLOOKUP(H101,Détente!$A$2:$BU$157,MATCH(F101,(Détente!$B$1:$BU$1),1)+1))","v":""},{"$f":"IF('CR CF4'!H101=\"\",\"\",'CR CF4'!H101)","v":""},{"$f":"IF(OR(E101=\"\",J101=\"\"),\"\",VLOOKUP(J101,Sautillers!$A$2:$BU$99,MATCH(F101,(Sautillers!$B$1:$BU$1),1)+1))","v":""},{"$f":"IF('CR CF4'!J101=\"\",\"\",'CR CF4'!J101)","v":""},{"$f":"IF(OR(E101=\"\",L101=\"\"),\"\",VLOOKUP(L101,'Course 20 m'!$A$2:$BU$373,MATCH(F101,('Course 20 m'!$B$1:$BU$1),1)+1))","v":""},{"$f":"IF('CR CF4'!L101=\"\",\"\",'CR CF4'!L101)","v":""},{"$f":"IF(OR(E101=\"\",N101=\"\"),\"\",VLOOKUP(N101,'Ecarts D&G'!$A$2:$BU$147,MATCH(F101,('Ecarts D&G'!$B$1:$BU$1),1)+1))","v":""},{"$f":"IF('CR CF4'!N101=\"\",\"\",'CR CF4'!N101)","v":""},{"$f":"IF(OR(E101=\"\",P101=\"\"),\"\",VLOOKUP(P101,'Ecarts D&G'!$A$2:$BU$147,MATCH(F101,('Ecarts D&G'!$B$1:$BU$1),1)+1))","v":""},{"$f":"IF('CR CF4'!P101=\"\",\"\",'CR CF4'!P101)","v":""},{"$f":"IF(OR(E101=\"\",R101=\"\"),\"\",VLOOKUP(R101,'Ecart facial'!$A$2:$BU$143,MATCH(F101,('Ecart facial'!$B$1:$BU$1),1)+1))","v":""},{"$f":"IF('CR CF4'!R101=\"\",\"\",'CR CF4'!R101)","v":""},{"$f":"IF(OR(E101=\"\",T101=\"\"),\"\",VLOOKUP(T101,'Fermeture TJ'!$A$2:$BU$126,MATCH(F101,('Fermeture TJ'!$B$1:$BU$1),1)+1))","v":""},{"$f":"IF('CR CF4'!T101=\"\",\"\",'CR CF4'!T101)","v":""},{"$f":"IF(OR(E101=\"\",V101=\"\"),\"\",VLOOKUP(V101,Pont!$A$2:$BU$188,MATCH(F101,(Pont!$B$1:$BU$1),1)+1))","v":""},{"$f":"IF('CR CF4'!V101=\"\",\"\",'CR CF4'!V101)","v":""},{"$f":"IF(OR(E101=\"\",X101=\"\"),\"\",VLOOKUP(X101,Epaules!$A$2:$BU$76,MATCH(F101,(Epaules!$B$1:$BU$1),1)+1))","v":""},{"$f":"IF('CR CF4'!X101=\"\",\"\",'CR CF4'!X101)","v":""},{"$f":"IF(OR(E101=\"\",Z101=\"\"),\"\",VLOOKUP(Z101,'pointe de pieds'!$A$2:$BU$110,MATCH(F101,('pointe de pieds'!$B$1:$BU$1),1)+1))","v":""},{"$f":"IF(OR(H101=\"\",J101=\"\",L101=\"\",N101=\"\",P101=\"\",R101=\"\",T101=\"\",V101=\"\",X101=\"\",Z101=\"\"),0,SUM(I101,K101,M101,O101,Q101,S101,U101,W101,Y101,AA101))","v":0},{"v":0,"d":"0.00"},null,null,{"$f":"IF(OR(F101=\"\",AD101=\"\",AE101=\"\"),0,SUM(AD101:AE101))","v":{"v":0,"d":"0.00"}},{"$nulls":5},{"$f":"IF(OR(F101=\"\",COUNT(AG101:AK101)<4),0,IF(COUNT(AG101:AK101)=4,SUM(AG101:AK101),IF(COUNT(AG101:AK101)>4,SUM(AG101:AK101)-MIN(AG101:AK101))))","v":{"v":0,"d":"0.00"}},{"$nulls":3},{"$f":"IF(OR(F101=\"\",AM101=\"\",AN101=\"\",AO101=\"\"),0,SUM(AM101:AO101))","v":{"v":0,"d":"0.00"}},{"$f":"IF(OR(AB101=0,AF101=0,AL101=0,AP101=0),0,AC101+AF101+AL101+AP101)","v":{"v":0,"d":"0.00"}},98]
[{"$f":"IF('CR CF4'!A102=\"\",\"\",Accueil!$D$6)","v":""},{"$f":"IF('CR CF4'!A102=\"\",\"\",MATCH('CR CF4'!A102,Accueil!$D$30:$D$129,0))","v":""},{"$f":"IF('CR CF4'!A102=\"\",\"\",'CR CF4'!A102)","v":""},{"$f":"IF('CR CF4'!B102=\"\",\"\",'CR CF4'!B102)","v":""},{"$f":"IF('CR CF4'!C102=\"\",\"\",'CR CF4'!C102)","v":""},{"$f":"IF(OR(Accueil!$D$6=\"\",D102=\"\",E102=\"\"),\"\",DATEDIF(E102,LOOKUP(B102,Accueil!$C$30:$C$129,Accueil!$E$30:$E$129),\"m\"))","v":""},{"$f":"IF('CR CF4'!E102=\"\",\"\",'CR CF4'!E102)","v":""},{"$f":"IF('CR CF4'!F102=\"\",\"\",'CR CF4'!F102)","v":""},{"$f":"IF(OR(E102=\"\",H102=\"\"),\"\",VLOOKUP(H102,Détente!$A$2:$BU$157,MATCH(F102,(Détente!$B$1:$BU$1),1)+1))","v":""},{"$f":"IF('CR CF4'!H102=\"\",\"\",'CR CF4'!H102)","v":""},{"$f":"IF(OR(E102=\"\",J102=\"\"),\"\",VLOOKUP(J102,Sautillers!$A$2:$BU$99,MATCH(F102,(Sautillers!$B$1:$BU$1),1)+1))","v":""},{"$f":"IF('CR CF4'!J102=\"\",\"\",'CR CF4'!J102)","v":""},{"$f":"IF(OR(E102=\"\",L102=\"\"),\"\",VLOOKUP(L102,'Course 20 m'!$A$2:$BU$373,MATCH(F102,('Course 20 m'!$B$1:$BU$1),1)+1))","v":""},{"$f":"IF('CR CF4'!L102=\"\",\"\",'CR CF4'!L102)","v":""},{"$f":"IF(OR(E102=\"\",N102=\"\"),\"\",VLOOKUP(N102,'Ecarts D&G'!$A$2:$BU$147,MATCH(F102,('Ecarts D&G'!$B$1:$BU$1),1)+1))","v":""},{"$f":"IF('CR CF4'!N102=\"\",\"\",'CR CF4'!N102)","v":""},{"$f":"IF(OR(E102=\"\",P102=\"\"),\"\",VLOOKUP(P102,'Ecarts D&G'!$A$2:$BU$147,MATCH(F102,('Ecarts D&G'!$B$1:$BU$1),1)+1))","v":""},{"$f":"IF('CR CF4'!P102=\"\",\"\",'CR CF4'!P102)","v":""},{"$f":"IF(OR(E102=\"\",R102=\"\"),\"\",VLOOKUP(R102,'Ecart facial'!$A$2:$BU$143,MATCH(F102,('Ecart facial'!$B$1:$BU$1),1)+1))","v":""},{"$f":"IF('CR CF4'!R102=\"\",\"\",'CR CF4'!R102)","v":""},{"$f":"IF(OR(E102=\"\",T102=\"\"),\"\",VLOOKUP(T102,'Fermeture TJ'!$A$2:$BU$126,MATCH(F102,('Fermeture TJ'!$B$1:$BU$1),1)+1))","v":""},{"$f":"IF('CR CF4'!T102=\"\",\"\",'CR CF4'!T102)","v":""},{"$f":"IF(OR(E102=\"\",V102=\"\"),\"\",VLOOKUP(V102,Pont!$A$2:$BU$188,MATCH(F102,(Pont!$B$1:$BU$1),1)+1))","v":""},{"$f":"IF('CR CF4'!V102=\"\",\"\",'CR CF4'!V102)","v":""},{"$f":"IF(OR(E102=\"\",X102=\"\"),\"\",VLOOKUP(X102,Epaules!$A$2:$BU$76,MATCH(F102,(Epaules!$B$1:$BU$1),1)+1))","v":""},{"$f":"IF('CR CF4'!X102=\"\",\"\",'CR CF4'!X102)","v":""},{"$f":"IF(OR(E102=\"\",Z102=\"\"),\"\",VLOOKUP(Z102,'pointe de pieds'!$A$2:$BU$110,MATCH(F102,('pointe de pieds'!$B$1:$BU$1),1)+1))","v":""},{"$f":"IF(OR(H102=\"\",J102=\"\",L102=\"\",N102=\"\",P102=\"\",R102=\"\",T102=\"\",V102=\"\",X102=\"\",Z102=\"\"),0,SUM(I102,K102,M102,O102,Q102,S102,U102,W102,Y102,AA102))","v":0},{"v":0,"d":"0.00"},null,null,{"$f":"IF(OR(F102=\"\",AD102=\"\",AE102=\"\"),0,SUM(AD102:AE102))","v":{"v":0,"d":"0.00"}},{"$nulls":5},{"$f":"IF(OR(F102=\"\",COUNT(AG102:AK102)<4),0,IF(COUNT(AG102:AK102)=4,SUM(AG102:AK102),IF(COUNT(AG102:AK102)>4,SUM(AG102:AK102)-MIN(AG102:AK102))))","v":{"v":0,"d":"0.00"}},{"$nulls":3},{"$f":"IF(OR(F102=\"\",AM102=\"\",AN102=\"\",AO102=\"\"),0,SUM(AM102:AO102))","v":{"v":0,"d":"0.00"}},{"$f":"IF(OR(AB102=0,AF102=0,AL102=0,AP102=0),0,AC102+AF102+AL102+AP102)","v":{"v":0,"d":"0.00"}},99]
[{"$f":"IF('CR CF4'!A103=\"\",\"\",Accueil!$D$6)","v":""},{"$f":"IF('CR CF4'!A103=\"\",\"\",MATCH('CR CF4'!A103,Accueil!$D$30:$D$129,0))","v":""},{"$f":"IF('CR CF4'!A103=\"\",\"\",'CR CF4'!A103)","v":""},{"$f":"IF('CR CF4'!B103=\"\",\"\",'CR CF4'!B103)","v":""},{"$f":"IF('CR CF4'!C103=\"\",\"\",'CR CF4'!C103)","v":""},{"$f":"IF(OR(Accueil!$D$6=\"\",D103=\"\",E103=\"\"),\"\",DATEDIF(E103,LOOKUP(B103,Accueil!$C$30:$C$129,Accueil!$E$30:$E$129),\"m\"))","v":""},{"$f":"IF('CR CF4'!E103=\"\",\"\",'CR CF4'!E103)","v":""},{"$f":"IF('CR CF4'!F103=\"\",\"\",'CR CF4'!F103)","v":""},{"$f":"IF(OR(E103=\"\",H103=\"\"),\"\",VLOOKUP(H103,Détente!$A$2:$BU$157,MATCH(F103,(Détente!$B$1:$BU$1),1)+1))","v":""},{"$f":"IF('CR CF4'!H103=\"\",\"\",'CR CF4'!H103)","v":""},{"$f":"IF(OR(E103=\"\",J103=\"\"),\"\",VLOOKUP(J103,Sautillers!$A$2:$BU$99,MATCH(F103,(Sautillers!$B$1:$BU$1),1)+1))","v":""},{"$f":"IF('CR CF4'!J103=\"\",\"\",'CR CF4'!J103)","v":""},{"$f":"IF(OR(E103=\"\",L103=\"\"),\"\",VLOOKUP(L103,'Course 20 m'!$A$2:$BU$373,MATCH(F103,('Course 20 m'!$B$1:$BU$1),1)+1))","v":""},{"$f":"IF('CR CF4'!L103=\"\",\"\",'CR CF4'!L103)","v":""},{"$f":"IF(OR(E103=\"\",N103=\"\"),\"\",VLOOKUP(N103,'Ecarts D&G'!$A$2:$BU$147,MATCH(F103,('Ecarts D&G'!$B$1:$BU$1),1)+1))","v":""},{"$f":"IF('CR CF4'!N103=\"\",\"\",'CR CF4'!N103)","v":""},{"$f":"IF(OR(E103=\"\",P103=\"\"),\"\",VLOOKUP(P103,'Ecarts D&G'!$A$2:$BU$147,MATCH(F103,('Ecarts D&G'!$B$1:$BU$1),1)+1))","v":""},{"$f":"IF('CR CF4'!P103=\"\",\"\",'CR CF4'!P103)","v":""},{"$f":"IF(OR(E103=\"\",R103=\"\"),\"\",VLOOKUP(R103,'Ecart facial'!$A$2:$BU$143,MATCH(F103,('Ecart facial'!$B$1:$BU$1),1)+1))","v":""},{"$f":"IF('CR CF4'!R103=\"\",\"\",'CR CF4'!R103)","v":""},{"$f":"IF(OR(E103=\"\",T103=\"\"),\"\",VLOOKUP(T103,'Fermeture TJ'!$A$2:$BU$126,MATCH(F103,('Fermeture TJ'!$B$1:$BU$1),1)+1))","v":""},{"$f":"IF('CR CF4'!T103=\"\",\"\",'CR CF4'!T103)","v":""},{"$f":"IF(OR(E103=\"\",V103=\"\"),\"\",VLOOKUP(V103,Pont!$A$2:$BU$188,MATCH(F103,(Pont!$B$1:$BU$1),1)+1))","v":""},{"$f":"IF('CR CF4'!V103=\"\",\"\",'CR CF4'!V103)","v":""},{"$f":"IF(OR(E103=\"\",X103=\"\"),\"\",VLOOKUP(X103,Epaules!$A$2:$BU$76,MATCH(F103,(Epaules!$B$1:$BU$1),1)+1))","v":""},{"$f":"IF('CR CF4'!X103=\"\",\"\",'CR CF4'!X103)","v":""},{"$f":"IF(OR(E103=\"\",Z103=\"\"),\"\",VLOOKUP(Z103,'pointe de pieds'!$A$2:$BU$110,MATCH(F103,('pointe de pieds'!$B$1:$BU$1),1)+1))","v":""},{"$f":"IF(OR(H103=\"\",J103=\"\",L103=\"\",N103=\"\",P103=\"\",R103=\"\",T103=\"\",V103=\"\",X103=\"\",Z103=\"\"),0,SUM(I103,K103,M103,O103,Q103,S103,U103,W103,Y103,AA103))","v":0},{"v":0,"d":"0.00"},null,null,{"$f":"IF(OR(F103=\"\",AD103=\"\",AE103=\"\"),0,SUM(AD103:AE103))","v":{"v":0,"d":"0.00"}},{"$nulls":5},{"$f":"IF(OR(F103=\"\",COUNT(AG103:AK103)<4),0,IF(COUNT(AG103:AK103)=4,SUM(AG103:AK103),IF(COUNT(AG103:AK103)>4,SUM(AG103:AK103)-MIN(AG103:AK103))))","v":{"v":0,"d":"0.00"}},{"$nulls":3},{"$f":"IF(OR(F103=\"\",AM103=\"\",AN103=\"\",AO103=\"\"),0,SUM(AM103:AO103))","v":{"v":0,"d":"0.00"}},{"$f":"IF(OR(AB103=0,AF103=0,AL103=0,AP103=0),0,AC103+AF103+AL103+AP103)","v":{"v":0,"d":"0.00"}},100]

{"sheet":"CF4 Résultats","index":13,"n_rows":103,"n_cols":13,"rows_kept":103,"merged":[[0,0,2,0],[0,1,0,4],[0,6,0,9],[0,10,2,10],[0,11,2,11],[0,12,2,12],[1,1,2,1],[1,2,2,2],[1,3,2,3],[1,4,2,4],[1,5,2,5],[1,6,2,6],[1,7,2,7],[1,8,2,8],[1,9,2,9]]}
["CF4","Identifiants",{"$nulls":8},"Total général\nCF4","COULEUR\nRUBAN","\nN° Id"]
[null,"Région","Nom du club","Nom Prénom","Date de Naissance","Nb de mois","Total Physique\n/20","Total Enchainmt","Total TT Engins","Total TT Corporels"]
[]
[{"$f":"IF(K4>0,RANK(K4,K$4:K$103),\"\")","v":""},{"$f":"IF(D4=\"\",\"\",UPPER(Accueil!$D$6))","v":""},{"$f":"IF('CF4 Eval'!C7=\"\",\"\",'CF4 Eval'!C7)","v":""},{"$f":"IF('CF4 Eval'!D7=\"\",\"\",'CF4 Eval'!D7)","v":""},{"$f":"IF('CF4 Eval'!E7=\"\",\"\",'CF4 Eval'!E7)","v":""},{"$f":"IF('CF4 Eval'!F7=\"\",\"\",'CF4 Eval'!F7)","v":""},{"$f":"'CF4 Eval'!AC7","v":{"v":0,"d":"0.00"}},{"$f":"'CF4 Eval'!AF7","v":{"v":0,"d":"0.00"}},{"$f":"'CF4 Eval'!AL7","v":{"v":0,"d":"0.00"}},{"$f":"'CF4 Eval'!AP7","v":{"v":0,"d":"0.00"}},{"$f":"'CF4 Eval'!AQ7","v":{"v":0,"d":"0.00"}},{"$f":"IF(K4=0,\"\",IF(K4>=110,\"Ruban Jaune\",\"Ruban Bleu\"))","v":""},{"$f":"'CF4 Eval'!AR7","v":4}]
["",{"$f":"IF(D5=\"\",\"\",UPPER(Accueil!$D$6))","v":""},{"$f":"IF('CF4 Eval'!C4=\"\",\"\",'CF4 Eval'!C4)","v":""},{"$f":"IF('CF4 Eval'!D4=\"\",\"\",'CF4 Eval'!D4)","v":""},{"$f":"IF('CF4 Eval'!E4=\"\",\"\",'CF4 Eval'!E4)","v":""},{"$f":"IF('CF4 Eval'!F4=\"\",\"\",'CF4 Eval'!F4)","v":""},{"$f":"'CF4 Eval'!AC4","v":{"v":0,"d":"0.00"}},{"$f":"'CF4 Eval'!AF4","v":{"v":0,"d":"0.00"}},{"$f":"'CF4 Eval'!AL4","v":{"v":0,"d":"0.00"}},{"$f":"'CF4 Eval'!AP4","v":{"v":0,"d":"0.00"}},{"$f":"'CF4 Eval'!AQ4","v":{"v":0,"d":"0.00"}},"",{"$f":"'CF4 Eval'!AR4","v":1}]
["",{"$f":"IF(D6=\"\",\"\",UPPER(Accueil!$D$6))","v":""},{"$f":"IF('CF4 Eval'!C8=\"\",\"\",'CF4 Eval'!C8)","v":""},{"$f":"IF('CF4 Eval'!D8=\"\",\"\",'CF4 Eval'!D8)","v":""},{"$f":"IF('CF4 Eval'!E8=\"\",\"\",'CF4 Eval'!E8)","v":""},{"$f":"IF('CF4 Eval'!F8=\"\",\"\",'CF4 Eval'!F8)","v":""},{"$f":"'CF4 Eval'!AC8","v":{"v":0,"d":"0.00"}},{"$f":"'CF4 Eval'!AF8","v":{"v":0,"d":"0.00"}},{"$f":"'CF4 Eval'!AL8","v":{"v":0,"d":"0.00"}},{"$f":"'CF4 Eval'!AP8","v":{"v":0,"d":"0.00"}},{"$f":"'CF4 Eval'!AQ8","v":{"v":0,"d":"0.00"}},"",{"$f":"'CF4 Eval'!AR8","v":5}]
["",{"$f":"IF(D7=\"\",\"\",UPPER(Accueil!$D$6))","v":""},{"$f":"IF('CF4 Eval'!C6=\"\",\"\",'CF4 Eval'!C6)","v":""},{"$f":"IF('CF4 Eval'!D6=\"\",\"\",'CF4 Eval'!D6)","v":""},{"$f":"IF('CF4 Eval'!E6=\"\",\"\",'CF4 Eval'!E6)","v":""},{"$f":"IF('CF4 Eval'!F6=\"\",\"\",'CF4 Eval'!F6)","v":""},{"$f":"'CF4 Eval'!AC6","v":{"v":0,"d":"0.00"}},{"$f":"'CF4 Eval'!AF6","v":{"v":0,"d":"0.00"}},{"$f":"'CF4 Eval'!AL6","v":{"v":0,"d":"0.00"}},{"$f":"'CF4 Eval'!AP6","v":{"v":0,"d":"0.00"}},{"$f":"'CF4 Eval'!AQ6","v":{"v":0,"d":"0.00"}},"",{"$f":"'CF4 Eval'!AR6","v":3}]
["",{"$f":"IF(D8=\"\",\"\",UPPER(Accueil!$D$6))","v":""},{"$f":"IF('CF4 Eval'!C9=\"\",\"\",'CF4 Eval'!C9)","v":""},{"$f":"IF('CF4 Eval'!D9=\"\",\"\",'CF4 Eval'!D9)","v":""},{"$f":"IF('CF4 Eval'!E9=\"\",\"\",'CF4 Eval'!E9)","v":""},{"$f":"IF('CF4 Eval'!F9=\"\",\"\",'CF4 Eval'!F9)","v":""},{"$f":"'CF4 Eval'!AC9","v":{"v":0,"d":"0.00"}},{"$f":"'CF4 Eval'!AF9","v":{"v":0,"d":"0.00"}},{"$f":"'CF4 Eval'!AL9","v":{"v":0,"d":"0.00"}},{"$f":"'CF4 Eval'!AP9","v":{"v":0,"d":"0.00"}},{"$f":"'CF4 Eval'!AQ9","v":{"v":0,"d":"0.00"}},"",{"$f":"'CF4 Eval'!AR9","v":6}]
["",{"$f":"IF(D9=\"\",\"\",UPPER(Accueil!$D$6))","v":""},{"$f":"IF('CF4 Eval'!C5=\"\",\"\",'CF4 Eval'!C5)","v":""},{"$f":"IF('CF4 Eval'!D5=\"\",\"\",'CF4 Eval'!D5)","v":""},{"$f":"IF('CF4 Eval'!E5=\"\",\"\",'CF4 Eval'!E5)","v":""},{"$f":"IF('CF4 Eval'!F5=\"\",\"\",'CF4 Eval'!F5)","v":""},{"$f":"'CF4 Eval'!AC5","v":{"v":0,"d":"0.00"}},{"$f":"'CF4 Eval'!AF5","v":{"v":0,"d":"0.00"}},{"$f":"'CF4 Eval'!AL5","v":{"v":0,"d":"0.00"}},{"$f":"'CF4 Eval'!AP5","v":{"v":0,"d":"0.00"}},{"$f":"'CF4 Eval'!AQ5","v":{"v":0,"d":"0.00"}},"",{"$f":"'CF4 Eval'!AR5","v":2}]
["",{"$f":"IF(D10=\"\",\"\",UPPER(Accueil!$D$6))","v":""},{"$f":"IF('CF4 Eval'!C10=\"\",\"\",'CF4 Eval'!C10)","v":""},{"$f":"IF('CF4 Eval'!D10=\"\",\"\",'CF4 Eval'!D10)","v":""},{"$f":"IF('CF4 Eval'!E10=\"\",\"\",'CF4 Eval'!E10)","v":""},{"$f":"IF('CF4 Eval'!F10=\"\",\"\",'CF4 Eval'!F10)","v":""},{"$f":"'CF4 Eval'!AC10","v":{"v":0,"d":"0.00"}},{"$f":"'CF4 Eval'!AF10","v":{"v":0,"d":"0.00"}},{"$f":"'CF4 Eval'!AL10","v":{"v":0,"d":"0.00"}},{"$f":"'CF4 Eval'!AP10","v":{"v":0,"d":"0.00"}},{"$f":"'CF4 Eval'!AQ10","v":{"v":0,"d":"0.00"}},"",{"$f":"'CF4 Eval'!AR10","v":7}]
["",{"$f":"IF(D11=\"\",\"\",UPPER(Accueil!$D$6))","v":""},{"$f":"IF('CF4 Eval'!C11=\"\",\"\",'CF4 Eval'!C11)","v":""},{"$f":"IF('CF4 Eval'!D11=\"\",\"\",'CF4 Eval'!D11)","v":""},{"$f":"IF('CF4 Eval'!E11=\"\",\"\",'CF4 Eval'!E11)","v":""},{"$f":"IF('CF4 Eval'!F11=\"\",\"\",'CF4 Eval'!F11)","v":""},{"$f":"'CF4 Eval'!AC11","v":{"v":0,"d":"0.00"}},{"$f":"'CF4 Eval'!AF11","v":{"v":0,"d":"0.00"}},{"$f":"'CF4 Eval'!AL11","v":{"v":0,"d":"0.00"}},{"$f":"'CF4 Eval'!AP11","v":{"v":0,"d":"0.00"}},{"$f":"'CF4 Eval'!AQ11","v":{"v":0,"d":"0.00"}},"",{"$f":"'CF4 Eval'!AR11","v":8}]
["",{"$f":"IF(D12=\"\",\"\",UPPER(Accueil!$D$6))","v":""},{"$f":"IF('CF4 Eval'!C12=\"\",\"\",'CF4 Eval'!C12)","v":""},{"$f":"IF('CF4 Eval'!D12=\"\",\"\",'CF4 Eval'!D12)","v":""},{"$f":"IF('CF4 Eval'!E12=\"\",\"\",'CF4 Eval'!E12)","v":""},{"$f":"IF('CF4 Eval'!F12=\"\",\"\",'CF4 Eval'!F12)","v":""},{"$f":"'CF4 Eval'!AC12","v":{"v":0,"d":"0.00"}},{"$f":"'CF4 Eval'!AF12","v":{"v":0,"d":"0.00"}},{"$f":"'CF4 Eval'!AL12","v":{"v":0,"d":"0.00"}},{"$f":"'CF4 Eval'!AP12","v":{"v":0,"d":"0.00"}},{"$f":"'CF4 Eval'!AQ12","v":{"v":0,"d":"0.00"}},"",{"$f":"'CF4 Eval'!AR12","v":9}]
["",{"$f":"IF(D13=\"\",\"\",UPPER(Accueil!$D$6))","v":""},{"$f":"IF('CF4 Eval'!C13=\"\",\"\",'CF4 Eval'!C13)","v":""},{"$f":"IF('CF4 Eval'!D13=\"\",\"\",'CF4 Eval'!D13)","v":""},{"$f":"IF('CF4 Eval'!E13=\"\",\"\",'CF4 Eval'!E13)","v":""},{"$f":"IF('CF4 Eval'!F13=\"\",\"\",'CF4 Eval'!F13)","v":""},{"$f":"'CF4 Eval'!AC13","v":{"v":0,"d":"0.00"}},{"$f":"'CF4 Eval'!AF13","v":{"v":0,"d":"0.00"}},{"$f":"'CF4 Eval'!AL13","v":{"v":0,"d":"0.00"}},{"$f":"'CF4 Eval'!AP13","v":{"v":0,"d":"0.00"}},{"$f":"'CF4 Eval'!AQ13","v":{"v":0,"d":"0.00"}},"",{"$f":"'CF4 Eval'!AR13","v":10}]
["",{"$f":"IF(D14=\"\",\"\",UPPER(Accueil!$D$6))","v":""},{"$f":"IF('CF4 Eval'!C14=\"\",\"\",'CF4 Eval'!C14)","v":""},{"$f":"IF('CF4 Eval'!D14=\"\",\"\",'CF4 Eval'!D14)","v":""},{"$f":"IF('CF4 Eval'!E14=\"\",\"\",'CF4 Eval'!E14)","v":""},{"$f":"IF('CF4 Eval'!F14=\"\",\"\",'CF4 Eval'!F14)","v":""},{"$f":"'CF4 Eval'!AC14","v":{"v":0,"d":"0.00"}},{"$f":"'CF4 Eval'!AF14","v":{"v":0,"d":"0.00"}},{"$f":"'CF4 Eval'!AL14","v":{"v":0,"d":"0.00"}},{"$f":"'CF4 Eval'!AP14","v":{"v":0,"d":"0.00"}},{"$f":"'CF4 Eval'!AQ14","v":{"v":0,"d":"0.00"}},"",{"$f":"'CF4 Eval'!AR14","v":11}]
["",{"$f":"IF(D15=\"\",\"\",UPPER(Accueil!$D$6))","v":""},{"$f":"IF('CF4 Eval'!C15=\"\",\"\",'CF4 Eval'!C15)","v":""},{"$f":"IF('CF4 Eval'!D15=\"\",\"\",'CF4 Eval'!D15)","v":""},{"$f":"IF('CF4 Eval'!E15=\"\",\"\",'CF4 Eval'!E15)","v":""},{"$f":"IF('CF4 Eval'!F15=\"\",\"\",'CF4 Eval'!F15)","v":""},{"$f":"'CF4 Eval'!AC15","v":{"v":0,"d":"0.00"}},{"$f":"'CF4 Eval'!AF15","v":{"v":0,"d":"0.00"}},{"$f":"'CF4 Eval'!AL15","v":{"v":0,"d":"0.00"}},{"$f":"'CF4 Eval'!AP15","v":{"v":0,"d":"0.00"}},{"$f":"'CF4 Eval'!AQ15","v":{"v":0,"d":"0.00"}},"",{"$f":"'CF4 Eval'!AR15","v":12}]
["",{"$f":"IF(D16=\"\",\"\",UPPER(Accueil!$D$6))","v":""},{"$f":"IF('CF4 Eval'!C16=\"\",\"\",'CF4 Eval'!C16)","v":""},{"$f":"IF('CF4 Eval'!D16=\"\",\"\",'CF4 Eval'!D16)","v":""},{"$f":"IF('CF4 Eval'!E16=\"\",\"\",'CF4 Eval'!E16)","v":""},{"$f":"IF('CF4 Eval'!F16=\"\",\"\",'CF4 Eval'!F16)","v":""},{"$f":"'CF4 Eval'!AC16","v":{"v":0,"d":"0.00"}},{"$f":"'CF4 Eval'!AF16","v":{"v":0,"d":"0.00"}},{"$f":"'CF4 Eval'!AL16","v":{"v":0,"d":"0.00"}},{"$f":"'CF4 Eval'!AP16","v":{"v":0,"d":"0.00"}},{"$f":"'CF4 Eval'!AQ16","v":{"v":0,"d":"0.00"}},"",{"$f":"'CF4 Eval'!AR16","v":13}]
["",{"$f":"IF(D17=\"\",\"\",UPPER(Accueil!$D$6))","v":""},{"$f":"IF('CF4 Eval'!C17=\"\",\"\",'CF4 Eval'!C17)","v":""},{"$f":"IF('CF4 Eval'!D17=\"\",\"\",'CF4 Eval'!D17)","v":""},{"$f":"IF('CF4 Eval'!E17=\"\",\"\",'CF4 Eval'!E17)","v":""},{"$f":"IF('CF4 Eval'!F17=\"\",\"\",'CF4 Eval'!F17)","v":""},{"$f":"'CF4 Eval'!AC17","v":{"v":0,"d":"0.00"}},{"$f":"'CF4 Eval'!AF17","v":{"v":0,"d":"0.00"}},{"$f":"'CF4 Eval'!AL17","v":{"v":0,"d":"0.00"}},{"$f":"'CF4 Eval'!AP17","v":{"v":0,"d":"0.00"}},{"$f":"'CF4 Eval'!AQ17","v":{"v":0,"d":"0.00"}},"",{"$f":"'CF4 Eval'!AR17","v":14}]
["",{"$f":"IF(D18=\"\",\"\",UPPER(Accueil!$D$6))","v":""},{"$f":"IF('CF4 Eval'!C18=\"\",\"\",'CF4 Eval'!C18)","v":""},{"$f":"IF('CF4 Eval'!D18=\"\",\"\",'CF4 Eval'!D18)","v":""},{"$f":"IF('CF4 Eval'!E18=\"\",\"\",'CF4 Eval'!E18)","v":""},{"$f":"IF('CF4 Eval'!F18=\"\",\"\",'CF4 Eval'!F18)","v":""},{"$f":"'CF4 Eval'!AC18","v":{"v":0,"d":"0.00"}},{"$f":"'CF4 Eval'!AF18","v":{"v":0,"d":"0.00"}},{"$f":"'CF4 Eval'!AL18","v":{"v":0,"d":"0.00"}},{"$f":"'CF4 Eval'!AP18","v":{"v":0,"d":"0.00"}},{"$f":"'CF4 Eval'!AQ18","v":{"v":0,"d":"0.00"}},"",{"$f":"'CF4 Eval'!AR18","v":15}]
["",{"$f":"IF(D19=\"\",\"\",UPPER(Accueil!$D$6))","v":""},{"$f":"IF('CF4 Eval'!C19=\"\",\"\",'CF4 Eval'!C19)","v":""},{"$f":"IF('CF4 Eval'!D19=\"\",\"\",'CF4 Eval'!D19)","v":""},{"$f":"IF('CF4 Eval'!E19=\"\",\"\",'CF4 Eval'!E19)","v":""},{"$f":"IF('CF4 Eval'!F19=\"\",\"\",'CF4 Eval'!F19)","v":""},{"$f":"'CF4 Eval'!AC19","v":{"v":0,"d":"0.00"}},{"$f":"'CF4 Eval'!AF19","v":{"v":0,"d":"0.00"}},{"$f":"'CF4 Eval'!AL19","v":{"v":0,"d":"0.00"}},{"$f":"'CF4 Eval'!AP19","v":{"v":0,"d":"0.00"}},{"$f":"'CF4 Eval'!AQ19","v":{"v":0,"d":"0.00"}},"",{"$f":"'CF4 Eval'!AR19","v":16}]
["",{"$f":"IF(D20=\"\",\"\",UPPER(Accueil!$D$6))","v":""},{"$f":"IF('CF4 Eval'!C20=\"\",\"\",'CF4 Eval'!C20)","v":""},{"$f":"IF('CF4 Eval'!D20=\"\",\"\",'CF4 Eval'!D20)","v":""},{"$f":"IF('CF4 Eval'!E20=\"\",\"\",'CF4 Eval'!E20)","v":""},{"$f":"IF('CF4 Eval'!F20=\"\",\"\",'CF4 Eval'!F20)","v":""},{"$f":"'CF4 Eval'!AC20","v":{"v":0,"d":"0.00"}},{"$f":"'CF4 Eval'!AF20","v":{"v":0,"d":"0.00"}},{"$f":"'CF4 Eval'!AL20","v":{"v":0,"d":"0.00"}},{"$f":"'CF4 Eval'!AP20","v":{"v":0,"d":"0.00"}},{"$f":"'CF4 Eval'!AQ20","v":{"v":0,"d":"0.00"}},"",{"$f":"'CF4 Eval'!AR20","v":17}]
["",{"$f":"IF(D21=\"\",\"\",UPPER(Accueil!$D$6))","v":""},{"$f":"IF('CF4 Eval'!C21=\"\",\"\",'CF4 Eval'!C21)","v":""},{"$f":"IF('CF4 Eval'!D21=\"\",\"\",'CF4 Eval'!D21)","v":""},{"$f":"IF('CF4 Eval'!E21=\"\",\"\",'CF4 Eval'!E21)","v":""},{"$f":"IF('CF4 Eval'!F21=\"\",\"\",'CF4 Eval'!F21)","v":""},{"$f":"'CF4 Eval'!AC21","v":{"v":0,"d":"0.00"}},{"$f":"'CF4 Eval'!AF21","v":{"v":0,"d":"0.00"}},{"$f":"'CF4 Eval'!AL21","v":{"v":0,"d":"0.00"}},{"$f":"'CF4 Eval'!AP21","v":{"v":0,"d":"0.00"}},{"$f":"'CF4 Eval'!AQ21","v":{"v":0,"d":"0.00"}},"",{"$f":"'CF4 Eval'!AR21","v":18}]
["",{"$f":"IF(D22=\"\",\"\",UPPER(Accueil!$D$6))","v":""},{"$f":"IF('CF4 Eval'!C22=\"\",\"\",'CF4 Eval'!C22)","v":""},{"$f":"IF('CF4 Eval'!D22=\"\",\"\",'CF4 Eval'!D22)","v":""},{"$f":"IF('CF4 Eval'!E22=\"\",\"\",'CF4 Eval'!E22)","v":""},{"$f":"IF('CF4 Eval'!F22=\"\",\"\",'CF4 Eval'!F22)","v":""},{"$f":"'CF4 Eval'!AC22","v":{"v":0,"d":"0.00"}},{"$f":"'CF4 Eval'!AF22","v":{"v":0,"d":"0.00"}},{"$f":"'CF4 Eval'!AL22","v":{"v":0,"d":"0.00"}},{"$f":"'CF4 Eval'!AP22","v":{"v":0,"d":"0.00"}},{"$f":"'CF4 Eval'!AQ22","v":{"v":0,"d":"0.00"}},"",{"$f":"'CF4 Eval'!AR22","v":19}]
["",{"$f":"IF(D23=\"\",\"\",UPPER(Accueil!$D$6))","v":""},{"$f":"IF('CF4 Eval'!C23=\"\",\"\",'CF4 Eval'!C23)","v":""},{"$f":"IF('CF4 Eval'!D23=\"\",\"\",'CF4 Eval'!D23)","v":""},{"$f":"IF('CF4 Eval'!E23=\"\",\"\",'CF4 Eval'!E23)","v":""},{"$f":"IF('CF4 Eval'!F23=\"\",\"\",'CF4 Eval'!F23)","v":""},{"$f":"'CF4 Eval'!AC23","v":{"v":0,"d":"0.00"}},{"$f":"'CF4 Eval'!AF23","v":{"v":0,"d":"0.00"}},{"$f":"'CF4 Eval'!AL23","v":{"v":0,"d":"0.00"}},{"$f":"'CF4 Eval'!AP23","v":{"v":0,"d":"0.00"}},{"$f":"'CF4 Eval'!AQ23","v":{"v":0,"d":"0.00"}},"",{"$f":"'CF4 Eval'!AR23","v":20}]
["",{"$f":"IF(D24=\"\",\"\",UPPER(Accueil!$D$6))","v":""},{"$f":"IF('CF4 Eval'!C24=\"\",\"\",'CF4 Eval'!C24)","v":""},{"$f":"IF('CF4 Eval'!D24=\"\",\"\",'CF4 Eval'!D24)","v":""},{"$f":"IF('CF4 Eval'!E24=\"\",\"\",'CF4 Eval'!E24)","v":""},{"$f":"IF('CF4 Eval'!F24=\"\",\"\",'CF4 Eval'!F24)","v":""},{"$f":"'CF4 Eval'!AC24","v":{"v":0,"d":"0.00"}},{"$f":"'CF4 Eval'!AF24","v":{"v":0,"d":"0.00"}},{"$f":"'CF4 Eval'!AL24","v":{"v":0,"d":"0.00"}},{"$f":"'CF4 Eval'!AP24","v":{"v":0,"d":"0.00"}},{"$f":"'CF4 Eval'!AQ24","v":{"v":0,"d":"0.00"}},"",{"$f":"'CF4 Eval'!AR24","v":21}]
["",{"$f":"IF(D25=\"\",\"\",UPPER(Accueil!$D$6))","v":""},{"$f":"IF('CF4 Eval'!C25=\"\",\"\",'CF4 Eval'!C25)","v":""},{"$f":"IF('CF4 Eval'!D25=\"\",\"\",'CF4 Eval'!D25)","v":""},{"$f":"IF('CF4 Eval'!E25=\"\",\"\",'CF4 Eval'!E25)","v":""},{"$f":"IF('CF4 Eval'!F25=\"\",\"\",'CF4 Eval'!F25)","v":""},{"$f":"'CF4 Eval'!AC25","v":{"v":0,"d":"0.00"}},{"$f":"'CF4 Eval'!AF25","v":{"v":0,"d":"0.00"}},{"$f":"'CF4 Eval'!AL25","v":{"v":0,"d":"0.00"}},{"$f":"'CF4 Eval'!AP25","v":{"v":0,"d":"0.00"}},{"$f":"'CF4 Eval'!AQ25","v":{"v":0,"d":"0.00"}},"",{"$f":"'CF4 Eval'!AR25","v":22}]
["",{"$f":"IF(D26=\"\",\"\",UPPER(Accueil!$D$6))","v":""},{"$f":"IF('CF4 Eval'!C26=\"\",\"\",'CF4 Eval'!C26)","v":""},{"$f":"IF('CF4 Eval'!D26=\"\",\"\",'CF4 Eval'!D26)","v":""},{"$f":"IF('CF4 Eval'!E26=\"\",\"\",'CF4 Eval'!E26)","v":""},{"$f":"IF('CF4 Eval'!F26=\"\",\"\",'CF4 Eval'!F26)","v":""},{"$f":"'CF4 Eval'!AC26","v":{"v":0,"d":"0.00"}},{"$f":"'CF4 Eval'!AF26","v":{"v":0,"d":"0.00"}},{"$f":"'CF4 Eval'!AL26","v":{"v":0,"d":"0.00"}},{"$f":"'CF4 Eval'!AP26","v":{"v":0,"d":"0.00"}},{"$f":"'CF4 Eval'!AQ26","v":{"v":0,"d":"0.00"}},"",{"$f":"'CF4 Eval'!AR26","v":23}]
["",{"$f":"IF(D27=\"\",\"\",UPPER(Accueil!$D$6))","v":""},{"$f":"IF('CF4 Eval'!C27=\"\",\"\",'CF4 Eval'!C27)","v":""},{"$f":"IF('CF4 Eval'!D27=\"\",\"\",'CF4 Eval'!D27)","v":""},{"$f":"IF('CF4 Eval'!E27=\"\",\"\",'CF4 Eval'!E27)","v":""},{"$f":"IF('CF4 Eval'!F27=\"\",\"\",'CF4 Eval'!F27)","v":""},{"$f":"'CF4 Eval'!AC27","v":{"v":0,"d":"0.00"}},{"$f":"'CF4 Eval'!AF27","v":{"v":0,"d":"0.00"}},{"$f":"'CF4 Eval'!AL27","v":{"v":0,"d":"0.00"}},{"$f":"'CF4 Eval'!AP27","v":{"v":0,"d":"0.00"}},{"$f":"'CF4 Eval'!AQ27","v":{"v":0,"d":"0.00"}},"",{"$f":"'CF4 Eval'!AR27","v":24}]
["",{"$f":"IF(D28=\"\",\"\",UPPER(Accueil!$D$6))","v":""},{"$f":"IF('CF4 Eval'!C28=\"\",\"\",'CF4 Eval'!C28)","v":""},{"$f":"IF('CF4 Eval'!D28=\"\",\"\",'CF4 Eval'!D28)","v":""},{"$f":"IF('CF4 Eval'!E28=\"\",\"\",'CF4 Eval'!E28)","v":""},{"$f":"IF('CF4 Eval'!F28=\"\",\"\",'CF4 Eval'!F28)","v":""},{"$f":"'CF4 Eval'!AC28","v":{"v":0,"d":"0.00"}},{"$f":"'CF4 Eval'!AF28","v":{"v":0,"d":"0.00"}},{"$f":"'CF4 Eval'!AL28","v":{"v":0,"d":"0.00"}},{"$f":"'CF4 Eval'!AP28","v":{"v":0,"d":"0.00"}},{"$f":"'CF4 Eval'!AQ28","v":{"v":0,"d":"0.00"}},"",{"$f":"'CF4 Eval'!AR28","v":25}]
["",{"$f":"IF(D29=\"\",\"\",UPPER(Accueil!$D$6))","v":""},{"$f":"IF('CF4 Eval'!C29=\"\",\"\",'CF4 Eval'!C29)","v":""},{"$f":"IF('CF4 Eval'!D29=\"\",\"\",'CF4 Eval'!D29)","v":""},{"$f":"IF('CF4 Eval'!E29=\"\",\"\",'CF4 Eval'!E29)","v":""},{"$f":"IF('CF4 Eval'!F29=\"\",\"\",'CF4 Eval'!F29)","v":""},{"$f":"'CF4 Eval'!AC29","v":{"v":0,"d":"0.00"}},{"$f":"'CF4 Eval'!AF29","v":{"v":0,"d":"0.00"}},{"$f":"'CF4 Eval'!AL29","v":{"v":0,"d":"0.00"}},{"$f":"'CF4 Eval'!AP29","v":{"v":0,"d":"0.00"}},{"$f":"'CF4 Eval'!AQ29","v":{"v":0,"d":"0.00"}},"",{"$f":"'CF4 Eval'!AR29","v":26}]
["",{"$f":"IF(D30=\"\",\"\",UPPER(Accueil!$D$6))","v":""},{"$f":"IF('CF4 Eval'!C30=\"\",\"\",'CF4 Eval'!C30)","v":""},{"$f":"IF('CF4 Eval'!D30=\"\",\"\",'CF4 Eval'!D30)","v":""},{"$f":"IF('CF4 Eval'!E30=\"\",\"\",'CF4 Eval'!E30)","v":""},{"$f":"IF('CF4 Eval'!F30=\"\",\"\",'CF4 Eval'!F30)","v":""},{"$f":"'CF4 Eval'!AC30","v":{"v":0,"d":"0.00"}},{"$f":"'CF4 Eval'!AF30","v":{"v":0,"d":"0.00"}},{"$f":"'CF4 Eval'!AL30","v":{"v":0,"d":"0.00"}},{"$f":"'CF4 Eval'!AP30","v":{"v":0,"d":"0.00"}},{"$f":"'CF4 Eval'!AQ30","v":{"v":0,"d":"0.00"}},"",{"$f":"'CF4 Eval'!AR30","v":27}]
["",{"$f":"IF(D31=\"\",\"\",UPPER(Accueil!$D$6))","v":""},{"$f":"IF('CF4 Eval'!C31=\"\",\"\",'CF4 Eval'!C31)","v":""},{"$f":"IF('CF4 Eval'!D31=\"\",\"\",'CF4 Eval'!D31)","v":""},{"$f":"IF('CF4 Eval'!E31=\"\",\"\",'CF4 Eval'!E31)","v":""},{"$f":"IF('CF4 Eval'!F31=\"\",\"\",'CF4 Eval'!F31)","v":""},{"$f":"'CF4 Eval'!AC31","v":{"v":0,"d":"0.00"}},{"$f":"'CF4 Eval'!AF31","v":{"v":0,"d":"0.00"}},{"$f":"'CF4 Eval'!AL31","v":{"v":0,"d":"0.00"}},{"$f":"'CF4 Eval'!AP31","v":{"v":0,"d":"0.00"}},{"$f":"'CF4 Eval'!AQ31","v":{"v":0,"d":"0.00"}},"",{"$f":"'CF4 Eval'!AR31","v":28}]
["",{"$f":"IF(D32=\"\",\"\",UPPER(Accueil!$D$6))","v":""},{"$f":"IF('CF4 Eval'!C32=\"\",\"\",'CF4 Eval'!C32)","v":""},{"$f":"IF('CF4 Eval'!D32=\"\",\"\",'CF4 Eval'!D32)","v":""},{"$f":"IF('CF4 Eval'!E32=\"\",\"\",'CF4 Eval'!E32)","v":""},{"$f":"IF('CF4 Eval'!F32=\"\",\"\",'CF4 Eval'!F32)","v":""},{"$f":"'CF4 Eval'!AC32","v":{"v":0,"d":"0.00"}},{"$f":"'CF4 Eval'!AF32","v":{"v":0,"d":"0.00"}},{"$f":"'CF4 Eval'!AL32","v":{"v":0,"d":"0.00"}},{"$f":"'CF4 Eval'!AP32","v":{"v":0,"d":"0.00"}},{"$f":"'CF4 Eval'!AQ32","v":{"v":0,"d":"0.00"}},"",{"$f":"'CF4 Eval'!AR32","v":29}]
["",{"$f":"IF(D33=\"\",\"\",UPPER(Accueil!$D$6))","v":""},{"$f":"IF('CF4 Eval'!C33=\"\",\"\",'CF4 Eval'!C33)","v":""},{"$f":"IF('CF4 Eval'!D33=\"\",\"\",'CF4 Eval'!D33)","v":""},{"$f":"IF('CF4 Eval'!E33=\"\",\"\",'CF4 Eval'!E33)","v":""},{"$f":"IF('CF4 Eval'!F33=\"\",\"\",'CF4 Eval'!F33)","v":""},{"$f":"'CF4 Eval'!AC33","v":{"v":0,"d":"0.00"}},{"$f":"'CF4 Eval'!AF33","v":{"v":0,"d":"0.00"}},{"$f":"'CF4 Eval'!AL33","v":{"v":0,"d":"0.00"}},{"$f":"'CF4 Eval'!AP33","v":{"v":0,"d":"0.00"}},{"$f":"'CF4 Eval'!AQ33","v":{"v":0,"d":"0.00"}},"",{"$f":"'CF4 Eval'!AR33","v":30}]
["",{"$f":"IF(D34=\"\",\"\",UPPER(Accueil!$D$6))","v":""},{"$f":"IF('CF4 Eval'!C34=\"\",\"\",'CF4 Eval'!C34)","v":""},{"$f":"IF('CF4 Eval'!D34=\"\",\"\",'CF4 Eval'!D34)","v":""},{"$f":"IF('CF4 Eval'!E34=\"\",\"\",'CF4 Eval'!E34)","v":""},{"$f":"IF('CF4 Eval'!F34=\"\",\"\",'CF4 Eval'!F34)","v":""},{"$f":"'CF4 Eval'!AC34","v":{"v":0,"d":"0.00"}},{"$f":"'CF4 Eval'!AF34","v":{"v":0,"d":"0.00"}},{"$f":"'CF4 Eval'!AL34","v":{"v":0,"d":"0.00"}},{"$f":"'CF4 Eval'!AP34","v":{"v":0,"d":"0.00"}},{"$f":"'CF4 Eval'!AQ34","v":{"v":0,"d":"0.00"}},"",{"$f":"'CF4 Eval'!AR34","v":31}]
["",{"$f":"IF(D35=\"\",\"\",UPPER(Accueil!$D$6))","v":""},{"$f":"IF('CF4 Eval'!C35=\"\",\"\",'CF4 Eval'!C35)","v":""},{"$f":"IF('CF4 Eval'!D35=\"\",\"\",'CF4 Eval'!D35)","v":""},{"$f":"IF('CF4 Eval'!E35=\"\",\"\",'CF4 Eval'!E35)","v":""},{"$f":"IF('CF4 Eval'!F35=\"\",\"\",'CF4 Eval'!F35)","v":""},{"$f":"'CF4 Eval'!AC35","v":{"v":0,"d":"0.00"}},{"$f":"'CF4 Eval'!AF35","v":{"v":0,"d":"0.00"}},{"$f":"'CF4 Eval'!AL35","v":{"v":0,"d":"0.00"}},{"$f":"'CF4 Eval'!AP35","v":{"v":0,"d":"0.00"}},{"$f":"'CF4 Eval'!AQ35","v":{"v":0,"d":"0.00"}},"",{"$f":"'CF4 Eval'!AR35","v":32}]
[{"$f":"IF(K36>0,RANK(K36,K$4:K$103),\"\")","v":""},{"$f":"IF(D36=\"\",\"\",UPPER(Accueil!$D$6))","v":""},{"$f":"IF('CF4 Eval'!C36=\"\",\"\",'CF4 Eval'!C36)","v":""},{"$f":"IF('CF4 Eval'!D36=\"\",\"\",'CF4 Eval'!D36)","v":""},{"$f":"IF('CF4 Eval'!E36=\"\",\"\",'CF4 Eval'!E36)","v":""},{"$f":"IF('CF4 Eval'!F36=\"\",\"\",'CF4 Eval'!F36)","v":""},{"$f":"'CF4 Eval'!AC36","v":{"v":0,"d":"0.00"}},{"$f":"'CF4 Eval'!AF36","v":{"v":0,"d":"0.00"}},{"$f":"'CF4 Eval'!AL36","v":{"v":0,"d":"0.00"}},{"$f":"'CF4 Eval'!AP36","v":{"v":0,"d":"0.00"}},{"$f":"'CF4 Eval'!AQ36","v":{"v":0,"d":"0.00"}},{"$f":"IF(K36=0,\"\",IF(K36>=110,\"Ruban Jaune\",\"Ruban Bleu\"))","v":""},{"$f":"'CF4 Eval'!AR36","v":33}]
["",{"$f":"IF(D37=\"\",\"\",UPPER(Accueil!$D$6))","v":""},{"$f":"IF('CF4 Eval'!C37=\"\",\"\",'CF4 Eval'!C37)","v":""},{"$f":"IF('CF4 Eval'!D37=\"\",\"\",'CF4 Eval'!D37)","v":""},{"$f":"IF('CF4 Eval'!E37=\"\",\"\",'CF4 Eval'!E37)","v":""},{"$f":"IF('CF4 Eval'!F37=\"\",\"\",'CF4 Eval'!F37)","v":""},{"$f":"'CF4 Eval'!AC37","v":{"v":0,"d":"0.00"}},{"$f":"'CF4 Eval'!AF37","v":{"v":0,"d":"0.00"}},{"$f":"'CF4 Eval'!AL37","v":{"v":0,"d":"0.00"}},{"$f":"'CF4 Eval'!AP37","v":{"v":0,"d":"0.00"}},{"$f":"'CF4 Eval'!AQ37","v":{"v":0,"d":"0.00"}},"",{"$f":"'CF4 Eval'!AR37","v":34}]
["",{"$f":"IF(D38=\"\",\"\",UPPER(Accueil!$D$6))","v":""},{"$f":"IF('CF4 Eval'!C38=\"\",\"\",'CF4 Eval'!C38)","v":""},{"$f":"IF('CF4 Eval'!D38=\"\",\"\",'CF4 Eval'!D38)","v":""},{"$f":"IF('CF4 Eval'!E38=\"\",\"\",'CF4 Eval'!E38)","v":""},{"$f":"IF('CF4 Eval'!F38=\"\",\"\",'CF4 Eval'!F38)","v":""},{"$f":"'CF4 Eval'!AC38","v":{"v":0,"d":"0.00"}},{"$f":"'CF4 Eval'!AF38","v":{"v":0,"d":"0.00"}},{"$f":"'CF4 Eval'!AL38","v":{"v":0,"d":"0.00"}},{"$f":"'CF4 Eval'!AP38","v":{"v":0,"d":"0.00"}},{"$f":"'CF4 Eval'!AQ38","v":{"v":0,"d":"0.00"}},"",{"$f":"'CF4 Eval'!AR38","v":35}]
["",{"$f":"IF(D39=\"\",\"\",UPPER(Accueil!$D$6))","v":""},{"$f":"IF('CF4 Eval'!C39=\"\",\"\",'CF4 Eval'!C39)","v":""},{"$f":"IF('CF4 Eval'!D39=\"\",\"\",'CF4 Eval'!D39)","v":""},{"$f":"IF('CF4 Eval'!E39=\"\",\"\",'CF4 Eval'!E39)","v":""},{"$f":"IF('CF4 Eval'!F39=\"\",\"\",'CF4 Eval'!F39)","v":""},{"$f":"'CF4 Eval'!AC39","v":{"v":0,"d":"0.00"}},{"$f":"'CF4 Eval'!AF39","v":{"v":0,"d":"0.00"}},{"$f":"'CF4 Eval'!AL39","v":{"v":0,"d":"0.00"}},{"$f":"'CF4 Eval'!AP39","v":{"v":0,"d":"0.00"}},{"$f":"'CF4 Eval'!AQ39","v":{"v":0,"d":"0.00"}},"",{"$f":"'CF4 Eval'!AR39","v":36}]
["",{"$f":"IF(D40=\"\",\"\",UPPER(Accueil!$D$6))","v":""},{"$f":"IF('CF4 Eval'!C40=\"\",\"\",'CF4 Eval'!C40)","v":""},{"$f":"IF('CF4 Eval'!D40=\"\",\"\",'CF4 Eval'!D40)","v":""},{"$f":"IF('CF4 Eval'!E40=\"\",\"\",'CF4 Eval'!E40)","v":""},{"$f":"IF('CF4 Eval'!F40=\"\",\"\",'CF4 Eval'!F40)","v":""},{"$f":"'CF4 Eval'!AC40","v":{"v":0,"d":"0.00"}},{"$f":"'CF4 Eval'!AF40","v":{"v":0,"d":"0.00"}},{"$f":"'CF4 Eval'!AL40","v":{"v":0,"d":"0.00"}},{"$f":"'CF4 Eval'!AP40","v":{"v":0,"d":"0.00"}},{"$f":"'CF4 Eval'!AQ40","v":{"v":0,"d":"0.00"}},"",{"$f":"'CF4 Eval'!AR40","v":37}]
["",{"$f":"IF(D41=\"\",\"\",UPPER(Accueil!$D$6))","v":""},{"$f":"IF('CF4 Eval'!C41=\"\",\"\",'CF4 Eval'!C41)","v":""},{"$f":"IF('CF4 Eval'!D41=\"\",\"\",'CF4 Eval'!D41)","v":""},{"$f":"IF('CF4 Eval'!E41=\"\",\"\",'CF4 Eval'!E41)","v":""},{"$f":"IF('CF4 Eval'!F41=\"\",\"\",'CF4 Eval'!F41)","v":""},{"$f":"'CF4 Eval'!AC41","v":{"v":0,"d":"0.00"}},{"$f":"'CF4 Eval'!AF41","v":{"v":0,"d":"0.00"}},{"$f":"'CF4 Eval'!AL41","v":{"v":0,"d":"0.00"}},{"$f":"'CF4 Eval'!AP41","v":{"v":0,"d":"0.00"}},{"$f":"'CF4 Eval'!AQ41","v":{"v":0,"d":"0.00"}},"",{"$f":"'CF4 Eval'!AR41","v":38}]
["",{"$f":"IF(D42=\"\",\"\",UPPER(Accueil!$D$6))","v":""},{"$f":"IF('CF4 Eval'!C42=\"\",\"\",'CF4 Eval'!C42)","v":""},{"$f":"IF('CF4 Eval'!D42=\"\",\"\",'CF4 Eval'!D42)","v":""},{"$f":"IF('CF4 Eval'!E42=\"\",\"\",'CF4 Eval'!E42)","v":""},{"$f":"IF('CF4 Eval'!F42=\"\",\"\",'CF4 Eval'!F42)","v":""},{"$f":"'CF4 Eval'!AC42","v":{"v":0,"d":"0.00"}},{"$f":"'CF4 Eval'!AF42","v":{"v":0,"d":"0.00"}},{"$f":"'CF4 Eval'!AL42","v":{"v":0,"d":"0.00"}},{"$f":"'CF4 Eval'!AP42","v":{"v":0,"d":"0.00"}},{"$f":"'CF4 Eval'!AQ42","v":{"v":0,"d":"0.00"}},"",{"$f":"'CF4 Eval'!AR42","v":39}]
["",{"$f":"IF(D43=\"\",\"\",UPPER(Accueil!$D$6))","v":""},{"$f":"IF('CF4 Eval'!C43=\"\",\"\",'CF4 Eval'!C43)","v":""},{"$f":"IF('CF4 Eval'!D43=\"\",\"\",'CF4 Eval'!D43)","v":""},{"$f":"IF('CF4 Eval'!E43=\"\",\"\",'CF4 Eval'!E43)","v":""},{"$f":"IF('CF4 Eval'!F43=\"\",\"\",'CF4 Eval'!F43)","v":""},{"$f":"'CF4 Eval'!AC43","v":{"v":0,"d":"0.00"}},{"$f":"'CF4 Eval'!AF43","v":{"v":0,"d":"0.00"}},{"$f":"'CF4 Eval'!AL43","v":{"v":0,"d":"0.00"}},{"$f":"'CF4 Eval'!AP43","v":{"v":0,"d":"0.00"}},{"$f":"'CF4 Eval'!AQ43","v":{"v":0,"d":"0.00"}},"",{"$f":"'CF4 Eval'!AR43","v":40}]
["",{"$f":"IF(D44=\"\",\"\",UPPER(Accueil!$D$6))","v":""},{"$f":"IF('CF4 Eval'!C44=\"\",\"\",'CF4 Eval'!C44)","v":""},{"$f":"IF('CF4 Eval'!D44=\"\",\"\",'CF4 Eval'!D44)","v":""},{"$f":"IF('CF4 Eval'!E44=\"\",\"\",'CF4 Eval'!E44)","v":""},{"$f":"IF('CF4 Eval'!F44=\"\",\"\",'CF4 Eval'!F44)","v":""},{"$f":"'CF4 Eval'!AC44","v":{"v":0,"d":"0.00"}},{"$f":"'CF4 Eval'!AF44","v":{"v":0,"d":"0.00"}},{"$f":"'CF4 Eval'!AL44","v":{"v":0,"d":"0.00"}},{"$f":"'CF4 Eval'!AP44","v":{"v":0,"d":"0.00"}},{"$f":"'CF4 Eval'!AQ44","v":{"v":0,"d":"0.00"}},"",{"$f":"'CF4 Eval'!AR44","v":41}]
["",{"$f":"IF(D45=\"\",\"\",UPPER(Accueil!$D$6))","v":""},{"$f":"IF('CF4 Eval'!C45=\"\",\"\",'CF4 Eval'!C45)","v":""},{"$f":"IF('CF4 Eval'!D45=\"\",\"\",'CF4 Eval'!D45)","v":""},{"$f":"IF('CF4 Eval'!E45=\"\",\"\",'CF4 Eval'!E45)","v":""},{"$f":"IF('CF4 Eval'!F45=\"\",\"\",'CF4 Eval'!F45)","v":""},{"$f":"'CF4 Eval'!AC45","v":{"v":0,"d":"0.00"}},{"$f":"'CF4 Eval'!AF45","v":{"v":0,"d":"0.00"}},{"$f":"'CF4 Eval'!AL45","v":{"v":0,"d":"0.00"}},{"$f":"'CF4 Eval'!AP45","v":{"v":0,"d":"0.00"}},{"$f":"'CF4 Eval'!AQ45","v":{"v":0,"d":"0.00"}},"",{"$f":"'CF4 Eval'!AR45","v":42}]
["",{"$f":"IF(D46=\"\",\"\",UPPER(Accueil!$D$6))","v":""},{"$f":"IF('CF4 Eval'!C46=\"\",\"\",'CF4 Eval'!C46)","v":""},{"$f":"IF('CF4 Eval'!D46=\"\",\"\",'CF4 Eval'!D46)","v":""},{"$f":"IF('CF4 Eval'!E46=\"\",\"\",'CF4 Eval'!E46)","v":""},{"$f":"IF('CF4 Eval'!F46=\"\",\"\",'CF4 Eval'!F46)","v":""},{"$f":"'CF4 Eval'!AC46","v":{"v":0,"d":"0.00"}},{"$f":"'CF4 Eval'!AF46","v":{"v":0,"d":"0.00"}},{"$f":"'CF4 Eval'!AL46","v":{"v":0,"d":"0.00"}},{"$f":"'CF4 Eval'!AP46","v":{"v":0,"d":"0.00"}},{"$f":"'CF4 Eval'!AQ46","v":{"v":0,"d":"0.00"}},"",{"$f":"'CF4 Eval'!AR46","v":43}]
["",{"$f":"IF(D47=\"\",\"\",UPPER(Accueil!$D$6))","v":""},{"$f":"IF('CF4 Eval'!C47=\"\",\"\",'CF4 Eval'!C47)","v":""},{"$f":"IF('CF4 Eval'!D47=\"\",\"\",'CF4 Eval'!D47)","v":""},{"$f":"IF('CF4 Eval'!E47=\"\",\"\",'CF4 Eval'!E47)","v":""},{"$f":"IF('CF4 Eval'!F47=\"\",\"\",'CF4 Eval'!F47)","v":""},{"$f":"'CF4 Eval'!AC47","v":{"v":0,"d":"0.00"}},{"$f":"'CF4 Eval'!AF47","v":{"v":0,"d":"0.00"}},{"$f":"'CF4 Eval'!AL47","v":{"v":0,"d":"0.00"}},{"$f":"'CF4 Eval'!AP47","v":{"v":0,"d":"0.00"}},{"$f":"'CF4 Eval'!AQ47","v":{"v":0,"d":"0.00"}},"",{"$f":"'CF4 Eval'!AR47","v":44}]
["",{"$f":"IF(D48=\"\",\"\",UPPER(Accueil!$D$6))","v":""},{"$f":"IF('CF4 Eval'!C48=\"\",\"\",'CF4 Eval'!C48)","v":""},{"$f":"IF('CF4 Eval'!D48=\"\",\"\",'CF4 Eval'!D48)","v":""},{"$f":"IF('CF4 Eval'!E48=\"\",\"\",'CF4 Eval'!E48)","v":""},{"$f":"IF('CF4 Eval'!F48=\"\",\"\",'CF4 Eval'!F48)","v":""},{"$f":"'CF4 Eval'!AC48","v":{"v":0,"d":"0.00"}},{"$f":"'CF4 Eval'!AF48","v":{"v":0,"d":"0.00"}},{"$f":"'CF4 Eval'!AL48","v":{"v":0,"d":"0.00"}},{"$f":"'CF4 Eval'!AP48","v":{"v":0,"d":"0.00"}},{"$f":"'CF4 Eval'!AQ48","v":{"v":0,"d":"0.00"}},"",{"$f":"'CF4 Eval'!AR48","v":45}]
["",{"$f":"IF(D49=\"\",\"\",UPPER(Accueil!$D$6))","v":""},{"$f":"IF('CF4 Eval'!C49=\"\",\"\",'CF4 Eval'!C49)","v":""},{"$f":"IF('CF4 Eval'!D49=\"\",\"\",'CF4 Eval'!D49)","v":""},{"$f":"IF('CF4 Eval'!E49=\"\",\"\",'CF4 Eval'!E49)","v":""},{"$f":"IF('CF4 Eval'!F49=\"\",\"\",'CF4 Eval'!F49)","v":""},{"$f":"'CF4 Eval'!AC49","v":{"v":0,"d":"0.00"}},{"$f":"'CF4 Eval'!AF49","v":{"v":0,"d":"0.00"}},{"$f":"'CF4 Eval'!AL49","v":{"v":0,"d":"0.00"}},{"$f":"'CF4 Eval'!AP49","v":{"v":0,"d":"0.00"}},{"$f":"'CF4 Eval'!AQ49","v":{"v":0,"d":"0.00"}},"",{"$f":"'CF4 Eval'!AR49","v":46}]
["",{"$f":"IF(D50=\"\",\"\",UPPER(Accueil!$D$6))","v":""},{"$f":"IF('CF4 Eval'!C50=\"\",\"\",'CF4 Eval'!C50)","v":""},{"$f":"IF('CF4 Eval'!D50=\"\",\"\",'CF4 Eval'!D50)","v":""},{"$f":"IF('CF4 Eval'!E50=\"\",\"\",'CF4 Eval'!E50)","v":""},{"$f":"IF('CF4 Eval'!F50=\"\",\"\",'CF4 Eval'!F50)","v":""},{"$f":"'CF4 Eval'!AC50","v":{"v":0,"d":"0.00"}},{"$f":"'CF4 Eval'!AF50","v":{"v":0,"d":"0.00"}},{"$f":"'CF4 Eval'!AL50","v":{"v":0,"d":"0.00"}},{"$f":"'CF4 Eval'!AP50","v":{"v":0,"d":"0.00"}},{"$f":"'CF4 Eval'!AQ50","v":{"v":0,"d":"0.00"}},"",{"$f":"'CF4 Eval'!AR50","v":47}]
["",{"$f":"IF(D51=\"\",\"\",UPPER(Accueil!$D$6))","v":""},{"$f":"IF('CF4 Eval'!C51=\"\",\"\",'CF4 Eval'!C51)","v":""},{"$f":"IF('CF4 Eval'!D51=\"\",\"\",'CF4 Eval'!D51)","v":""},{"$f":"IF('CF4 Eval'!E51=\"\",\"\",'CF4 Eval'!E51)","v":""},{"$f":"IF('CF4 Eval'!F51=\"\",\"\",'CF4 Eval'!F51)","v":""},{"$f":"'CF4 Eval'!AC51","v":{"v":0,"d":"0.00"}},{"$f":"'CF4 Eval'!AF51","v":{"v":0,"d":"0.00"}},{"$f":"'CF4 Eval'!AL51","v":{"v":0,"d":"0.00"}},{"$f":"'CF4 Eval'!AP51","v":{"v":0,"d":"0.00"}},{"$f":"'CF4 Eval'!AQ51","v":{"v":0,"d":"0.00"}},"",{"$f":"'CF4 Eval'!AR51","v":48}]
["",{"$f":"IF(D52=\"\",\"\",UPPER(Accueil!$D$6))","v":""},{"$f":"IF('CF4 Eval'!C52=\"\",\"\",'CF4 Eval'!C52)","v":""},{"$f":"IF('CF4 Eval'!D52=\"\",\"\",'CF4 Eval'!D52)","v":""},{"$f":"IF('CF4 Eval'!E52=\"\",\"\",'CF4 Eval'!E52)","v":""},{"$f":"IF('CF4 Eval'!F52=\"\",\"\",'CF4 Eval'!F52)","v":""},{"$f":"'CF4 Eval'!AC52","v":{"v":0,"d":"0.00"}},{"$f":"'CF4 Eval'!AF52","v":{"v":0,"d":"0.00"}},{"$f":"'CF4 Eval'!AL52","v":{"v":0,"d":"0.00"}},{"$f":"'CF4 Eval'!AP52","v":{"v":0,"d":"0.00"}},{"$f":"'CF4 Eval'!AQ52","v":{"v":0,"d":"0.00"}},"",{"$f":"'CF4 Eval'!AR52","v":49}]
["",{"$f":"IF(D53=\"\",\"\",UPPER(Accueil!$D$6))","v":""},{"$f":"IF('CF4 Eval'!C53=\"\",\"\",'CF4 Eval'!C53)","v":""},{"$f":"IF('CF4 Eval'!D53=\"\",\"\",'CF4 Eval'!D53)","v":""},{"$f":"IF('CF4 Eval'!E53=\"\",\"\",'CF4 Eval'!E53)","v":""},{"$f":"IF('CF4 Eval'!F53=\"\",\"\",'CF4 Eval'!F53)","v":""},{"$f":"'CF4 Eval'!AC53","v":{"v":0,"d":"0.00"}},{"$f":"'CF4 Eval'!AF53","v":{"v":0,"d":"0.00"}},{"$f":"'CF4 Eval'!AL53","v":{"v":0,"d":"0.00"}},{"$f":"'CF4 Eval'!AP53","v":{"v":0,"d":"0.00"}},{"$f":"'CF4 Eval'!AQ53","v":{"v":0,"d":"0.00"}},"",{"$f":"'CF4 Eval'!AR53","v":50}]
["",{"$f":"IF(D54=\"\",\"\",UPPER(Accueil!$D$6))","v":""},{"$f":"IF('CF4 Eval'!C54=\"\",\"\",'CF4 Eval'!C54)","v":""},{"$f":"IF('CF4 Eval'!D54=\"\",\"\",'CF4 Eval'!D54)","v":""},{"$f":"IF('CF4 Eval'!E54=\"\",\"\",'CF4 Eval'!E54)","v":""},{"$f":"IF('CF4 Eval'!F54=\"\",\"\",'CF4 Eval'!F54)","v":""},{"$f":"'CF4 Eval'!AC54","v":{"v":0,"d":"0.00"}},{"$f":"'CF4 Eval'!AF54","v":{"v":0,"d":"0.00"}},{"$f":"'CF4 Eval'!AL54","v":{"v":0,"d":"0.00"}},{"$f":"'CF4 Eval'!AP54","v":{"v":0,"d":"0.00"}},{"$f":"'CF4 Eval'!AQ54","v":{"v":0,"d":"0.00"}},"",{"$f":"'CF4 Eval'!AR54","v":51}]
["",{"$f":"IF(D55=\"\",\"\",UPPER(Accueil!$D$6))","v":""},{"$f":"IF('CF4 Eval'!C55=\"\",\"\",'CF4 Eval'!C55)","v":""},{"$f":"IF('CF4 Eval'!D55=\"\",\"\",'CF4 Eval'!D55)","v":""},{"$f":"IF('CF4 Eval'!E55=\"\",\"\",'CF4 Eval'!E55)","v":""},{"$f":"IF('CF4 Eval'!F55=\"\",\"\",'CF4 Eval'!F55)","v":""},{"$f":"'CF4 Eval'!AC55","v":{"v":0,"d":"0.00"}},{"$f":"'CF4 Eval'!AF55","v":{"v":0,"d":"0.00"}},{"$f":"'CF4 Eval'!AL55","v":{"v":0,"d":"0.00"}},{"$f":"'CF4 Eval'!AP55","v":{"v":0,"d":"0.00"}},{"$f":"'CF4 Eval'!AQ55","v":{"v":0,"d":"0.00"}},"",{"$f":"'CF4 Eval'!AR55","v":52}]
["",{"$f":"IF(D56=\"\",\"\",UPPER(Accueil!$D$6))","v":""},{"$f":"IF('CF4 Eval'!C56=\"\",\"\",'CF4 Eval'!C56)","v":""},{"$f":"IF('CF4 Eval'!D56=\"\",\"\",'CF4 Eval'!D56)","v":""},{"$f":"IF('CF4 Eval'!E56=\"\",\"\",'CF4 Eval'!E56)","v":""},{"$f":"IF('CF4 Eval'!F56=\"\",\"\",'CF4 Eval'!F56)","v":""},{"$f":"'CF4 Eval'!AC56","v":{"v":0,"d":"0.00"}},{"$f":"'CF4 Eval'!AF56","v":{"v":0,"d":"0.00"}},{"$f":"'CF4 Eval'!AL56","v":{"v":0,"d":"0.00"}},{"$f":"'CF4 Eval'!AP56","v":{"v":0,"d":"0.00"}},{"$f":"'CF4 Eval'!AQ56","v":{"v":0,"d":"0.00"}},"",{"$f":"'CF4 Eval'!AR56","v":53}]
["",{"$f":"IF(D57=\"\",\"\",UPPER(Accueil!$D$6))","v":""},{"$f":"IF('CF4 Eval'!C57=\"\",\"\",'CF4 Eval'!C57)","v":""},{"$f":"IF('CF4 Eval'!D57=\"\",\"\",'CF4 Eval'!D57)","v":""},{"$f":"IF('CF4 Eval'!E57=\"\",\"\",'CF4 Eval'!E57)","v":""},{"$f":"IF('CF4 Eval'!F57=\"\",\"\",'CF4 Eval'!F57)","v":""},{"$f":"'CF4 Eval'!AC57","v":{"v":0,"d":"0.00"}},{"$f":"'CF4 Eval'!AF57","v":{"v":0,"d":"0.00"}},{"$f":"'CF4 Eval'!AL57","v":{"v":0,"d":"0.00"}},{"$f":"'CF4 Eval'!AP57","v":{"v":0,"d":"0.00"}},{"$f":"'CF4 Eval'!AQ57","v":{"v":0,"d":"0.00"}},"",{"$f":"'CF4 Eval'!AR57","v":54}]
["",{"$f":"IF(D58=\"\",\"\",UPPER(Accueil!$D$6))","v":""},{"$f":"IF('CF4 Eval'!C58=\"\",\"\",'CF4 Eval'!C58)","v":""},{"$f":"IF('CF4 Eval'!D58=\"\",\"\",'CF4 Eval'!D58)","v":""},{"$f":"IF('CF4 Eval'!E58=\"\",\"\",'CF4 Eval'!E58)","v":""},{"$f":"IF('CF4 Eval'!F58=\"\",\"\",'CF4 Eval'!F58)","v":""},{"$f":"'CF4 Eval'!AC58","v":{"v":0,"d":"0.00"}},{"$f":"'CF4 Eval'!AF58","v":{"v":0,"d":"0.00"}},{"$f":"'CF4 Eval'!AL58","v":{"v":0,"d":"0.00"}},{"$f":"'CF4 Eval'!AP58","v":{"v":0,"d":"0.00"}},{"$f":"'CF4 Eval'!AQ58","v":{"v":0,"d":"0.00"}},"",{"$f":"'CF4 Eval'!AR58","v":55}]
["",{"$f":"IF(D59=\"\",\"\",UPPER(Accueil!$D$6))","v":""},{"$f":"IF('CF4 Eval'!C59=\"\",\"\",'CF4 Eval'!C59)","v":""},{"$f":"IF('CF4 Eval'!D59=\"\",\"\",'CF4 Eval'!D59)","v":""},{"$f":"IF('CF4 Eval'!E59=\"\",\"\",'CF4 Eval'!E59)","v":""},{"$f":"IF('CF4 Eval'!F59=\"\",\"\",'CF4 Eval'!F59)","v":""},{"$f":"'CF4 Eval'!AC59","v":{"v":0,"d":"0.00"}},{"$f":"'CF4 Eval'!AF59","v":{"v":0,"d":"0.00"}},{"$f":"'CF4 Eval'!AL59","v":{"v":0,"d":"0.00"}},{"$f":"'CF4 Eval'!AP59","v":{"v":0,"d":"0.00"}},{"$f":"'CF4 Eval'!AQ59","v":{"v":0,"d":"0.00"}},"",{"$f":"'CF4 Eval'!AR59","v":56}]
["",{"$f":"IF(D60=\"\",\"\",UPPER(Accueil!$D$6))","v":""},{"$f":"IF('CF4 Eval'!C60=\"\",\"\",'CF4 Eval'!C60)","v":""},{"$f":"IF('CF4 Eval'!D60=\"\",\"\",'CF4 Eval'!D60)","v":""},{"$f":"IF('CF4 Eval'!E60=\"\",\"\",'CF4 Eval'!E60)","v":""},{"$f":"IF('CF4 Eval'!F60=\"\",\"\",'CF4 Eval'!F60)","v":""},{"$f":"'CF4 Eval'!AC60","v":{"v":0,"d":"0.00"}},{"$f":"'CF4 Eval'!AF60","v":{"v":0,"d":"0.00"}},{"$f":"'CF4 Eval'!AL60","v":{"v":0,"d":"0.00"}},{"$f":"'CF4 Eval'!AP60","v":{"v":0,"d":"0.00"}},{"$f":"'CF4 Eval'!AQ60","v":{"v":0,"d":"0.00"}},"",{"$f":"'CF4 Eval'!AR60","v":57}]
["",{"$f":"IF(D61=\"\",\"\",UPPER(Accueil!$D$6))","v":""},{"$f":"IF('CF4 Eval'!C61=\"\",\"\",'CF4 Eval'!C61)","v":""},{"$f":"IF('CF4 Eval'!D61=\"\",\"\",'CF4 Eval'!D61)","v":""},{"$f":"IF('CF4 Eval'!E61=\"\",\"\",'CF4 Eval'!E61)","v":""},{"$f":"IF('CF4 Eval'!F61=\"\",\"\",'CF4 Eval'!F61)","v":""},{"$f":"'CF4 Eval'!AC61","v":{"v":0,"d":"0.00"}},{"$f":"'CF4 Eval'!AF61","v":{"v":0,"d":"0.00"}},{"$f":"'CF4 Eval'!AL61","v":{"v":0,"d":"0.00"}},{"$f":"'CF4 Eval'!AP61","v":{"v":0,"d":"0.00"}},{"$f":"'CF4 Eval'!AQ61","v":{"v":0,"d":"0.00"}},"",{"$f":"'CF4 Eval'!AR61","v":58}]
["",{"$f":"IF(D62=\"\",\"\",UPPER(Accueil!$D$6))","v":""},{"$f":"IF('CF4 Eval'!C62=\"\",\"\",'CF4 Eval'!C62)","v":""},{"$f":"IF('CF4 Eval'!D62=\"\",\"\",'CF4 Eval'!D62)","v":""},{"$f":"IF('CF4 Eval'!E62=\"\",\"\",'CF4 Eval'!E62)","v":""},{"$f":"IF('CF4 Eval'!F62=\"\",\"\",'CF4 Eval'!F62)","v":""},{"$f":"'CF4 Eval'!AC62","v":{"v":0,"d":"0.00"}},{"$f":"'CF4 Eval'!AF62","v":{"v":0,"d":"0.00"}},{"$f":"'CF4 Eval'!AL62","v":{"v":0,"d":"0.00"}},{"$f":"'CF4 Eval'!AP62","v":{"v":0,"d":"0.00"}},{"$f":"'CF4 Eval'!AQ62","v":{"v":0,"d":"0.00"}},"",{"$f":"'CF4 Eval'!AR62","v":59}]
["",{"$f":"IF(D63=\"\",\"\",UPPER(Accueil!$D$6))","v":""},{"$f":"IF('CF4 Eval'!C63=\"\",\"\",'CF4 Eval'!C63)","v":""},{"$f":"IF('CF4 Eval'!D63=\"\",\"\",'CF4 Eval'!D63)","v":""},{"$f":"IF('CF4 Eval'!E63=\"\",\"\",'CF4 Eval'!E63)","v":""},{"$f":"IF('CF4 Eval'!F63=\"\",\"\",'CF4 Eval'!F63)","v":""},{"$f":"'CF4 Eval'!AC63","v":{"v":0,"d":"0.00"}},{"$f":"'CF4 Eval'!AF63","v":{"v":0,"d":"0.00"}},{"$f":"'CF4 Eval'!AL63","v":{"v":0,"d":"0.00"}},{"$f":"'CF4 Eval'!AP63","v":{"v":0,"d":"0.00"}},{"$f":"'CF4 Eval'!AQ63","v":{"v":0,"d":"0.00"}},"",{"$f":"'CF4 Eval'!AR63","v":60}]
["",{"$f":"IF(D64=\"\",\"\",UPPER(Accueil!$D$6))","v":""},{"$f":"IF('CF4 Eval'!C64=\"\",\"\",'CF4 Eval'!C64)","v":""},{"$f":"IF('CF4 Eval'!D64=\"\",\"\",'CF4 Eval'!D64)","v":""},{"$f":"IF('CF4 Eval'!E64=\"\",\"\",'CF4 Eval'!E64)","v":""},{"$f":"IF('CF4 Eval'!F64=\"\",\"\",'CF4 Eval'!F64)","v":""},{"$f":"'CF4 Eval'!AC64","v":{"v":0,"d":"0.00"}},{"$f":"'CF4 Eval'!AF64","v":{"v":0,"d":"0.00"}},{"$f":"'CF4 Eval'!AL64","v":{"v":0,"d":"0.00"}},{"$f":"'CF4 Eval'!AP64","v":{"v":0,"d":"0.00"}},{"$f":"'CF4 Eval'!AQ64","v":{"v":0,"d":"0.00"}},"",{"$f":"'CF4 Eval'!AR64","v":61}]
["",{"$f":"IF(D65=\"\",\"\",UPPER(Accueil!$D$6))","v":""},{"$f":"IF('CF4 Eval'!C65=\"\",\"\",'CF4 Eval'!C65)","v":""},{"$f":"IF('CF4 Eval'!D65=\"\",\"\",'CF4 Eval'!D65)","v":""},{"$f":"IF('CF4 Eval'!E65=\"\",\"\",'CF4 Eval'!E65)","v":""},{"$f":"IF('CF4 Eval'!F65=\"\",\"\",'CF4 Eval'!F65)","v":""},{"$f":"'CF4 Eval'!AC65","v":{"v":0,"d":"0.00"}},{"$f":"'CF4 Eval'!AF65","v":{"v":0,"d":"0.00"}},{"$f":"'CF4 Eval'!AL65","v":{"v":0,"d":"0.00"}},{"$f":"'CF4 Eval'!AP65","v":{"v":0,"d":"0.00"}},{"$f":"'CF4 Eval'!AQ65","v":{"v":0,"d":"0.00"}},"",{"$f":"'CF4 Eval'!AR65","v":62}]
["",{"$f":"IF(D66=\"\",\"\",UPPER(Accueil!$D$6))","v":""},{"$f":"IF('CF4 Eval'!C66=\"\",\"\",'CF4 Eval'!C66)","v":""},{"$f":"IF('CF4 Eval'!D66=\"\",\"\",'CF4 Eval'!D66)","v":""},{"$f":"IF('CF4 Eval'!E66=\"\",\"\",'CF4 Eval'!E66)","v":""},{"$f":"IF('CF4 Eval'!F66=\"\",\"\",'CF4 Eval'!F66)","v":""},{"$f":"'CF4 Eval'!AC66","v":{"v":0,"d":"0.00"}},{"$f":"'CF4 Eval'!AF66","v":{"v":0,"d":"0.00"}},{"$f":"'CF4 Eval'!AL66","v":{"v":0,"d":"0.00"}},{"$f":"'CF4 Eval'!AP66","v":{"v":0,"d":"0.00"}},{"$f":"'CF4 Eval'!AQ66","v":{"v":0,"d":"0.00"}},"",{"$f":"'CF4 Eval'!AR66","v":63}]
["",{"$f":"IF(D67=\"\",\"\",UPPER(Accueil!$D$6))","v":""},{"$f":"IF('CF4 Eval'!C67=\"\",\"\",'CF4 Eval'!C67)","v":""},{"$f":"IF('CF4 Eval'!D67=\"\",\"\",'CF4 Eval'!D67)","v":""},{"$f":"IF('CF4 Eval'!E67=\"\",\"\",'CF4 Eval'!E67)","v":""},{"$f":"IF('CF4 Eval'!F67=\"\",\"\",'CF4 Eval'!F67)","v":""},{"$f":"'CF4 Eval'!AC67","v":{"v":0,"d":"0.00"}},{"$f":"'CF4 Eval'!AF67","v":{"v":0,"d":"0.00"}},{"$f":"'CF4 Eval'!AL67","v":{"v":0,"d":"0.00"}},{"$f":"'CF4 Eval'!AP67","v":{"v":0,"d":"0.00"}},{"$f":"'CF4 Eval'!AQ67","v":{"v":0,"d":"0.00"}},"",{"$f":"'CF4 Eval'!AR67","v":64}]
[{"$f":"IF(K68>0,RANK(K68,K$4:K$103),\"\")","v":""},{"$f":"IF(D68=\"\",\"\",UPPER(Accueil!$D$6))","v":""},{"$f":"IF('CF4 Eval'!C68=\"\",\"\",'CF4 Eval'!C68)","v":""},{"$f":"IF('CF4 Eval'!D68=\"\",\"\",'CF4 Eval'!D68)","v":""},{"$f":"IF('CF4 Eval'!E68=\"\",\"\",'CF4 Eval'!E68)","v":""},{"$f":"IF('CF4 Eval'!F68=\"\",\"\",'CF4 Eval'!F68)","v":""},{"$f":"'CF4 Eval'!AC68","v":{"v":0,"d":"0.00"}},{"$f":"'CF4 Eval'!AF68","v":{"v":0,"d":"0.00"}},{"$f":"'CF4 Eval'!AL68","v":{"v":0,"d":"0.00"}},{"$f":"'CF4 Eval'!AP68","v":{"v":0,"d":"0.00"}},{"$f":"'CF4 Eval'!AQ68","v":{"v":0,"d":"0.00"}},{"$f":"IF(K68=0,\"\",IF(K68>=110,\"Ruban Jaune\",\"Ruban Bleu\"))","v":""},{"$f":"'CF4 Eval'!AR68","v":65}]
["",{"$f":"IF(D69=\"\",\"\",UPPER(Accueil!$D$6))","v":""},{"$f":"IF('CF4 Eval'!C69=\"\",\"\",'CF4 Eval'!C69)","v":""},{"$f":"IF('CF4 Eval'!D69=\"\",\"\",'CF4 Eval'!D69)","v":""},{"$f":"IF('CF4 Eval'!E69=\"\",\"\",'CF4 Eval'!E69)","v":""},{"$f":"IF('CF4 Eval'!F69=\"\",\"\",'CF4 Eval'!F69)","v":""},{"$f":"'CF4 Eval'!AC69","v":{"v":0,"d":"0.00"}},{"$f":"'CF4 Eval'!AF69","v":{"v":0,"d":"0.00"}},{"$f":"'CF4 Eval'!AL69","v":{"v":0,"d":"0.00"}},{"$f":"'CF4 Eval'!AP69","v":{"v":0,"d":"0.00"}},{"$f":"'CF4 Eval'!AQ69","v":{"v":0,"d":"0.00"}},"",{"$f":"'CF4 Eval'!AR69","v":66}]
["",{"$f":"IF(D70=\"\",\"\",UPPER(Accueil!$D$6))","v":""},{"$f":"IF('CF4 Eval'!C70=\"\",\"\",'CF4 Eval'!C70)","v":""},{"$f":"IF('CF4 Eval'!D70=\"\",\"\",'CF4 Eval'!D70)","v":""},{"$f":"IF('CF4 Eval'!E70=\"\",\"\",'CF4 Eval'!E70)","v":""},{"$f":"IF('CF4 Eval'!F70=\"\",\"\",'CF4 Eval'!F70)","v":""},{"$f":"'CF4 Eval'!AC70","v":{"v":0,"d":"0.00"}},{"$f":"'CF4 Eval'!AF70","v":{"v":0,"d":"0.00"}},{"$f":"'CF4 Eval'!AL70","v":{"v":0,"d":"0.00"}},{"$f":"'CF4 Eval'!AP70","v":{"v":0,"d":"0.00"}},{"$f":"'CF4 Eval'!AQ70","v":{"v":0,"d":"0.00"}},"",{"$f":"'CF4 Eval'!AR70","v":67}]
["",{"$f":"IF(D71=\"\",\"\",UPPER(Accueil!$D$6))","v":""},{"$f":"IF('CF4 Eval'!C71=\"\",\"\",'CF4 Eval'!C71)","v":""},{"$f":"IF('CF4 Eval'!D71=\"\",\"\",'CF4 Eval'!D71)","v":""},{"$f":"IF('CF4 Eval'!E71=\"\",\"\",'CF4 Eval'!E71)","v":""},{"$f":"IF('CF4 Eval'!F71=\"\",\"\",'CF4 Eval'!F71)","v":""},{"$f":"'CF4 Eval'!AC71","v":{"v":0,"d":"0.00"}},{"$f":"'CF4 Eval'!AF71","v":{"v":0,"d":"0.00"}},{"$f":"'CF4 Eval'!AL71","v":{"v":0,"d":"0.00"}},{"$f":"'CF4 Eval'!AP71","v":{"v":0,"d":"0.00"}},{"$f":"'CF4 Eval'!AQ71","v":{"v":0,"d":"0.00"}},"",{"$f":"'CF4 Eval'!AR71","v":68}]
["",{"$f":"IF(D72=\"\",\"\",UPPER(Accueil!$D$6))","v":""},{"$f":"IF('CF4 Eval'!C72=\"\",\"\",'CF4 Eval'!C72)","v":""},{"$f":"IF('CF4 Eval'!D72=\"\",\"\",'CF4 Eval'!D72)","v":""},{"$f":"IF('CF4 Eval'!E72=\"\",\"\",'CF4 Eval'!E72)","v":""},{"$f":"IF('CF4 Eval'!F72=\"\",\"\",'CF4 Eval'!F72)","v":""},{"$f":"'CF4 Eval'!AC72","v":{"v":0,"d":"0.00"}},{"$f":"'CF4 Eval'!AF72","v":{"v":0,"d":"0.00"}},{"$f":"'CF4 Eval'!AL72","v":{"v":0,"d":"0.00"}},{"$f":"'CF4 Eval'!AP72","v":{"v":0,"d":"0.00"}},{"$f":"'CF4 Eval'!AQ72","v":{"v":0,"d":"0.00"}},"",{"$f":"'CF4 Eval'!AR72","v":69}]
["",{"$f":"IF(D73=\"\",\"\",UPPER(Accueil!$D$6))","v":""},{"$f":"IF('CF4 Eval'!C73=\"\",\"\",'CF4 Eval'!C73)","v":""},{"$f":"IF('CF4 Eval'!D73=\"\",\"\",'CF4 Eval'!D73)","v":""},{"$f":"IF('CF4 Eval'!E73=\"\",\"\",'CF4 Eval'!E73)","v":""},{"$f":"IF('CF4 Eval'!F73=\"\",\"\",'CF4 Eval'!F73)","v":""},{"$f":"'CF4 Eval'!AC73","v":{"v":0,"d":"0.00"}},{"$f":"'CF4 Eval'!AF73","v":{"v":0,"d":"0.00"}},{"$f":"'CF4 Eval'!AL73","v":{"v":0,"d":"0.00"}},{"$f":"'CF4 Eval'!AP73","v":{"v":0,"d":"0.00"}},{"$f":"'CF4 Eval'!AQ73","v":{"v":0,"d":"0.00"}},"",{"$f":"'CF4 Eval'!AR73","v":70}]
["",{"$f":"IF(D74=\"\",\"\",UPPER(Accueil!$D$6))","v":""},{"$f":"IF('CF4 Eval'!C74=\"\",\"\",'CF4 Eval'!C74)","v":""},{"$f":"IF('CF4 Eval'!D74=\"\",\"\",'CF4 Eval'!D74)","v":""},{"$f":"IF('CF4 Eval'!E74=\"\",\"\",'CF4 Eval'!E74)","v":""},{"$f":"IF('CF4 Eval'!F74=\"\",\"\",'CF4 Eval'!F74)","v":""},{"$f":"'CF4 Eval'!AC74","v":{"v":0,"d":"0.00"}},{"$f":"'CF4 Eval'!AF74","v":{"v":0,"d":"0.00"}},{"$f":"'CF4 Eval'!AL74","v":{"v":0,"d":"0.00"}},{"$f":"'CF4 Eval'!AP74","v":{"v":0,"d":"0.00"}},{"$f":"'CF4 Eval'!AQ74","v":{"v":0,"d":"0.00"}},"",{"$f":"'CF4 Eval'!AR74","v":71}]
["",{"$f":"IF(D75=\"\",\"\",UPPER(Accueil!$D$6))","v":""},{"$f":"IF('CF4 Eval'!C75=\"\",\"\",'CF4 Eval'!C75)","v":""},{"$f":"IF('CF4 Eval'!D75=\"\",\"\",'CF4 Eval'!D75)","v":""},{"$f":"IF('CF4 Eval'!E75=\"\",\"\",'CF4 Eval'!E75)","v":""},{"$f":"IF('CF4 Eval'!F75=\"\",\"\",'CF4 Eval'!F75)","v":""},{"$f":"'CF4 Eval'!AC75","v":{"v":0,"d":"0.00"}},{"$f":"'CF4 Eval'!AF75","v":{"v":0,"d":"0.00"}},{"$f":"'CF4 Eval'!AL75","v":{"v":0,"d":"0.00"}},{"$f":"'CF4 Eval'!AP75","v":{"v":0,"d":"0.00"}},{"$f":"'CF4 Eval'!AQ75","v":{"v":0,"d":"0.00"}},"",{"$f":"'CF4 Eval'!AR75","v":72}]
["",{"$f":"IF(D76=\"\",\"\",UPPER(Accueil!$D$6))","v":""},{"$f":"IF('CF4 Eval'!C76=\"\",\"\",'CF4 Eval'!C76)","v":""},{"$f":"IF('CF4 Eval'!D76=\"\",\"\",'CF4 Eval'!D76)","v":""},{"$f":"IF('CF4 Eval'!E76=\"\",\"\",'CF4 Eval'!E76)","v":""},{"$f":"IF('CF4 Eval'!F76=\"\",\"\",'CF4 Eval'!F76)","v":""},{"$f":"'CF4 Eval'!AC76","v":{"v":0,"d":"0.00"}},{"$f":"'CF4 Eval'!AF76","v":{"v":0,"d":"0.00"}},{"$f":"'CF4 Eval'!AL76","v":{"v":0,"d":"0.00"}},{"$f":"'CF4 Eval'!AP76","v":{"v":0,"d":"0.00"}},{"$f":"'CF4 Eval'!AQ76","v":{"v":0,"d":"0.00"}},"",{"$f":"'CF4 Eval'!AR76","v":73}]
["",{"$f":"IF(D77=\"\",\"\",UPPER(Accueil!$D$6))","v":""},{"$f":"IF('CF4 Eval'!C77=\"\",\"\",'CF4 Eval'!C77)","v":""},{"$f":"IF('CF4 Eval'!D77=\"\",\"\",'CF4 Eval'!D77)","v":""},{"$f":"IF('CF4 Eval'!E77=\"\",\"\",'CF4 Eval'!E77)","v":""},{"$f":"IF('CF4 Eval'!F77=\"\",\"\",'CF4 Eval'!F77)","v":""},{"$f":"'CF4 Eval'!AC77","v":{"v":0,"d":"0.00"}},{"$f":"'CF4 Eval'!AF77","v":{"v":0,"d":"0.00"}},{"$f":"'CF4 Eval'!AL77","v":{"v":0,"d":"0.00"}},{"$f":"'CF4 Eval'!AP77","v":{"v":0,"d":"0.00"}},{"$f":"'CF4 Eval'!AQ77","v":{"v":0,"d":"0.00"}},"",{"$f":"'CF4 Eval'!AR77","v":74}]
["",{"$f":"IF(D78=\"\",\"\",UPPER(Accueil!$D$6))","v":""},{"$f":"IF('CF4 Eval'!C78=\"\",\"\",'CF4 Eval'!C78)","v":""},{"$f":"IF('CF4 Eval'!D78=\"\",\"\",'CF4 Eval'!D78)","v":""},{"$f":"IF('CF4 Eval'!E78=\"\",\"\",'CF4 Eval'!E78)","v":""},{"$f":"IF('CF4 Eval'!F78=\"\",\"\",'CF4 Eval'!F78)","v":""},{"$f":"'CF4 Eval'!AC78","v":{"v":0,"d":"0.00"}},{"$f":"'CF4 Eval'!AF78","v":{"v":0,"d":"0.00"}},{"$f":"'CF4 Eval'!AL78","v":{"v":0,"d":"0.00"}},{"$f":"'CF4 Eval'!AP78","v":{"v":0,"d":"0.00"}},{"$f":"'CF4 Eval'!AQ78","v":{"v":0,"d":"0.00"}},"",{"$f":"'CF4 Eval'!AR78","v":75}]
["",{"$f":"IF(D79=\"\",\"\",UPPER(Accueil!$D$6))","v":""},{"$f":"IF('CF4 Eval'!C79=\"\",\"\",'CF4 Eval'!C79)","v":""},{"$f":"IF('CF4 Eval'!D79=\"\",\"\",'CF4 Eval'!D79)","v":""},{"$f":"IF('CF4 Eval'!E79=\"\",\"\",'CF4 Eval'!E79)","v":""},{"$f":"IF('CF4 Eval'!F79=\"\",\"\",'CF4 Eval'!F79)","v":""},{"$f":"'CF4 Eval'!AC79","v":{"v":0,"d":"0.00"}},{"$f":"'CF4 Eval'!AF79","v":{"v":0,"d":"0.00"}},{"$f":"'CF4 Eval'!AL79","v":{"v":0,"d":"0.00"}},{"$f":"'CF4 Eval'!AP79","v":{"v":0,"d":"0.00"}},{"$f":"'CF4 Eval'!AQ79","v":{"v":0,"d":"0.00"}},"",{"$f":"'CF4 Eval'!AR79","v":76}]
["",{"$f":"IF(D80=\"\",\"\",UPPER(Accueil!$D$6))","v":""},{"$f":"IF('CF4 Eval'!C80=\"\",\"\",'CF4 Eval'!C80)","v":""},{"$f":"IF('CF4 Eval'!D80=\"\",\"\",'CF4 Eval'!D80)","v":""},{"$f":"IF('CF4 Eval'!E80=\"\",\"\",'CF4 Eval'!E80)","v":""},{"$f":"IF('CF4 Eval'!F80=\"\",\"\",'CF4 Eval'!F80)","v":""},{"$f":"'CF4 Eval'!AC80","v":{"v":0,"d":"0.00"}},{"$f":"'CF4 Eval'!AF80","v":{"v":0,"d":"0.00"}},{"$f":"'CF4 Eval'!AL80","v":{"v":0,"d":"0.00"}},{"$f":"'CF4 Eval'!AP80","v":{"v":0,"d":"0.00"}},{"$f":"'CF4 Eval'!AQ80","v":{"v":0,"d":"0.00"}},"",{"$f":"'CF4 Eval'!AR80","v":77}]
["",{"$f":"IF(D81=\"\",\"\",UPPER(Accueil!$D$6))","v":""},{"$f":"IF('CF4 Eval'!C81=\"\",\"\",'CF4 Eval'!C81)","v":""},{"$f":"IF('CF4 Eval'!D81=\"\",\"\",'CF4 Eval'!D81)","v":""},{"$f":"IF('CF4 Eval'!E81=\"\",\"\",'CF4 Eval'!E81)","v":""},{"$f":"IF('CF4 Eval'!F81=\"\",\"\",'CF4 Eval'!F81)","v":""},{"$f":"'CF4 Eval'!AC81","v":{"v":0,"d":"0.00"}},{"$f":"'CF4 Eval'!AF81","v":{"v":0,"d":"0.00"}},{"$f":"'CF4 Eval'!AL81","v":{"v":0,"d":"0.00"}},{"$f":"'CF4 Eval'!AP81","v":{"v":0,"d":"0.00"}},{"$f":"'CF4 Eval'!AQ81","v":{"v":0,"d":"0.00"}},"",{"$f":"'CF4 Eval'!AR81","v":78}]
["",{"$f":"IF(D82=\"\",\"\",UPPER(Accueil!$D$6))","v":""},{"$f":"IF('CF4 Eval'!C82=\"\",\"\",'CF4 Eval'!C82)","v":""},{"$f":"IF('CF4 Eval'!D82=\"\",\"\",'CF4 Eval'!D82)","v":""},{"$f":"IF('CF4 Eval'!E82=\"\",\"\",'CF4 Eval'!E82)","v":""},{"$f":"IF('CF4 Eval'!F82=\"\",\"\",'CF4 Eval'!F82)","v":""},{"$f":"'CF4 Eval'!AC82","v":{"v":0,"d":"0.00"}},{"$f":"'CF4 Eval'!AF82","v":{"v":0,"d":"0.00"}},{"$f":"'CF4 Eval'!AL82","v":{"v":0,"d":"0.00"}},{"$f":"'CF4 Eval'!AP82","v":{"v":0,"d":"0.00"}},{"$f":"'CF4 Eval'!AQ82","v":{"v":0,"d":"0.00"}},"",{"$f":"'CF4 Eval'!AR82","v":79}]
["",{"$f":"IF(D83=\"\",\"\",UPPER(Accueil!$D$6))","v":""},{"$f":"IF('CF4 Eval'!C83=\"\",\"\",'CF4 Eval'!C83)","v":""},{"$f":"IF('CF4 Eval'!D83=\"\",\"\",'CF4 Eval'!D83)","v":""},{"$f":"IF('CF4 Eval'!E83=\"\",\"\",'CF4 Eval'!E83)","v":""},{"$f":"IF('CF4 Eval'!F83=\"\",\"\",'CF4 Eval'!F83)","v":""},{"$f":"'CF4 Eval'!AC83","v":{"v":0,"d":"0.00"}},{"$f":"'CF4 Eval'!AF83","v":{"v":0,"d":"0.00"}},{"$f":"'CF4 Eval'!AL83","v":{"v":0,"d":"0.00"}},{"$f":"'CF4 Eval'!AP83","v":{"v":0,"d":"0.00"}},{"$f":"'CF4 Eval'!AQ83","v":{"v":0,"d":"0.00"}},"",{"$f":"'CF4 Eval'!AR83","v":80}]
["",{"$f":"IF(D84=\"\",\"\",UPPER(Accueil!$D$6))","v":""},{"$f":"IF('CF4 Eval'!C84=\"\",\"\",'CF4 Eval'!C84)","v":""},{"$f":"IF('CF4 Eval'!D84=\"\",\"\",'CF4 Eval'!D84)","v":""},{"$f":"IF('CF4 Eval'!E84=\"\",\"\",'CF4 Eval'!E84)","v":""},{"$f":"IF('CF4 Eval'!F84=\"\",\"\",'CF4 Eval'!F84)","v":""},{"$f":"'CF4 Eval'!AC84","v":{"v":0,"d":"0.00"}},{"$f":"'CF4 Eval'!AF84","v":{"v":0,"d":"0.00"}},{"$f":"'CF4 Eval'!AL84","v":{"v":0,"d":"0.00"}},{"$f":"'CF4 Eval'!AP84","v":{"v":0,"d":"0.00"}},{"$f":"'CF4 Eval'!AQ84","v":{"v":0,"d":"0.00"}},"",{"$f":"'CF4 Eval'!AR84","v":81}]
["",{"$f":"IF(D85=\"\",\"\",UPPER(Accueil!$D$6))","v":""},{"$f":"IF('CF4 Eval'!C85=\"\",\"\",'CF4 Eval'!C85)","v":""},{"$f":"IF('CF4 Eval'!D85=\"\",\"\",'CF4 Eval'!D85)","v":""},{"$f":"IF('CF4 Eval'!E85=\"\",\"\",'CF4 Eval'!E85)","v":""},{"$f":"IF('CF4 Eval'!F85=\"\",\"\",'CF4 Eval'!F85)","v":""},{"$f":"'CF4 Eval'!AC85","v":{"v":0,"d":"0.00"}},{"$f":"'CF4 Eval'!AF85","v":{"v":0,"d":"0.00"}},{"$f":"'CF4 Eval'!AL85","v":{"v":0,"d":"0.00"}},{"$f":"'CF4 Eval'!AP85","v":{"v":0,"d":"0.00"}},{"$f":"'CF4 Eval'!AQ85","v":{"v":0,"d":"0.00"}},"",{"$f":"'CF4 Eval'!AR85","v":82}]
["",{"$f":"IF(D86=\"\",\"\",UPPER(Accueil!$D$6))","v":""},{"$f":"IF('CF4 Eval'!C86=\"\",\"\",'CF4 Eval'!C86)","v":""},{"$f":"IF('CF4 Eval'!D86=\"\",\"\",'CF4 Eval'!D86)","v":""},{"$f":"IF('CF4 Eval'!E86=\"\",\"\",'CF4 Eval'!E86)","v":""},{"$f":"IF('CF4 Eval'!F86=\"\",\"\",'CF4 Eval'!F86)","v":""},{"$f":"'CF4 Eval'!AC86","v":{"v":0,"d":"0.00"}},{"$f":"'CF4 Eval'!AF86","v":{"v":0,"d":"0.00"}},{"$f":"'CF4 Eval'!AL86","v":{"v":0,"d":"0.00"}},{"$f":"'CF4 Eval'!AP86","v":{"v":0,"d":"0.00"}},{"$f":"'CF4 Eval'!AQ86","v":{"v":0,"d":"0.00"}},"",{"$f":"'CF4 Eval'!AR86","v":83}]
["",{"$f":"IF(D87=\"\",\"\",UPPER(Accueil!$D$6))","v":""},{"$f":"IF('CF4 Eval'!C87=\"\",\"\",'CF4 Eval'!C87)","v":""},{"$f":"IF('CF4 Eval'!D87=\"\",\"\",'CF4 Eval'!D87)","v":""},{"$f":"IF('CF4 Eval'!E87=\"\",\"\",'CF4 Eval'!E87)","v":""},{"$f":"IF('CF4 Eval'!F87=\"\",\"\",'CF4 Eval'!F87)","v":""},{"$f":"'CF4 Eval'!AC87","v":{"v":0,"d":"0.00"}},{"$f":"'CF4 Eval'!AF87","v":{"v":0,"d":"0.00"}},{"$f":"'CF4 Eval'!AL87","v":{"v":0,"d":"0.00"}},{"$f":"'CF4 Eval'!AP87","v":{"v":0,"d":"0.00"}},{"$f":"'CF4 Eval'!AQ87","v":{"v":0,"d":"0.00"}},"",{"$f":"'CF4 Eval'!AR87","v":84}]
["",{"$f":"IF(D88=\"\",\"\",UPPER(Accueil!$D$6))","v":""},{"$f":"IF('CF4 Eval'!C88=\"\",\"\",'CF4 Eval'!C88)","v":""},{"$f":"IF('CF4 Eval'!D88=\"\",\"\",'CF4 Eval'!D88)","v":""},{"$f":"IF('CF4 Eval'!E88=\"\",\"\",'CF4 Eval'!E88)","v":""},{"$f":"IF('CF4 Eval'!F88=\"\",\"\",'CF4 Eval'!F88)","v":""},{"$f":"'CF4 Eval'!AC88","v":{"v":0,"d":"0.00"}},{"$f":"'CF4 Eval'!AF88","v":{"v":0,"d":"0.00"}},{"$f":"'CF4 Eval'!AL88","v":{"v":0,"d":"0.00"}},{"$f":"'CF4 Eval'!AP88","v":{"v":0,"d":"0.00"}},{"$f":"'CF4 Eval'!AQ88","v":{"v":0,"d":"0.00"}},"",{"$f":"'CF4 Eval'!AR88","v":85}]
["",{"$f":"IF(D89=\"\",\"\",UPPER(Accueil!$D$6))","v":""},{"$f":"IF('CF4 Eval'!C89=\"\",\"\",'CF4 Eval'!C89)","v":""},{"$f":"IF('CF4 Eval'!D89=\"\",\"\",'CF4 Eval'!D89)","v":""},{"$f":"IF('CF4 Eval'!E89=\"\",\"\",'CF4 Eval'!E89)","v":""},{"$f":"IF('CF4 Eval'!F89=\"\",\"\",'CF4 Eval'!F89)","v":""},{"$f":"'CF4 Eval'!AC89","v":{"v":0,"d":"0.00"}},{"$f":"'CF4 Eval'!AF89","v":{"v":0,"d":"0.00"}},{"$f":"'CF4 Eval'!AL89","v":{"v":0,"d":"0.00"}},{"$f":"'CF4 Eval'!AP89","v":{"v":0,"d":"0.00"}},{"$f":"'CF4 Eval'!AQ89","v":{"v":0,"d":"0.00"}},"",{"$f":"'CF4 Eval'!AR89","v":86}]
["",{"$f":"IF(D90=\"\",\"\",UPPER(Accueil!$D$6))","v":""},{"$f":"IF('CF4 Eval'!C90=\"\",\"\",'CF4 Eval'!C90)","v":""},{"$f":"IF('CF4 Eval'!D90=\"\",\"\",'CF4 Eval'!D90)","v":""},{"$f":"IF('CF4 Eval'!E90=\"\",\"\",'CF4 Eval'!E90)","v":""},{"$f":"IF('CF4 Eval'!F90=\"\",\"\",'CF4 Eval'!F90)","v":""},{"$f":"'CF4 Eval'!AC90","v":{"v":0,"d":"0.00"}},{"$f":"'CF4 Eval'!AF90","v":{"v":0,"d":"0.00"}},{"$f":"'CF4 Eval'!AL90","v":{"v":0,"d":"0.00"}},{"$f":"'CF4 Eval'!AP90","v":{"v":0,"d":"0.00"}},{"$f":"'CF4 Eval'!AQ90","v":{"v":0,"d":"0.00"}},"",{"$f":"'CF4 Eval'!AR90","v":87}]
["",{"$f":"IF(D91=\"\",\"\",UPPER(Accueil!$D$6))","v":""},{"$f":"IF('CF4 Eval'!C91=\"\",\"\",'CF4 Eval'!C91)","v":""},{"$f":"IF('CF4 Eval'!D91=\"\",\"\",'CF4 Eval'!D91)","v":""},{"$f":"IF('CF4 Eval'!E91=\"\",\"\",'CF4 Eval'!E91)","v":""},{"$f":"IF('CF4 Eval'!F91=\"\",\"\",'CF4 Eval'!F91)","v":""},{"$f":"'CF4 Eval'!AC91","v":{"v":0,"d":"0.00"}},{"$f":"'CF4 Eval'!AF91","v":{"v":0,"d":"0.00"}},{"$f":"'CF4 Eval'!AL91","v":{"v":0,"d":"0.00"}},{"$f":"'CF4 Eval'!AP91","v":{"v":0,"d":"0.00"}},{"$f":"'CF4 Eval'!AQ91","v":{"v":0,"d":"0.00"}},"",{"$f":"'CF4 Eval'!AR91","v":88}]
["",{"$f":"IF(D92=\"\",\"\",UPPER(Accueil!$D$6))","v":""},{"$f":"IF('CF4 Eval'!C92=\"\",\"\",'CF4 Eval'!C92)","v":""},{"$f":"IF('CF4 Eval'!D92=\"\",\"\",'CF4 Eval'!D92)","v":""},{"$f":"IF('CF4 Eval'!E92=\"\",\"\",'CF4 Eval'!E92)","v":""},{"$f":"IF('CF4 Eval'!F92=\"\",\"\",'CF4 Eval'!F92)","v":""},{"$f":"'CF4 Eval'!AC92","v":{"v":0,"d":"0.00"}},{"$f":"'CF4 Eval'!AF92","v":{"v":0,"d":"0.00"}},{"$f":"'CF4 Eval'!AL92","v":{"v":0,"d":"0.00"}},{"$f":"'CF4 Eval'!AP92","v":{"v":0,"d":"0.00"}},{"$f":"'CF4 Eval'!AQ92","v":{"v":0,"d":"0.00"}},"",{"$f":"'CF4 Eval'!AR92","v":89}]
["",{"$f":"IF(D93=\"\",\"\",UPPER(Accueil!$D$6))","v":""},{"$f":"IF('CF4 Eval'!C93=\"\",\"\",'CF4 Eval'!C93)","v":""},{"$f":"IF('CF4 Eval'!D93=\"\",\"\",'CF4 Eval'!D93)","v":""},{"$f":"IF('CF4 Eval'!E93=\"\",\"\",'CF4 Eval'!E93)","v":""},{"$f":"IF('CF4 Eval'!F93=\"\",\"\",'CF4 Eval'!F93)","v":""},{"$f":"'CF4 Eval'!AC93","v":{"v":0,"d":"0.00"}},{"$f":"'CF4 Eval'!AF93","v":{"v":0,"d":"0.00"}},{"$f":"'CF4 Eval'!AL93","v":{"v":0,"d":"0.00"}},{"$f":"'CF4 Eval'!AP93","v":{"v":0,"d":"0.00"}},{"$f":"'CF4 Eval'!AQ93","v":{"v":0,"d":"0.00"}},"",{"$f":"'CF4 Eval'!AR93","v":90}]
["",{"$f":"IF(D94=\"\",\"\",UPPER(Accueil!$D$6))","v":""},{"$f":"IF('CF4 Eval'!C94=\"\",\"\",'CF4 Eval'!C94)","v":""},{"$f":"IF('CF4 Eval'!D94=\"\",\"\",'CF4 Eval'!D94)","v":""},{"$f":"IF('CF4 Eval'!E94=\"\",\"\",'CF4 Eval'!E94)","v":""},{"$f":"IF('CF4 Eval'!F94=\"\",\"\",'CF4 Eval'!F94)","v":""},{"$f":"'CF4 Eval'!AC94","v":{"v":0,"d":"0.00"}},{"$f":"'CF4 Eval'!AF94","v":{"v":0,"d":"0.00"}},{"$f":"'CF4 Eval'!AL94","v":{"v":0,"d":"0.00"}},{"$f":"'CF4 Eval'!AP94","v":{"v":0,"d":"0.00"}},{"$f":"'CF4 Eval'!AQ94","v":{"v":0,"d":"0.00"}},"",{"$f":"'CF4 Eval'!AR94","v":91}]
["",{"$f":"IF(D95=\"\",\"\",UPPER(Accueil!$D$6))","v":""},{"$f":"IF('CF4 Eval'!C95=\"\",\"\",'CF4 Eval'!C95)","v":""},{"$f":"IF('CF4 Eval'!D95=\"\",\"\",'CF4 Eval'!D95)","v":""},{"$f":"IF('CF4 Eval'!E95=\"\",\"\",'CF4 Eval'!E95)","v":""},{"$f":"IF('CF4 Eval'!F95=\"\",\"\",'CF4 Eval'!F95)","v":""},{"$f":"'CF4 Eval'!AC95","v":{"v":0,"d":"0.00"}},{"$f":"'CF4 Eval'!AF95","v":{"v":0,"d":"0.00"}},{"$f":"'CF4 Eval'!AL95","v":{"v":0,"d":"0.00"}},{"$f":"'CF4 Eval'!AP95","v":{"v":0,"d":"0.00"}},{"$f":"'CF4 Eval'!AQ95","v":{"v":0,"d":"0.00"}},"",{"$f":"'CF4 Eval'!AR95","v":92}]
["",{"$f":"IF(D96=\"\",\"\",UPPER(Accueil!$D$6))","v":""},{"$f":"IF('CF4 Eval'!C96=\"\",\"\",'CF4 Eval'!C96)","v":""},{"$f":"IF('CF4 Eval'!D96=\"\",\"\",'CF4 Eval'!D96)","v":""},{"$f":"IF('CF4 Eval'!E96=\"\",\"\",'CF4 Eval'!E96)","v":""},{"$f":"IF('CF4 Eval'!F96=\"\",\"\",'CF4 Eval'!F96)","v":""},{"$f":"'CF4 Eval'!AC96","v":{"v":0,"d":"0.00"}},{"$f":"'CF4 Eval'!AF96","v":{"v":0,"d":"0.00"}},{"$f":"'CF4 Eval'!AL96","v":{"v":0,"d":"0.00"}},{"$f":"'CF4 Eval'!AP96","v":{"v":0,"d":"0.00"}},{"$f":"'CF4 Eval'!AQ96","v":{"v":0,"d":"0.00"}},"",{"$f":"'CF4 Eval'!AR96","v":93}]
["",{"$f":"IF(D97=\"\",\"\",UPPER(Accueil!$D$6))","v":""},{"$f":"IF('CF4 Eval'!C97=\"\",\"\",'CF4 Eval'!C97)","v":""},{"$f":"IF('CF4 Eval'!D97=\"\",\"\",'CF4 Eval'!D97)","v":""},{"$f":"IF('CF4 Eval'!E97=\"\",\"\",'CF4 Eval'!E97)","v":""},{"$f":"IF('CF4 Eval'!F97=\"\",\"\",'CF4 Eval'!F97)","v":""},{"$f":"'CF4 Eval'!AC97","v":{"v":0,"d":"0.00"}},{"$f":"'CF4 Eval'!AF97","v":{"v":0,"d":"0.00"}},{"$f":"'CF4 Eval'!AL97","v":{"v":0,"d":"0.00"}},{"$f":"'CF4 Eval'!AP97","v":{"v":0,"d":"0.00"}},{"$f":"'CF4 Eval'!AQ97","v":{"v":0,"d":"0.00"}},"",{"$f":"'CF4 Eval'!AR97","v":94}]
["",{"$f":"IF(D98=\"\",\"\",UPPER(Accueil!$D$6))","v":""},{"$f":"IF('CF4 Eval'!C98=\"\",\"\",'CF4 Eval'!C98)","v":""},{"$f":"IF('CF4 Eval'!D98=\"\",\"\",'CF4 Eval'!D98)","v":""},{"$f":"IF('CF4 Eval'!E98=\"\",\"\",'CF4 Eval'!E98)","v":""},{"$f":"IF('CF4 Eval'!F98=\"\",\"\",'CF4 Eval'!F98)","v":""},{"$f":"'CF4 Eval'!AC98","v":{"v":0,"d":"0.00"}},{"$f":"'CF4 Eval'!AF98","v":{"v":0,"d":"0.00"}},{"$f":"'CF4 Eval'!AL98","v":{"v":0,"d":"0.00"}},{"$f":"'CF4 Eval'!AP98","v":{"v":0,"d":"0.00"}},{"$f":"'CF4 Eval'!AQ98","v":{"v":0,"d":"0.00"}},"",{"$f":"'CF4 Eval'!AR98","v":95}]
["",{"$f":"IF(D99=\"\",\"\",UPPER(Accueil!$D$6))","v":""},{"$f":"IF('CF4 Eval'!C99=\"\",\"\",'CF4 Eval'!C99)","v":""},{"$f":"IF('CF4 Eval'!D99=\"\",\"\",'CF4 Eval'!D99)","v":""},{"$f":"IF('CF4 Eval'!E99=\"\",\"\",'CF4 Eval'!E99)","v":""},{"$f":"IF('CF4 Eval'!F99=\"\",\"\",'CF4 Eval'!F99)","v":""},{"$f":"'CF4 Eval'!AC99","v":{"v":0,"d":"0.00"}},{"$f":"'CF4 Eval'!AF99","v":{"v":0,"d":"0.00"}},{"$f":"'CF4 Eval'!AL99","v":{"v":0,"d":"0.00"}},{"$f":"'CF4 Eval'!AP99","v":{"v":0,"d":"0.00"}},{"$f":"'CF4 Eval'!AQ99","v":{"v":0,"d":"0.00"}},"",{"$f":"'CF4 Eval'!AR99","v":96}]
["",{"$f":"IF(D100=\"\",\"\",UPPER(Accueil!$D$6))","v":""},{"$f":"IF('CF4 Eval'!C100=\"\",\"\",'CF4 Eval'!C100)","v":""},{"$f":"IF('CF4 Eval'!D100=\"\",\"\",'CF4 Eval'!D100)","v":""},{"$f":"IF('CF4 Eval'!E100=\"\",\"\",'CF4 Eval'!E100)","v":""},{"$f":"IF('CF4 Eval'!F100=\"\",\"\",'CF4 Eval'!F100)","v":""},{"$f":"'CF4 Eval'!AC100","v":{"v":0,"d":"0.00"}},{"$f":"'CF4 Eval'!AF100","v":{"v":0,"d":"0.00"}},{"$f":"'CF4 Eval'!AL100","v":{"v":0,"d":"0.00"}},{"$f":"'CF4 Eval'!AP100","v":{"v":0,"d":"0.00"}},{"$f":"'CF4 Eval'!AQ100","v":{"v":0,"d":"0.00"}},{"$f":"IF(K100=0,\"\",IF(K100>=110,\"Ruban Jaune\",\"Ruban Bleu\"))","v":""},{"$f":"'CF4 Eval'!AR100","v":97}]
["",{"$f":"IF(D101=\"\",\"\",UPPER(Accueil!$D$6))","v":""},{"$f":"IF('CF4 Eval'!C101=\"\",\"\",'CF4 Eval'!C101)","v":""},{"$f":"IF('CF4 Eval'!D101=\"\",\"\",'CF4 Eval'!D101)","v":""},{"$f":"IF('CF4 Eval'!E101=\"\",\"\",'CF4 Eval'!E101)","v":""},{"$f":"IF('CF4 Eval'!F101=\"\",\"\",'CF4 Eval'!F101)","v":""},{"$f":"'CF4 Eval'!AC101","v":{"v":0,"d":"0.00"}},{"$f":"'CF4 Eval'!AF101","v":{"v":0,"d":"0.00"}},{"$f":"'CF4 Eval'!AL101","v":{"v":0,"d":"0.00"}},{"$f":"'CF4 Eval'!AP101","v":{"v":0,"d":"0.00"}},{"$f":"'CF4 Eval'!AQ101","v":{"v":0,"d":"0.00"}},{"$f":"IF(K101=0,\"\",IF(K101>=110,\"Ruban Jaune\",\"Ruban Bleu\"))","v":""},{"$f":"'CF4 Eval'!AR101","v":98}]
["",{"$f":"IF(D102=\"\",\"\",UPPER(Accueil!$D$6))","v":""},{"$f":"IF('CF4 Eval'!C102=\"\",\"\",'CF4 Eval'!C102)","v":""},{"$f":"IF('CF4 Eval'!D102=\"\",\"\",'CF4 Eval'!D102)","v":""},{"$f":"IF('CF4 Eval'!E102=\"\",\"\",'CF4 Eval'!E102)","v":""},{"$f":"IF('CF4 Eval'!F102=\"\",\"\",'CF4 Eval'!F102)","v":""},{"$f":"'CF4 Eval'!AC102","v":{"v":0,"d":"0.00"}},{"$f":"'CF4 Eval'!AF102","v":{"v":0,"d":"0.00"}},{"$f":"'CF4 Eval'!AL102","v":{"v":0,"d":"0.00"}},{"$f":"'CF4 Eval'!AP102","v":{"v":0,"d":"0.00"}},{"$f":"'CF4 Eval'!AQ102","v":{"v":0,"d":"0.00"}},{"$f":"IF(K102=0,\"\",IF(K102>=110,\"Ruban Jaune\",\"Ruban Bleu\"))","v":""},{"$f":"'CF4 Eval'!AR102","v":99}]
["",{"$f":"IF(D103=\"\",\"\",UPPER(Accueil!$D$6))","v":""},{"$f":"IF('CF4 Eval'!C103=\"\",\"\",'CF4 Eval'!C103)","v":""},{"$f":"IF('CF4 Eval'!D103=\"\",\"\",'CF4 Eval'!D103)","v":""},{"$f":"IF('CF4 Eval'!E103=\"\",\"\",'CF4 Eval'!E103)","v":""},{"$f":"IF('CF4 Eval'!F103=\"\",\"\",'CF4 Eval'!F103)","v":""},{"$f":"'CF4 Eval'!AC103","v":{"v":0,"d":"0.00"}},{"$f":"'CF4 Eval'!AF103","v":{"v":0,"d":"0.00"}},{"$f":"'CF4 Eval'!AL103","v":{"v":0,"d":"0.00"}},{"$f":"'CF4 Eval'!AP103","v":{"v":0,"d":"0.00"}},{"$f":"'CF4 Eval'!AQ103","v":{"v":0,"d":"0.00"}},{"$f":"IF(K103=0,\"\",IF(K103>=105.6,\"Ruban Bleu\",\"Ruban Vert\"))","v":""},{"$f":"'CF4 Eval'!AR103","v":100}]